{"text_format":"1","workbook":"xlsx","n_sheets":9,"sheets":["Vejledning","Antal hold","Deltagere","Navne kontrol","Holdsammensætning  ","Indtast Hold og Resultat","Krolf slagseddel ","Resultatliste","Kontrol"],"not_rendered":{"charts":0,"images":1,"macros":1,"external_links":0,"defined_names":3,"comments":2,"pivot_tables":0},"unopened":[],"bounds":{"document_bytes":16777216,"sheet_cells":100000,"rows_first":2000,"rows_last":500,"rows_between":2000,"halvings":0,"cell_chars":16384,"cell_head_chars":4096},"cells_cut":0,"cells_raw":0,"read":"whole","date_system":"1900"}

{"sheet":"Vejledning","index":0,"n_rows":169,"n_cols":8,"rows_kept":169,"cut":false,"hidden":false,"merged":[]}
[]
[null,null,"Dette Excel program er beregnet til krolfstævner med spillende dommer,"]
[null,null,"med min. 8 og  max. 72 spillere på 1 bane med 18 huller og 1 eller  2 runder."]
[]
[null,null,"Excel programmet kan håndtere 1000 medlemmer."]
[null,null,"De forskellige klubber har hver fået tildelt et antal numre."]
[null,null,"Disse numre kan ses i \"Holdsammensætning\" kolonne J."]
[]
["1.","Start med at hente den nyeste version af Excel programmet på min hjemmeside."]
[]
[null,null,"http://www.otto2906.dk/"]
[]
[null,"Excel Programmet hedder \"Krolf 1000 - 18 huller - 72 deltagere - 2 runder\""]
[null,"Omdøb filnavnet til f.eks. \"Stævne i Frederikssund den 26-4-2017.\""]
[]
[null,"Forberedelse af Excel programmet før stævnet."]
[]
["2.","Forudsætninger"]
[null,"De deltagende klubber skal tilmelde spillerne opdelt i hold på 4, og eventuelt løse."]
[null,"Tilmelding skal foretages både med nummer og navn."]
[null,"Der  må ikke være 2 eller flere deltagere med nøjagtig det samme navn."]
[null,"Skulle dette forekomme må et af navnene rettes til f.eks.\"Jens Hansen Køge\"."]
[]
["3.","Vigtigt"]
[null,"Der kan kun indtastes i de grønne felter. "]
[null,"De øvrige af felterne er låst og kan ikke markeres."]
[null,"Dette gælder for alle faneblade med undtagelse af \"Holdsammensætning\"."]
[null,"Her må der ikke indtastes i de grønne felter efter række 55."]
[]
["4.","Åben fanebladet \"Deltagere\""]
[null,"Alle deltagere skal være opført på medlemslisten med navn og et nummer og hvilken klub,"]
[null,"som de er med i. "]
[null,"Det skal være markeret, om man er M eller K. K for kvinde (dame) og M for mand.  "]
[null,"Det skal fremgå af listen, hvem der kan påtage sig at være dommer. "]
[null,"xx i kolonne  H, betyder at spilleren har deltaget i et dommer kursus og dermed er Regional dommer. "]
[null,"eller kender reglerne godt nok."]
[]
[null,"Hvis en deltager altid spiller med den samme kuglefarve, kan det påføres på "]
[null,"medlemslisten i kolonnen kuglefarve, Så vil det blive overført til slagsedlen."]
[]
[null,"Sæt x i kolonnen deltager, ud for dem, som deltager i stævnet."]
[null,"I G2  vises, hvor mange,  der deltager i stævnet."]
[null,"I H2  vises hvor mange dommere, der er til rådighed."]
[]
[null,"Tryk på makroknappen \" Opret Deltagerliste \". "]
[]
[null,"Hvis man vil udskrive den, så tryk på makroknappen \" Udskriv Deltagerliste \"."]
[null,"Udskriften er i sort / hvid, for at spare på den grønne farve."]
[null,"For at komme tilbage og få vist alle medlemmer, så tryk på makroknappen \" Vis alle medlemmer\"."]
[null,"Det vil være en god ide, at udskrive  en sådan liste over deltagerne, da det er medlemsnummeret, "]
[null,"der skal bruges, ved indtastning i de andre faneblade."]
[]
["5.","Åben fanebladet  \"Holdsammensætning \""]
[null,"Indtast stævne hos og dato i de grønne felter."]
[null,"Indtastningen vil brede sig ud over det grønne område, men det gør ikke noget."]
[null,"Øverst på fanebladet vises hvor mange dommere, der er til rådighed, og om der er nogle , "]
[null,"der skal være dommer i to runder."]
[null,"Der vises også, hvor mange hold med 4 og hvor mange hold med 3, der skal oprettes. "]
[null,"E2 viser antal hold i alt. Tryk på den grå makroknap med det antal, der skal oprettes."]
[]
[null,"Det er de spillende hold."]
[null,"En måde at sammensætte de spillende hold kunne være denne. "]
[null,"Udskriv en deltagerliste til at \"hakke\" af på."]
[]
[null,"Start med at indtaste numrene på dem, der skal være dommere i runde 1 ud for de gule felter."]
[null,"Skriv et 1 tal ud for dem på deltagerlisten."]
[null,"Indtast numrene på de resterende i runde 1, og hak dem af på deltagerlisten."]
[null,"Hvis de indtastede numre er de samme, som der er sat x ved på deltagerlisten, vil række 5"]
[null,"\"Kontrol af indtastning\" melde OK. Ellers kommer fejlmeldingen \"Indtastning mangler eller der er fejl\"."]
[]
[null,"Indtast derefter numrene på dem, der skal være dommere i runde 2 ud for de gule felter."]
[null,"Skriv et 2 tal ud for dem på deltagerlisten."]
[null,"Indtast numrene på de resterende i runde 2, og hak dem af på deltagerlisten."]
[null,"Hvis de indtastede numre er de samme, som der er sat x ved på deltagerlisten, vil række 5"]
[null,"\"Kontrol af indtastning\" melde OK. Ellers kommer fejlmeldingen \"Indtastning mangler eller der er fejl\"."]
[]
[null,"Hvis man får fejlmeldingen \"Indtastning mangler eller der er fejl\" kan det være fordi."]
[null,"1. Man mangler at indtaste et eller flere numre."]
[null,"2. Man har indtastet det samme nummer 2 gange."]
[null,"3. Man har indtastet et nummer, som der ikke er sat x ved, som deltager på deltagerlisten."]
[]
[null,"Når man sammensætter de spillende hold, skal man gøre det så socialt, som muligt. "]
[null,"Det vigtigste er at holdene blandes fra de forskellige klubber. Men forsøg at tage hensyn til "]
[null,"nedenstående punkter."]
[null,"1. Holdene skal blandes med spillere fra de forskellige klubber."]
[null,"2. Der skal være en ligelig fordeling af damer og mænd på holdene."]
[null,"3. Mand og kone skal ikke spille på samme hold."]
[null,"4. Man skal spille med forskellige spillere i de 2 runder."]
[null,"5. Der skal helst ikke være 2 spillere med samme fornavn på holdene."]
[]
["6.","Åben fanebladet \"Indtast Hold og Resultat \""]
[null,"Dette faneblad skal selvfølgelig bruges til at registrere antal slag ved stævnet. "]
[null,"Men INDEN stævnet skal der også på dette faneblad ske en forberedelse."]
[null,"Her skal man indtaste klubbernes hold. Start med at taste et nummer i det øverste felt (G6). F.eks.1."]
[null,"Så vil programmet søge i medlemslisten, og til højre skrive det, som der er skrevet i kolonne J "]
[null,"i medlemslisten. I dette tilfælde Frederikssund 1. Kolonnen i medlemslisten er skjult. "]
[null,"Der er indsat kommentarer i G 6. Her kan man se hvilket nummer, som man skal indtaste, "]
[null,"for at få navngivet klubbens hold. Indtast herefter de deltagere, som er på dette hold. "]
[null,"Gør det samme for resten af holdene. Se kommentar i G 7."]
[]
[null,"Sammensæt evnt. nogle blandede hold. Men hvis det ikke går op med 4 på det sidste hold, "]
[null,"har dette hold ikke mulighed for at vinde som hold."]
[null,"Det vil blive placeret til sidst, fordi de manglende deltagere på holdet automatisk får tildelt 500 slag. "]
[null,"Men de øvrige på holdet er stadig med i den individuelle konkurrence. "]
[null,"J3 viser status for om de indtastede numre er de samme deltagere, "]
[null,"som der er sat x ved på deltagerlisten."]
[]
["7.","Åben fanebladet \"Krolf slagseddel\""]
[null,"Sæt computeren til vis udskrift, og kontroller, at der er 1 slagsedler på hver side."]
[null,"Det kan godt være, at det kræver en mindre justering af top eller bund marginer "]
[null,"ved udskrivning af slagsedlerne."]
[null,"Det kan ikke sættes som standard i programmet, da det er afhængig af hvilken printer, man bruger. "]
[]
[null,"Tryk på makroknappen med det antal hold, som deltager. Slagsedlerne udskrives."]
[]
[null,"Brug af Excel programmet ved stævnet."]
[]
["8.","Åben fanebladet \"Indtast Hold og resultat\""]
[null,"Når de 2 runder er afsluttet indsamles slagsedlerne og lægges i nummerorden. "]
[null,"Runde 1 hold 1,2,3 osv. Runde 2 hold 1,2,3,osv. "]
[null,"Resultaterne indtastes i kolonne E. "]
[]
["9.","Åben fanebladet \"Resultatliste\""]
[null,"Se det endelige resultatet for stævnet."]
[]
[null,"Hvis der skal være omspil ved lige mange slag for at finde ud af, hvem der skal være nr. 1, 2 og 3. "]
[]
[null,"Ark beskyttelsen kan fjernes ved på Excels startside at trykke på formater og \"Fjern arkbeskyttelse\""]
[null,"Det vil kun være nødvendigt, hvis man vil ændre resultatlisten efter omspil."]
[null,"Der er ikke brugt nogen adgangskode til at låse op og i for ark beskyttelsen."]
[]
[null,"Efter omspil så flyt rundt på navnene på resultatlisten. Der skal ikke rettes på antal slag."]
[null,"Man overskriver således nogle formler, men det gør ikke noget, da dette regneark kun bruges "]
[null,"til det aktuelle stævne."]
[]
[]
[]
[null,"I tilfælde af afbud efter at Excel programmet er klargjort til stævnet."]
[]
["10.","Hvad gør man :"]
[]
[null,"1. Hvis en klub har fået et afbud."]
[null,"På \"Deltagere\" skal x ud for navnet på den udeblevne slettes."]
[null,"På \"Holdsammensætning\" skal nummeret på den udeblevne slettes i de 2 runder."]
[null,"På \"Indtast Resultat\" skal nummeret på den udeblevne slettes på klubbernes hold.."]
[null,"Slagsedlerne skal ændres med blyant."]
[]
[null,"1. Hvis en klub ved et afbud møder op med en anden deltager end den tilmeldte. "]
[null,"På \"Deltagere\" skal x udfor den udeblevne slettes, og der skal sættes x ud for den ny deltager."]
[null,"På \"Holdsammensætning\" skal nummeret på den udeblevne erstattes med nummeret "]
[null,"på den ny deltager i de 2 runder."]
[null,"På \"Indtast Hold og Resultat\" skal nummeret på den udeblevne erstattes med nummeret"]
[null,"på den ny deltager på klubbernes hold."]
[null,"Slagsedlerne skal ændres med blyant."]
[]
["11.","Dette program er fremstillet af Otto Hansen fra Frederikssund Krolf Team. "]
[]
[null,"Programmet er fremstillet i Excel  version 2010 med fil endelsen xlsm. "]
[null,"Så det burde kunne åbnes i alle nyere versioner af Exel. "]
[]
["12.","Programmet er senest opdateret den ",null,null,null,null,null,{"$f":"Deltagere!C2","v":"2023-07-13"}]
[]
[null,"Med venlig hilsen"]
[]
[null,"Otto Hansen     ",null,null,"Frederikssund Krolf Team"]
[]
[null,"Email : otto2906@gmail.com"]
[]
[null,"Hjemmeside :",null,"http://www.otto2906.dk/"]

{"sheet":"Antal hold","index":1,"n_rows":69,"n_cols":6,"rows_kept":69,"cut":false,"hidden":true,"merged":[]}
[]
[]
[null,"Antal","Hold","Hold ","Antal ","Antal "]
[null,"deltagere","med 4","med 3","dommere","hold"]
[null,72,18,0,36,18]
[null,71,17,1,36,18]
[null,70,16,2,36,18]
[null,69,15,3,36,18]
[null,68,17,0,34,17]
[null,67,16,1,34,17]
[null,66,15,2,34,17]
[null,65,14,3,34,17]
[null,64,16,0,32,16]
[null,63,15,1,32,16]
[null,62,14,2,32,16]
[null,61,13,3,32,16]
[null,60,15,0,30,15]
[null,59,14,1,30,15]
[null,58,13,2,30,15]
[null,57,12,3,30,15]
[null,56,14,0,28,14]
[null,55,13,1,28,14]
[null,54,12,2,28,14]
[null,53,1,3,28,14]
[null,52,13,0,26,13]
[null,51,12,1,26,13]
[null,50,11,2,26,13]
[null,49,10,3,26,13]
[null,48,12,0,24,{"$f":"C29+D29","v":12}]
[null,47,11,1,24,{"$f":"C30+D30","v":12}]
[null,46,10,2,24,12]
[null,45,9,3,24,12]
[null,44,11,0,22,11]
[null,43,10,1,22,11]
[null,42,9,2,22,11]
[null,41,8,3,22,11]
[null,40,10,0,20,10]
[null,39,9,1,20,10]
[null,38,8,2,20,10]
[null,37,7,3,20,10]
[null,36,9,0,18,9]
[null,35,8,1,18,9]
[null,34,7,2,18,9]
[null,33,6,3,18,9]
[null,32,8,0,16,8]
[null,31,7,1,16,8]
[null,30,6,2,16,8]
[null,29,5,3,16,8]
[null,28,7,0,14,7]
[null,27,6,1,14,7]
[null,26,5,2,14,7]
[null,25,4,3,14,7]
[null,24,6,0,12,6]
[null,23,5,1,12,6]
[null,22,4,2,12,6]
[null,21,3,3,12,6]
[null,20,5,0,10,5]
[null,19,4,1,10,5]
[null,18,3,2,10,5]
[null,17,2,3,10,5]
[null,16,4,0,8,4]
[null,15,3,1,8,4]
[null,14,2,2,8,4]
[null,13,1,3,8,4]
[null,12,3,0,6,3]
[null,11,2,1,6,3]
[null,10,1,2,6,3]
[null,9,0,3,6,3]
[null,8,2,0,4,2]

{"sheet":"Deltagere","index":2,"n_rows":1003,"n_cols":15,"rows_kept":1003,"cut":false,"hidden":false,"merged":[]}
[null,"Krolfmedlemmer",null,null,null,null,"Antal deltagere","Dommere til rådighed",null,null,null,"Deltagere i alt",null,null,"Dommere til rådighed i alt"]
[null,"Opdateret ","2023-07-13",null,null,null,{"$f":"L2","v":70},{"$f":"O2","v":40},null,null,null,{"$f":"SUM(L4:L1003)","v":70},null,null,{"$f":"SUM(O4:O1003)","v":40}]
[null,{"$f":"IF('Navne kontrol'!C3=\"\",\"\",'Navne kontrol'!C3)","v":""},"Navn","Klub","Kugle farve","Kvinde mand","Deltager","Kan være Dommer","Medlemsnummer","Klubhold nr.",null,"Deltagere","Dommer","I alt","Dommere til rådighed"]
[{"$f":"IF('Navne kontrol'!A4=\"\",\"\",'Navne kontrol'!A4)","v":""},1,null,"Frederikssund","Farve",null,null,null,{"$f":"B4","v":1},"Frederikssund 1",null,{"$f":"IF(G4=\"x\",1,\"\")","v":""},{"$f":"IF(H4=\"\",\"\",IF(H4=\"xx\",1,IF(H4=\"xxx\",1,\"\")))","v":""},{"$f":"SUM(L4:M4)","v":0},{"$f":"IF(N4=2,1,\"\")","v":""}]
[{"$f":"IF('Navne kontrol'!A5=\"\",\"\",'Navne kontrol'!A5)","v":""},2,"Hans Skaanning","Frederikssund","Gul","M",null,"xxx",{"$f":"B5","v":2},"Frederikssund 2",null,{"$f":"IF(G5=\"x\",1,\"\")","v":""},{"$f":"IF(H5=\"\",\"\",IF(H5=\"xx\",1,IF(H5=\"xxx\",1,\"\")))","v":1},{"$f":"SUM(L5:M5)","v":1},{"$f":"IF(N5=2,1,\"\")","v":""}]
[{"$f":"IF('Navne kontrol'!A6=\"\",\"\",'Navne kontrol'!A6)","v":""},3,"Otto Hansen","Frederikssund","Guld","M",null,"xxx",3,"Frederikssund 3",null,"",1,1,""]
[{"$f":"IF('Navne kontrol'!A7=\"\",\"\",'Navne kontrol'!A7)","v":""},4,"Pia Omdal","Frederikssund","Lilla m.striber","K",null,"xxx",4,"Frederikssund 4",null,"",1,1,""]
[{"$f":"IF('Navne kontrol'!A8=\"\",\"\",'Navne kontrol'!A8)","v":""},5,null,"Frederikssund","Farve",null,null,null,5,"Frederikssund 5",null,"","",0,""]
[{"$f":"IF('Navne kontrol'!A9=\"\",\"\",'Navne kontrol'!A9)","v":""},6,"Jens-Thomas Thomsen","Frederikssund","Farve","M",null,"xxx",6,"Frederikssund 6",null,"",1,1,""]
[{"$f":"IF('Navne kontrol'!A10=\"\",\"\",'Navne kontrol'!A10)","v":""},7,null,"Frederikssund",null,null,null,null,7,"Frederikssund 7",null,"","",0,""]
[{"$f":"IF('Navne kontrol'!A11=\"\",\"\",'Navne kontrol'!A11)","v":""},8,"Solbjørg Regil","Frederikssund","Sort","K",null,"xxx",8,"Frederikssund 8",null,"",1,1,""]
[{"$f":"IF('Navne kontrol'!A12=\"\",\"\",'Navne kontrol'!A12)","v":""},9,"Finn Regil","Frederikssund","Lilla","M",null,"xxx",9,"Frederikssund 9",null,"",1,1,""]
[{"$f":"IF('Navne kontrol'!A13=\"\",\"\",'Navne kontrol'!A13)","v":""},10,"Henrik Krause","Frederikssund","Farve","M",null,"x",10,"Frederikssund 10",null,"","",0,""]
[{"$f":"IF('Navne kontrol'!A14=\"\",\"\",'Navne kontrol'!A14)","v":""},11,"Bent Poulsen","Frederikssund","Sort","M",null,null,11,"Frederikssund 11",null,"","",0,""]
[{"$f":"IF('Navne kontrol'!A15=\"\",\"\",'Navne kontrol'!A15)","v":""},12,"Grethe Krause","Frederikssund","Farve","K",null,"x",12,"Frederikssund 12",null,"","",0,""]
[{"$f":"IF('Navne kontrol'!A16=\"\",\"\",'Navne kontrol'!A16)","v":""},13,null,"Frederikssund","Farve",null,null,null,13,null,null,"","",0,""]
[{"$f":"IF('Navne kontrol'!A17=\"\",\"\",'Navne kontrol'!A17)","v":""},14,"Erik Staben","Frederikssund","Farve","M",null,"xxx",14,null,null,"",1,1,""]
[{"$f":"IF('Navne kontrol'!A18=\"\",\"\",'Navne kontrol'!A18)","v":""},15,null,"Frederikssund","Farve",null,null,null,15,null,null,"","",0,""]
[{"$f":"IF('Navne kontrol'!A19=\"\",\"\",'Navne kontrol'!A19)","v":""},16,null,"Frederikssund","Farve",null,null,null,16,null,null,"","",0,""]
[{"$f":"IF('Navne kontrol'!A20=\"\",\"\",'Navne kontrol'!A20)","v":""},17,"Jytte Nielsen","Frederikssund","Rød","K",null,null,17,null,null,"","",0,""]
[{"$f":"IF('Navne kontrol'!A21=\"\",\"\",'Navne kontrol'!A21)","v":""},18,"Kaj Andersson","Frederikssund","Grøn","M",null,"xxx",18,null,null,"",1,1,""]
[{"$f":"IF('Navne kontrol'!A22=\"\",\"\",'Navne kontrol'!A22)","v":""},19,"Aase Poulsen","Frederikssund","Farve","K",null,"xxx",19,null,null,"",1,1,""]
[{"$f":"IF('Navne kontrol'!A23=\"\",\"\",'Navne kontrol'!A23)","v":""},20,"Ruth Sørensen","Frederikssund","Farve","K",null,"xxx",20,null,null,"",1,1,""]
[{"$f":"IF('Navne kontrol'!A24=\"\",\"\",'Navne kontrol'!A24)","v":""},21,null,"Frederikssund",null,null,null,null,21,null,null,"","",0,""]
[{"$f":"IF('Navne kontrol'!A25=\"\",\"\",'Navne kontrol'!A25)","v":""},22,"Renè Christiansen","Frederikssund","Farve","M",null,"xxx",22,null,null,"",1,1,""]
[{"$f":"IF('Navne kontrol'!A26=\"\",\"\",'Navne kontrol'!A26)","v":""},23,"Karin F.L. Kjærgaard","Frederikssund","Farve","K",null,"xxx",23,null,null,"",1,1,""]
[{"$f":"IF('Navne kontrol'!A27=\"\",\"\",'Navne kontrol'!A27)","v":""},24,"Jette Svensson","Frederikssund","Farve","K",null,null,24,null,null,"","",0,""]
[{"$f":"IF('Navne kontrol'!A28=\"\",\"\",'Navne kontrol'!A28)","v":""},25,"Rosalind Kristensen","Frederikssund","Farve","K",null,"xxx",25,null,null,"",1,1,""]
[{"$f":"IF('Navne kontrol'!A29=\"\",\"\",'Navne kontrol'!A29)","v":""},26,"Peder Grønne","Frederikssund","Farve","M",null,null,26,null,null,"","",0,""]
[{"$f":"IF('Navne kontrol'!A30=\"\",\"\",'Navne kontrol'!A30)","v":""},27,null,"Frederikssund","Farve",null,null,null,27,null,null,"","",0,""]
[{"$f":"IF('Navne kontrol'!A31=\"\",\"\",'Navne kontrol'!A31)","v":""},28,null,"Frederikssund","Farve",null,null,null,28,null,null,"","",0,""]
[{"$f":"IF('Navne kontrol'!A32=\"\",\"\",'Navne kontrol'!A32)","v":""},29,null,"Frederikssund","Farve",null,null,null,29,null,null,"","",0,""]
[{"$f":"IF('Navne kontrol'!A33=\"\",\"\",'Navne kontrol'!A33)","v":""},30,null,"Frederikssund","Farve",null,null,null,30,null,null,"","",0,""]
[{"$f":"IF('Navne kontrol'!A34=\"\",\"\",'Navne kontrol'!A34)","v":""},31,null,"Frederikssund","Farve",null,null,null,31,null,null,"","",0,""]
[{"$f":"IF('Navne kontrol'!A35=\"\",\"\",'Navne kontrol'!A35)","v":""},32,null,"Frederikssund","Farve",null,null,null,32,null,null,"","",0,""]
[{"$f":"IF('Navne kontrol'!A36=\"\",\"\",'Navne kontrol'!A36)","v":""},33,null,"Frederikssund","Farve",null,null,null,33,null,null,"","",0,""]
[{"$f":"IF('Navne kontrol'!A37=\"\",\"\",'Navne kontrol'!A37)","v":""},34,null,"Frederikssund","Farve",null,null,null,34,null,null,"","",0,""]
[{"$f":"IF('Navne kontrol'!A38=\"\",\"\",'Navne kontrol'!A38)","v":""},35,"Ruth Eriksen","Frederikssund","Farve","K",null,"x",35,null,null,"","",0,""]
[{"$f":"IF('Navne kontrol'!A39=\"\",\"\",'Navne kontrol'!A39)","v":""},36,null,"Frederikssund","Farve",null,null,null,36,null,null,"","",0,""]
[{"$f":"IF('Navne kontrol'!A40=\"\",\"\",'Navne kontrol'!A40)","v":""},37,null,"Frederikssund","Farve",null,null,null,37,null,null,"","",0,""]
[{"$f":"IF('Navne kontrol'!A41=\"\",\"\",'Navne kontrol'!A41)","v":""},38,null,"Frederikssund","Farve",null,null,null,38,null,null,"","",0,""]
[{"$f":"IF('Navne kontrol'!A42=\"\",\"\",'Navne kontrol'!A42)","v":""},39,null,"Frederikssund","Farve",null,null,null,39,null,null,"","",0,""]
[{"$f":"IF('Navne kontrol'!A43=\"\",\"\",'Navne kontrol'!A43)","v":""},40,null,"Frederikssund",null,null,null,null,40,null,null,"","",0,""]
[{"$f":"IF('Navne kontrol'!A44=\"\",\"\",'Navne kontrol'!A44)","v":""},41,null,"Frederikssund",null,null,null,null,41,null,null,"","",0,""]
[{"$f":"IF('Navne kontrol'!A45=\"\",\"\",'Navne kontrol'!A45)","v":""},42,null,"Frederikssund",null,null,null,null,42,null,null,"","",0,""]
[{"$f":"IF('Navne kontrol'!A46=\"\",\"\",'Navne kontrol'!A46)","v":""},43,null,"Frederikssund",null,null,null,null,43,null,null,"","",0,""]
[{"$f":"IF('Navne kontrol'!A47=\"\",\"\",'Navne kontrol'!A47)","v":""},44,null,"Frederikssund",null,null,null,null,44,null,null,"","",0,""]
[{"$f":"IF('Navne kontrol'!A48=\"\",\"\",'Navne kontrol'!A48)","v":""},45,null,"Frederikssund",null,null,null,null,45,null,null,"","",0,""]
[{"$f":"IF('Navne kontrol'!A49=\"\",\"\",'Navne kontrol'!A49)","v":""},46,null,"Frederikssund",null,null,null,null,46,null,null,"","",0,""]
[{"$f":"IF('Navne kontrol'!A50=\"\",\"\",'Navne kontrol'!A50)","v":""},47,null,"Frederikssund",null,null,null,null,47,null,null,"","",0,""]
[{"$f":"IF('Navne kontrol'!A51=\"\",\"\",'Navne kontrol'!A51)","v":""},48,null,"Frederikssund",null,null,null,null,48,null,null,"","",0,""]
[{"$f":"IF('Navne kontrol'!A52=\"\",\"\",'Navne kontrol'!A52)","v":""},49,null,"Frederikssund",null,null,null,null,49,null,null,"","",0,""]
[{"$f":"IF('Navne kontrol'!A53=\"\",\"\",'Navne kontrol'!A53)","v":""},50,null,"Frederikssund",null,null,null,null,50,null,null,"","",0,""]
[{"$f":"IF('Navne kontrol'!A54=\"\",\"\",'Navne kontrol'!A54)","v":""},51,"Tage Jensen","Meløse","Sort","M","x","xxx",51,"Meløse 1",null,1,1,2,1]
[{"$f":"IF('Navne kontrol'!A55=\"\",\"\",'Navne kontrol'!A55)","v":""},52,"Bodil Olsen","Meløse","Orange","K",null,null,52,"Meløse 2",null,"","",0,""]
[{"$f":"IF('Navne kontrol'!A56=\"\",\"\",'Navne kontrol'!A56)","v":""},53,"Edith Elkjær","Meløse","Farve","K",null,null,53,"Meløse 3",null,"","",0,""]
[{"$f":"IF('Navne kontrol'!A57=\"\",\"\",'Navne kontrol'!A57)","v":""},54,"Søren Helbo","Meløse","Orange","M","x","xxx",54,"Meløse 4",null,1,1,2,1]
[{"$f":"IF('Navne kontrol'!A58=\"\",\"\",'Navne kontrol'!A58)","v":""},55,"Peter Knudsen","Meløse","Farve","M","x","xxx",55,"Meløse 5",null,1,1,2,1]
[{"$f":"IF('Navne kontrol'!A59=\"\",\"\",'Navne kontrol'!A59)","v":""},56,"Mogens Bodilsen","Meløse","Blå","M","x",null,56,"Meløse 6",null,1,"",1,""]
[{"$f":"IF('Navne kontrol'!A60=\"\",\"\",'Navne kontrol'!A60)","v":""},57,"Niels Aare Jensen","Meløse","Blå","M","x",null,57,"Meløse 7",null,1,"",1,""]
[{"$f":"IF('Navne kontrol'!A61=\"\",\"\",'Navne kontrol'!A61)","v":""},58,"Alis Bodilsen","Meløse","Sort","K",null,"x",58,"Meløse 8",null,"","",0,""]
[{"$f":"IF('Navne kontrol'!A62=\"\",\"\",'Navne kontrol'!A62)","v":""},59,"Carin Andersen","Meløse","Farve","K",null,null,59,"Meløse 9",null,"","",0,""]
[{"$f":"IF('Navne kontrol'!A63=\"\",\"\",'Navne kontrol'!A63)","v":""},60,"Anna Grethe Christensen","Meløse","Lyserød","K","x",null,60,"Meløse 10",null,1,"",1,""]
[{"$f":"IF('Navne kontrol'!A64=\"\",\"\",'Navne kontrol'!A64)","v":""},61,"Annie Jensen","Meløse","Farve","K","x","xxx",61,"Meløse 11",null,1,1,2,1]
[{"$f":"IF('Navne kontrol'!A65=\"\",\"\",'Navne kontrol'!A65)","v":""},62,"Jørgen Hvilsom","Meløse","Orange","M","x",null,62,"Meløse 12",null,1,"",1,""]
[{"$f":"IF('Navne kontrol'!A66=\"\",\"\",'Navne kontrol'!A66)","v":""},63,"Lennert Sørensen","Meløse",null,"M","x","xxx",63,null,null,1,1,2,1]
[{"$f":"IF('Navne kontrol'!A67=\"\",\"\",'Navne kontrol'!A67)","v":""},64,"Villy Jensen","Meløse","Rød","M","x",null,64,null,null,1,"",1,""]
[{"$f":"IF('Navne kontrol'!A68=\"\",\"\",'Navne kontrol'!A68)","v":""},65,"Anne Marie Laustsen","Meløse",null,"K","x","xxx",65,null,null,1,1,2,1]
[{"$f":"IF('Navne kontrol'!A69=\"\",\"\",'Navne kontrol'!A69)","v":""},66,"Egon Jensen","Meløse","Farve","M",null,"x",{"$f":"B69","v":66},null,null,{"$f":"IF(G69=\"x\",1,\"\")","v":""},{"$f":"IF(H69=\"\",\"\",IF(H69=\"xx\",1,IF(H69=\"xxx\",1,\"\")))","v":""},{"$f":"SUM(L69:M69)","v":0},{"$f":"IF(N69=2,1,\"\")","v":""}]
[{"$f":"IF('Navne kontrol'!A70=\"\",\"\",'Navne kontrol'!A70)","v":""},67,null,"Meløse","Farve",null,null,null,67,null,null,"","",0,""]
[{"$f":"IF('Navne kontrol'!A71=\"\",\"\",'Navne kontrol'!A71)","v":""},68,null,"Meløse","Farve",null,null,null,68,null,null,"","",0,""]
[{"$f":"IF('Navne kontrol'!A72=\"\",\"\",'Navne kontrol'!A72)","v":""},69,"Poul Andersen","Meløse","Farve","M",null,null,69,null,null,"","",0,""]
[{"$f":"IF('Navne kontrol'!A73=\"\",\"\",'Navne kontrol'!A73)","v":""},70,null,"Meløse","Farve",null,null,null,70,null,null,"","",0,""]
[{"$f":"IF('Navne kontrol'!A74=\"\",\"\",'Navne kontrol'!A74)","v":""},71,null,"Meløse",null,null,null,null,71,null,null,"","",0,""]
[{"$f":"IF('Navne kontrol'!A75=\"\",\"\",'Navne kontrol'!A75)","v":""},72,null,"Meløse","Farve",null,null,null,72,null,null,"","",0,""]
[{"$f":"IF('Navne kontrol'!A76=\"\",\"\",'Navne kontrol'!A76)","v":""},73,"Petra Knudsen","Meløse","Lilla","K","x",null,73,null,null,1,"",1,""]
[{"$f":"IF('Navne kontrol'!A77=\"\",\"\",'Navne kontrol'!A77)","v":""},74,"Lise Qvist Bebe","Meløse","Farve","K","x","xxx",74,null,null,1,1,2,1]
[{"$f":"IF('Navne kontrol'!A78=\"\",\"\",'Navne kontrol'!A78)","v":""},75,"Peter Aare","Meløse","Blå","M","x","xxx",75,null,null,1,1,2,1]
[{"$f":"IF('Navne kontrol'!A79=\"\",\"\",'Navne kontrol'!A79)","v":""},76,"Connie Bregnvig","Meløse","Farve","K","x",null,76,null,null,1,"",1,""]
[{"$f":"IF('Navne kontrol'!A80=\"\",\"\",'Navne kontrol'!A80)","v":""},77,"Preben Ludore","Meløse","Farve","M","x","xxx",77,null,null,1,1,2,1]
[{"$f":"IF('Navne kontrol'!A81=\"\",\"\",'Navne kontrol'!A81)","v":""},78,null,"Meløse",null,null,null,null,78,null,null,"","",0,""]
[{"$f":"IF('Navne kontrol'!A82=\"\",\"\",'Navne kontrol'!A82)","v":""},79,null,"Meløse",null,null,null,null,79,null,null,"","",0,""]
[{"$f":"IF('Navne kontrol'!A83=\"\",\"\",'Navne kontrol'!A83)","v":""},80,null,"Meløse",null,null,null,null,80,null,null,"","",0,""]
[{"$f":"IF('Navne kontrol'!A84=\"\",\"\",'Navne kontrol'!A84)","v":""},81,null,"Meløse",null,null,null,null,81,null,null,"","",0,""]
[{"$f":"IF('Navne kontrol'!A85=\"\",\"\",'Navne kontrol'!A85)","v":""},82,null,"Meløse",null,null,null,null,82,null,null,"","",0,""]
[{"$f":"IF('Navne kontrol'!A86=\"\",\"\",'Navne kontrol'!A86)","v":""},83,null,"Meløse",null,null,null,null,83,null,null,"","",0,""]
[{"$f":"IF('Navne kontrol'!A87=\"\",\"\",'Navne kontrol'!A87)","v":""},84,null,"Meløse",null,null,null,null,84,null,null,"","",0,""]
[{"$f":"IF('Navne kontrol'!A88=\"\",\"\",'Navne kontrol'!A88)","v":""},85,null,"Meløse",null,null,null,null,85,null,null,"","",0,""]
[{"$f":"IF('Navne kontrol'!A89=\"\",\"\",'Navne kontrol'!A89)","v":""},86,null,"Meløse",null,null,null,null,86,null,null,"","",0,""]
[{"$f":"IF('Navne kontrol'!A90=\"\",\"\",'Navne kontrol'!A90)","v":""},87,null,"Meløse",null,null,null,null,87,null,null,"","",0,""]
[{"$f":"IF('Navne kontrol'!A91=\"\",\"\",'Navne kontrol'!A91)","v":""},88,null,"Meløse",null,null,null,null,88,null,null,"","",0,""]
[{"$f":"IF('Navne kontrol'!A92=\"\",\"\",'Navne kontrol'!A92)","v":""},89,null,"Meløse",null,null,null,null,89,null,null,"","",0,""]
[{"$f":"IF('Navne kontrol'!A93=\"\",\"\",'Navne kontrol'!A93)","v":""},90,null,"Meløse",null,null,null,null,90,null,null,"","",0,""]
[{"$f":"IF('Navne kontrol'!A94=\"\",\"\",'Navne kontrol'!A94)","v":""},91,null,"Meløse",null,null,null,null,91,null,null,"",{"$f":"IF(H94=\"\",\"\",IF(H94=\"xx\",1,IF(H94=\"xxx\",1,\"\")))","v":""},0,""]
[{"$f":"IF('Navne kontrol'!A95=\"\",\"\",'Navne kontrol'!A95)","v":""},92,null,"Meløse",null,null,null,null,92,null,null,"","",0,""]
[{"$f":"IF('Navne kontrol'!A96=\"\",\"\",'Navne kontrol'!A96)","v":""},93,null,"Meløse",null,null,null,null,93,null,null,"","",0,""]
[{"$f":"IF('Navne kontrol'!A97=\"\",\"\",'Navne kontrol'!A97)","v":""},94,null,"Meløse",null,null,null,null,94,null,null,"","",0,""]
[{"$f":"IF('Navne kontrol'!A98=\"\",\"\",'Navne kontrol'!A98)","v":""},95,null,"Meløse",null,null,null,null,95,null,null,"","",0,""]
[{"$f":"IF('Navne kontrol'!A99=\"\",\"\",'Navne kontrol'!A99)","v":""},96,null,"Meløse",null,null,null,null,96,null,null,"","",0,""]
[{"$f":"IF('Navne kontrol'!A100=\"\",\"\",'Navne kontrol'!A100)","v":""},97,null,"Meløse",null,null,null,null,97,null,null,"","",0,""]
[{"$f":"IF('Navne kontrol'!A101=\"\",\"\",'Navne kontrol'!A101)","v":""},98,null,"Meløse",null,null,null,null,98,null,null,"","",0,""]
[{"$f":"IF('Navne kontrol'!A102=\"\",\"\",'Navne kontrol'!A102)","v":""},99,null,"Meløse",null,null,null,null,99,null,null,"","",0,""]
[{"$f":"IF('Navne kontrol'!A103=\"\",\"\",'Navne kontrol'!A103)","v":""},100,null,"Meløse",null,null,null,null,100,null,null,"","",0,""]
[{"$f":"IF('Navne kontrol'!A104=\"\",\"\",'Navne kontrol'!A104)","v":""},101,null,"Hornsherred","Farve","M",null,null,101,"Hornsherred 1",null,"","",0,""]
[{"$f":"IF('Navne kontrol'!A105=\"\",\"\",'Navne kontrol'!A105)","v":""},102,"Niels Frederiksen","Hornsherred","Farve","M",null,null,102,"Hornsherred 2",null,"","",0,""]
[{"$f":"IF('Navne kontrol'!A106=\"\",\"\",'Navne kontrol'!A106)","v":""},103,"Peter Rohleder","Hornsherred","Farve","M",null,null,103,"Hornsherred 3",null,"","",0,""]
[{"$f":"IF('Navne kontrol'!A107=\"\",\"\",'Navne kontrol'!A107)","v":""},104,"Linda Christiansen","Hornsherred","Farve","K",null,"xxx",104,"Hornsherred 4",null,"",1,1,""]
[{"$f":"IF('Navne kontrol'!A108=\"\",\"\",'Navne kontrol'!A108)","v":""},105,"Jørgen Ramskov","Hornsherred","Farve","M",null,"xxx",105,"Hornsherred 5",null,"",1,1,""]
[{"$f":"IF('Navne kontrol'!A109=\"\",\"\",'Navne kontrol'!A109)","v":""},106,"Morten Mortensen","Hornsherred","Farve","M",null,null,106,"Hornsherred 6",null,"","",0,""]
[{"$f":"IF('Navne kontrol'!A110=\"\",\"\",'Navne kontrol'!A110)","v":""},107,"Kjeld Hjorth","Hornsherred","Farve","M",null,null,107,"Hornsherred 7",null,"","",0,""]
[{"$f":"IF('Navne kontrol'!A111=\"\",\"\",'Navne kontrol'!A111)","v":""},108,"Jette Ringius","Hornsherred","Farve","K",null,null,108,"Hornsherred 8",null,"","",0,""]
[{"$f":"IF('Navne kontrol'!A112=\"\",\"\",'Navne kontrol'!A112)","v":""},109,"Anne Røndbjerg","Hornsherred","Farve","K",null,"xxx",109,"Hornsherred 9",null,"",1,1,""]
[{"$f":"IF('Navne kontrol'!A113=\"\",\"\",'Navne kontrol'!A113)","v":""},110,"Jytte Hedlund","Hornsherred","Farve","K",null,null,110,"Hornsherred 10",null,"","",0,""]
[{"$f":"IF('Navne kontrol'!A114=\"\",\"\",'Navne kontrol'!A114)","v":""},111,"Kim Larsen","Hornsherred","Farve","M",null,null,111,"Hornsherred 11",null,"","",0,""]
[{"$f":"IF('Navne kontrol'!A115=\"\",\"\",'Navne kontrol'!A115)","v":""},112,"Birgit Rose Holm","Hornsherred","Farve","K",null,"x",112,"Hornsherred 12",null,"","",0,""]
[{"$f":"IF('Navne kontrol'!A116=\"\",\"\",'Navne kontrol'!A116)","v":""},113,"Flemming Carlsen","Hornsherred","Farve","M",null,null,113,null,null,"","",0,""]
[{"$f":"IF('Navne kontrol'!A117=\"\",\"\",'Navne kontrol'!A117)","v":""},114,"Jette Carlsen","Hornsherred","Farve","K",null,null,114,null,null,"","",0,""]
[{"$f":"IF('Navne kontrol'!A118=\"\",\"\",'Navne kontrol'!A118)","v":""},115,"Elo Andersen","Hornsherred","Farve","M",null,null,115,null,null,"","",0,""]
[{"$f":"IF('Navne kontrol'!A119=\"\",\"\",'Navne kontrol'!A119)","v":""},116,"Mona Hansen","Hornsherred","Farve","K",null,null,116,null,null,"","",0,""]
[{"$f":"IF('Navne kontrol'!A120=\"\",\"\",'Navne kontrol'!A120)","v":""},117,"Knud Erik Johansen","Hornsherred","Farve","M",null,null,117,null,null,"","",0,""]
[{"$f":"IF('Navne kontrol'!A121=\"\",\"\",'Navne kontrol'!A121)","v":""},118,"Ina Tell","Hornsherred","Farve","K",null,null,118,null,null,"","",0,""]
[{"$f":"IF('Navne kontrol'!A122=\"\",\"\",'Navne kontrol'!A122)","v":""},119,"Anny Lorentzen","Hornsherred","Farve","K",null,"x",119,null,null,"","",0,""]
[{"$f":"IF('Navne kontrol'!A123=\"\",\"\",'Navne kontrol'!A123)","v":""},120,"Jytte Rasmussen","Hornsherred","Farve","K",null,"x",120,null,null,"","",0,""]
[{"$f":"IF('Navne kontrol'!A124=\"\",\"\",'Navne kontrol'!A124)","v":""},121,"Ketty Hinrichsen","Hornsherred","Farve","K",null,"xxx",121,null,null,"",1,1,""]
[{"$f":"IF('Navne kontrol'!A125=\"\",\"\",'Navne kontrol'!A125)","v":""},122,null,"Hornsherred","Farve",null,null,null,122,null,null,"","",0,""]
[{"$f":"IF('Navne kontrol'!A126=\"\",\"\",'Navne kontrol'!A126)","v":""},123,"Karsten Roed","Hornsherred","Farve","M",null,"x",123,null,null,"","",0,""]
[{"$f":"IF('Navne kontrol'!A127=\"\",\"\",'Navne kontrol'!A127)","v":""},124,"Mogens Hinrichsen","Hornsherred","Farve","M",null,null,124,null,null,"","",0,""]
[{"$f":"IF('Navne kontrol'!A128=\"\",\"\",'Navne kontrol'!A128)","v":""},125,"Jens Frede Poulsen","Hornsherred","Farve","M",null,null,125,null,null,"","",0,""]
[{"$f":"IF('Navne kontrol'!A129=\"\",\"\",'Navne kontrol'!A129)","v":""},126,null,"Hornsherred","Farve",null,null,null,126,null,null,"","",0,""]
[{"$f":"IF('Navne kontrol'!A130=\"\",\"\",'Navne kontrol'!A130)","v":""},127,"Per Bentzen","Hornsherred","Farve","M",null,"xxx",127,null,null,"",1,1,""]
[{"$f":"IF('Navne kontrol'!A131=\"\",\"\",'Navne kontrol'!A131)","v":""},128,"Bobby Maric","Hornsherred","Farve","M",null,"xxx",128,null,null,"",1,1,""]
[{"$f":"IF('Navne kontrol'!A132=\"\",\"\",'Navne kontrol'!A132)","v":""},129,"Holger Larsen","Hornsherred","Farve","M",null,"x",129,null,null,"","",0,""]
[{"$f":"IF('Navne kontrol'!A133=\"\",\"\",'Navne kontrol'!A133)","v":""},130,"Jytte Knudsen","Hornsherred","Farve","K",null,null,{"$f":"B133","v":130},null,null,{"$f":"IF(G133=\"x\",1,\"\")","v":""},{"$f":"IF(H133=\"\",\"\",IF(H133=\"xx\",1,IF(H133=\"xxx\",1,\"\")))","v":""},{"$f":"SUM(L133:M133)","v":0},{"$f":"IF(N133=2,1,\"\")","v":""}]
[{"$f":"IF('Navne kontrol'!A134=\"\",\"\",'Navne kontrol'!A134)","v":""},131,"Karen Larsen","Hornsherred","Farve","K",null,null,131,null,null,"","",0,""]
[{"$f":"IF('Navne kontrol'!A135=\"\",\"\",'Navne kontrol'!A135)","v":""},132,"Knud Jensen","Hornsherred","Farve","M",null,null,132,null,null,"","",0,""]
[{"$f":"IF('Navne kontrol'!A136=\"\",\"\",'Navne kontrol'!A136)","v":""},133,"Marianne Maric","Hornsherred","Farve","K",null,null,133,null,null,"","",0,""]
[{"$f":"IF('Navne kontrol'!A137=\"\",\"\",'Navne kontrol'!A137)","v":""},134,"Ole Knudsen","Hornsherred","Farve","M",null,null,134,null,null,"","",0,""]
[{"$f":"IF('Navne kontrol'!A138=\"\",\"\",'Navne kontrol'!A138)","v":""},135,"Anni Bentzen","Hornsherred","Farve","K",null,"xxx",135,null,null,"",1,1,""]
[{"$f":"IF('Navne kontrol'!A139=\"\",\"\",'Navne kontrol'!A139)","v":""},136,"Susanne Madsen","Hornsherred",null,"K",null,null,136,null,null,"","",0,""]
[{"$f":"IF('Navne kontrol'!A140=\"\",\"\",'Navne kontrol'!A140)","v":""},137,"Flemming Madsen","Hornsherred",null,"M",null,null,137,null,null,"","",0,""]
[{"$f":"IF('Navne kontrol'!A141=\"\",\"\",'Navne kontrol'!A141)","v":""},138,"Birgit Schimmell","Hornsherred",null,"K",null,"xxx",138,null,null,"",1,1,""]
[{"$f":"IF('Navne kontrol'!A142=\"\",\"\",'Navne kontrol'!A142)","v":""},139,"Jytte Løsche","Hornsherred",null,"K",null,null,139,null,null,"","",0,""]
[{"$f":"IF('Navne kontrol'!A143=\"\",\"\",'Navne kontrol'!A143)","v":""},140,null,"Hornsherred",null,null,null,null,140,null,null,"","",0,""]
[{"$f":"IF('Navne kontrol'!A144=\"\",\"\",'Navne kontrol'!A144)","v":""},141,"Kaj Hansen","Hornsherred",null,"M",null,null,141,null,null,"","",0,""]
[{"$f":"IF('Navne kontrol'!A145=\"\",\"\",'Navne kontrol'!A145)","v":""},142,"Kirsten Vegge","Hornsherred",null,"K",null,null,142,null,null,"","",0,""]
[{"$f":"IF('Navne kontrol'!A146=\"\",\"\",'Navne kontrol'!A146)","v":""},143,"Lis Nielebock","Hornsherred",null,"K",null,null,143,null,null,"","",0,""]
[{"$f":"IF('Navne kontrol'!A147=\"\",\"\",'Navne kontrol'!A147)","v":""},144,null,"Hornsherred",null,null,null,null,144,null,null,"","",0,""]
[{"$f":"IF('Navne kontrol'!A148=\"\",\"\",'Navne kontrol'!A148)","v":""},145,null,"Hornsherred",null,null,null,null,145,null,null,"","",0,""]
[{"$f":"IF('Navne kontrol'!A149=\"\",\"\",'Navne kontrol'!A149)","v":""},146,null,"Hornsherred",null,null,null,null,146,null,null,"","",0,""]
[{"$f":"IF('Navne kontrol'!A150=\"\",\"\",'Navne kontrol'!A150)","v":""},147,null,"Hornsherred",null,null,null,null,147,null,null,"","",0,""]
[{"$f":"IF('Navne kontrol'!A151=\"\",\"\",'Navne kontrol'!A151)","v":""},148,null,"Hornsherred",null,null,null,null,148,null,null,"","",0,""]
[{"$f":"IF('Navne kontrol'!A152=\"\",\"\",'Navne kontrol'!A152)","v":""},149,null,"Hornsherred",null,null,null,null,149,null,null,"","",0,""]
[{"$f":"IF('Navne kontrol'!A153=\"\",\"\",'Navne kontrol'!A153)","v":""},150,null,"Hornsherred",null,null,null,null,150,null,null,"",{"$f":"IF(H153=\"\",\"\",IF(H153=\"xx\",1,IF(H153=\"xxx\",1,\"\")))","v":""},0,""]
[{"$f":"IF('Navne kontrol'!A154=\"\",\"\",'Navne kontrol'!A154)","v":""},151,"Ann Larsen","Ølstykke","Farve","K",null,"xxx",151,"Ølstykke 1",null,"",1,1,""]
[{"$f":"IF('Navne kontrol'!A155=\"\",\"\",'Navne kontrol'!A155)","v":""},152,"Per Henrichsen","Ølstykke","Farve","M",null,"xxx",152,"Ølstykke 2",null,"",1,1,""]
[{"$f":"IF('Navne kontrol'!A156=\"\",\"\",'Navne kontrol'!A156)","v":""},153,"Birger Rosendal","Ølstykke","Farve","M",null,"xxx",153,"Ølstykke 3",null,"",1,1,""]
[{"$f":"IF('Navne kontrol'!A157=\"\",\"\",'Navne kontrol'!A157)","v":""},154,"Lene Rosendal","Ølstykke","Farve","K",null,"xxx",154,"Ølstykke 4",null,"",1,1,""]
[{"$f":"IF('Navne kontrol'!A158=\"\",\"\",'Navne kontrol'!A158)","v":""},155,"Harry Petersen","Ølstykke","Farve","M",null,null,155,"Ølstykke 5",null,"","",0,""]
[{"$f":"IF('Navne kontrol'!A159=\"\",\"\",'Navne kontrol'!A159)","v":""},156,"Per Kyhn","Ølstykke","Farve","M",null,"xxx",156,"Ølstykke 6",null,"",1,1,""]
[{"$f":"IF('Navne kontrol'!A160=\"\",\"\",'Navne kontrol'!A160)","v":""},157,"Tove Andersen","Ølstykke","Farve","K",null,"xxx",157,"Ølstykke 7",null,"",1,1,""]
[{"$f":"IF('Navne kontrol'!A161=\"\",\"\",'Navne kontrol'!A161)","v":""},158,null,"Ølstykke","Farve",null,null,null,158,"Ølstykke 8",null,"","",0,""]
[{"$f":"IF('Navne kontrol'!A162=\"\",\"\",'Navne kontrol'!A162)","v":""},159,null,"Ølstykke","Farve",null,null,null,159,"Ølstykke 9",null,"","",0,""]
[{"$f":"IF('Navne kontrol'!A163=\"\",\"\",'Navne kontrol'!A163)","v":""},160,"Anette Hviid Rodger","Ølstykke","Farve","K",null,null,160,"Ølstykke 10",null,"","",0,""]
[{"$f":"IF('Navne kontrol'!A164=\"\",\"\",'Navne kontrol'!A164)","v":""},161,null,"Ølstykke","Farve",null,null,null,161,"Ølstykke 11",null,"","",0,""]
[{"$f":"IF('Navne kontrol'!A165=\"\",\"\",'Navne kontrol'!A165)","v":""},162,"Bjarne Nielsen","Ølstykke","Farve","M",null,null,162,"Ølstykke 12",null,"","",0,""]
[{"$f":"IF('Navne kontrol'!A166=\"\",\"\",'Navne kontrol'!A166)","v":""},163,null,"Ølstykke","Farve",null,null,null,163,null,null,"","",0,""]
[{"$f":"IF('Navne kontrol'!A167=\"\",\"\",'Navne kontrol'!A167)","v":""},164,"Jan E. Pedersen","Ølstykke","Farve","M",null,null,164,null,null,"","",0,""]
[{"$f":"IF('Navne kontrol'!A168=\"\",\"\",'Navne kontrol'!A168)","v":""},165,null,"Ølstykke","Farve",null,null,null,165,null,null,"","",0,""]
[{"$f":"IF('Navne kontrol'!A169=\"\",\"\",'Navne kontrol'!A169)","v":""},166,"Ib Jensen","Ølstykke","Farve","M",null,null,166,null,null,"","",0,""]
[{"$f":"IF('Navne kontrol'!A170=\"\",\"\",'Navne kontrol'!A170)","v":""},167,"Jette Jensen","Ølstykke","Farve","K",null,null,167,null,null,"","",0,""]
[{"$f":"IF('Navne kontrol'!A171=\"\",\"\",'Navne kontrol'!A171)","v":""},168,null,"Ølstykke","Farve",null,null,null,168,null,null,"","",0,""]
[{"$f":"IF('Navne kontrol'!A172=\"\",\"\",'Navne kontrol'!A172)","v":""},169,"Kate Petersen","Ølstykke","Farve","K",null,null,169,null,null,"","",0,""]
[{"$f":"IF('Navne kontrol'!A173=\"\",\"\",'Navne kontrol'!A173)","v":""},170,null,"Ølstykke","Farve",null,null,null,170,null,null,"","",0,""]
[{"$f":"IF('Navne kontrol'!A174=\"\",\"\",'Navne kontrol'!A174)","v":""},171,"Åse Thaning","Ølstykke","Farve","K",null,"x",171,null,null,"","",0,""]
[{"$f":"IF('Navne kontrol'!A175=\"\",\"\",'Navne kontrol'!A175)","v":""},172,"Jytte Hansen","Ølstykke","Farve","K",null,"xxx",172,null,null,"",1,1,""]
[{"$f":"IF('Navne kontrol'!A176=\"\",\"\",'Navne kontrol'!A176)","v":""},173,"Karin Børresen","Ølstykke","Farve","K",null,null,173,null,null,"","",0,""]
[{"$f":"IF('Navne kontrol'!A177=\"\",\"\",'Navne kontrol'!A177)","v":""},174,"Marianne Albertsen","Ølstykke","Farve","K",null,"xxx",174,null,null,"",1,1,""]
[{"$f":"IF('Navne kontrol'!A178=\"\",\"\",'Navne kontrol'!A178)","v":""},175,null,"Ølstykke","Farve",null,null,null,175,null,null,"","",0,""]
[{"$f":"IF('Navne kontrol'!A179=\"\",\"\",'Navne kontrol'!A179)","v":""},176,"Preben Willum","Ølstykke","Farve","M",null,"xxx",176,null,null,"",1,1,""]
[{"$f":"IF('Navne kontrol'!A180=\"\",\"\",'Navne kontrol'!A180)","v":""},177,"Lone Nyc","Ølstykke","Farve","K",null,null,177,null,null,"","",0,""]
[{"$f":"IF('Navne kontrol'!A181=\"\",\"\",'Navne kontrol'!A181)","v":""},178,"Bjarne Hansson","Ølstykke","Farve","M",null,"xxx",178,null,null,"",1,1,""]
[{"$f":"IF('Navne kontrol'!A182=\"\",\"\",'Navne kontrol'!A182)","v":""},179,null,"Ølstykke","Farve",null,null,null,179,null,null,"","",0,""]
[{"$f":"IF('Navne kontrol'!A183=\"\",\"\",'Navne kontrol'!A183)","v":""},180,"Inger Andersen","Ølstykke","Farve","K",null,null,180,null,null,"","",0,""]
[{"$f":"IF('Navne kontrol'!A184=\"\",\"\",'Navne kontrol'!A184)","v":""},181,"Peter Norlund","Ølstykke","Farve","M",null,"xxx",181,null,null,"",1,1,""]
[{"$f":"IF('Navne kontrol'!A185=\"\",\"\",'Navne kontrol'!A185)","v":""},182,"Sanne Norlund","Ølstykke","Farve","M",null,"xxx",182,null,null,"",1,1,""]
[{"$f":"IF('Navne kontrol'!A186=\"\",\"\",'Navne kontrol'!A186)","v":""},183,null,"Ølstykke",null,null,null,null,183,null,null,"","",0,""]
[{"$f":"IF('Navne kontrol'!A187=\"\",\"\",'Navne kontrol'!A187)","v":""},184,null,"Ølstykke",null,null,null,null,184,null,null,"","",0,""]
[{"$f":"IF('Navne kontrol'!A188=\"\",\"\",'Navne kontrol'!A188)","v":""},185,null,"Ølstykke",null,null,null,null,185,null,null,"","",0,""]
[{"$f":"IF('Navne kontrol'!A189=\"\",\"\",'Navne kontrol'!A189)","v":""},186,null,"Ølstykke",null,null,null,null,186,null,null,"","",0,""]
[{"$f":"IF('Navne kontrol'!A190=\"\",\"\",'Navne kontrol'!A190)","v":""},187,null,"Ølstykke",null,null,null,null,187,null,null,"","",0,""]
[{"$f":"IF('Navne kontrol'!A191=\"\",\"\",'Navne kontrol'!A191)","v":""},188,null,"Ølstykke",null,null,null,null,188,null,null,"","",0,""]
[{"$f":"IF('Navne kontrol'!A192=\"\",\"\",'Navne kontrol'!A192)","v":""},189,null,"Ølstykke",null,null,null,null,189,null,null,"","",0,""]
[{"$f":"IF('Navne kontrol'!A193=\"\",\"\",'Navne kontrol'!A193)","v":""},190,null,"Ølstykke",null,null,null,null,190,null,null,"","",0,""]
[{"$f":"IF('Navne kontrol'!A194=\"\",\"\",'Navne kontrol'!A194)","v":""},191,null,"Ølstykke",null,null,null,null,191,null,null,"","",0,""]
[{"$f":"IF('Navne kontrol'!A195=\"\",\"\",'Navne kontrol'!A195)","v":""},192,null,"Ølstykke",null,null,null,null,192,null,null,"","",0,""]
[{"$f":"IF('Navne kontrol'!A196=\"\",\"\",'Navne kontrol'!A196)","v":""},193,null,"Ølstykke",null,null,null,null,193,null,null,"","",0,""]
[{"$f":"IF('Navne kontrol'!A197=\"\",\"\",'Navne kontrol'!A197)","v":""},194,null,"Ølstykke",null,null,null,null,{"$f":"B197","v":194},null,null,{"$f":"IF(G197=\"x\",1,\"\")","v":""},{"$f":"IF(H197=\"\",\"\",IF(H197=\"xx\",1,IF(H197=\"xxx\",1,\"\")))","v":""},{"$f":"SUM(L197:M197)","v":0},{"$f":"IF(N197=2,1,\"\")","v":""}]
[{"$f":"IF('Navne kontrol'!A198=\"\",\"\",'Navne kontrol'!A198)","v":""},195,null,"Ølstykke",null,null,null,null,195,null,null,"","",0,""]
[{"$f":"IF('Navne kontrol'!A199=\"\",\"\",'Navne kontrol'!A199)","v":""},196,null,"Ølstykke",null,null,null,null,196,null,null,"","",0,""]
[{"$f":"IF('Navne kontrol'!A200=\"\",\"\",'Navne kontrol'!A200)","v":""},197,null,"Ølstykke",null,null,null,null,197,null,null,"","",0,""]
[{"$f":"IF('Navne kontrol'!A201=\"\",\"\",'Navne kontrol'!A201)","v":""},198,null,"Ølstykke",null,null,null,null,198,null,null,"","",0,""]
[{"$f":"IF('Navne kontrol'!A202=\"\",\"\",'Navne kontrol'!A202)","v":""},199,null,"Ølstykke",null,null,null,null,199,null,null,"","",0,""]
[{"$f":"IF('Navne kontrol'!A203=\"\",\"\",'Navne kontrol'!A203)","v":""},200,null,"Ølstykke",null,null,null,null,200,null,null,"","",0,""]
[{"$f":"IF('Navne kontrol'!A204=\"\",\"\",'Navne kontrol'!A204)","v":""},201,"Laila Birkemosegård","Ledøje/Smørum","Gul","K",null,"xxx",201,"Ledøje/Smørum 1",null,"",{"$f":"IF(H204=\"\",\"\",IF(H204=\"xx\",1,IF(H204=\"xxx\",1,\"\")))","v":1},{"$f":"SUM(L204:M204)","v":1},{"$f":"IF(N204=2,1,\"\")","v":""}]
[{"$f":"IF('Navne kontrol'!A205=\"\",\"\",'Navne kontrol'!A205)","v":""},202,"Flemming Birkemosegård","Ledøje/Smørum","Orange","M",null,null,202,"Ledøje/Smørum 2",null,"","",0,""]
[{"$f":"IF('Navne kontrol'!A206=\"\",\"\",'Navne kontrol'!A206)","v":""},203,"Sonja Sørensen","Ledøje/Smørum","Rød","K",null,null,203,"Ledøje/Smørum 3",null,"","",0,""]
[{"$f":"IF('Navne kontrol'!A207=\"\",\"\",'Navne kontrol'!A207)","v":""},204,"Esther Knudsen","Ledøje/Smørum","Pink","K",null,"xxx",204,"Ledøje/Smørum 4",null,"",1,1,""]
[{"$f":"IF('Navne kontrol'!A208=\"\",\"\",'Navne kontrol'!A208)","v":""},205,"Niels Madsen","Ledøje/Smørum","Pink","M",null,"xxx",205,"Ledøje/Smørum 5",null,"",1,1,""]
[{"$f":"IF('Navne kontrol'!A209=\"\",\"\",'Navne kontrol'!A209)","v":""},206,"Tommy Andersen","Ledøje/Smørum","Lilla","M",null,"x",206,"Ledøje/Smørum 6",null,"","",0,""]
[{"$f":"IF('Navne kontrol'!A210=\"\",\"\",'Navne kontrol'!A210)","v":""},207,"Kurt Nielsen","Ledøje/Smørum","Blå/KN","M",null,"x",207,"Ledøje/Smørum 7",null,"","",0,""]
[{"$f":"IF('Navne kontrol'!A211=\"\",\"\",'Navne kontrol'!A211)","v":""},208,"Ulla J. Jakobsen","Ledøje/Smørum","Pink","K",null,"xxx",208,"Ledøje/Smørum 8",null,"",1,1,""]
[{"$f":"IF('Navne kontrol'!A212=\"\",\"\",'Navne kontrol'!A212)","v":""},209,"Steen Knudsen","Ledøje/Smørum",null,"M",null,"xxx",209,"Ledøje/Smørum 9",null,"",1,1,""]
[{"$f":"IF('Navne kontrol'!A213=\"\",\"\",'Navne kontrol'!A213)","v":""},210,"Jonna Nielsen","Ledøje/Smørum","Rød/Grøn","K",null,"xxx",210,"Ledøje/Smørum 10",null,"",1,1,""]
[{"$f":"IF('Navne kontrol'!A214=\"\",\"\",'Navne kontrol'!A214)","v":""},211,"Jytte Schmidt","Ledøje/Smørum","Hvid","K",null,"x",211,"Ledøje/Smørum 11",null,"","",0,""]
[{"$f":"IF('Navne kontrol'!A215=\"\",\"\",'Navne kontrol'!A215)","v":""},212,"Lissi Norup Jensen","Ledøje/Smørum","Orange","K",null,"x",212,"Ledøje/Smørum 12",null,"","",0,""]
[{"$f":"IF('Navne kontrol'!A216=\"\",\"\",'Navne kontrol'!A216)","v":""},213,"Gunnar Persson","Ledøje/Smørum","Gul/Rød","M",null,"xxx",213,null,null,"",1,1,""]
[{"$f":"IF('Navne kontrol'!A217=\"\",\"\",'Navne kontrol'!A217)","v":""},214,"Flemming B. Larsen","Ledøje/Smørum","Gul/Rød/Sort","M",null,null,214,null,null,"","",0,""]
[{"$f":"IF('Navne kontrol'!A218=\"\",\"\",'Navne kontrol'!A218)","v":""},215,"Niels Nielsen","Ledøje/Smørum","Sort/Hvid","M",null,"xxx",215,null,null,"",1,1,""]
[{"$f":"IF('Navne kontrol'!A219=\"\",\"\",'Navne kontrol'!A219)","v":""},216,"Flemming B. Jensen","Ledøje/Smørum","Blå/Lilla","M",null,"xxx",216,null,null,"",1,1,""]
[{"$f":"IF('Navne kontrol'!A220=\"\",\"\",'Navne kontrol'!A220)","v":""},217,"Tove Blad","Ledøje/Smørum","Hvid","K",null,"xxx",217,null,null,"",1,1,""]
[{"$f":"IF('Navne kontrol'!A221=\"\",\"\",'Navne kontrol'!A221)","v":""},218,"Helle Skovbro","Ledøje/Smørum",null,"K",null,"xxx",218,null,null,"",1,1,""]
[{"$f":"IF('Navne kontrol'!A222=\"\",\"\",'Navne kontrol'!A222)","v":""},219,"Bjarne Poulsen","Ledøje/Smørum","Farve","M",null,"xxx",219,null,null,"",1,1,""]
[{"$f":"IF('Navne kontrol'!A223=\"\",\"\",'Navne kontrol'!A223)","v":""},220,"Nina Nielsen","Ledøje/Smørum","Blå","K",null,"xxx",220,null,null,"",1,1,""]
[{"$f":"IF('Navne kontrol'!A224=\"\",\"\",'Navne kontrol'!A224)","v":""},221,"Hans J. Carow","Ledøje/Smørum","Blå","M",null,"xxx",221,null,null,"",1,1,""]
[{"$f":"IF('Navne kontrol'!A225=\"\",\"\",'Navne kontrol'!A225)","v":""},222,"Jette Friis Hansen","Ledøje/Smørum","Orange","K",null,null,222,null,null,"","",0,""]
[{"$f":"IF('Navne kontrol'!A226=\"\",\"\",'Navne kontrol'!A226)","v":""},223,"Bente Pedersen","Ledøje/Smørum","Grøn","K",null,null,223,null,null,"","",0,""]
[{"$f":"IF('Navne kontrol'!A227=\"\",\"\",'Navne kontrol'!A227)","v":""},224,"Elke Hesthaven","Ledøje/Smørum","Lilla","K",null,null,224,null,null,"","",0,""]
[{"$f":"IF('Navne kontrol'!A228=\"\",\"\",'Navne kontrol'!A228)","v":""},225,"Hanne Petersen","Ledøje/Smørum","Blå","K",null,null,225,null,null,"","",0,""]
[{"$f":"IF('Navne kontrol'!A229=\"\",\"\",'Navne kontrol'!A229)","v":""},226,"Bodil Jansson","Ledøje/Smørum","Orange","K",null,null,226,null,null,"","",0,""]
[{"$f":"IF('Navne kontrol'!A230=\"\",\"\",'Navne kontrol'!A230)","v":""},227,"Tove Skovbo","Ledøje/Smørum",null,"K",null,"x",227,null,null,"","",0,""]
[{"$f":"IF('Navne kontrol'!A231=\"\",\"\",'Navne kontrol'!A231)","v":""},228,"Carsten Jansson","Ledøje/Smørum","Cyklame","M",null,"xxx",228,null,null,"",1,1,""]
[{"$f":"IF('Navne kontrol'!A232=\"\",\"\",'Navne kontrol'!A232)","v":""},229,"Jytte Behrend","Ledøje/Smørum","Rød","K",null,"xxx",229,null,null,"",1,1,""]
[{"$f":"IF('Navne kontrol'!A233=\"\",\"\",'Navne kontrol'!A233)","v":""},230,"Jeanette Olsen","Ledøje/Smørum","Pink","K",null,"xxx",230,null,null,"",1,1,""]
[{"$f":"IF('Navne kontrol'!A234=\"\",\"\",'Navne kontrol'!A234)","v":""},231,"Berit Tofte Hansen","Ledøje/Smørum","Sort/Rød/Blomster","K",null,"xxx",231,null,null,"",1,1,""]
[{"$f":"IF('Navne kontrol'!A235=\"\",\"\",'Navne kontrol'!A235)","v":""},232,"Susanne Lembke","Ledøje/Smørum","Lilla","K",null,"xxx",232,null,null,"",1,1,""]
[{"$f":"IF('Navne kontrol'!A236=\"\",\"\",'Navne kontrol'!A236)","v":""},233,"Annie Christensen","Ledøje/Smørum","Grøn","K",null,null,233,null,null,"","",0,""]
[{"$f":"IF('Navne kontrol'!A237=\"\",\"\",'Navne kontrol'!A237)","v":""},234,"Svend Ove Bahnsen","Ledøje/Smørum","Blå/SOB","M",null,"xxx",234,null,null,"",1,1,""]
[{"$f":"IF('Navne kontrol'!A238=\"\",\"\",'Navne kontrol'!A238)","v":""},235,"Inge Poulsen","Ledøje/Smørum","Pink","K",null,"xxx",235,null,null,"",1,1,""]
[{"$f":"IF('Navne kontrol'!A239=\"\",\"\",'Navne kontrol'!A239)","v":""},236,"Anette Møller","Ledøje/Smørum",null,"K",null,"xxx",236,null,null,"",1,1,""]
[{"$f":"IF('Navne kontrol'!A240=\"\",\"\",'Navne kontrol'!A240)","v":""},237,"Hanne Bahnsen","Ledøje/Smørum","Rød","K",null,"xxx",237,null,null,"",1,1,""]
[{"$f":"IF('Navne kontrol'!A241=\"\",\"\",'Navne kontrol'!A241)","v":""},238,"Margrethe Mørkvig","Ledøje/Smørum","Gul","K",null,null,238,null,null,"","",0,""]
[{"$f":"IF('Navne kontrol'!A242=\"\",\"\",'Navne kontrol'!A242)","v":""},239,"Leif Behrend","Ledøje/Smørum","Blå","M",null,null,239,null,null,"","",0,""]
[{"$f":"IF('Navne kontrol'!A243=\"\",\"\",'Navne kontrol'!A243)","v":""},240,"Tom Olsen","Ledøje/Smørum","Lyseblå","M",null,"xxx",240,null,null,"",1,1,""]
[{"$f":"IF('Navne kontrol'!A244=\"\",\"\",'Navne kontrol'!A244)","v":""},241,"Inge Lander","Ledøje/Smørum","Pink","K",null,"xxx",241,null,null,"",1,1,""]
[{"$f":"IF('Navne kontrol'!A245=\"\",\"\",'Navne kontrol'!A245)","v":""},242,"Edith Pettersson","Ledøje/Smørum","Hvid","K",null,"xxx",242,null,null,"",1,1,""]
[{"$f":"IF('Navne kontrol'!A246=\"\",\"\",'Navne kontrol'!A246)","v":""},243,"Inge Beyer","Ledøje/Smørum",null,"K",null,"xxx",243,null,null,"",1,1,""]
[{"$f":"IF('Navne kontrol'!A247=\"\",\"\",'Navne kontrol'!A247)","v":""},244,"Lotte Zinck","Ledøje/Smørum",null,"K",null,"xxx",244,null,null,"",1,1,""]
[{"$f":"IF('Navne kontrol'!A248=\"\",\"\",'Navne kontrol'!A248)","v":""},245,"Birthe Allermann","Ledøje/Smørum",null,"K",null,"xxx",245,null,null,"",1,1,""]
[{"$f":"IF('Navne kontrol'!A249=\"\",\"\",'Navne kontrol'!A249)","v":""},246,"Inger Mortensen","Ledøje/Smørum",null,"K",null,"xxx",246,null,null,"",1,1,""]
[{"$f":"IF('Navne kontrol'!A250=\"\",\"\",'Navne kontrol'!A250)","v":""},247,"Gunnar Nielsen","Ledøje/Smørum",null,"M",null,"xxx",247,null,null,"",1,1,""]
[{"$f":"IF('Navne kontrol'!A251=\"\",\"\",'Navne kontrol'!A251)","v":""},248,"Margrethe Andersen","Ledøje/Smørum",null,"K",null,"xxx",248,null,null,"",1,1,""]
[{"$f":"IF('Navne kontrol'!A252=\"\",\"\",'Navne kontrol'!A252)","v":""},249,"Majbrith Corfixen","Ledøje/Smørum",null,"K",null,"xxx",249,null,null,"",1,1,""]
[{"$f":"IF('Navne kontrol'!A253=\"\",\"\",'Navne kontrol'!A253)","v":""},250,"Palle Thomsen","Ledøje/Smørum",null,"M",null,"xxx",250,null,null,"",1,1,""]
[{"$f":"IF('Navne kontrol'!A254=\"\",\"\",'Navne kontrol'!A254)","v":""},251,"Sally Klarskov","Ledøje/Smørum",null,"K",null,"xxx",251,null,null,"",1,1,""]
[{"$f":"IF('Navne kontrol'!A255=\"\",\"\",'Navne kontrol'!A255)","v":""},252,"Bjarne Bruun","Ledøje/Smørum",null,"M",null,"xxx",252,null,null,"",1,1,""]
[{"$f":"IF('Navne kontrol'!A256=\"\",\"\",'Navne kontrol'!A256)","v":""},253,"Carsten Skovbro","Ledøje/Smørum",null,"M",null,null,253,null,null,"","",0,""]
[{"$f":"IF('Navne kontrol'!A257=\"\",\"\",'Navne kontrol'!A257)","v":""},254,"Kurt Jeritslev","Ledøje/Smørum",null,"M",null,null,254,null,null,"","",0,""]
[{"$f":"IF('Navne kontrol'!A258=\"\",\"\",'Navne kontrol'!A258)","v":""},255,"Birthe Pedersen","Ledøje/Smørum",null,"K",null,null,255,null,null,"","",0,""]
[{"$f":"IF('Navne kontrol'!A259=\"\",\"\",'Navne kontrol'!A259)","v":""},256,null,"Ledøje/Smørum",null,null,null,null,256,null,null,"","",0,""]
[{"$f":"IF('Navne kontrol'!A260=\"\",\"\",'Navne kontrol'!A260)","v":""},257,null,"Ledøje/Smørum",null,null,null,null,257,null,null,"","",0,""]
[{"$f":"IF('Navne kontrol'!A261=\"\",\"\",'Navne kontrol'!A261)","v":""},258,null,"Ledøje/Smørum",null,null,null,null,{"$f":"B261","v":258},null,null,{"$f":"IF(G261=\"x\",1,\"\")","v":""},"",0,""]
[{"$f":"IF('Navne kontrol'!A262=\"\",\"\",'Navne kontrol'!A262)","v":""},259,null,"Ledøje/Smørum",null,null,null,null,259,null,null,"","",0,""]
[{"$f":"IF('Navne kontrol'!A263=\"\",\"\",'Navne kontrol'!A263)","v":""},260,null,"Ledøje/Smørum",null,null,null,null,260,null,null,"","",0,""]
[{"$f":"IF('Navne kontrol'!A264=\"\",\"\",'Navne kontrol'!A264)","v":""},261,null,"Ledøje/Smørum",null,null,null,null,261,null,null,"","",0,""]
[{"$f":"IF('Navne kontrol'!A265=\"\",\"\",'Navne kontrol'!A265)","v":""},262,null,"Ledøje/Smørum",null,null,null,null,262,null,null,"","",0,""]
[{"$f":"IF('Navne kontrol'!A266=\"\",\"\",'Navne kontrol'!A266)","v":""},263,null,"Ledøje/Smørum",null,null,null,null,263,null,null,"","",0,""]
[{"$f":"IF('Navne kontrol'!A267=\"\",\"\",'Navne kontrol'!A267)","v":""},264,null,"Ledøje/Smørum",null,null,null,null,264,null,null,"","",0,""]
[{"$f":"IF('Navne kontrol'!A268=\"\",\"\",'Navne kontrol'!A268)","v":""},265,null,"Ledøje/Smørum",null,null,null,null,265,null,null,"",{"$f":"IF(H268=\"\",\"\",IF(H268=\"xx\",1,IF(H268=\"xxx\",1,\"\")))","v":""},{"$f":"SUM(L268:M268)","v":0},{"$f":"IF(N268=2,1,\"\")","v":""}]
[{"$f":"IF('Navne kontrol'!A269=\"\",\"\",'Navne kontrol'!A269)","v":""},266,null,"Ledøje/Smørum",null,null,null,null,266,null,null,"","",0,""]
[{"$f":"IF('Navne kontrol'!A270=\"\",\"\",'Navne kontrol'!A270)","v":""},267,null,"Ledøje/Smørum",null,null,null,null,267,null,null,"","",0,""]
[{"$f":"IF('Navne kontrol'!A271=\"\",\"\",'Navne kontrol'!A271)","v":""},268,null,"Ledøje/Smørum",null,null,null,null,268,null,null,"","",0,""]
[{"$f":"IF('Navne kontrol'!A272=\"\",\"\",'Navne kontrol'!A272)","v":""},269,null,"Ledøje/Smørum",null,null,null,null,269,null,null,"","",0,""]
[{"$f":"IF('Navne kontrol'!A273=\"\",\"\",'Navne kontrol'!A273)","v":""},270,null,"Ledøje/Smørum",null,null,null,null,270,null,null,"","",0,""]
[{"$f":"IF('Navne kontrol'!A274=\"\",\"\",'Navne kontrol'!A274)","v":""},271,null,"Ledøje/Smørum",null,null,null,null,271,null,null,"","",0,""]
[{"$f":"IF('Navne kontrol'!A275=\"\",\"\",'Navne kontrol'!A275)","v":""},272,null,"Ledøje/Smørum",null,null,null,null,272,null,null,"","",0,""]
[{"$f":"IF('Navne kontrol'!A276=\"\",\"\",'Navne kontrol'!A276)","v":""},273,null,"Ledøje/Smørum",null,null,null,null,273,null,null,"","",0,""]
[{"$f":"IF('Navne kontrol'!A277=\"\",\"\",'Navne kontrol'!A277)","v":""},274,null,"Ledøje/Smørum",null,null,null,null,274,null,null,"","",0,""]
[{"$f":"IF('Navne kontrol'!A278=\"\",\"\",'Navne kontrol'!A278)","v":""},275,null,"Ledøje/Smørum",null,null,null,null,275,null,null,"","",0,""]
[{"$f":"IF('Navne kontrol'!A279=\"\",\"\",'Navne kontrol'!A279)","v":""},276,null,"Ledøje/Smørum",null,null,null,null,276,null,null,"","",0,""]
[{"$f":"IF('Navne kontrol'!A280=\"\",\"\",'Navne kontrol'!A280)","v":""},277,null,"Ledøje/Smørum",null,null,null,null,277,null,null,"","",0,""]
[{"$f":"IF('Navne kontrol'!A281=\"\",\"\",'Navne kontrol'!A281)","v":""},278,null,"Ledøje/Smørum",null,null,null,null,278,null,null,"","",0,""]
[{"$f":"IF('Navne kontrol'!A282=\"\",\"\",'Navne kontrol'!A282)","v":""},279,null,"Ledøje/Smørum",null,null,null,null,279,null,null,"","",0,""]
[{"$f":"IF('Navne kontrol'!A283=\"\",\"\",'Navne kontrol'!A283)","v":""},280,null,"Ledøje/Smørum",null,null,null,null,280,null,null,"","",0,""]
[{"$f":"IF('Navne kontrol'!A284=\"\",\"\",'Navne kontrol'!A284)","v":""},281,null,"Ledøje/Smørum",null,null,null,null,281,null,null,"","",0,""]
[{"$f":"IF('Navne kontrol'!A285=\"\",\"\",'Navne kontrol'!A285)","v":""},282,null,"Ledøje/Smørum",null,null,null,null,282,null,null,"","",0,""]
[{"$f":"IF('Navne kontrol'!A286=\"\",\"\",'Navne kontrol'!A286)","v":""},283,null,"Ledøje/Smørum",null,null,null,null,283,null,null,"","",0,""]
[{"$f":"IF('Navne kontrol'!A287=\"\",\"\",'Navne kontrol'!A287)","v":""},284,null,"Ledøje/Smørum",null,null,null,null,284,null,null,"","",0,""]
[{"$f":"IF('Navne kontrol'!A288=\"\",\"\",'Navne kontrol'!A288)","v":""},285,null,"Ledøje/Smørum",null,null,null,null,285,null,null,"","",0,""]
[{"$f":"IF('Navne kontrol'!A289=\"\",\"\",'Navne kontrol'!A289)","v":""},286,null,"Ledøje/Smørum",null,null,null,null,286,null,null,"","",0,""]
[{"$f":"IF('Navne kontrol'!A290=\"\",\"\",'Navne kontrol'!A290)","v":""},287,null,"Ledøje/Smørum",null,null,null,null,287,null,null,"","",0,""]
[{"$f":"IF('Navne kontrol'!A291=\"\",\"\",'Navne kontrol'!A291)","v":""},288,null,"Ledøje/Smørum",null,null,null,null,288,null,null,"","",0,""]
[{"$f":"IF('Navne kontrol'!A292=\"\",\"\",'Navne kontrol'!A292)","v":""},289,null,"Ledøje/Smørum",null,null,null,null,289,null,null,"","",0,""]
[{"$f":"IF('Navne kontrol'!A293=\"\",\"\",'Navne kontrol'!A293)","v":""},290,null,"Ledøje/Smørum",null,null,null,null,290,null,null,"","",0,""]
[{"$f":"IF('Navne kontrol'!A294=\"\",\"\",'Navne kontrol'!A294)","v":""},291,null,"Ledøje/Smørum",null,null,null,null,291,null,null,"","",0,""]
[{"$f":"IF('Navne kontrol'!A295=\"\",\"\",'Navne kontrol'!A295)","v":""},292,null,"Ledøje/Smørum",null,null,null,null,292,null,null,"","",0,""]
[{"$f":"IF('Navne kontrol'!A296=\"\",\"\",'Navne kontrol'!A296)","v":""},293,null,"Ledøje/Smørum",null,null,null,null,293,null,null,"","",0,""]
[{"$f":"IF('Navne kontrol'!A297=\"\",\"\",'Navne kontrol'!A297)","v":""},294,null,"Ledøje/Smørum",null,null,null,null,294,null,null,"","",0,""]
[{"$f":"IF('Navne kontrol'!A298=\"\",\"\",'Navne kontrol'!A298)","v":""},295,null,"Ledøje/Smørum",null,null,null,null,295,null,null,"","",0,""]
[{"$f":"IF('Navne kontrol'!A299=\"\",\"\",'Navne kontrol'!A299)","v":""},296,null,"Ledøje/Smørum",null,null,null,null,296,null,null,"","",0,""]
[{"$f":"IF('Navne kontrol'!A300=\"\",\"\",'Navne kontrol'!A300)","v":""},297,null,"Ledøje/Smørum",null,null,null,null,297,null,null,"","",0,""]
[{"$f":"IF('Navne kontrol'!A301=\"\",\"\",'Navne kontrol'!A301)","v":""},298,null,"Ledøje/Smørum",null,null,null,null,298,null,null,"","",0,""]
[{"$f":"IF('Navne kontrol'!A302=\"\",\"\",'Navne kontrol'!A302)","v":""},299,null,"Ledøje/Smørum",null,null,null,null,299,null,null,"","",0,""]
[{"$f":"IF('Navne kontrol'!A303=\"\",\"\",'Navne kontrol'!A303)","v":""},300,null,"Ledøje/Smørum",null,null,null,null,300,null,null,"","",0,""]
[{"$f":"IF('Navne kontrol'!A304=\"\",\"\",'Navne kontrol'!A304)","v":""},301,"Svend Faigh","BK","Farve","M","x","xxx",301,"BK 1",null,1,1,2,1]
[{"$f":"IF('Navne kontrol'!A305=\"\",\"\",'Navne kontrol'!A305)","v":""},302,"Jørgen Hugo Larsen","BK","Farve","M","x",null,302,"BK 2",null,1,"",1,""]
[{"$f":"IF('Navne kontrol'!A306=\"\",\"\",'Navne kontrol'!A306)","v":""},303,"Lone Nielsen","BK",null,"K","x","x",303,"BK 3",null,1,"",1,""]
[{"$f":"IF('Navne kontrol'!A307=\"\",\"\",'Navne kontrol'!A307)","v":""},304,null,"BK",null,null,null,null,304,"BK 4",null,"","",0,""]
[{"$f":"IF('Navne kontrol'!A308=\"\",\"\",'Navne kontrol'!A308)","v":""},305,"Annette Lykke Madsen","BK","Farve","K","x","xxx",305,"BK 5",null,1,1,2,1]
[{"$f":"IF('Navne kontrol'!A309=\"\",\"\",'Navne kontrol'!A309)","v":""},306,"Alex Schackinger","BK","Hvid","M",null,null,306,"BK 6",null,"","",0,""]
[{"$f":"IF('Navne kontrol'!A310=\"\",\"\",'Navne kontrol'!A310)","v":""},307,"Åge  Zcharau","BK","Farve","M","x",null,307,"BK 7",null,1,"",1,""]
[{"$f":"IF('Navne kontrol'!A311=\"\",\"\",'Navne kontrol'!A311)","v":""},308,"Conny Schackinger","BK","Blå","K","x","x",308,"BK 8",null,1,"",1,""]
[{"$f":"IF('Navne kontrol'!A312=\"\",\"\",'Navne kontrol'!A312)","v":""},309,"Birthe Blom","BK","Gul","K",null,null,309,"BK 9",null,"","",0,""]
[{"$f":"IF('Navne kontrol'!A313=\"\",\"\",'Navne kontrol'!A313)","v":""},310,"Annette Traulsen","BK",null,"K","x",null,310,"BK 10",null,1,"",1,""]
[{"$f":"IF('Navne kontrol'!A314=\"\",\"\",'Navne kontrol'!A314)","v":""},311,"Per Aune","BK","Orange","M","x","xxx",311,"BK 11",null,1,1,2,1]
[{"$f":"IF('Navne kontrol'!A315=\"\",\"\",'Navne kontrol'!A315)","v":""},312,"Annie Dresler","BK","Rød","K",null,null,312,"BK 12",null,"","",0,""]
[{"$f":"IF('Navne kontrol'!A316=\"\",\"\",'Navne kontrol'!A316)","v":""},313,"Gunnar Frandsen","BK","Gul","M",null,"xxx",313,null,null,"",1,1,""]
[{"$f":"IF('Navne kontrol'!A317=\"\",\"\",'Navne kontrol'!A317)","v":""},314,"Rita Jørgensen","BK","Farve","K",null,null,314,null,null,"","",0,""]
[{"$f":"IF('Navne kontrol'!A318=\"\",\"\",'Navne kontrol'!A318)","v":""},315,"Tove Perlt","BK","Farve","K","x",null,315,null,null,1,"",1,""]
[{"$f":"IF('Navne kontrol'!A319=\"\",\"\",'Navne kontrol'!A319)","v":""},316,"Preben Madsen","BK","Farve","M","x","xxx",316,null,null,1,1,2,1]
[{"$f":"IF('Navne kontrol'!A320=\"\",\"\",'Navne kontrol'!A320)","v":""},317,"Lis Rasmussen","BK","Farve","K","x",null,317,null,null,1,"",1,""]
[{"$f":"IF('Navne kontrol'!A321=\"\",\"\",'Navne kontrol'!A321)","v":""},318,"Peter Sølsten","BK",null,"M","x",null,318,null,null,1,"",1,""]
[{"$f":"IF('Navne kontrol'!A322=\"\",\"\",'Navne kontrol'!A322)","v":""},319,null,"BK",null,null,null,null,319,null,null,"","",0,""]
[{"$f":"IF('Navne kontrol'!A323=\"\",\"\",'Navne kontrol'!A323)","v":""},320,"Margit Larsen","BK","Grøn","K","x",null,320,null,null,1,"",1,""]
[{"$f":"IF('Navne kontrol'!A324=\"\",\"\",'Navne kontrol'!A324)","v":""},321,null,"BK",null,null,null,null,321,null,null,"","",0,""]
[{"$f":"IF('Navne kontrol'!A325=\"\",\"\",'Navne kontrol'!A325)","v":""},322,"Anette Nielsen","BK","Farve","K","x",null,{"$f":"B325","v":322},null,null,{"$f":"IF(G325=\"x\",1,\"\")","v":1},"",1,""]
[{"$f":"IF('Navne kontrol'!A326=\"\",\"\",'Navne kontrol'!A326)","v":""},323,null,"BK",null,null,null,null,323,null,null,"","",0,""]
[{"$f":"IF('Navne kontrol'!A327=\"\",\"\",'Navne kontrol'!A327)","v":""},324,null,"BK",null,null,null,null,324,null,null,"","",0,""]
[{"$f":"IF('Navne kontrol'!A328=\"\",\"\",'Navne kontrol'!A328)","v":""},325,null,"BK","Farve",null,null,null,325,null,null,"","",0,""]
[{"$f":"IF('Navne kontrol'!A329=\"\",\"\",'Navne kontrol'!A329)","v":""},326,null,"BK","Farve",null,null,null,326,null,null,"","",0,""]
[{"$f":"IF('Navne kontrol'!A330=\"\",\"\",'Navne kontrol'!A330)","v":""},327,"Mogens Kortegaard","BK","Farve","M","x","xxx",327,null,null,1,1,2,1]
[{"$f":"IF('Navne kontrol'!A331=\"\",\"\",'Navne kontrol'!A331)","v":""},328,"Annie Damsgaard","BK","Turkis","K","x","xxx",328,null,null,1,1,2,1]
[{"$f":"IF('Navne kontrol'!A332=\"\",\"\",'Navne kontrol'!A332)","v":""},329,null,"BK",null,null,null,"                                                        ",329,null,null,"",{"$f":"IF(H332=\"\",\"\",IF(H332=\"xx\",1,IF(H332=\"xxx\",1,\"\")))","v":""},{"$f":"SUM(L332:M332)","v":0},{"$f":"IF(N332=2,1,\"\")","v":""}]
[{"$f":"IF('Navne kontrol'!A333=\"\",\"\",'Navne kontrol'!A333)","v":""},330,null,"BK",null,null,null,null,330,null,null,"","",0,""]
[{"$f":"IF('Navne kontrol'!A334=\"\",\"\",'Navne kontrol'!A334)","v":""},331,null,"BK",null,null,null,null,331,null,null,"","",0,""]
[{"$f":"IF('Navne kontrol'!A335=\"\",\"\",'Navne kontrol'!A335)","v":""},332,null,"BK",null,null,null,null,332,null,null,"","",0,""]
[{"$f":"IF('Navne kontrol'!A336=\"\",\"\",'Navne kontrol'!A336)","v":""},333,null,"BK",null,null,null,null,333,null,null,"","",0,""]
[{"$f":"IF('Navne kontrol'!A337=\"\",\"\",'Navne kontrol'!A337)","v":""},334,null,"BK",null,null,null,null,334,null,null,"","",0,""]
[{"$f":"IF('Navne kontrol'!A338=\"\",\"\",'Navne kontrol'!A338)","v":""},335,null,"BK",null,null,null,null,335,null,null,"","",0,""]
[{"$f":"IF('Navne kontrol'!A339=\"\",\"\",'Navne kontrol'!A339)","v":""},336,null,"BK",null,null,null,null,336,null,null,"","",0,""]
[{"$f":"IF('Navne kontrol'!A340=\"\",\"\",'Navne kontrol'!A340)","v":""},337,null,"BK",null,null,null,null,337,null,null,"","",0,""]
[{"$f":"IF('Navne kontrol'!A341=\"\",\"\",'Navne kontrol'!A341)","v":""},338,null,"BK",null,null,null,null,338,null,null,"","",0,""]
[{"$f":"IF('Navne kontrol'!A342=\"\",\"\",'Navne kontrol'!A342)","v":""},339,null,"BK",null,null,null,null,339,null,null,"","",0,""]
[{"$f":"IF('Navne kontrol'!A343=\"\",\"\",'Navne kontrol'!A343)","v":""},340,null,"BK",null,null,null,null,340,null,null,"","",0,""]
[{"$f":"IF('Navne kontrol'!A344=\"\",\"\",'Navne kontrol'!A344)","v":""},341,null,"BK",null,null,null,null,341,null,null,"","",0,""]
[{"$f":"IF('Navne kontrol'!A345=\"\",\"\",'Navne kontrol'!A345)","v":""},342,null,"BK",null,null,null,null,342,null,null,"","",0,""]
[{"$f":"IF('Navne kontrol'!A346=\"\",\"\",'Navne kontrol'!A346)","v":""},343,null,"BK",null,null,null,null,343,null,null,"","",0,""]
[{"$f":"IF('Navne kontrol'!A347=\"\",\"\",'Navne kontrol'!A347)","v":""},344,null,"BK",null,null,null,null,344,null,null,"","",0,""]
[{"$f":"IF('Navne kontrol'!A348=\"\",\"\",'Navne kontrol'!A348)","v":""},345,null,"BK",null,null,null,null,345,null,null,"","",0,""]
[{"$f":"IF('Navne kontrol'!A349=\"\",\"\",'Navne kontrol'!A349)","v":""},346,null,"BK",null,null,null,null,346,null,null,"","",0,""]
[{"$f":"IF('Navne kontrol'!A350=\"\",\"\",'Navne kontrol'!A350)","v":""},347,null,"BK",null,null,null,null,347,null,null,"","",0,""]
[{"$f":"IF('Navne kontrol'!A351=\"\",\"\",'Navne kontrol'!A351)","v":""},348,null,"BK",null,null,null,null,348,null,null,"","",0,""]
[{"$f":"IF('Navne kontrol'!A352=\"\",\"\",'Navne kontrol'!A352)","v":""},349,null,"BK",null,null,null,null,349,null,null,"","",0,""]
[{"$f":"IF('Navne kontrol'!A353=\"\",\"\",'Navne kontrol'!A353)","v":""},350,null,"BK",null,null,null,null,350,null,null,"","",0,""]
[{"$f":"IF('Navne kontrol'!A354=\"\",\"\",'Navne kontrol'!A354)","v":""},351,"Børge Jul Pedersen","Albertslund","Farve","M",null,"xxx",351,"Albertslund 1",null,"",1,1,""]
[{"$f":"IF('Navne kontrol'!A355=\"\",\"\",'Navne kontrol'!A355)","v":""},352,"Grethe Clausen","Albertslund","Farve","K",null,null,352,"Albertslund 2",null,"","",0,""]
[{"$f":"IF('Navne kontrol'!A356=\"\",\"\",'Navne kontrol'!A356)","v":""},353,"Helge Eilersen","Albertslund","Farve","M",null,"xxx",353,"Albertslund 3",null,"",1,1,""]
[{"$f":"IF('Navne kontrol'!A357=\"\",\"\",'Navne kontrol'!A357)","v":""},354,"Tobias Peter Nielsen","Albertslund","Farve","M",null,"xxx",354,"Albertslund 4",null,"",1,1,""]
[{"$f":"IF('Navne kontrol'!A358=\"\",\"\",'Navne kontrol'!A358)","v":""},355,null,"Albertslund","Farve",null,null,null,355,"Albertslund 5",null,"","",0,""]
[{"$f":"IF('Navne kontrol'!A359=\"\",\"\",'Navne kontrol'!A359)","v":""},356,"Jørgen Laursen","Albertslund","Farve","M",null,null,356,"Albertslund 6",null,"","",0,""]
[{"$f":"IF('Navne kontrol'!A360=\"\",\"\",'Navne kontrol'!A360)","v":""},357,"Sim Krahl","Albertslund","Farve","M",null,null,357,"Albertslund 7",null,"","",0,""]
[{"$f":"IF('Navne kontrol'!A361=\"\",\"\",'Navne kontrol'!A361)","v":""},358,"Tage Clausen","Albertslund","Farve","M",null,"xxx",358,"Albertslund 8",null,"",1,1,""]
[{"$f":"IF('Navne kontrol'!A362=\"\",\"\",'Navne kontrol'!A362)","v":""},359,"Kirsten Eilersen","Albertslund","Farve","K",null,"xxx",359,"Albertslund 9",null,"",1,1,""]
[{"$f":"IF('Navne kontrol'!A363=\"\",\"\",'Navne kontrol'!A363)","v":""},360,"Benny Arne Sigvardt","Albertslund","Farve","M",null,null,360,"Albertslund 10",null,"","",0,""]
[{"$f":"IF('Navne kontrol'!A364=\"\",\"\",'Navne kontrol'!A364)","v":""},361,"Bente J. Pedersen","Albertslund","Farve","K",null,"xxx",361,"Albertslund 11",null,"",1,1,""]
[{"$f":"IF('Navne kontrol'!A365=\"\",\"\",'Navne kontrol'!A365)","v":""},362,"Lone Vilhelmsen","Albertslund","Farve","K",null,null,362,"Albertslund 12",null,"","",0,""]
[{"$f":"IF('Navne kontrol'!A366=\"\",\"\",'Navne kontrol'!A366)","v":""},363,"Lis Maack","Albertslund","Farve","K",null,"xxx",363,null,null,"",1,1,""]
[{"$f":"IF('Navne kontrol'!A367=\"\",\"\",'Navne kontrol'!A367)","v":""},364,"Sven Åge Vilhelmsen","Albertslund","Farve","M",null,"xxx",364,null,null,"",1,1,""]
[{"$f":"IF('Navne kontrol'!A368=\"\",\"\",'Navne kontrol'!A368)","v":""},365,"Ole Bæk Olsen","Albertslund","Farve","M",null,"x",365,null,null,"","",0,""]
[{"$f":"IF('Navne kontrol'!A369=\"\",\"\",'Navne kontrol'!A369)","v":""},366,"Henrik Rasmussen","Albertslund","Farve","M",null,"xxx",366,null,null,"",1,1,""]
[{"$f":"IF('Navne kontrol'!A370=\"\",\"\",'Navne kontrol'!A370)","v":""},367,"Janne Rasmussen","Albertslund","Farve","K",null,"xxx",367,null,null,"",1,1,""]
[{"$f":"IF('Navne kontrol'!A371=\"\",\"\",'Navne kontrol'!A371)","v":""},368,"Frank Ness","Albertslund","Farve","M",null,null,368,null,null,"","",0,""]
[{"$f":"IF('Navne kontrol'!A372=\"\",\"\",'Navne kontrol'!A372)","v":""},369,"Bente Ness","Albertslund","Farve","K",null,null,369,null,null,"","",0,""]
[{"$f":"IF('Navne kontrol'!A373=\"\",\"\",'Navne kontrol'!A373)","v":""},370,"Bebs Andersen","Albertslund","Farve","K",null,"xxx",370,null,null,"",1,1,""]
[{"$f":"IF('Navne kontrol'!A374=\"\",\"\",'Navne kontrol'!A374)","v":""},371,"Henrik Hansen","Albertslund","Farve","M",null,"xxx",371,null,null,"",1,1,""]
[{"$f":"IF('Navne kontrol'!A375=\"\",\"\",'Navne kontrol'!A375)","v":""},372,"Lise Nielsen","Albertslund","Farve","K",null,"xxx",372,null,null,"",1,1,""]
[{"$f":"IF('Navne kontrol'!A376=\"\",\"\",'Navne kontrol'!A376)","v":""},373,"Mariane Mambell","Albertslund","Farve","K",null,null,373,null,null,"","",0,""]
[{"$f":"IF('Navne kontrol'!A377=\"\",\"\",'Navne kontrol'!A377)","v":""},374,null,"Albertslund",null,null,null,null,374,null,null,"","",0,""]
[{"$f":"IF('Navne kontrol'!A378=\"\",\"\",'Navne kontrol'!A378)","v":""},375,null,"Albertslund",null,null,null,null,375,null,null,"","",0,""]
[{"$f":"IF('Navne kontrol'!A379=\"\",\"\",'Navne kontrol'!A379)","v":""},376,null,"Albertslund",null,null,null,null,376,null,null,"","",0,""]
[{"$f":"IF('Navne kontrol'!A380=\"\",\"\",'Navne kontrol'!A380)","v":""},377,null,"Albertslund",null,null,null,null,377,null,null,"","",0,""]
[{"$f":"IF('Navne kontrol'!A381=\"\",\"\",'Navne kontrol'!A381)","v":""},378,null,"Albertslund",null,null,null,null,378,null,null,"","",0,""]
[{"$f":"IF('Navne kontrol'!A382=\"\",\"\",'Navne kontrol'!A382)","v":""},379,null,"Albertslund",null,null,null,null,379,null,null,"","",0,""]
[{"$f":"IF('Navne kontrol'!A383=\"\",\"\",'Navne kontrol'!A383)","v":""},380,null,"Albertslund",null,null,null,null,380,null,null,"","",0,""]
[{"$f":"IF('Navne kontrol'!A384=\"\",\"\",'Navne kontrol'!A384)","v":""},381,null,"Albertslund",null,null,null,null,381,null,null,"","",0,""]
[{"$f":"IF('Navne kontrol'!A385=\"\",\"\",'Navne kontrol'!A385)","v":""},382,null,"Albertslund",null,null,null,null,382,null,null,"","",0,""]
[{"$f":"IF('Navne kontrol'!A386=\"\",\"\",'Navne kontrol'!A386)","v":""},383,null,"Albertslund",null,null,null,null,383,null,null,"","",0,""]
[{"$f":"IF('Navne kontrol'!A387=\"\",\"\",'Navne kontrol'!A387)","v":""},384,null,"Albertslund",null,null,null,null,384,null,null,"","",0,""]
[{"$f":"IF('Navne kontrol'!A388=\"\",\"\",'Navne kontrol'!A388)","v":""},385,null,"Albertslund",null,null,null,null,385,null,null,"","",0,""]
[{"$f":"IF('Navne kontrol'!A389=\"\",\"\",'Navne kontrol'!A389)","v":""},386,null,"Albertslund",null,null,null,null,{"$f":"B389","v":386},null,null,{"$f":"IF(G389=\"x\",1,\"\")","v":""},"",0,""]
[{"$f":"IF('Navne kontrol'!A390=\"\",\"\",'Navne kontrol'!A390)","v":""},387,null,"Albertslund",null,null,null,null,387,null,null,"","",0,""]
[{"$f":"IF('Navne kontrol'!A391=\"\",\"\",'Navne kontrol'!A391)","v":""},388,null,"Albertslund",null,null,null,null,388,null,null,"","",0,""]
[{"$f":"IF('Navne kontrol'!A392=\"\",\"\",'Navne kontrol'!A392)","v":""},389,null,"Albertslund",null,null,null,null,389,null,null,"","",0,""]
[{"$f":"IF('Navne kontrol'!A393=\"\",\"\",'Navne kontrol'!A393)","v":""},390,null,"Albertslund",null,null,null,null,390,null,null,"","",0,""]
[{"$f":"IF('Navne kontrol'!A394=\"\",\"\",'Navne kontrol'!A394)","v":""},391,null,"Albertslund",null,null,null,null,391,null,null,"","",0,""]
[{"$f":"IF('Navne kontrol'!A395=\"\",\"\",'Navne kontrol'!A395)","v":""},392,null,"Albertslund",null,null,null,null,392,null,null,"","",0,""]
[{"$f":"IF('Navne kontrol'!A396=\"\",\"\",'Navne kontrol'!A396)","v":""},393,null,"Albertslund",null,null,null,null,393,null,null,"",{"$f":"IF(H396=\"\",\"\",IF(H396=\"xx\",1,IF(H396=\"xxx\",1,\"\")))","v":""},{"$f":"SUM(L396:M396)","v":0},{"$f":"IF(N396=2,1,\"\")","v":""}]
[{"$f":"IF('Navne kontrol'!A397=\"\",\"\",'Navne kontrol'!A397)","v":""},394,null,"Albertslund",null,null,null,null,394,null,null,"","",0,""]
[{"$f":"IF('Navne kontrol'!A398=\"\",\"\",'Navne kontrol'!A398)","v":""},395,null,"Albertslund",null,null,null,null,395,null,null,"","",0,""]
[{"$f":"IF('Navne kontrol'!A399=\"\",\"\",'Navne kontrol'!A399)","v":""},396,null,"Albertslund",null,null,null,null,396,null,null,"","",0,""]
[{"$f":"IF('Navne kontrol'!A400=\"\",\"\",'Navne kontrol'!A400)","v":""},397,null,"Albertslund",null,null,null,null,397,null,null,"","",0,""]
[{"$f":"IF('Navne kontrol'!A401=\"\",\"\",'Navne kontrol'!A401)","v":""},398,null,"Albertslund",null,null,null,null,398,null,null,"","",0,""]
[{"$f":"IF('Navne kontrol'!A402=\"\",\"\",'Navne kontrol'!A402)","v":""},399,null,"Albertslund",null,null,null,null,399,null,null,"","",0,""]
[{"$f":"IF('Navne kontrol'!A403=\"\",\"\",'Navne kontrol'!A403)","v":""},400,null,"Albertslund",null,null,null,null,400,null,null,"","",0,""]
[{"$f":"IF('Navne kontrol'!A404=\"\",\"\",'Navne kontrol'!A404)","v":""},401,"Hilmer Kampsø","Lyngby","Farve","M",null,null,401,"Lyngby 1",null,"","",0,""]
[{"$f":"IF('Navne kontrol'!A405=\"\",\"\",'Navne kontrol'!A405)","v":""},402,"Walter Henriques","Lyngby","Farve","M",null,null,402,"Lyngby 2",null,"","",0,""]
[{"$f":"IF('Navne kontrol'!A406=\"\",\"\",'Navne kontrol'!A406)","v":""},403,"Per Jensen","Lyngby","Farve","M",null,null,403,"Lyngby 3",null,"","",0,""]
[{"$f":"IF('Navne kontrol'!A407=\"\",\"\",'Navne kontrol'!A407)","v":""},404,"Michael Nørholt","Lyngby","Farve","M",null,null,404,"Lyngby 4",null,"","",0,""]
[{"$f":"IF('Navne kontrol'!A408=\"\",\"\",'Navne kontrol'!A408)","v":""},405,"Natacha Uhre","Lyngby","Farve","K",null,"xxx",405,"Lyngby 5",null,"",1,1,""]
[{"$f":"IF('Navne kontrol'!A409=\"\",\"\",'Navne kontrol'!A409)","v":""},406,"Torben Jensen","Lyngby","Farve","M",null,null,406,"Lyngby 6",null,"","",0,""]
[{"$f":"IF('Navne kontrol'!A410=\"\",\"\",'Navne kontrol'!A410)","v":""},407,"Ida U.","Lyngby","Farve","K",null,null,407,"Lyngby 7",null,"","",0,""]
[{"$f":"IF('Navne kontrol'!A411=\"\",\"\",'Navne kontrol'!A411)","v":""},408,"Niels Esbech","Lyngby","Farve","M",null,null,408,"Lyngby 8",null,"","",0,""]
[{"$f":"IF('Navne kontrol'!A412=\"\",\"\",'Navne kontrol'!A412)","v":""},409,"DirchThøgersen","Lyngby","Farve","M",null,null,409,"Lyngby 9",null,"","",0,""]
[{"$f":"IF('Navne kontrol'!A413=\"\",\"\",'Navne kontrol'!A413)","v":""},410,"Isabel Laier","Lyngby","Farve","K",null,null,410,"Lyngby 10",null,"","",0,""]
[{"$f":"IF('Navne kontrol'!A414=\"\",\"\",'Navne kontrol'!A414)","v":""},411,"Rene Rafen","Lyngby","Farve","M",null,null,411,"Lyngby 11",null,"","",0,""]
[{"$f":"IF('Navne kontrol'!A415=\"\",\"\",'Navne kontrol'!A415)","v":""},412,"Susanne Kuhnau","Lyngby","Farve","K",null,null,412,"Lyngby 12",null,"","",0,""]
[{"$f":"IF('Navne kontrol'!A416=\"\",\"\",'Navne kontrol'!A416)","v":""},413,"Steen Møller","Lyngby","Farve","M",null,null,413,null,null,"","",0,""]
[{"$f":"IF('Navne kontrol'!A417=\"\",\"\",'Navne kontrol'!A417)","v":""},414,"Søren Holger Jensen","Lyngby","Farve","M",null,null,414,null,null,"","",0,""]
[{"$f":"IF('Navne kontrol'!A418=\"\",\"\",'Navne kontrol'!A418)","v":""},415,"Betina Kuhnau","Lyngby","Farve","K",null,null,415,null,null,"","",0,""]
[{"$f":"IF('Navne kontrol'!A419=\"\",\"\",'Navne kontrol'!A419)","v":""},416,"Henrik Binderup","Lyngby","Farve","M",null,null,416,null,null,"","",0,""]
[{"$f":"IF('Navne kontrol'!A420=\"\",\"\",'Navne kontrol'!A420)","v":""},417,"Lene Agergaard","Lyngby","Farve","K",null,null,417,null,null,"","",0,""]
[{"$f":"IF('Navne kontrol'!A421=\"\",\"\",'Navne kontrol'!A421)","v":""},418,"Stine Olsen","Lyngby",null,"K",null,null,418,null,null,"","",0,""]
[{"$f":"IF('Navne kontrol'!A422=\"\",\"\",'Navne kontrol'!A422)","v":""},419,null,"Lyngby",null,null,null,null,419,null,null,"","",0,""]
[{"$f":"IF('Navne kontrol'!A423=\"\",\"\",'Navne kontrol'!A423)","v":""},420,null,"Lyngby",null,null,null,null,420,null,null,"","",0,""]
[{"$f":"IF('Navne kontrol'!A424=\"\",\"\",'Navne kontrol'!A424)","v":""},421,null,"Lyngby",null,null,null,null,421,null,null,"","",0,""]
[{"$f":"IF('Navne kontrol'!A425=\"\",\"\",'Navne kontrol'!A425)","v":""},422,null,"Lyngby",null,null,null,null,422,null,null,"","",0,""]
[{"$f":"IF('Navne kontrol'!A426=\"\",\"\",'Navne kontrol'!A426)","v":""},423,null,"Lyngby",null,null,null,null,423,null,null,"","",0,""]
[{"$f":"IF('Navne kontrol'!A427=\"\",\"\",'Navne kontrol'!A427)","v":""},424,null,"Lyngby",null,null,null,null,424,null,null,"","",0,""]
[{"$f":"IF('Navne kontrol'!A428=\"\",\"\",'Navne kontrol'!A428)","v":""},425,null,"Lyngby",null,null,null,null,425,null,null,"","",0,""]
[{"$f":"IF('Navne kontrol'!A429=\"\",\"\",'Navne kontrol'!A429)","v":""},426,null,"Lyngby",null,null,null,null,426,null,null,"","",0,""]
[{"$f":"IF('Navne kontrol'!A430=\"\",\"\",'Navne kontrol'!A430)","v":""},427,null,"Lyngby",null,null,null,null,427,null,null,"","",0,""]
[{"$f":"IF('Navne kontrol'!A431=\"\",\"\",'Navne kontrol'!A431)","v":""},428,null,"Lyngby",null,null,null,null,428,null,null,"","",0,""]
[{"$f":"IF('Navne kontrol'!A432=\"\",\"\",'Navne kontrol'!A432)","v":""},429,null,"Lyngby",null,null,null,null,429,null,null,"","",0,""]
[{"$f":"IF('Navne kontrol'!A433=\"\",\"\",'Navne kontrol'!A433)","v":""},430,null,"Lyngby",null,null,null,null,430,null,null,"","",0,""]
[{"$f":"IF('Navne kontrol'!A434=\"\",\"\",'Navne kontrol'!A434)","v":""},431,null,"Lyngby",null,null,null,null,431,null,null,"","",0,""]
[{"$f":"IF('Navne kontrol'!A435=\"\",\"\",'Navne kontrol'!A435)","v":""},432,null,"Lyngby",null,null,null,null,432,null,null,"","",0,""]
[{"$f":"IF('Navne kontrol'!A436=\"\",\"\",'Navne kontrol'!A436)","v":""},433,null,"Lyngby",null,null,null,null,433,null,null,"","",0,""]
[{"$f":"IF('Navne kontrol'!A437=\"\",\"\",'Navne kontrol'!A437)","v":""},434,null,"Lyngby",null,null,null,null,434,null,null,"","",0,""]
[{"$f":"IF('Navne kontrol'!A438=\"\",\"\",'Navne kontrol'!A438)","v":""},435,null,"Lyngby",null,null,null,null,435,null,null,"","",0,""]
[{"$f":"IF('Navne kontrol'!A439=\"\",\"\",'Navne kontrol'!A439)","v":""},436,null,"Lyngby",null,null,null,null,436,null,null,"","",0,""]
[{"$f":"IF('Navne kontrol'!A440=\"\",\"\",'Navne kontrol'!A440)","v":""},437,null,"Lyngby",null,null,null,null,437,null,null,"","",0,""]
[{"$f":"IF('Navne kontrol'!A441=\"\",\"\",'Navne kontrol'!A441)","v":""},438,null,"Lyngby",null,null,null,null,438,null,null,"","",0,""]
[{"$f":"IF('Navne kontrol'!A442=\"\",\"\",'Navne kontrol'!A442)","v":""},439,null,"Lyngby",null,null,null,null,439,null,null,"","",0,""]
[{"$f":"IF('Navne kontrol'!A443=\"\",\"\",'Navne kontrol'!A443)","v":""},440,null,"Lyngby",null,null,null,null,440,null,null,"","",0,""]
[{"$f":"IF('Navne kontrol'!A444=\"\",\"\",'Navne kontrol'!A444)","v":""},441,null,"Lyngby",null,null,null,null,441,null,null,"","",0,""]
[{"$f":"IF('Navne kontrol'!A445=\"\",\"\",'Navne kontrol'!A445)","v":""},442,null,"Lyngby",null,null,null,null,442,null,null,"","",0,""]
[{"$f":"IF('Navne kontrol'!A446=\"\",\"\",'Navne kontrol'!A446)","v":""},443,null,"Lyngby",null,null,null,null,443,null,null,"","",0,""]
[{"$f":"IF('Navne kontrol'!A447=\"\",\"\",'Navne kontrol'!A447)","v":""},444,null,"Lyngby",null,null,null,null,444,null,null,"","",0,""]
[{"$f":"IF('Navne kontrol'!A448=\"\",\"\",'Navne kontrol'!A448)","v":""},445,null,"Lyngby",null,null,null,null,445,null,null,"","",0,""]
[{"$f":"IF('Navne kontrol'!A449=\"\",\"\",'Navne kontrol'!A449)","v":""},446,null,"Lyngby",null,null,null,null,446,null,null,"","",0,""]
[{"$f":"IF('Navne kontrol'!A450=\"\",\"\",'Navne kontrol'!A450)","v":""},447,null,"Lyngby",null,null,null,null,447,null,null,"","",0,""]
[{"$f":"IF('Navne kontrol'!A451=\"\",\"\",'Navne kontrol'!A451)","v":""},448,null,"Lyngby",null,null,null,null,448,null,null,"","",0,""]
[{"$f":"IF('Navne kontrol'!A452=\"\",\"\",'Navne kontrol'!A452)","v":""},449,null,"Lyngby",null,null,null,null,449,null,null,"","",0,""]
[{"$f":"IF('Navne kontrol'!A453=\"\",\"\",'Navne kontrol'!A453)","v":""},450,null,"Lyngby",null,null,null,null,{"$f":"B453","v":450},null,null,{"$f":"IF(G453=\"x\",1,\"\")","v":""},"",0,""]
[{"$f":"IF('Navne kontrol'!A454=\"\",\"\",'Navne kontrol'!A454)","v":""},451,"Steen Lergard","Krolffolket","Farve","M","x",null,451,"Krolffolket 1",null,1,"",1,""]
[{"$f":"IF('Navne kontrol'!A455=\"\",\"\",'Navne kontrol'!A455)","v":""},452,"Helga Andersen","Krolffolket","Orange","K","x","xxx",452,"Krolffolket 2",null,1,1,2,1]
[{"$f":"IF('Navne kontrol'!A456=\"\",\"\",'Navne kontrol'!A456)","v":""},453,"Lone Hansen","Krolffolket","Rød","K","x","xxx",453,"Krolffolket 3",null,1,1,2,1]
[{"$f":"IF('Navne kontrol'!A457=\"\",\"\",'Navne kontrol'!A457)","v":""},454,"Erik Wagner","Krolffolket","Gul","M","x",null,454,"Krolffolket 4",null,1,"",1,""]
[{"$f":"IF('Navne kontrol'!A458=\"\",\"\",'Navne kontrol'!A458)","v":""},455,"Jette S. Olsen","Krolffolket","Rød","K","x","xxx",455,"Krolffolket 5",null,1,1,2,1]
[{"$f":"IF('Navne kontrol'!A459=\"\",\"\",'Navne kontrol'!A459)","v":""},456,"Hans Blomhøj","Krolffolket","Hvid","M",null,"xxx",456,"Krolffolket 6",null,"",1,1,""]
[{"$f":"IF('Navne kontrol'!A460=\"\",\"\",'Navne kontrol'!A460)","v":""},457,"Lisser Kristensen","Krolffolket","Rød","K","x","x",457,"Krolffolket 7",null,1,{"$f":"IF(H460=\"\",\"\",IF(H460=\"xx\",1,IF(H460=\"xxx\",1,\"\")))","v":""},{"$f":"SUM(L460:M460)","v":1},{"$f":"IF(N460=2,1,\"\")","v":""}]
[{"$f":"IF('Navne kontrol'!A461=\"\",\"\",'Navne kontrol'!A461)","v":""},458,"Jørgen Hansen","Krolffolket","Blå","M","x","xxx",458,"Krolffolket 8",null,1,1,2,1]
[{"$f":"IF('Navne kontrol'!A462=\"\",\"\",'Navne kontrol'!A462)","v":""},459,"Michael Jørgensen","Krolffolket","Rød","M","x","xxx",459,"Krolffolket 9",null,1,1,2,1]
[{"$f":"IF('Navne kontrol'!A463=\"\",\"\",'Navne kontrol'!A463)","v":""},460,"Kaj Jacobsen","Krolffolket","Gul","M",null,null,460,"Krolffolket 10",null,"","",0,""]
[{"$f":"IF('Navne kontrol'!A464=\"\",\"\",'Navne kontrol'!A464)","v":""},461,"Hanne Hansen","Krolffolket","Lys blå","K","x","xxx",461,"Krolffolket 11",null,1,1,2,1]
[{"$f":"IF('Navne kontrol'!A465=\"\",\"\",'Navne kontrol'!A465)","v":""},462,"Inge Pedersen","Krolffolket","Farve","K",null,null,462,"Krolffolket 12",null,"","",0,""]
[{"$f":"IF('Navne kontrol'!A466=\"\",\"\",'Navne kontrol'!A466)","v":""},463,"Ivan Szumlanski","Krolffolket","Orange","M","x","xxx",463,null,null,1,1,2,1]
[{"$f":"IF('Navne kontrol'!A467=\"\",\"\",'Navne kontrol'!A467)","v":""},464,"Gytha Szumlanski","Krolffolket","Blå","K","x","xxx",464,null,null,1,1,2,1]
[{"$f":"IF('Navne kontrol'!A468=\"\",\"\",'Navne kontrol'!A468)","v":""},465,"Ole Schjerbeck","Krolffolket","Sort","M",null,null,465,null,null,"","",0,""]
[{"$f":"IF('Navne kontrol'!A469=\"\",\"\",'Navne kontrol'!A469)","v":""},466,"Finn Jørgensen","Krolffolket","Gul","M","x","xxx",466,null,null,1,1,2,1]
[{"$f":"IF('Navne kontrol'!A470=\"\",\"\",'Navne kontrol'!A470)","v":""},467,"Lena Kirkegaard","Krolffolket","Orange","K","x",null,467,null,null,1,"",1,""]
[{"$f":"IF('Navne kontrol'!A471=\"\",\"\",'Navne kontrol'!A471)","v":""},468,"Kjeld Hansen","Krolffolket","Sort","M","x","xxx",468,null,null,1,1,2,1]
[{"$f":"IF('Navne kontrol'!A472=\"\",\"\",'Navne kontrol'!A472)","v":""},469,"Vivi Jepsen","Krolffolket","Lys Blå","K",null,"xxx",469,null,null,"",1,1,""]
[{"$f":"IF('Navne kontrol'!A473=\"\",\"\",'Navne kontrol'!A473)","v":""},470,"Ingrid Jensen","Krolffolket","Blå","K","x","xxx",470,null,null,1,1,2,1]
[{"$f":"IF('Navne kontrol'!A474=\"\",\"\",'Navne kontrol'!A474)","v":""},471,"Bodil Pedersen","Krolffolket","Rød","K",null,"xxx",471,null,null,"",1,1,""]
[{"$f":"IF('Navne kontrol'!A475=\"\",\"\",'Navne kontrol'!A475)","v":""},472,"Allan Pedersen","Krolffolket","Farve","M","x","x",472,null,null,1,"",1,""]
[{"$f":"IF('Navne kontrol'!A476=\"\",\"\",'Navne kontrol'!A476)","v":""},473,"Erik Schmidt","Krolffolket","Farve","M",null,null,473,null,null,"","",0,""]
[{"$f":"IF('Navne kontrol'!A477=\"\",\"\",'Navne kontrol'!A477)","v":""},474,"Liselotte Storgaard","Krolffolket","Orange","K","x","x",474,null,null,1,"",1,""]
[{"$f":"IF('Navne kontrol'!A478=\"\",\"\",'Navne kontrol'!A478)","v":""},475,"Niels Jepsen","Krolffolket","Sort","M",null,null,475,null,null,"","",0,""]
[{"$f":"IF('Navne kontrol'!A479=\"\",\"\",'Navne kontrol'!A479)","v":""},476,"Christian Blid","Krolffolket","Lys Blå","M","x","xxx",476,null,null,1,1,2,1]
[{"$f":"IF('Navne kontrol'!A480=\"\",\"\",'Navne kontrol'!A480)","v":""},477,"Inge Sørensen","Krolffolket","Gul","K","x","xxx",477,null,null,1,1,2,1]
[{"$f":"IF('Navne kontrol'!A481=\"\",\"\",'Navne kontrol'!A481)","v":""},478,"Allan Larsen","Krolffolket","Orange","M","x","xxx",478,null,null,1,1,2,1]
[{"$f":"IF('Navne kontrol'!A482=\"\",\"\",'Navne kontrol'!A482)","v":""},479,"Bjørn Krogh","Krolffolket",null,"M","x","xxx",479,null,null,1,1,2,1]
[{"$f":"IF('Navne kontrol'!A483=\"\",\"\",'Navne kontrol'!A483)","v":""},480,"Lissi Lindberg","Krolffolket","Pink","K","x",null,480,null,null,1,"",1,""]
[{"$f":"IF('Navne kontrol'!A484=\"\",\"\",'Navne kontrol'!A484)","v":""},481,"Alice Rask","Krolffolket","Grøn","K","x","xxx",481,null,null,1,1,2,1]
[{"$f":"IF('Navne kontrol'!A485=\"\",\"\",'Navne kontrol'!A485)","v":""},482,"Jim Jørgensen","Krolffolket","Gul","M","x","xxx",482,null,null,1,1,2,1]
[{"$f":"IF('Navne kontrol'!A486=\"\",\"\",'Navne kontrol'!A486)","v":""},483,"Lone S. Nielsen","Krolffolket","Grøn","K","x","xxx",483,null,null,1,1,2,1]
[{"$f":"IF('Navne kontrol'!A487=\"\",\"\",'Navne kontrol'!A487)","v":""},484,"Majbritt Nielsen","Krolffolket","Rød","K","x","xxx",484,null,null,1,1,2,1]
[{"$f":"IF('Navne kontrol'!A488=\"\",\"\",'Navne kontrol'!A488)","v":""},485,"Ole Nilaus Nielsen","Krolffolket","Gul","M","x",null,485,null,null,1,"",1,""]
[{"$f":"IF('Navne kontrol'!A489=\"\",\"\",'Navne kontrol'!A489)","v":""},486,"Benthe Dahl","Krolffolket","Gul","K","x","xxx",486,null,null,1,1,2,1]
[{"$f":"IF('Navne kontrol'!A490=\"\",\"\",'Navne kontrol'!A490)","v":""},487,"Susanne Blok","Krolffolket","Gul","K","x","xxx",487,null,null,1,1,2,1]
[{"$f":"IF('Navne kontrol'!A491=\"\",\"\",'Navne kontrol'!A491)","v":""},488,"Vibeke Jørgensen","Krolffolket","Rød","K","x","xxx",488,null,null,1,1,2,1]
[{"$f":"IF('Navne kontrol'!A492=\"\",\"\",'Navne kontrol'!A492)","v":""},489,"Lillian Søndergaard","Krolffolket","Rød","K",null,null,489,null,null,"","",0,""]
[{"$f":"IF('Navne kontrol'!A493=\"\",\"\",'Navne kontrol'!A493)","v":""},490,"Poul Bent Fischer","Krolffolket","Blå","M",null,null,490,null,null,"","",0,""]
[{"$f":"IF('Navne kontrol'!A494=\"\",\"\",'Navne kontrol'!A494)","v":""},491,"Hans Pedersen","Krolffolket","Blå","M",null,null,491,null,null,"","",0,""]
[{"$f":"IF('Navne kontrol'!A495=\"\",\"\",'Navne kontrol'!A495)","v":""},492,"Rikke Fischer N.","Krolffolket","Gul","K",null,null,492,null,null,"","",0,""]
[{"$f":"IF('Navne kontrol'!A496=\"\",\"\",'Navne kontrol'!A496)","v":""},493,"Renè Jørgensen","Krolffolket","Blå","M",null,null,493,null,null,"","",0,""]
[{"$f":"IF('Navne kontrol'!A497=\"\",\"\",'Navne kontrol'!A497)","v":""},494,"Ida Olsen","Krolffolket","Rød","K","x","xxx",494,null,null,1,1,2,1]
[{"$f":"IF('Navne kontrol'!A498=\"\",\"\",'Navne kontrol'!A498)","v":""},495,"Ole Christensen","Krolffolket","Gul","M","x","xxx",495,null,null,1,1,2,1]
[{"$f":"IF('Navne kontrol'!A499=\"\",\"\",'Navne kontrol'!A499)","v":""},496,"Elsa Banzhaf","Krolffolket","Sort","K",null,"x",496,null,null,"","",0,""]
[{"$f":"IF('Navne kontrol'!A500=\"\",\"\",'Navne kontrol'!A500)","v":""},497,"Ib M. Jensen","Krolffolket","Gul","M",null,null,497,null,null,"","",0,""]
[{"$f":"IF('Navne kontrol'!A501=\"\",\"\",'Navne kontrol'!A501)","v":""},498,"Peter Christensen","Krolffolket","Rød","M","x","xxx",498,null,null,1,1,2,1]
[{"$f":"IF('Navne kontrol'!A502=\"\",\"\",'Navne kontrol'!A502)","v":""},499,"Jannie Christensen","Krolffolket","Blå","K",null,"xxx",499,null,null,"",1,1,""]
[{"$f":"IF('Navne kontrol'!A503=\"\",\"\",'Navne kontrol'!A503)","v":""},500,"Birgit Larsen","Krolffolket","Gul","K",null,null,500,null,null,"","",0,""]
[{"$f":"IF('Navne kontrol'!A504=\"\",\"\",'Navne kontrol'!A504)","v":""},501,"Jonna Hansen","Tapeten","Farve","K",null,"xxx",501,"Tapeten 1",null,"",1,1,""]
[{"$f":"IF('Navne kontrol'!A505=\"\",\"\",'Navne kontrol'!A505)","v":""},502,null,"Tapeten","Farve",null,null,null,502,"Tapeten 2",null,"","",0,""]
[{"$f":"IF('Navne kontrol'!A506=\"\",\"\",'Navne kontrol'!A506)","v":""},503,"Lis Holsdorf","Tapeten","Farve","K",null,null,503,"Tapeten 3",null,"","",0,""]
[{"$f":"IF('Navne kontrol'!A507=\"\",\"\",'Navne kontrol'!A507)","v":""},504,null,"Tapeten","Farve",null,null,null,504,"Tapeten 4",null,"","",0,""]
[{"$f":"IF('Navne kontrol'!A508=\"\",\"\",'Navne kontrol'!A508)","v":""},505,null,"Tapeten","Farve",null,null,null,505,"Tapeten 5",null,"","",0,""]
[{"$f":"IF('Navne kontrol'!A509=\"\",\"\",'Navne kontrol'!A509)","v":""},506,null,"Tapeten","Farve",null,null,null,506,"Tapeten 6",null,"","",0,""]
[{"$f":"IF('Navne kontrol'!A510=\"\",\"\",'Navne kontrol'!A510)","v":""},507,"Ellinor Petersen","Tapeten","Farve","K",null,null,507,"Tapeten 7",null,"","",0,""]
[{"$f":"IF('Navne kontrol'!A511=\"\",\"\",'Navne kontrol'!A511)","v":""},508,"Lisbeth Reland","Tapeten","Farve","K",null,null,508,"Tapeten 8",null,"","",0,""]
[{"$f":"IF('Navne kontrol'!A512=\"\",\"\",'Navne kontrol'!A512)","v":""},509,null,"Tapeten",null,null,null,null,509,"Tapeten 9",null,"","",0,""]
[{"$f":"IF('Navne kontrol'!A513=\"\",\"\",'Navne kontrol'!A513)","v":""},510,null,"Tapeten",null,null,null,null,510,"Tapeten 10",null,"","",0,""]
[{"$f":"IF('Navne kontrol'!A514=\"\",\"\",'Navne kontrol'!A514)","v":""},511,null,"Tapeten",null,null,null,null,511,"Tapeten 11",null,"","",0,""]
[{"$f":"IF('Navne kontrol'!A515=\"\",\"\",'Navne kontrol'!A515)","v":""},512,null,"Tapeten",null,null,null,null,512,"Tapeten 12",null,"","",0,""]
[{"$f":"IF('Navne kontrol'!A516=\"\",\"\",'Navne kontrol'!A516)","v":""},513,null,"Tapeten",null,null,null,null,513,null,null,"","",0,""]
[{"$f":"IF('Navne kontrol'!A517=\"\",\"\",'Navne kontrol'!A517)","v":""},514,null,"Tapeten",null,null,null,null,{"$f":"B517","v":514},null,null,{"$f":"IF(G517=\"x\",1,\"\")","v":""},"",0,""]
[{"$f":"IF('Navne kontrol'!A518=\"\",\"\",'Navne kontrol'!A518)","v":""},515,null,"Tapeten",null,null,null,null,515,null,null,"","",0,""]
[{"$f":"IF('Navne kontrol'!A519=\"\",\"\",'Navne kontrol'!A519)","v":""},516,null,"Tapeten",null,null,null,null,516,null,null,"","",0,""]
[{"$f":"IF('Navne kontrol'!A520=\"\",\"\",'Navne kontrol'!A520)","v":""},517,null,"Tapeten",null,null,null,null,517,null,null,"","",0,""]
[{"$f":"IF('Navne kontrol'!A521=\"\",\"\",'Navne kontrol'!A521)","v":""},518,null,"Tapeten",null,null,null,null,518,null,null,"","",0,""]
[{"$f":"IF('Navne kontrol'!A522=\"\",\"\",'Navne kontrol'!A522)","v":""},519,null,"Tapeten",null,null,null,null,519,null,null,"","",0,""]
[{"$f":"IF('Navne kontrol'!A523=\"\",\"\",'Navne kontrol'!A523)","v":""},520,null,"Tapeten",null,null,null,null,520,null,null,"","",0,""]
[{"$f":"IF('Navne kontrol'!A524=\"\",\"\",'Navne kontrol'!A524)","v":""},521,null,"Tapeten",null,null,null,null,521,null,null,"",{"$f":"IF(H524=\"\",\"\",IF(H524=\"xx\",1,IF(H524=\"xxx\",1,\"\")))","v":""},{"$f":"SUM(L524:M524)","v":0},{"$f":"IF(N524=2,1,\"\")","v":""}]
[{"$f":"IF('Navne kontrol'!A525=\"\",\"\",'Navne kontrol'!A525)","v":""},522,null,"Tapeten",null,null,null,null,522,null,null,"","",0,""]
[{"$f":"IF('Navne kontrol'!A526=\"\",\"\",'Navne kontrol'!A526)","v":""},523,null,"Tapeten",null,null,null,null,523,null,null,"","",0,""]
[{"$f":"IF('Navne kontrol'!A527=\"\",\"\",'Navne kontrol'!A527)","v":""},524,null,"Tapeten",null,null,null,null,524,null,null,"","",0,""]
[{"$f":"IF('Navne kontrol'!A528=\"\",\"\",'Navne kontrol'!A528)","v":""},525,null,"Tapeten",null,null,null,null,525,null,null,"","",0,""]
[{"$f":"IF('Navne kontrol'!A529=\"\",\"\",'Navne kontrol'!A529)","v":""},526,null,"Tapeten",null,null,null,null,526,null,null,"","",0,""]
[{"$f":"IF('Navne kontrol'!A530=\"\",\"\",'Navne kontrol'!A530)","v":""},527,null,"Tapeten",null,null,null,null,527,null,null,"","",0,""]
[{"$f":"IF('Navne kontrol'!A531=\"\",\"\",'Navne kontrol'!A531)","v":""},528,null,"Tapeten",null,null,null,null,528,null,null,"","",0,""]
[{"$f":"IF('Navne kontrol'!A532=\"\",\"\",'Navne kontrol'!A532)","v":""},529,null,"Tapeten",null,null,null,null,529,null,null,"","",0,""]
[{"$f":"IF('Navne kontrol'!A533=\"\",\"\",'Navne kontrol'!A533)","v":""},530,null,"Tapeten",null,null,null,null,530,null,null,"","",0,""]
[{"$f":"IF('Navne kontrol'!A534=\"\",\"\",'Navne kontrol'!A534)","v":""},531,null,"Tapeten",null,null,null,null,531,null,null,"","",0,""]
[{"$f":"IF('Navne kontrol'!A535=\"\",\"\",'Navne kontrol'!A535)","v":""},532,null,"Tapeten",null,null,null,null,532,null,null,"","",0,""]
[{"$f":"IF('Navne kontrol'!A536=\"\",\"\",'Navne kontrol'!A536)","v":""},533,null,"Tapeten",null,null,null,null,533,null,null,"","",0,""]
[{"$f":"IF('Navne kontrol'!A537=\"\",\"\",'Navne kontrol'!A537)","v":""},534,null,"Tapeten",null,null,null,null,534,null,null,"","",0,""]
[{"$f":"IF('Navne kontrol'!A538=\"\",\"\",'Navne kontrol'!A538)","v":""},535,null,"Tapeten",null,null,null,null,535,null,null,"","",0,""]
[{"$f":"IF('Navne kontrol'!A539=\"\",\"\",'Navne kontrol'!A539)","v":""},536,null,"Tapeten",null,null,null,null,536,null,null,"","",0,""]
[{"$f":"IF('Navne kontrol'!A540=\"\",\"\",'Navne kontrol'!A540)","v":""},537,null,"Tapeten",null,null,null,null,537,null,null,"","",0,""]
[{"$f":"IF('Navne kontrol'!A541=\"\",\"\",'Navne kontrol'!A541)","v":""},538,null,"Tapeten",null,null,null,null,538,null,null,"","",0,""]
[{"$f":"IF('Navne kontrol'!A542=\"\",\"\",'Navne kontrol'!A542)","v":""},539,null,"Tapeten",null,null,null,null,539,null,null,"","",0,""]
[{"$f":"IF('Navne kontrol'!A543=\"\",\"\",'Navne kontrol'!A543)","v":""},540,null,"Tapeten",null,null,null,null,540,null,null,"","",0,""]
[{"$f":"IF('Navne kontrol'!A544=\"\",\"\",'Navne kontrol'!A544)","v":""},541,null,"Tapeten",null,null,null,null,541,null,null,"","",0,""]
[{"$f":"IF('Navne kontrol'!A545=\"\",\"\",'Navne kontrol'!A545)","v":""},542,null,"Tapeten",null,null,null,null,542,null,null,"","",0,""]
[{"$f":"IF('Navne kontrol'!A546=\"\",\"\",'Navne kontrol'!A546)","v":""},543,null,"Tapeten",null,null,null,null,543,null,null,"","",0,""]
[{"$f":"IF('Navne kontrol'!A547=\"\",\"\",'Navne kontrol'!A547)","v":""},544,null,"Tapeten",null,null,null,null,544,null,null,"","",0,""]
[{"$f":"IF('Navne kontrol'!A548=\"\",\"\",'Navne kontrol'!A548)","v":""},545,null,"Tapeten",null,null,null,null,545,null,null,"","",0,""]
[{"$f":"IF('Navne kontrol'!A549=\"\",\"\",'Navne kontrol'!A549)","v":""},546,null,"Tapeten",null,null,null,null,546,null,null,"","",0,""]
[{"$f":"IF('Navne kontrol'!A550=\"\",\"\",'Navne kontrol'!A550)","v":""},547,null,"Tapeten",null,null,null,null,547,null,null,"","",0,""]
[{"$f":"IF('Navne kontrol'!A551=\"\",\"\",'Navne kontrol'!A551)","v":""},548,null,"Tapeten",null,null,null,null,548,null,null,"","",0,""]
[{"$f":"IF('Navne kontrol'!A552=\"\",\"\",'Navne kontrol'!A552)","v":""},549,null,"Tapeten",null,null,null,null,549,null,null,"","",0,""]
[{"$f":"IF('Navne kontrol'!A553=\"\",\"\",'Navne kontrol'!A553)","v":""},550,null,"Tapeten",null,null,null,null,550,null,null,"","",0,""]
[{"$f":"IF('Navne kontrol'!A554=\"\",\"\",'Navne kontrol'!A554)","v":""},551,"Jan Manfred","Vesterbro","Farve","M",null,null,551,"Vesterbro 1",null,"","",0,""]
[{"$f":"IF('Navne kontrol'!A555=\"\",\"\",'Navne kontrol'!A555)","v":""},552,"Suzanne Grønlund","Vesterbro","Farve","K",null,null,552,"Vesterbro 2",null,"","",0,""]
[{"$f":"IF('Navne kontrol'!A556=\"\",\"\",'Navne kontrol'!A556)","v":""},553,null,"Vesterbro","Farve",null,null,null,553,"Vesterbro 3",null,"","",0,""]
[{"$f":"IF('Navne kontrol'!A557=\"\",\"\",'Navne kontrol'!A557)","v":""},554,null,"Vesterbro","Farve",null,null,null,554,"Vesterbro 4",null,"","",0,""]
[{"$f":"IF('Navne kontrol'!A558=\"\",\"\",'Navne kontrol'!A558)","v":""},555,null,"Vesterbro","Farve",null,null,null,555,"Vesterbro 5",null,"","",0,""]
[{"$f":"IF('Navne kontrol'!A559=\"\",\"\",'Navne kontrol'!A559)","v":""},556,null,"Vesterbro","Farve",null,null,null,556,"Vesterbro 6",null,"","",0,""]
[{"$f":"IF('Navne kontrol'!A560=\"\",\"\",'Navne kontrol'!A560)","v":""},557,null,"Vesterbro","Farve",null,null,null,557,"Vesterbro 7",null,"","",0,""]
[{"$f":"IF('Navne kontrol'!A561=\"\",\"\",'Navne kontrol'!A561)","v":""},558,null,"Vesterbro","Farve",null,null,null,558,"Vesterbro 8",null,"","",0,""]
[{"$f":"IF('Navne kontrol'!A562=\"\",\"\",'Navne kontrol'!A562)","v":""},559,null,"Vesterbro","Farve",null,null,null,559,"Vesterbro 9",null,"","",0,""]
[{"$f":"IF('Navne kontrol'!A563=\"\",\"\",'Navne kontrol'!A563)","v":""},560,null,"Vesterbro","Farve",null,null,null,560,"Vesterbro 10",null,"","",0,""]
[{"$f":"IF('Navne kontrol'!A564=\"\",\"\",'Navne kontrol'!A564)","v":""},561,null,"Vesterbro","Farve",null,null,null,561,"Vesterbro 11",null,"","",0,""]
[{"$f":"IF('Navne kontrol'!A565=\"\",\"\",'Navne kontrol'!A565)","v":""},562,null,"Vesterbro","Farve",null,null,null,562,"Vesterbro 12",null,"","",0,""]
[{"$f":"IF('Navne kontrol'!A566=\"\",\"\",'Navne kontrol'!A566)","v":""},563,null,"Vesterbro","Farve",null,null,null,563,null,null,"","",0,""]
[{"$f":"IF('Navne kontrol'!A567=\"\",\"\",'Navne kontrol'!A567)","v":""},564,null,"Vesterbro","Farve",null,null,null,564,null,null,"","",0,""]
[{"$f":"IF('Navne kontrol'!A568=\"\",\"\",'Navne kontrol'!A568)","v":""},565,null,"Vesterbro","Farve",null,null,null,565,null,null,"","",0,""]
[{"$f":"IF('Navne kontrol'!A569=\"\",\"\",'Navne kontrol'!A569)","v":""},566,null,"Vesterbro","Farve",null,null,null,566,null,null,"","",0,""]
[{"$f":"IF('Navne kontrol'!A570=\"\",\"\",'Navne kontrol'!A570)","v":""},567,null,"Vesterbro","Farve",null,null,null,567,null,null,"","",0,""]
[{"$f":"IF('Navne kontrol'!A571=\"\",\"\",'Navne kontrol'!A571)","v":""},568,null,"Vesterbro","Farve",null,null,null,568,null,null,"","",0,""]
[{"$f":"IF('Navne kontrol'!A572=\"\",\"\",'Navne kontrol'!A572)","v":""},569,null,"Vesterbro","Farve",null,null,null,569,null,null,"","",0,""]
[{"$f":"IF('Navne kontrol'!A573=\"\",\"\",'Navne kontrol'!A573)","v":""},570,null,"Vesterbro","Farve",null,null,null,570,null,null,"","",0,""]
[{"$f":"IF('Navne kontrol'!A574=\"\",\"\",'Navne kontrol'!A574)","v":""},571,null,"Vesterbro","Farve",null,null,null,571,null,null,"","",0,""]
[{"$f":"IF('Navne kontrol'!A575=\"\",\"\",'Navne kontrol'!A575)","v":""},572,null,"Vesterbro","Farve",null,null,null,572,null,null,"","",0,""]
[{"$f":"IF('Navne kontrol'!A576=\"\",\"\",'Navne kontrol'!A576)","v":""},573,null,"Vesterbro","Farve",null,null,null,573,null,null,"","",0,""]
[{"$f":"IF('Navne kontrol'!A577=\"\",\"\",'Navne kontrol'!A577)","v":""},574,null,"Vesterbro","Farve",null,null,null,574,null,null,"","",0,""]
[{"$f":"IF('Navne kontrol'!A578=\"\",\"\",'Navne kontrol'!A578)","v":""},575,null,"Vesterbro","Farve",null,null,null,575,null,null,"","",0,""]
[{"$f":"IF('Navne kontrol'!A579=\"\",\"\",'Navne kontrol'!A579)","v":""},576,null,"Vesterbro","Farve",null,null,null,576,null,null,"","",0,""]
[{"$f":"IF('Navne kontrol'!A580=\"\",\"\",'Navne kontrol'!A580)","v":""},577,null,"Vesterbro","Farve",null,null,null,577,null,null,"","",0,""]
[{"$f":"IF('Navne kontrol'!A581=\"\",\"\",'Navne kontrol'!A581)","v":""},578,null,"Vesterbro","Farve",null,null,null,{"$f":"B581","v":578},null,null,{"$f":"IF(G581=\"x\",1,\"\")","v":""},"",0,""]
[{"$f":"IF('Navne kontrol'!A582=\"\",\"\",'Navne kontrol'!A582)","v":""},579,null,"Vesterbro","Farve",null,null,null,579,null,null,"","",0,""]
[{"$f":"IF('Navne kontrol'!A583=\"\",\"\",'Navne kontrol'!A583)","v":""},580,null,"Vesterbro","Farve",null,null,null,580,null,null,"","",0,""]
[{"$f":"IF('Navne kontrol'!A584=\"\",\"\",'Navne kontrol'!A584)","v":""},581,null,"Vesterbro","Farve",null,null,null,581,null,null,"","",0,""]
[{"$f":"IF('Navne kontrol'!A585=\"\",\"\",'Navne kontrol'!A585)","v":""},582,null,"Vesterbro","Farve",null,null,null,582,null,null,"","",0,""]
[{"$f":"IF('Navne kontrol'!A586=\"\",\"\",'Navne kontrol'!A586)","v":""},583,null,"Vesterbro","Farve",null,null,null,583,null,null,"","",0,""]
[{"$f":"IF('Navne kontrol'!A587=\"\",\"\",'Navne kontrol'!A587)","v":""},584,null,"Vesterbro","Farve",null,null,null,584,null,null,"","",0,""]
[{"$f":"IF('Navne kontrol'!A588=\"\",\"\",'Navne kontrol'!A588)","v":""},585,null,"Vesterbro","Farve",null,null,null,585,null,null,"",{"$f":"IF(H588=\"\",\"\",IF(H588=\"xx\",1,IF(H588=\"xxx\",1,\"\")))","v":""},{"$f":"SUM(L588:M588)","v":0},{"$f":"IF(N588=2,1,\"\")","v":""}]
[{"$f":"IF('Navne kontrol'!A589=\"\",\"\",'Navne kontrol'!A589)","v":""},586,null,"Vesterbro","Farve",null,null,null,586,null,null,"","",0,""]
[{"$f":"IF('Navne kontrol'!A590=\"\",\"\",'Navne kontrol'!A590)","v":""},587,null,"Vesterbro","Farve",null,null,null,587,null,null,"","",0,""]
[{"$f":"IF('Navne kontrol'!A591=\"\",\"\",'Navne kontrol'!A591)","v":""},588,null,"Vesterbro","Farve",null,null,null,588,null,null,"","",0,""]
[{"$f":"IF('Navne kontrol'!A592=\"\",\"\",'Navne kontrol'!A592)","v":""},589,null,"Vesterbro","Farve",null,null,null,589,null,null,"","",0,""]
[{"$f":"IF('Navne kontrol'!A593=\"\",\"\",'Navne kontrol'!A593)","v":""},590,null,"Vesterbro","Farve",null,null,null,590,null,null,"","",0,""]
[{"$f":"IF('Navne kontrol'!A594=\"\",\"\",'Navne kontrol'!A594)","v":""},591,null,"Vesterbro","Farve",null,null,null,591,null,null,"","",0,""]
[{"$f":"IF('Navne kontrol'!A595=\"\",\"\",'Navne kontrol'!A595)","v":""},592,null,"Vesterbro","Farve",null,null,null,592,null,null,"","",0,""]
[{"$f":"IF('Navne kontrol'!A596=\"\",\"\",'Navne kontrol'!A596)","v":""},593,null,"Vesterbro","Farve",null,null,null,593,null,null,"","",0,""]
[{"$f":"IF('Navne kontrol'!A597=\"\",\"\",'Navne kontrol'!A597)","v":""},594,null,"Vesterbro","Farve",null,null,null,594,null,null,"","",0,""]
[{"$f":"IF('Navne kontrol'!A598=\"\",\"\",'Navne kontrol'!A598)","v":""},595,null,"Vesterbro","Farve",null,null,null,595,null,null,"","",0,""]
[{"$f":"IF('Navne kontrol'!A599=\"\",\"\",'Navne kontrol'!A599)","v":""},596,null,"Vesterbro","Farve",null,null,null,596,null,null,"","",0,""]
[{"$f":"IF('Navne kontrol'!A600=\"\",\"\",'Navne kontrol'!A600)","v":""},597,null,"Vesterbro","Farve",null,null,null,597,null,null,"","",0,""]
[{"$f":"IF('Navne kontrol'!A601=\"\",\"\",'Navne kontrol'!A601)","v":""},598,null,"Vesterbro","Farve",null,null,null,598,null,null,"","",0,""]
[{"$f":"IF('Navne kontrol'!A602=\"\",\"\",'Navne kontrol'!A602)","v":""},599,null,"Vesterbro","Farve",null,null,null,599,null,null,"","",0,""]
[{"$f":"IF('Navne kontrol'!A603=\"\",\"\",'Navne kontrol'!A603)","v":""},600,null,"Vesterbro","Farve",null,null,null,600,null,null,"","",0,""]
[{"$f":"IF('Navne kontrol'!A604=\"\",\"\",'Navne kontrol'!A604)","v":""},601,"Anders Jørgensen","IF Vikingerne","Farve","M","x",null,601,"Vikingerne 1",null,1,"",1,""]
[{"$f":"IF('Navne kontrol'!A605=\"\",\"\",'Navne kontrol'!A605)","v":""},602,"Kian Andersen","IF Vikingerne","Farve","M","x",null,602,"Vikingerne 2",null,1,"",1,""]
[{"$f":"IF('Navne kontrol'!A606=\"\",\"\",'Navne kontrol'!A606)","v":""},603,"Chararlotte Jensen","IF Vikingerne","Farve","K",null,null,603,"Vikingerne 3",null,"","",0,""]
[{"$f":"IF('Navne kontrol'!A607=\"\",\"\",'Navne kontrol'!A607)","v":""},604,"Kennet Sørensen","IF Vikingerne","Farve","M",null,null,604,"Vikingerne 4",null,"","",0,""]
[{"$f":"IF('Navne kontrol'!A608=\"\",\"\",'Navne kontrol'!A608)","v":""},605,"Nicklas Sørensen","IF Vikingerne","Farve","M",null,null,605,"Vikingerne 5",null,"","",0,""]
[{"$f":"IF('Navne kontrol'!A609=\"\",\"\",'Navne kontrol'!A609)","v":""},606,"Kennet  Jensen","IF Vikingerne","Farve","M",null,null,606,"Vikingerne 6",null,"","",0,""]
[{"$f":"IF('Navne kontrol'!A610=\"\",\"\",'Navne kontrol'!A610)","v":""},607,"Renè Puggaard","IF Vikingerne","Farve","M",null,null,607,"Vikingerne 7",null,"","",0,""]
[{"$f":"IF('Navne kontrol'!A611=\"\",\"\",'Navne kontrol'!A611)","v":""},608,"Søren Skourup","IF Vikingerne","Farve","M","x",null,608,"Vikingerne 8",null,1,"",1,""]
[{"$f":"IF('Navne kontrol'!A612=\"\",\"\",'Navne kontrol'!A612)","v":""},609,"Daniel Hansen","IF Vikingerne","Farve","M",null,null,609,"Vikingerne 9",null,"","",0,""]
[{"$f":"IF('Navne kontrol'!A613=\"\",\"\",'Navne kontrol'!A613)","v":""},610,"Sarah Christiansen","IF Vikingerne","Farve","K","x",null,610,"Vikingerne 10",null,1,"",1,""]
[{"$f":"IF('Navne kontrol'!A614=\"\",\"\",'Navne kontrol'!A614)","v":""},611,"Elisabeth Holmskov","IF Vikingerne","Farve","K",null,null,611,"Vikingerne 11",null,"","",0,""]
[{"$f":"IF('Navne kontrol'!A615=\"\",\"\",'Navne kontrol'!A615)","v":""},612,"Adam Kristoffersen","IF Vikingerne","Farve","M","x",null,612,"Vikingerne 12",null,1,"",1,""]
[{"$f":"IF('Navne kontrol'!A616=\"\",\"\",'Navne kontrol'!A616)","v":""},613,null,null,null,null,null,null,613,null,null,"","",0,""]
[{"$f":"IF('Navne kontrol'!A617=\"\",\"\",'Navne kontrol'!A617)","v":""},614,null,null,null,null,null,null,614,null,null,"","",0,""]
[{"$f":"IF('Navne kontrol'!A618=\"\",\"\",'Navne kontrol'!A618)","v":""},615,null,null,null,null,null,null,615,null,null,"","",0,""]
[{"$f":"IF('Navne kontrol'!A619=\"\",\"\",'Navne kontrol'!A619)","v":""},616,null,null,null,null,null,null,616,null,null,"","",0,""]
[{"$f":"IF('Navne kontrol'!A620=\"\",\"\",'Navne kontrol'!A620)","v":""},617,null,null,null,null,null,null,617,null,null,"","",0,""]
[{"$f":"IF('Navne kontrol'!A621=\"\",\"\",'Navne kontrol'!A621)","v":""},618,null,null,null,null,null,null,618,null,null,"","",0,""]
[{"$f":"IF('Navne kontrol'!A622=\"\",\"\",'Navne kontrol'!A622)","v":""},619,null,null,null,null,null,null,619,null,null,"","",0,""]
[{"$f":"IF('Navne kontrol'!A623=\"\",\"\",'Navne kontrol'!A623)","v":""},620,null,null,null,null,null,null,620,null,null,"","",0,""]
[{"$f":"IF('Navne kontrol'!A624=\"\",\"\",'Navne kontrol'!A624)","v":""},621,null,null,null,null,null,null,621,null,null,"","",0,""]
[{"$f":"IF('Navne kontrol'!A625=\"\",\"\",'Navne kontrol'!A625)","v":""},622,null,null,null,null,null,null,622,null,null,"","",0,""]
[{"$f":"IF('Navne kontrol'!A626=\"\",\"\",'Navne kontrol'!A626)","v":""},623,null,null,null,null,null,null,623,null,null,"","",0,""]
[{"$f":"IF('Navne kontrol'!A627=\"\",\"\",'Navne kontrol'!A627)","v":""},624,null,null,null,null,null,null,624,null,null,"","",0,""]
[{"$f":"IF('Navne kontrol'!A628=\"\",\"\",'Navne kontrol'!A628)","v":""},625,null,null,null,null,null,null,625,null,null,"","",0,""]
[{"$f":"IF('Navne kontrol'!A629=\"\",\"\",'Navne kontrol'!A629)","v":""},626,null,null,null,null,null,null,626,null,null,"","",0,""]
[{"$f":"IF('Navne kontrol'!A630=\"\",\"\",'Navne kontrol'!A630)","v":""},627,null,null,null,null,null,null,627,null,null,"","",0,""]
[{"$f":"IF('Navne kontrol'!A631=\"\",\"\",'Navne kontrol'!A631)","v":""},628,null,null,null,null,null,null,628,null,null,"","",0,""]
[{"$f":"IF('Navne kontrol'!A632=\"\",\"\",'Navne kontrol'!A632)","v":""},629,null,null,null,null,null,null,629,null,null,"","",0,""]
[{"$f":"IF('Navne kontrol'!A633=\"\",\"\",'Navne kontrol'!A633)","v":""},630,null,null,null,null,null,null,630,null,null,"","",0,""]
[{"$f":"IF('Navne kontrol'!A634=\"\",\"\",'Navne kontrol'!A634)","v":""},631,null,null,null,null,null,null,631,null,null,"","",0,""]
[{"$f":"IF('Navne kontrol'!A635=\"\",\"\",'Navne kontrol'!A635)","v":""},632,null,null,null,null,null,null,632,null,null,"","",0,""]
[{"$f":"IF('Navne kontrol'!A636=\"\",\"\",'Navne kontrol'!A636)","v":""},633,null,null,null,null,null,null,633,null,null,"","",0,""]
[{"$f":"IF('Navne kontrol'!A637=\"\",\"\",'Navne kontrol'!A637)","v":""},634,null,null,null,null,null,null,634,null,null,"","",0,""]
[{"$f":"IF('Navne kontrol'!A638=\"\",\"\",'Navne kontrol'!A638)","v":""},635,null,null,null,null,null,null,635,null,null,"","",0,""]
[{"$f":"IF('Navne kontrol'!A639=\"\",\"\",'Navne kontrol'!A639)","v":""},636,null,null,null,null,null,null,636,null,null,"","",0,""]
[{"$f":"IF('Navne kontrol'!A640=\"\",\"\",'Navne kontrol'!A640)","v":""},637,null,null,null,null,null,null,637,null,null,"","",0,""]
[{"$f":"IF('Navne kontrol'!A641=\"\",\"\",'Navne kontrol'!A641)","v":""},638,null,null,null,null,null,null,638,null,null,"","",0,""]
[{"$f":"IF('Navne kontrol'!A642=\"\",\"\",'Navne kontrol'!A642)","v":""},639,null,null,null,null,null,null,639,null,null,"","",0,""]
[{"$f":"IF('Navne kontrol'!A643=\"\",\"\",'Navne kontrol'!A643)","v":""},640,null,null,null,null,null,null,640,null,null,"","",0,""]
[{"$f":"IF('Navne kontrol'!A644=\"\",\"\",'Navne kontrol'!A644)","v":""},641,null,null,null,null,null,null,641,null,null,"","",0,""]
[{"$f":"IF('Navne kontrol'!A645=\"\",\"\",'Navne kontrol'!A645)","v":""},642,null,null,null,null,null,null,{"$f":"B645","v":642},null,null,{"$f":"IF(G645=\"x\",1,\"\")","v":""},"",0,""]
[{"$f":"IF('Navne kontrol'!A646=\"\",\"\",'Navne kontrol'!A646)","v":""},643,null,null,null,null,null,null,643,null,null,"","",0,""]
[{"$f":"IF('Navne kontrol'!A647=\"\",\"\",'Navne kontrol'!A647)","v":""},644,null,null,null,null,null,null,644,null,null,"","",0,""]
[{"$f":"IF('Navne kontrol'!A648=\"\",\"\",'Navne kontrol'!A648)","v":""},645,null,null,null,null,null,null,645,null,null,"","",0,""]
[{"$f":"IF('Navne kontrol'!A649=\"\",\"\",'Navne kontrol'!A649)","v":""},646,null,null,null,null,null,null,646,null,null,"","",0,""]
[{"$f":"IF('Navne kontrol'!A650=\"\",\"\",'Navne kontrol'!A650)","v":""},647,null,null,null,null,null,null,647,null,null,"","",0,""]
[{"$f":"IF('Navne kontrol'!A651=\"\",\"\",'Navne kontrol'!A651)","v":""},648,null,null,null,null,null,null,648,null,null,"","",0,""]
[{"$f":"IF('Navne kontrol'!A652=\"\",\"\",'Navne kontrol'!A652)","v":""},649,null,null,null,null,null,null,649,null,null,"",{"$f":"IF(H652=\"\",\"\",IF(H652=\"xx\",1,IF(H652=\"xxx\",1,\"\")))","v":""},{"$f":"SUM(L652:M652)","v":0},{"$f":"IF(N652=2,1,\"\")","v":""}]
[{"$f":"IF('Navne kontrol'!A653=\"\",\"\",'Navne kontrol'!A653)","v":""},650,null,null,null,null,null,null,650,null,null,"","",0,""]
[{"$f":"IF('Navne kontrol'!A654=\"\",\"\",'Navne kontrol'!A654)","v":""},651,null,null,null,null,null,null,651,null,null,"","",0,""]
[{"$f":"IF('Navne kontrol'!A655=\"\",\"\",'Navne kontrol'!A655)","v":""},652,null,null,null,null,null,null,652,null,null,"","",0,""]
[{"$f":"IF('Navne kontrol'!A656=\"\",\"\",'Navne kontrol'!A656)","v":""},653,null,null,null,null,null,null,653,null,null,"","",0,""]
[{"$f":"IF('Navne kontrol'!A657=\"\",\"\",'Navne kontrol'!A657)","v":""},654,null,null,null,null,null,null,654,null,null,"","",0,""]
[{"$f":"IF('Navne kontrol'!A658=\"\",\"\",'Navne kontrol'!A658)","v":""},655,null,null,null,null,null,null,655,null,null,"","",0,""]
[{"$f":"IF('Navne kontrol'!A659=\"\",\"\",'Navne kontrol'!A659)","v":""},656,null,null,null,null,null,null,656,null,null,"","",0,""]
[{"$f":"IF('Navne kontrol'!A660=\"\",\"\",'Navne kontrol'!A660)","v":""},657,null,null,null,null,null,null,657,null,null,"","",0,""]
[{"$f":"IF('Navne kontrol'!A661=\"\",\"\",'Navne kontrol'!A661)","v":""},658,null,null,null,null,null,null,658,null,null,"","",0,""]
[{"$f":"IF('Navne kontrol'!A662=\"\",\"\",'Navne kontrol'!A662)","v":""},659,null,null,null,null,null,null,659,null,null,"","",0,""]
[{"$f":"IF('Navne kontrol'!A663=\"\",\"\",'Navne kontrol'!A663)","v":""},660,null,null,null,null,null,null,660,null,null,"","",0,""]
[{"$f":"IF('Navne kontrol'!A664=\"\",\"\",'Navne kontrol'!A664)","v":""},661,null,null,null,null,null,null,661,null,null,"","",0,""]
[{"$f":"IF('Navne kontrol'!A665=\"\",\"\",'Navne kontrol'!A665)","v":""},662,null,null,null,null,null,null,662,null,null,"","",0,""]
[{"$f":"IF('Navne kontrol'!A666=\"\",\"\",'Navne kontrol'!A666)","v":""},663,null,null,null,null,null,null,663,null,null,"","",0,""]
[{"$f":"IF('Navne kontrol'!A667=\"\",\"\",'Navne kontrol'!A667)","v":""},664,null,null,null,null,null,null,664,null,null,"","",0,""]
[{"$f":"IF('Navne kontrol'!A668=\"\",\"\",'Navne kontrol'!A668)","v":""},665,null,null,null,null,null,null,665,null,null,"","",0,""]
[{"$f":"IF('Navne kontrol'!A669=\"\",\"\",'Navne kontrol'!A669)","v":""},666,null,null,null,null,null,null,666,null,null,"","",0,""]
[{"$f":"IF('Navne kontrol'!A670=\"\",\"\",'Navne kontrol'!A670)","v":""},667,null,null,null,null,null,null,667,null,null,"","",0,""]
[{"$f":"IF('Navne kontrol'!A671=\"\",\"\",'Navne kontrol'!A671)","v":""},668,null,null,null,null,null,null,668,null,null,"","",0,""]
[{"$f":"IF('Navne kontrol'!A672=\"\",\"\",'Navne kontrol'!A672)","v":""},669,null,null,null,null,null,null,669,null,null,"","",0,""]
[{"$f":"IF('Navne kontrol'!A673=\"\",\"\",'Navne kontrol'!A673)","v":""},670,null,null,null,null,null,null,670,null,null,"","",0,""]
[{"$f":"IF('Navne kontrol'!A674=\"\",\"\",'Navne kontrol'!A674)","v":""},671,null,null,null,null,null,null,671,null,null,"","",0,""]
[{"$f":"IF('Navne kontrol'!A675=\"\",\"\",'Navne kontrol'!A675)","v":""},672,null,null,null,null,null,null,672,null,null,"","",0,""]
[{"$f":"IF('Navne kontrol'!A676=\"\",\"\",'Navne kontrol'!A676)","v":""},673,null,null,null,null,null,null,673,null,null,"","",0,""]
[{"$f":"IF('Navne kontrol'!A677=\"\",\"\",'Navne kontrol'!A677)","v":""},674,null,null,null,null,null,null,674,null,null,"","",0,""]
[{"$f":"IF('Navne kontrol'!A678=\"\",\"\",'Navne kontrol'!A678)","v":""},675,null,null,null,null,null,null,675,null,null,"","",0,""]
[{"$f":"IF('Navne kontrol'!A679=\"\",\"\",'Navne kontrol'!A679)","v":""},676,null,null,null,null,null,null,676,null,null,"","",0,""]
[{"$f":"IF('Navne kontrol'!A680=\"\",\"\",'Navne kontrol'!A680)","v":""},677,null,null,null,null,null,null,677,null,null,"","",0,""]
[{"$f":"IF('Navne kontrol'!A681=\"\",\"\",'Navne kontrol'!A681)","v":""},678,null,null,null,null,null,null,678,null,null,"","",0,""]
[{"$f":"IF('Navne kontrol'!A682=\"\",\"\",'Navne kontrol'!A682)","v":""},679,null,null,null,null,null,null,679,null,null,"","",0,""]
[{"$f":"IF('Navne kontrol'!A683=\"\",\"\",'Navne kontrol'!A683)","v":""},680,null,null,null,null,null,null,680,null,null,"","",0,""]
[{"$f":"IF('Navne kontrol'!A684=\"\",\"\",'Navne kontrol'!A684)","v":""},681,null,null,null,null,null,null,681,null,null,"","",0,""]
[{"$f":"IF('Navne kontrol'!A685=\"\",\"\",'Navne kontrol'!A685)","v":""},682,null,null,null,null,null,null,682,null,null,"","",0,""]
[{"$f":"IF('Navne kontrol'!A686=\"\",\"\",'Navne kontrol'!A686)","v":""},683,null,null,null,null,null,null,683,null,null,"","",0,""]
[{"$f":"IF('Navne kontrol'!A687=\"\",\"\",'Navne kontrol'!A687)","v":""},684,null,null,null,null,null,null,684,null,null,"","",0,""]
[{"$f":"IF('Navne kontrol'!A688=\"\",\"\",'Navne kontrol'!A688)","v":""},685,null,null,null,null,null,null,685,null,null,"","",0,""]
[{"$f":"IF('Navne kontrol'!A689=\"\",\"\",'Navne kontrol'!A689)","v":""},686,null,null,null,null,null,null,686,null,null,"","",0,""]
[{"$f":"IF('Navne kontrol'!A690=\"\",\"\",'Navne kontrol'!A690)","v":""},687,null,null,null,null,null,null,687,null,null,"","",0,""]
[{"$f":"IF('Navne kontrol'!A691=\"\",\"\",'Navne kontrol'!A691)","v":""},688,null,null,null,null,null,null,688,null,null,"","",0,""]
[{"$f":"IF('Navne kontrol'!A692=\"\",\"\",'Navne kontrol'!A692)","v":""},689,null,null,null,null,null,null,689,null,null,"","",0,""]
[{"$f":"IF('Navne kontrol'!A693=\"\",\"\",'Navne kontrol'!A693)","v":""},690,null,null,null,null,null,null,690,null,null,"","",0,""]
[{"$f":"IF('Navne kontrol'!A694=\"\",\"\",'Navne kontrol'!A694)","v":""},691,null,null,null,null,null,null,691,null,null,"","",0,""]
[{"$f":"IF('Navne kontrol'!A695=\"\",\"\",'Navne kontrol'!A695)","v":""},692,null,null,null,null,null,null,692,null,null,"","",0,""]
[{"$f":"IF('Navne kontrol'!A696=\"\",\"\",'Navne kontrol'!A696)","v":""},693,null,null,null,null,null,null,693,null,null,"","",0,""]
[{"$f":"IF('Navne kontrol'!A697=\"\",\"\",'Navne kontrol'!A697)","v":""},694,null,null,null,null,null,null,694,null,null,"","",0,""]
[{"$f":"IF('Navne kontrol'!A698=\"\",\"\",'Navne kontrol'!A698)","v":""},695,null,null,null,null,null,null,695,null,null,"","",0,""]
[{"$f":"IF('Navne kontrol'!A699=\"\",\"\",'Navne kontrol'!A699)","v":""},696,null,null,null,null,null,null,696,null,null,"","",0,""]
[{"$f":"IF('Navne kontrol'!A700=\"\",\"\",'Navne kontrol'!A700)","v":""},697,null,null,null,null,null,null,697,null,null,"","",0,""]
[{"$f":"IF('Navne kontrol'!A701=\"\",\"\",'Navne kontrol'!A701)","v":""},698,null,null,null,null,null,null,698,null,null,"","",0,""]
[{"$f":"IF('Navne kontrol'!A702=\"\",\"\",'Navne kontrol'!A702)","v":""},699,null,null,null,null,null,null,699,null,null,"","",0,""]
[{"$f":"IF('Navne kontrol'!A703=\"\",\"\",'Navne kontrol'!A703)","v":""},700,null,null,null,null,null,null,700,null,null,"","",0,""]
[{"$f":"IF('Navne kontrol'!A704=\"\",\"\",'Navne kontrol'!A704)","v":""},701,null,null,null,null,null,null,701,null,null,"","",0,""]
[{"$f":"IF('Navne kontrol'!A705=\"\",\"\",'Navne kontrol'!A705)","v":""},702,null,null,null,null,null,null,702,null,null,"","",0,""]
[{"$f":"IF('Navne kontrol'!A706=\"\",\"\",'Navne kontrol'!A706)","v":""},703,null,null,null,null,null,null,703,null,null,"","",0,""]
[{"$f":"IF('Navne kontrol'!A707=\"\",\"\",'Navne kontrol'!A707)","v":""},704,null,null,null,null,null,null,704,null,null,"","",0,""]
[{"$f":"IF('Navne kontrol'!A708=\"\",\"\",'Navne kontrol'!A708)","v":""},705,null,null,null,null,null,null,705,null,null,"","",0,""]
[{"$f":"IF('Navne kontrol'!A709=\"\",\"\",'Navne kontrol'!A709)","v":""},706,null,null,null,null,null,null,{"$f":"B709","v":706},null,null,{"$f":"IF(G709=\"x\",1,\"\")","v":""},"",0,""]
[{"$f":"IF('Navne kontrol'!A710=\"\",\"\",'Navne kontrol'!A710)","v":""},707,null,null,null,null,null,null,707,null,null,"","",0,""]
[{"$f":"IF('Navne kontrol'!A711=\"\",\"\",'Navne kontrol'!A711)","v":""},708,null,null,null,null,null,null,708,null,null,"","",0,""]
[{"$f":"IF('Navne kontrol'!A712=\"\",\"\",'Navne kontrol'!A712)","v":""},709,null,null,null,null,null,null,709,null,null,"","",0,""]
[{"$f":"IF('Navne kontrol'!A713=\"\",\"\",'Navne kontrol'!A713)","v":""},710,null,null,null,null,null,null,710,null,null,"","",0,""]
[{"$f":"IF('Navne kontrol'!A714=\"\",\"\",'Navne kontrol'!A714)","v":""},711,null,null,null,null,null,null,711,null,null,"","",0,""]
[{"$f":"IF('Navne kontrol'!A715=\"\",\"\",'Navne kontrol'!A715)","v":""},712,null,null,null,null,null,null,712,null,null,"","",0,""]
[{"$f":"IF('Navne kontrol'!A716=\"\",\"\",'Navne kontrol'!A716)","v":""},713,null,null,null,null,null,null,713,null,null,"",{"$f":"IF(H716=\"\",\"\",IF(H716=\"xx\",1,IF(H716=\"xxx\",1,\"\")))","v":""},{"$f":"SUM(L716:M716)","v":0},{"$f":"IF(N716=2,1,\"\")","v":""}]
[{"$f":"IF('Navne kontrol'!A717=\"\",\"\",'Navne kontrol'!A717)","v":""},714,null,null,null,null,null,null,714,null,null,"","",0,""]
[{"$f":"IF('Navne kontrol'!A718=\"\",\"\",'Navne kontrol'!A718)","v":""},715,null,null,null,null,null,null,715,null,null,"","",0,""]
[{"$f":"IF('Navne kontrol'!A719=\"\",\"\",'Navne kontrol'!A719)","v":""},716,null,null,null,null,null,null,716,null,null,"","",0,""]
[{"$f":"IF('Navne kontrol'!A720=\"\",\"\",'Navne kontrol'!A720)","v":""},717,null,null,null,null,null,null,717,null,null,"","",0,""]
[{"$f":"IF('Navne kontrol'!A721=\"\",\"\",'Navne kontrol'!A721)","v":""},718,null,null,null,null,null,null,718,null,null,"","",0,""]
[{"$f":"IF('Navne kontrol'!A722=\"\",\"\",'Navne kontrol'!A722)","v":""},719,null,null,null,null,null,null,719,null,null,"","",0,""]
[{"$f":"IF('Navne kontrol'!A723=\"\",\"\",'Navne kontrol'!A723)","v":""},720,null,null,null,null,null,null,720,null,null,"","",0,""]
[{"$f":"IF('Navne kontrol'!A724=\"\",\"\",'Navne kontrol'!A724)","v":""},721,null,null,null,null,null,null,721,null,null,"","",0,""]
[{"$f":"IF('Navne kontrol'!A725=\"\",\"\",'Navne kontrol'!A725)","v":""},722,null,null,null,null,null,null,722,null,null,"","",0,""]
[{"$f":"IF('Navne kontrol'!A726=\"\",\"\",'Navne kontrol'!A726)","v":""},723,null,null,null,null,null,null,723,null,null,"","",0,""]
[{"$f":"IF('Navne kontrol'!A727=\"\",\"\",'Navne kontrol'!A727)","v":""},724,null,null,null,null,null,null,724,null,null,"","",0,""]
[{"$f":"IF('Navne kontrol'!A728=\"\",\"\",'Navne kontrol'!A728)","v":""},725,null,null,null,null,null,null,725,null,null,"","",0,""]
[{"$f":"IF('Navne kontrol'!A729=\"\",\"\",'Navne kontrol'!A729)","v":""},726,null,null,null,null,null,null,726,null,null,"","",0,""]
[{"$f":"IF('Navne kontrol'!A730=\"\",\"\",'Navne kontrol'!A730)","v":""},727,null,null,null,null,null,null,727,null,null,"","",0,""]
[{"$f":"IF('Navne kontrol'!A731=\"\",\"\",'Navne kontrol'!A731)","v":""},728,null,null,null,null,null,null,728,null,null,"","",0,""]
[{"$f":"IF('Navne kontrol'!A732=\"\",\"\",'Navne kontrol'!A732)","v":""},729,null,null,null,null,null,null,729,null,null,"","",0,""]
[{"$f":"IF('Navne kontrol'!A733=\"\",\"\",'Navne kontrol'!A733)","v":""},730,null,null,null,null,null,null,730,null,null,"","",0,""]
[{"$f":"IF('Navne kontrol'!A734=\"\",\"\",'Navne kontrol'!A734)","v":""},731,null,null,null,null,null,null,731,null,null,"","",0,""]
[{"$f":"IF('Navne kontrol'!A735=\"\",\"\",'Navne kontrol'!A735)","v":""},732,null,null,null,null,null,null,732,null,null,"","",0,""]
[{"$f":"IF('Navne kontrol'!A736=\"\",\"\",'Navne kontrol'!A736)","v":""},733,null,null,null,null,null,null,733,null,null,"","",0,""]
[{"$f":"IF('Navne kontrol'!A737=\"\",\"\",'Navne kontrol'!A737)","v":""},734,null,null,null,null,null,null,734,null,null,"","",0,""]
[{"$f":"IF('Navne kontrol'!A738=\"\",\"\",'Navne kontrol'!A738)","v":""},735,null,null,null,null,null,null,735,null,null,"","",0,""]
[{"$f":"IF('Navne kontrol'!A739=\"\",\"\",'Navne kontrol'!A739)","v":""},736,null,null,null,null,null,null,736,null,null,"","",0,""]
[{"$f":"IF('Navne kontrol'!A740=\"\",\"\",'Navne kontrol'!A740)","v":""},737,null,null,null,null,null,null,737,null,null,"","",0,""]
[{"$f":"IF('Navne kontrol'!A741=\"\",\"\",'Navne kontrol'!A741)","v":""},738,null,null,null,null,null,null,738,null,null,"","",0,""]
[{"$f":"IF('Navne kontrol'!A742=\"\",\"\",'Navne kontrol'!A742)","v":""},739,null,null,null,null,null,null,739,null,null,"","",0,""]
[{"$f":"IF('Navne kontrol'!A743=\"\",\"\",'Navne kontrol'!A743)","v":""},740,null,null,null,null,null,null,740,null,null,"","",0,""]
[{"$f":"IF('Navne kontrol'!A744=\"\",\"\",'Navne kontrol'!A744)","v":""},741,null,null,null,null,null,null,741,null,null,"","",0,""]
[{"$f":"IF('Navne kontrol'!A745=\"\",\"\",'Navne kontrol'!A745)","v":""},742,null,null,null,null,null,null,742,null,null,"","",0,""]
[{"$f":"IF('Navne kontrol'!A746=\"\",\"\",'Navne kontrol'!A746)","v":""},743,null,null,null,null,null,null,743,null,null,"","",0,""]
[{"$f":"IF('Navne kontrol'!A747=\"\",\"\",'Navne kontrol'!A747)","v":""},744,null,null,null,null,null,null,744,null,null,"","",0,""]
[{"$f":"IF('Navne kontrol'!A748=\"\",\"\",'Navne kontrol'!A748)","v":""},745,null,null,null,null,null,null,745,null,null,"","",0,""]
[{"$f":"IF('Navne kontrol'!A749=\"\",\"\",'Navne kontrol'!A749)","v":""},746,null,null,null,null,null,null,746,null,null,"","",0,""]
[{"$f":"IF('Navne kontrol'!A750=\"\",\"\",'Navne kontrol'!A750)","v":""},747,null,null,null,null,null,null,747,null,null,"","",0,""]
[{"$f":"IF('Navne kontrol'!A751=\"\",\"\",'Navne kontrol'!A751)","v":""},748,null,null,null,null,null,null,748,null,null,"","",0,""]
[{"$f":"IF('Navne kontrol'!A752=\"\",\"\",'Navne kontrol'!A752)","v":""},749,null,null,null,null,null,null,749,null,null,"","",0,""]
[{"$f":"IF('Navne kontrol'!A753=\"\",\"\",'Navne kontrol'!A753)","v":""},750,null,null,null,null,null,null,750,null,null,"","",0,""]
[{"$f":"IF('Navne kontrol'!A754=\"\",\"\",'Navne kontrol'!A754)","v":""},751,null,null,null,null,null,null,751,null,null,"","",0,""]
[{"$f":"IF('Navne kontrol'!A755=\"\",\"\",'Navne kontrol'!A755)","v":""},752,null,null,null,null,null,null,752,null,null,"","",0,""]
[{"$f":"IF('Navne kontrol'!A756=\"\",\"\",'Navne kontrol'!A756)","v":""},753,null,null,null,null,null,null,753,null,null,"","",0,""]
[{"$f":"IF('Navne kontrol'!A757=\"\",\"\",'Navne kontrol'!A757)","v":""},754,null,null,null,null,null,null,754,null,null,"","",0,""]
[{"$f":"IF('Navne kontrol'!A758=\"\",\"\",'Navne kontrol'!A758)","v":""},755,null,null,null,null,null,null,755,null,null,"","",0,""]
[{"$f":"IF('Navne kontrol'!A759=\"\",\"\",'Navne kontrol'!A759)","v":""},756,null,null,null,null,null,null,756,null,null,"","",0,""]
[{"$f":"IF('Navne kontrol'!A760=\"\",\"\",'Navne kontrol'!A760)","v":""},757,null,null,null,null,null,null,757,null,null,"","",0,""]
[{"$f":"IF('Navne kontrol'!A761=\"\",\"\",'Navne kontrol'!A761)","v":""},758,null,null,null,null,null,null,758,null,null,"","",0,""]
[{"$f":"IF('Navne kontrol'!A762=\"\",\"\",'Navne kontrol'!A762)","v":""},759,null,null,null,null,null,null,759,null,null,"","",0,""]
[{"$f":"IF('Navne kontrol'!A763=\"\",\"\",'Navne kontrol'!A763)","v":""},760,null,null,null,null,null,null,760,null,null,"","",0,""]
[{"$f":"IF('Navne kontrol'!A764=\"\",\"\",'Navne kontrol'!A764)","v":""},761,null,null,null,null,null,null,761,null,null,"","",0,""]
[{"$f":"IF('Navne kontrol'!A765=\"\",\"\",'Navne kontrol'!A765)","v":""},762,null,null,null,null,null,null,762,null,null,"","",0,""]
[{"$f":"IF('Navne kontrol'!A766=\"\",\"\",'Navne kontrol'!A766)","v":""},763,null,null,null,null,null,null,763,null,null,"","",0,""]
[{"$f":"IF('Navne kontrol'!A767=\"\",\"\",'Navne kontrol'!A767)","v":""},764,null,null,null,null,null,null,764,null,null,"","",0,""]
[{"$f":"IF('Navne kontrol'!A768=\"\",\"\",'Navne kontrol'!A768)","v":""},765,null,null,null,null,null,null,765,null,null,"","",0,""]
[{"$f":"IF('Navne kontrol'!A769=\"\",\"\",'Navne kontrol'!A769)","v":""},766,null,null,null,null,null,null,766,null,null,"","",0,""]
[{"$f":"IF('Navne kontrol'!A770=\"\",\"\",'Navne kontrol'!A770)","v":""},767,null,null,null,null,null,null,767,null,null,"","",0,""]
[{"$f":"IF('Navne kontrol'!A771=\"\",\"\",'Navne kontrol'!A771)","v":""},768,null,null,null,null,null,null,768,null,null,"","",0,""]
[{"$f":"IF('Navne kontrol'!A772=\"\",\"\",'Navne kontrol'!A772)","v":""},769,null,null,null,null,null,null,769,null,null,"","",0,""]
[{"$f":"IF('Navne kontrol'!A773=\"\",\"\",'Navne kontrol'!A773)","v":""},770,null,null,null,null,null,null,{"$f":"B773","v":770},null,null,{"$f":"IF(G773=\"x\",1,\"\")","v":""},"",0,""]
[{"$f":"IF('Navne kontrol'!A774=\"\",\"\",'Navne kontrol'!A774)","v":""},771,null,null,null,null,null,null,771,null,null,"","",0,""]
[{"$f":"IF('Navne kontrol'!A775=\"\",\"\",'Navne kontrol'!A775)","v":""},772,null,null,null,null,null,null,772,null,null,"","",0,""]
[{"$f":"IF('Navne kontrol'!A776=\"\",\"\",'Navne kontrol'!A776)","v":""},773,null,null,null,null,null,null,773,null,null,"","",0,""]
[{"$f":"IF('Navne kontrol'!A777=\"\",\"\",'Navne kontrol'!A777)","v":""},774,null,null,null,null,null,null,774,null,null,"","",0,""]
[{"$f":"IF('Navne kontrol'!A778=\"\",\"\",'Navne kontrol'!A778)","v":""},775,null,null,null,null,null,null,775,null,null,"","",0,""]
[{"$f":"IF('Navne kontrol'!A779=\"\",\"\",'Navne kontrol'!A779)","v":""},776,null,null,null,null,null,null,776,null,null,"","",0,""]
[{"$f":"IF('Navne kontrol'!A780=\"\",\"\",'Navne kontrol'!A780)","v":""},777,null,null,null,null,null,null,777,null,null,"",{"$f":"IF(H780=\"\",\"\",IF(H780=\"xx\",1,IF(H780=\"xxx\",1,\"\")))","v":""},{"$f":"SUM(L780:M780)","v":0},{"$f":"IF(N780=2,1,\"\")","v":""}]
[{"$f":"IF('Navne kontrol'!A781=\"\",\"\",'Navne kontrol'!A781)","v":""},778,null,null,null,null,null,null,778,null,null,"","",0,""]
[{"$f":"IF('Navne kontrol'!A782=\"\",\"\",'Navne kontrol'!A782)","v":""},779,null,null,null,null,null,null,779,null,null,"","",0,""]
[{"$f":"IF('Navne kontrol'!A783=\"\",\"\",'Navne kontrol'!A783)","v":""},780,null,null,null,null,null,null,780,null,null,"","",0,""]
[{"$f":"IF('Navne kontrol'!A784=\"\",\"\",'Navne kontrol'!A784)","v":""},781,null,null,null,null,null,null,781,null,null,"","",0,""]
[{"$f":"IF('Navne kontrol'!A785=\"\",\"\",'Navne kontrol'!A785)","v":""},782,null,null,null,null,null,null,782,null,null,"","",0,""]
[{"$f":"IF('Navne kontrol'!A786=\"\",\"\",'Navne kontrol'!A786)","v":""},783,null,null,null,null,null,null,783,null,null,"","",0,""]
[{"$f":"IF('Navne kontrol'!A787=\"\",\"\",'Navne kontrol'!A787)","v":""},784,null,null,null,null,null,null,784,null,null,"","",0,""]
[{"$f":"IF('Navne kontrol'!A788=\"\",\"\",'Navne kontrol'!A788)","v":""},785,null,null,null,null,null,null,785,null,null,"","",0,""]
[{"$f":"IF('Navne kontrol'!A789=\"\",\"\",'Navne kontrol'!A789)","v":""},786,null,null,null,null,null,null,786,null,null,"","",0,""]
[{"$f":"IF('Navne kontrol'!A790=\"\",\"\",'Navne kontrol'!A790)","v":""},787,null,null,null,null,null,null,787,null,null,"","",0,""]
[{"$f":"IF('Navne kontrol'!A791=\"\",\"\",'Navne kontrol'!A791)","v":""},788,null,null,null,null,null,null,788,null,null,"","",0,""]
[{"$f":"IF('Navne kontrol'!A792=\"\",\"\",'Navne kontrol'!A792)","v":""},789,null,null,null,null,null,null,789,null,null,"","",0,""]
[{"$f":"IF('Navne kontrol'!A793=\"\",\"\",'Navne kontrol'!A793)","v":""},790,null,null,null,null,null,null,790,null,null,"","",0,""]
[{"$f":"IF('Navne kontrol'!A794=\"\",\"\",'Navne kontrol'!A794)","v":""},791,null,null,null,null,null,null,791,null,null,"","",0,""]
[{"$f":"IF('Navne kontrol'!A795=\"\",\"\",'Navne kontrol'!A795)","v":""},792,null,null,null,null,null,null,792,null,null,"","",0,""]
[{"$f":"IF('Navne kontrol'!A796=\"\",\"\",'Navne kontrol'!A796)","v":""},793,null,null,null,null,null,null,793,null,null,"","",0,""]
[{"$f":"IF('Navne kontrol'!A797=\"\",\"\",'Navne kontrol'!A797)","v":""},794,null,null,null,null,null,null,794,null,null,"","",0,""]
[{"$f":"IF('Navne kontrol'!A798=\"\",\"\",'Navne kontrol'!A798)","v":""},795,null,null,null,null,null,null,795,null,null,"","",0,""]
[{"$f":"IF('Navne kontrol'!A799=\"\",\"\",'Navne kontrol'!A799)","v":""},796,null,null,null,null,null,null,796,null,null,"","",0,""]
[{"$f":"IF('Navne kontrol'!A800=\"\",\"\",'Navne kontrol'!A800)","v":""},797,null,null,null,null,null,null,797,null,null,"","",0,""]
[{"$f":"IF('Navne kontrol'!A801=\"\",\"\",'Navne kontrol'!A801)","v":""},798,null,null,null,null,null,null,798,null,null,"","",0,""]
[{"$f":"IF('Navne kontrol'!A802=\"\",\"\",'Navne kontrol'!A802)","v":""},799,null,null,null,null,null,null,799,null,null,"","",0,""]
[{"$f":"IF('Navne kontrol'!A803=\"\",\"\",'Navne kontrol'!A803)","v":""},800,null,null,null,null,null,null,800,null,null,"","",0,""]
[{"$f":"IF('Navne kontrol'!A804=\"\",\"\",'Navne kontrol'!A804)","v":""},801,null,null,null,null,null,null,801,null,null,"","",0,""]
[{"$f":"IF('Navne kontrol'!A805=\"\",\"\",'Navne kontrol'!A805)","v":""},802,null,null,null,null,null,null,802,null,null,"","",0,""]
[{"$f":"IF('Navne kontrol'!A806=\"\",\"\",'Navne kontrol'!A806)","v":""},803,null,null,null,null,null,null,803,null,null,"","",0,""]
[{"$f":"IF('Navne kontrol'!A807=\"\",\"\",'Navne kontrol'!A807)","v":""},804,null,null,null,null,null,null,804,null,null,"","",0,""]
[{"$f":"IF('Navne kontrol'!A808=\"\",\"\",'Navne kontrol'!A808)","v":""},805,null,null,null,null,null,null,805,null,null,"","",0,""]
[{"$f":"IF('Navne kontrol'!A809=\"\",\"\",'Navne kontrol'!A809)","v":""},806,null,null,null,null,null,null,806,null,null,"","",0,""]
[{"$f":"IF('Navne kontrol'!A810=\"\",\"\",'Navne kontrol'!A810)","v":""},807,null,null,null,null,null,null,807,null,null,"","",0,""]
[{"$f":"IF('Navne kontrol'!A811=\"\",\"\",'Navne kontrol'!A811)","v":""},808,null,null,null,null,null,null,808,null,null,"","",0,""]
[{"$f":"IF('Navne kontrol'!A812=\"\",\"\",'Navne kontrol'!A812)","v":""},809,null,null,null,null,null,null,809,null,null,"","",0,""]
[{"$f":"IF('Navne kontrol'!A813=\"\",\"\",'Navne kontrol'!A813)","v":""},810,null,null,null,null,null,null,810,null,null,"","",0,""]
[{"$f":"IF('Navne kontrol'!A814=\"\",\"\",'Navne kontrol'!A814)","v":""},811,null,null,null,null,null,null,811,null,null,"","",0,""]
[{"$f":"IF('Navne kontrol'!A815=\"\",\"\",'Navne kontrol'!A815)","v":""},812,null,null,null,null,null,null,812,null,null,"","",0,""]
[{"$f":"IF('Navne kontrol'!A816=\"\",\"\",'Navne kontrol'!A816)","v":""},813,null,null,null,null,null,null,813,null,null,"","",0,""]
[{"$f":"IF('Navne kontrol'!A817=\"\",\"\",'Navne kontrol'!A817)","v":""},814,null,null,null,null,null,null,814,null,null,"","",0,""]
[{"$f":"IF('Navne kontrol'!A818=\"\",\"\",'Navne kontrol'!A818)","v":""},815,null,null,null,null,null,null,815,null,null,"","",0,""]
[{"$f":"IF('Navne kontrol'!A819=\"\",\"\",'Navne kontrol'!A819)","v":""},816,null,null,null,null,null,null,816,null,null,"","",0,""]
[{"$f":"IF('Navne kontrol'!A820=\"\",\"\",'Navne kontrol'!A820)","v":""},817,null,null,null,null,null,null,817,null,null,"","",0,""]
[{"$f":"IF('Navne kontrol'!A821=\"\",\"\",'Navne kontrol'!A821)","v":""},818,null,null,null,null,null,null,818,null,null,"","",0,""]
[{"$f":"IF('Navne kontrol'!A822=\"\",\"\",'Navne kontrol'!A822)","v":""},819,null,null,null,null,null,null,819,null,null,"","",0,""]
[{"$f":"IF('Navne kontrol'!A823=\"\",\"\",'Navne kontrol'!A823)","v":""},820,null,null,null,null,null,null,820,null,null,"","",0,""]
[{"$f":"IF('Navne kontrol'!A824=\"\",\"\",'Navne kontrol'!A824)","v":""},821,null,null,null,null,null,null,821,null,null,"","",0,""]
[{"$f":"IF('Navne kontrol'!A825=\"\",\"\",'Navne kontrol'!A825)","v":""},822,null,null,null,null,null,null,822,null,null,"","",0,""]
[{"$f":"IF('Navne kontrol'!A826=\"\",\"\",'Navne kontrol'!A826)","v":""},823,null,null,null,null,null,null,823,null,null,"","",0,""]
[{"$f":"IF('Navne kontrol'!A827=\"\",\"\",'Navne kontrol'!A827)","v":""},824,null,null,null,null,null,null,824,null,null,"","",0,""]
[{"$f":"IF('Navne kontrol'!A828=\"\",\"\",'Navne kontrol'!A828)","v":""},825,null,null,null,null,null,null,825,null,null,"","",0,""]
[{"$f":"IF('Navne kontrol'!A829=\"\",\"\",'Navne kontrol'!A829)","v":""},826,null,null,null,null,null,null,826,null,null,"","",0,""]
[{"$f":"IF('Navne kontrol'!A830=\"\",\"\",'Navne kontrol'!A830)","v":""},827,null,null,null,null,null,null,827,null,null,"","",0,""]
[{"$f":"IF('Navne kontrol'!A831=\"\",\"\",'Navne kontrol'!A831)","v":""},828,null,null,null,null,null,null,828,null,null,"","",0,""]
[{"$f":"IF('Navne kontrol'!A832=\"\",\"\",'Navne kontrol'!A832)","v":""},829,null,null,null,null,null,null,829,null,null,"","",0,""]
[{"$f":"IF('Navne kontrol'!A833=\"\",\"\",'Navne kontrol'!A833)","v":""},830,null,null,null,null,null,null,830,null,null,"","",0,""]
[{"$f":"IF('Navne kontrol'!A834=\"\",\"\",'Navne kontrol'!A834)","v":""},831,null,null,null,null,null,null,831,null,null,"","",0,""]
[{"$f":"IF('Navne kontrol'!A835=\"\",\"\",'Navne kontrol'!A835)","v":""},832,null,null,null,null,null,null,832,null,null,"","",0,""]
[{"$f":"IF('Navne kontrol'!A836=\"\",\"\",'Navne kontrol'!A836)","v":""},833,null,null,null,null,null,null,833,null,null,"","",0,""]
[{"$f":"IF('Navne kontrol'!A837=\"\",\"\",'Navne kontrol'!A837)","v":""},834,null,null,null,null,null,null,{"$f":"B837","v":834},null,null,{"$f":"IF(G837=\"x\",1,\"\")","v":""},"",0,""]
[{"$f":"IF('Navne kontrol'!A838=\"\",\"\",'Navne kontrol'!A838)","v":""},835,null,null,null,null,null,null,835,null,null,"","",0,""]
[{"$f":"IF('Navne kontrol'!A839=\"\",\"\",'Navne kontrol'!A839)","v":""},836,null,null,null,null,null,null,836,null,null,"","",0,""]
[{"$f":"IF('Navne kontrol'!A840=\"\",\"\",'Navne kontrol'!A840)","v":""},837,null,null,null,null,null,null,837,null,null,"","",0,""]
[{"$f":"IF('Navne kontrol'!A841=\"\",\"\",'Navne kontrol'!A841)","v":""},838,null,null,null,null,null,null,838,null,null,"","",0,""]
[{"$f":"IF('Navne kontrol'!A842=\"\",\"\",'Navne kontrol'!A842)","v":""},839,null,null,null,null,null,null,839,null,null,"","",0,""]
[{"$f":"IF('Navne kontrol'!A843=\"\",\"\",'Navne kontrol'!A843)","v":""},840,null,null,null,null,null,null,840,null,null,"","",0,""]
[{"$f":"IF('Navne kontrol'!A844=\"\",\"\",'Navne kontrol'!A844)","v":""},841,null,null,null,null,null,null,841,null,null,"",{"$f":"IF(H844=\"\",\"\",IF(H844=\"xx\",1,IF(H844=\"xxx\",1,\"\")))","v":""},{"$f":"SUM(L844:M844)","v":0},{"$f":"IF(N844=2,1,\"\")","v":""}]
[{"$f":"IF('Navne kontrol'!A845=\"\",\"\",'Navne kontrol'!A845)","v":""},842,null,null,null,null,null,null,842,null,null,"","",0,""]
[{"$f":"IF('Navne kontrol'!A846=\"\",\"\",'Navne kontrol'!A846)","v":""},843,null,null,null,null,null,null,843,null,null,"","",0,""]
[{"$f":"IF('Navne kontrol'!A847=\"\",\"\",'Navne kontrol'!A847)","v":""},844,null,null,null,null,null,null,844,null,null,"","",0,""]
[{"$f":"IF('Navne kontrol'!A848=\"\",\"\",'Navne kontrol'!A848)","v":""},845,null,null,null,null,null,null,845,null,null,"","",0,""]
[{"$f":"IF('Navne kontrol'!A849=\"\",\"\",'Navne kontrol'!A849)","v":""},846,null,null,null,null,null,null,846,null,null,"","",0,""]
[{"$f":"IF('Navne kontrol'!A850=\"\",\"\",'Navne kontrol'!A850)","v":""},847,null,null,null,null,null,null,847,null,null,"","",0,""]
[{"$f":"IF('Navne kontrol'!A851=\"\",\"\",'Navne kontrol'!A851)","v":""},848,null,null,null,null,null,null,848,null,null,"","",0,""]
[{"$f":"IF('Navne kontrol'!A852=\"\",\"\",'Navne kontrol'!A852)","v":""},849,null,null,null,null,null,null,849,null,null,"","",0,""]
[{"$f":"IF('Navne kontrol'!A853=\"\",\"\",'Navne kontrol'!A853)","v":""},850,null,null,null,null,null,null,850,null,null,"","",0,""]
[{"$f":"IF('Navne kontrol'!A854=\"\",\"\",'Navne kontrol'!A854)","v":""},851,null,null,null,null,null,null,851,null,null,"","",0,""]
[{"$f":"IF('Navne kontrol'!A855=\"\",\"\",'Navne kontrol'!A855)","v":""},852,null,null,null,null,null,null,852,null,null,"","",0,""]
[{"$f":"IF('Navne kontrol'!A856=\"\",\"\",'Navne kontrol'!A856)","v":""},853,null,null,null,null,null,null,853,null,null,"","",0,""]
[{"$f":"IF('Navne kontrol'!A857=\"\",\"\",'Navne kontrol'!A857)","v":""},854,null,null,null,null,null,null,854,null,null,"","",0,""]
[{"$f":"IF('Navne kontrol'!A858=\"\",\"\",'Navne kontrol'!A858)","v":""},855,null,null,null,null,null,null,855,null,null,"","",0,""]
[{"$f":"IF('Navne kontrol'!A859=\"\",\"\",'Navne kontrol'!A859)","v":""},856,null,null,null,null,null,null,856,null,null,"","",0,""]
[{"$f":"IF('Navne kontrol'!A860=\"\",\"\",'Navne kontrol'!A860)","v":""},857,null,null,null,null,null,null,857,null,null,"","",0,""]
[{"$f":"IF('Navne kontrol'!A861=\"\",\"\",'Navne kontrol'!A861)","v":""},858,null,null,null,null,null,null,858,null,null,"","",0,""]
[{"$f":"IF('Navne kontrol'!A862=\"\",\"\",'Navne kontrol'!A862)","v":""},859,null,null,null,null,null,null,859,null,null,"","",0,""]
[{"$f":"IF('Navne kontrol'!A863=\"\",\"\",'Navne kontrol'!A863)","v":""},860,null,null,null,null,null,null,860,null,null,"","",0,""]
[{"$f":"IF('Navne kontrol'!A864=\"\",\"\",'Navne kontrol'!A864)","v":""},861,null,null,null,null,null,null,861,null,null,"","",0,""]
[{"$f":"IF('Navne kontrol'!A865=\"\",\"\",'Navne kontrol'!A865)","v":""},862,null,null,null,null,null,null,862,null,null,"","",0,""]
[{"$f":"IF('Navne kontrol'!A866=\"\",\"\",'Navne kontrol'!A866)","v":""},863,null,null,null,null,null,null,863,null,null,"","",0,""]
[{"$f":"IF('Navne kontrol'!A867=\"\",\"\",'Navne kontrol'!A867)","v":""},864,null,null,null,null,null,null,864,null,null,"","",0,""]
[{"$f":"IF('Navne kontrol'!A868=\"\",\"\",'Navne kontrol'!A868)","v":""},865,null,null,null,null,null,null,865,null,null,"","",0,""]
[{"$f":"IF('Navne kontrol'!A869=\"\",\"\",'Navne kontrol'!A869)","v":""},866,null,null,null,null,null,null,866,null,null,"","",0,""]
[{"$f":"IF('Navne kontrol'!A870=\"\",\"\",'Navne kontrol'!A870)","v":""},867,null,null,null,null,null,null,867,null,null,"","",0,""]
[{"$f":"IF('Navne kontrol'!A871=\"\",\"\",'Navne kontrol'!A871)","v":""},868,null,null,null,null,null,null,868,null,null,"","",0,""]
[{"$f":"IF('Navne kontrol'!A872=\"\",\"\",'Navne kontrol'!A872)","v":""},869,null,null,null,null,null,null,869,null,null,"","",0,""]
[{"$f":"IF('Navne kontrol'!A873=\"\",\"\",'Navne kontrol'!A873)","v":""},870,null,null,null,null,null,null,870,null,null,"","",0,""]
[{"$f":"IF('Navne kontrol'!A874=\"\",\"\",'Navne kontrol'!A874)","v":""},871,null,null,null,null,null,null,871,null,null,"","",0,""]
[{"$f":"IF('Navne kontrol'!A875=\"\",\"\",'Navne kontrol'!A875)","v":""},872,null,null,null,null,null,null,872,null,null,"","",0,""]
[{"$f":"IF('Navne kontrol'!A876=\"\",\"\",'Navne kontrol'!A876)","v":""},873,null,null,null,null,null,null,873,null,null,"","",0,""]
[{"$f":"IF('Navne kontrol'!A877=\"\",\"\",'Navne kontrol'!A877)","v":""},874,null,null,null,null,null,null,874,null,null,"","",0,""]
[{"$f":"IF('Navne kontrol'!A878=\"\",\"\",'Navne kontrol'!A878)","v":""},875,null,null,null,null,null,null,875,null,null,"","",0,""]
[{"$f":"IF('Navne kontrol'!A879=\"\",\"\",'Navne kontrol'!A879)","v":""},876,null,null,null,null,null,null,876,null,null,"","",0,""]
[{"$f":"IF('Navne kontrol'!A880=\"\",\"\",'Navne kontrol'!A880)","v":""},877,null,null,null,null,null,null,877,null,null,"","",0,""]
[{"$f":"IF('Navne kontrol'!A881=\"\",\"\",'Navne kontrol'!A881)","v":""},878,null,null,null,null,null,null,878,null,null,"","",0,""]
[{"$f":"IF('Navne kontrol'!A882=\"\",\"\",'Navne kontrol'!A882)","v":""},879,null,null,null,null,null,null,879,null,null,"","",0,""]
[{"$f":"IF('Navne kontrol'!A883=\"\",\"\",'Navne kontrol'!A883)","v":""},880,null,null,null,null,null,null,880,null,null,"","",0,""]
[{"$f":"IF('Navne kontrol'!A884=\"\",\"\",'Navne kontrol'!A884)","v":""},881,null,null,null,null,null,null,881,null,null,"","",0,""]
[{"$f":"IF('Navne kontrol'!A885=\"\",\"\",'Navne kontrol'!A885)","v":""},882,null,null,null,null,null,null,882,null,null,"","",0,""]
[{"$f":"IF('Navne kontrol'!A886=\"\",\"\",'Navne kontrol'!A886)","v":""},883,null,null,null,null,null,null,883,null,null,"","",0,""]
[{"$f":"IF('Navne kontrol'!A887=\"\",\"\",'Navne kontrol'!A887)","v":""},884,null,null,null,null,null,null,884,null,null,"","",0,""]
[{"$f":"IF('Navne kontrol'!A888=\"\",\"\",'Navne kontrol'!A888)","v":""},885,null,null,null,null,null,null,885,null,null,"","",0,""]
[{"$f":"IF('Navne kontrol'!A889=\"\",\"\",'Navne kontrol'!A889)","v":""},886,null,null,null,null,null,null,886,null,null,"","",0,""]
[{"$f":"IF('Navne kontrol'!A890=\"\",\"\",'Navne kontrol'!A890)","v":""},887,null,null,null,null,null,null,887,null,null,"","",0,""]
[{"$f":"IF('Navne kontrol'!A891=\"\",\"\",'Navne kontrol'!A891)","v":""},888,null,null,null,null,null,null,888,null,null,"","",0,""]
[{"$f":"IF('Navne kontrol'!A892=\"\",\"\",'Navne kontrol'!A892)","v":""},889,null,null,null,null,null,null,889,null,null,"","",0,""]
[{"$f":"IF('Navne kontrol'!A893=\"\",\"\",'Navne kontrol'!A893)","v":""},890,null,null,null,null,null,null,890,null,null,"","",0,""]
[{"$f":"IF('Navne kontrol'!A894=\"\",\"\",'Navne kontrol'!A894)","v":""},891,null,null,null,null,null,null,891,null,null,"","",0,""]
[{"$f":"IF('Navne kontrol'!A895=\"\",\"\",'Navne kontrol'!A895)","v":""},892,null,null,null,null,null,null,892,null,null,"","",0,""]
[{"$f":"IF('Navne kontrol'!A896=\"\",\"\",'Navne kontrol'!A896)","v":""},893,null,null,null,null,null,null,893,null,null,"","",0,""]
[{"$f":"IF('Navne kontrol'!A897=\"\",\"\",'Navne kontrol'!A897)","v":""},894,null,null,null,null,null,null,894,null,null,"","",0,""]
[{"$f":"IF('Navne kontrol'!A898=\"\",\"\",'Navne kontrol'!A898)","v":""},895,null,null,null,null,null,null,895,null,null,"","",0,""]
[{"$f":"IF('Navne kontrol'!A899=\"\",\"\",'Navne kontrol'!A899)","v":""},896,null,null,null,null,null,null,896,null,null,"","",0,""]
[{"$f":"IF('Navne kontrol'!A900=\"\",\"\",'Navne kontrol'!A900)","v":""},897,null,null,null,null,null,null,897,null,null,"","",0,""]
[{"$f":"IF('Navne kontrol'!A901=\"\",\"\",'Navne kontrol'!A901)","v":""},898,null,null,null,null,null,null,{"$f":"B901","v":898},null,null,{"$f":"IF(G901=\"x\",1,\"\")","v":""},"",0,""]
[{"$f":"IF('Navne kontrol'!A902=\"\",\"\",'Navne kontrol'!A902)","v":""},899,null,null,null,null,null,null,899,null,null,"","",0,""]
[{"$f":"IF('Navne kontrol'!A903=\"\",\"\",'Navne kontrol'!A903)","v":""},900,null,null,null,null,null,null,900,null,null,"","",0,""]
[{"$f":"IF('Navne kontrol'!A904=\"\",\"\",'Navne kontrol'!A904)","v":""},901,null,null,null,null,null,null,901,null,null,"","",0,""]
[{"$f":"IF('Navne kontrol'!A905=\"\",\"\",'Navne kontrol'!A905)","v":""},902,null,null,null,null,null,null,902,null,null,"","",0,""]
[{"$f":"IF('Navne kontrol'!A906=\"\",\"\",'Navne kontrol'!A906)","v":""},903,null,null,null,null,null,null,903,null,null,"","",0,""]
[{"$f":"IF('Navne kontrol'!A907=\"\",\"\",'Navne kontrol'!A907)","v":""},904,null,null,null,null,null,null,904,null,null,"","",0,""]
[{"$f":"IF('Navne kontrol'!A908=\"\",\"\",'Navne kontrol'!A908)","v":""},905,null,null,null,null,null,null,905,null,null,"",{"$f":"IF(H908=\"\",\"\",IF(H908=\"xx\",1,IF(H908=\"xxx\",1,\"\")))","v":""},{"$f":"SUM(L908:M908)","v":0},{"$f":"IF(N908=2,1,\"\")","v":""}]
[{"$f":"IF('Navne kontrol'!A909=\"\",\"\",'Navne kontrol'!A909)","v":""},906,null,null,null,null,null,null,906,null,null,"","",0,""]
[{"$f":"IF('Navne kontrol'!A910=\"\",\"\",'Navne kontrol'!A910)","v":""},907,null,null,null,null,null,null,907,null,null,"","",0,""]
[{"$f":"IF('Navne kontrol'!A911=\"\",\"\",'Navne kontrol'!A911)","v":""},908,null,null,null,null,null,null,908,null,null,"","",0,""]
[{"$f":"IF('Navne kontrol'!A912=\"\",\"\",'Navne kontrol'!A912)","v":""},909,null,null,null,null,null,null,909,null,null,"","",0,""]
[{"$f":"IF('Navne kontrol'!A913=\"\",\"\",'Navne kontrol'!A913)","v":""},910,null,null,null,null,null,null,910,null,null,"","",0,""]
[{"$f":"IF('Navne kontrol'!A914=\"\",\"\",'Navne kontrol'!A914)","v":""},911,null,null,null,null,null,null,911,null,null,"","",0,""]
[{"$f":"IF('Navne kontrol'!A915=\"\",\"\",'Navne kontrol'!A915)","v":""},912,null,null,null,null,null,null,912,null,null,"","",0,""]
[{"$f":"IF('Navne kontrol'!A916=\"\",\"\",'Navne kontrol'!A916)","v":""},913,null,null,null,null,null,null,913,null,null,"","",0,""]
[{"$f":"IF('Navne kontrol'!A917=\"\",\"\",'Navne kontrol'!A917)","v":""},914,null,null,null,null,null,null,914,null,null,"","",0,""]
[{"$f":"IF('Navne kontrol'!A918=\"\",\"\",'Navne kontrol'!A918)","v":""},915,null,null,null,null,null,null,915,null,null,"","",0,""]
[{"$f":"IF('Navne kontrol'!A919=\"\",\"\",'Navne kontrol'!A919)","v":""},916,null,null,null,null,null,null,916,null,null,"","",0,""]
[{"$f":"IF('Navne kontrol'!A920=\"\",\"\",'Navne kontrol'!A920)","v":""},917,null,null,null,null,null,null,917,null,null,"","",0,""]
[{"$f":"IF('Navne kontrol'!A921=\"\",\"\",'Navne kontrol'!A921)","v":""},918,null,null,null,null,null,null,918,null,null,"","",0,""]
[{"$f":"IF('Navne kontrol'!A922=\"\",\"\",'Navne kontrol'!A922)","v":""},919,null,null,null,null,null,null,919,null,null,"","",0,""]
[{"$f":"IF('Navne kontrol'!A923=\"\",\"\",'Navne kontrol'!A923)","v":""},920,null,null,null,null,null,null,920,null,null,"","",0,""]
[{"$f":"IF('Navne kontrol'!A924=\"\",\"\",'Navne kontrol'!A924)","v":""},921,null,null,null,null,null,null,921,null,null,"","",0,""]
[{"$f":"IF('Navne kontrol'!A925=\"\",\"\",'Navne kontrol'!A925)","v":""},922,null,null,null,null,null,null,922,null,null,"","",0,""]
[{"$f":"IF('Navne kontrol'!A926=\"\",\"\",'Navne kontrol'!A926)","v":""},923,null,null,null,null,null,null,923,null,null,"","",0,""]
[{"$f":"IF('Navne kontrol'!A927=\"\",\"\",'Navne kontrol'!A927)","v":""},924,null,null,null,null,null,null,924,null,null,"","",0,""]
[{"$f":"IF('Navne kontrol'!A928=\"\",\"\",'Navne kontrol'!A928)","v":""},925,null,null,null,null,null,null,925,null,null,"","",0,""]
[{"$f":"IF('Navne kontrol'!A929=\"\",\"\",'Navne kontrol'!A929)","v":""},926,null,null,null,null,null,null,926,null,null,"","",0,""]
[{"$f":"IF('Navne kontrol'!A930=\"\",\"\",'Navne kontrol'!A930)","v":""},927,null,null,null,null,null,null,927,null,null,"","",0,""]
[{"$f":"IF('Navne kontrol'!A931=\"\",\"\",'Navne kontrol'!A931)","v":""},928,null,null,null,null,null,null,928,null,null,"","",0,""]
[{"$f":"IF('Navne kontrol'!A932=\"\",\"\",'Navne kontrol'!A932)","v":""},929,null,null,null,null,null,null,929,null,null,"","",0,""]
[{"$f":"IF('Navne kontrol'!A933=\"\",\"\",'Navne kontrol'!A933)","v":""},930,null,null,null,null,null,null,930,null,null,"","",0,""]
[{"$f":"IF('Navne kontrol'!A934=\"\",\"\",'Navne kontrol'!A934)","v":""},931,null,null,null,null,null,null,931,null,null,"","",0,""]
[{"$f":"IF('Navne kontrol'!A935=\"\",\"\",'Navne kontrol'!A935)","v":""},932,null,null,null,null,null,null,932,null,null,"","",0,""]
[{"$f":"IF('Navne kontrol'!A936=\"\",\"\",'Navne kontrol'!A936)","v":""},933,null,null,null,null,null,null,933,null,null,"","",0,""]
[{"$f":"IF('Navne kontrol'!A937=\"\",\"\",'Navne kontrol'!A937)","v":""},934,null,null,null,null,null,null,934,null,null,"","",0,""]
[{"$f":"IF('Navne kontrol'!A938=\"\",\"\",'Navne kontrol'!A938)","v":""},935,null,null,null,null,null,null,935,null,null,"","",0,""]
[{"$f":"IF('Navne kontrol'!A939=\"\",\"\",'Navne kontrol'!A939)","v":""},936,null,null,null,null,null,null,936,null,null,"","",0,""]
[{"$f":"IF('Navne kontrol'!A940=\"\",\"\",'Navne kontrol'!A940)","v":""},937,null,null,null,null,null,null,937,null,null,"","",0,""]
[{"$f":"IF('Navne kontrol'!A941=\"\",\"\",'Navne kontrol'!A941)","v":""},938,null,null,null,null,null,null,938,null,null,"","",0,""]
[{"$f":"IF('Navne kontrol'!A942=\"\",\"\",'Navne kontrol'!A942)","v":""},939,null,null,null,null,null,null,939,null,null,"","",0,""]
[{"$f":"IF('Navne kontrol'!A943=\"\",\"\",'Navne kontrol'!A943)","v":""},940,null,null,null,null,null,null,940,null,null,"","",0,""]
[{"$f":"IF('Navne kontrol'!A944=\"\",\"\",'Navne kontrol'!A944)","v":""},941,null,null,null,null,null,null,941,null,null,"","",0,""]
[{"$f":"IF('Navne kontrol'!A945=\"\",\"\",'Navne kontrol'!A945)","v":""},942,null,null,null,null,null,null,942,null,null,"","",0,""]
[{"$f":"IF('Navne kontrol'!A946=\"\",\"\",'Navne kontrol'!A946)","v":""},943,null,null,null,null,null,null,943,null,null,"","",0,""]
[{"$f":"IF('Navne kontrol'!A947=\"\",\"\",'Navne kontrol'!A947)","v":""},944,null,null,null,null,null,null,944,null,null,"","",0,""]
[{"$f":"IF('Navne kontrol'!A948=\"\",\"\",'Navne kontrol'!A948)","v":""},945,null,null,null,null,null,null,945,null,null,"","",0,""]
[{"$f":"IF('Navne kontrol'!A949=\"\",\"\",'Navne kontrol'!A949)","v":""},946,null,null,null,null,null,null,946,null,null,"","",0,""]
[{"$f":"IF('Navne kontrol'!A950=\"\",\"\",'Navne kontrol'!A950)","v":""},947,null,null,null,null,null,null,947,null,null,"","",0,""]
[{"$f":"IF('Navne kontrol'!A951=\"\",\"\",'Navne kontrol'!A951)","v":""},948,null,null,null,null,null,null,948,null,null,"","",0,""]
[{"$f":"IF('Navne kontrol'!A952=\"\",\"\",'Navne kontrol'!A952)","v":""},949,null,null,null,null,null,null,949,null,null,"","",0,""]
[{"$f":"IF('Navne kontrol'!A953=\"\",\"\",'Navne kontrol'!A953)","v":""},950,null,null,null,null,null,null,950,null,null,"","",0,""]
[{"$f":"IF('Navne kontrol'!A954=\"\",\"\",'Navne kontrol'!A954)","v":""},951,null,null,null,null,null,null,951,"Blandet 1",null,"","",0,""]
[{"$f":"IF('Navne kontrol'!A955=\"\",\"\",'Navne kontrol'!A955)","v":""},952,null,null,null,null,null,null,952,"Blandet 2",null,"","",0,""]
[{"$f":"IF('Navne kontrol'!A956=\"\",\"\",'Navne kontrol'!A956)","v":""},953,null,null,null,null,null,null,953,"Blandet 3",null,"","",0,""]
[{"$f":"IF('Navne kontrol'!A957=\"\",\"\",'Navne kontrol'!A957)","v":""},954,null,null,null,null,null,null,954,"Blandet 4",null,"","",0,""]
[{"$f":"IF('Navne kontrol'!A958=\"\",\"\",'Navne kontrol'!A958)","v":""},955,null,null,null,null,null,null,955,"Blandet 5",null,"","",0,""]
[{"$f":"IF('Navne kontrol'!A959=\"\",\"\",'Navne kontrol'!A959)","v":""},956,null,null,null,null,null,null,956,"Blandet 6",null,"","",0,""]
[{"$f":"IF('Navne kontrol'!A960=\"\",\"\",'Navne kontrol'!A960)","v":""},957,null,null,null,null,null,null,957,"Blandet 7",null,"","",0,""]
[{"$f":"IF('Navne kontrol'!A961=\"\",\"\",'Navne kontrol'!A961)","v":""},958,null,null,null,null,null,null,958,"Blandet 8",null,"","",0,""]
[{"$f":"IF('Navne kontrol'!A962=\"\",\"\",'Navne kontrol'!A962)","v":""},959,null,null,null,null,null,null,959,"Blandet 9",null,"","",0,""]
[{"$f":"IF('Navne kontrol'!A963=\"\",\"\",'Navne kontrol'!A963)","v":""},960,null,null,null,null,null,null,960,"Blandet 10",null,"","",0,""]
[{"$f":"IF('Navne kontrol'!A964=\"\",\"\",'Navne kontrol'!A964)","v":""},961,null,null,null,null,null,null,961,"Blandet 11",null,"","",0,""]
[{"$f":"IF('Navne kontrol'!A965=\"\",\"\",'Navne kontrol'!A965)","v":""},962,null,null,null,null,null,null,{"$f":"B965","v":962},"Blandet 12",null,{"$f":"IF(G965=\"x\",1,\"\")","v":""},"",0,""]
[{"$f":"IF('Navne kontrol'!A966=\"\",\"\",'Navne kontrol'!A966)","v":""},963,null,null,null,null,null,null,963,null,null,"","",0,""]
[{"$f":"IF('Navne kontrol'!A967=\"\",\"\",'Navne kontrol'!A967)","v":""},964,null,null,null,null,null,null,964,null,null,"","",0,""]
[{"$f":"IF('Navne kontrol'!A968=\"\",\"\",'Navne kontrol'!A968)","v":""},965,null,null,null,null,null,null,965,null,null,"","",0,""]
[{"$f":"IF('Navne kontrol'!A969=\"\",\"\",'Navne kontrol'!A969)","v":""},966,null,null,null,null,null,null,966,null,null,"","",0,""]
[{"$f":"IF('Navne kontrol'!A970=\"\",\"\",'Navne kontrol'!A970)","v":""},967,null,null,null,null,null,null,967,null,null,"","",0,""]
[{"$f":"IF('Navne kontrol'!A971=\"\",\"\",'Navne kontrol'!A971)","v":""},968,null,null,null,null,null,null,968,null,null,"","",0,""]
[{"$f":"IF('Navne kontrol'!A972=\"\",\"\",'Navne kontrol'!A972)","v":""},969,null,null,null,null,null,null,969,null,null,"",{"$f":"IF(H972=\"\",\"\",IF(H972=\"xx\",1,IF(H972=\"xxx\",1,\"\")))","v":""},{"$f":"SUM(L972:M972)","v":0},{"$f":"IF(N972=2,1,\"\")","v":""}]
[{"$f":"IF('Navne kontrol'!A973=\"\",\"\",'Navne kontrol'!A973)","v":""},970,null,null,null,null,null,null,970,null,null,"","",0,""]
[{"$f":"IF('Navne kontrol'!A974=\"\",\"\",'Navne kontrol'!A974)","v":""},971,null,null,null,null,null,null,971,null,null,"","",0,""]
[{"$f":"IF('Navne kontrol'!A975=\"\",\"\",'Navne kontrol'!A975)","v":""},972,null,null,null,null,null,null,972,null,null,"","",0,""]
[{"$f":"IF('Navne kontrol'!A976=\"\",\"\",'Navne kontrol'!A976)","v":""},973,null,null,null,null,null,null,973,null,null,"","",0,""]
[{"$f":"IF('Navne kontrol'!A977=\"\",\"\",'Navne kontrol'!A977)","v":""},974,null,null,null,null,null,null,974,null,null,"","",0,""]
[{"$f":"IF('Navne kontrol'!A978=\"\",\"\",'Navne kontrol'!A978)","v":""},975,null,null,null,null,null,null,975,null,null,"","",0,""]
[{"$f":"IF('Navne kontrol'!A979=\"\",\"\",'Navne kontrol'!A979)","v":""},976,null,null,null,null,null,null,976,null,null,"","",0,""]
[{"$f":"IF('Navne kontrol'!A980=\"\",\"\",'Navne kontrol'!A980)","v":""},977,null,null,null,null,null,null,977,null,null,"","",0,""]
[{"$f":"IF('Navne kontrol'!A981=\"\",\"\",'Navne kontrol'!A981)","v":""},978,null,null,null,null,null,null,978,null,null,"","",0,""]
[{"$f":"IF('Navne kontrol'!A982=\"\",\"\",'Navne kontrol'!A982)","v":""},979,null,null,null,null,null,null,979,null,null,"","",0,""]
[{"$f":"IF('Navne kontrol'!A983=\"\",\"\",'Navne kontrol'!A983)","v":""},980,null,null,null,null,null,null,980,null,null,"","",0,""]
[{"$f":"IF('Navne kontrol'!A984=\"\",\"\",'Navne kontrol'!A984)","v":""},981,null,null,null,null,null,null,981,null,null,"","",0,""]
[{"$f":"IF('Navne kontrol'!A985=\"\",\"\",'Navne kontrol'!A985)","v":""},982,null,null,null,null,null,null,982,null,null,"","",0,""]
[{"$f":"IF('Navne kontrol'!A986=\"\",\"\",'Navne kontrol'!A986)","v":""},983,null,null,null,null,null,null,983,null,null,"","",0,""]
[{"$f":"IF('Navne kontrol'!A987=\"\",\"\",'Navne kontrol'!A987)","v":""},984,null,null,null,null,null,null,984,null,null,"","",0,""]
[{"$f":"IF('Navne kontrol'!A988=\"\",\"\",'Navne kontrol'!A988)","v":""},985,null,null,null,null,null,null,985,null,null,"","",0,""]
[{"$f":"IF('Navne kontrol'!A989=\"\",\"\",'Navne kontrol'!A989)","v":""},986,null,null,null,null,null,null,986,null,null,"","",0,""]
[{"$f":"IF('Navne kontrol'!A990=\"\",\"\",'Navne kontrol'!A990)","v":""},987,null,null,null,null,null,null,987,null,null,"","",0,""]
[{"$f":"IF('Navne kontrol'!A991=\"\",\"\",'Navne kontrol'!A991)","v":""},988,null,null,null,null,null,null,988,null,null,"","",0,""]
[{"$f":"IF('Navne kontrol'!A992=\"\",\"\",'Navne kontrol'!A992)","v":""},989,null,null,null,null,null,null,989,null,null,"","",0,""]
[{"$f":"IF('Navne kontrol'!A993=\"\",\"\",'Navne kontrol'!A993)","v":""},990,null,null,null,null,null,null,990,null,null,"","",0,""]
[{"$f":"IF('Navne kontrol'!A994=\"\",\"\",'Navne kontrol'!A994)","v":""},991,null,null,null,null,null,null,991,null,null,"","",0,""]
[{"$f":"IF('Navne kontrol'!A995=\"\",\"\",'Navne kontrol'!A995)","v":""},992,null,null,null,null,null,null,992,null,null,"","",0,""]
[{"$f":"IF('Navne kontrol'!A996=\"\",\"\",'Navne kontrol'!A996)","v":""},993,null,null,null,null,null,null,993,null,null,"","",0,""]
[{"$f":"IF('Navne kontrol'!A997=\"\",\"\",'Navne kontrol'!A997)","v":""},994,null,null,null,null,null,null,994,null,null,"","",0,""]
[{"$f":"IF('Navne kontrol'!A998=\"\",\"\",'Navne kontrol'!A998)","v":""},995,null,null,null,null,null,null,995,null,null,"","",0,""]
[{"$f":"IF('Navne kontrol'!A999=\"\",\"\",'Navne kontrol'!A999)","v":""},996,null,null,null,null,null,null,996,null,null,"","",0,""]
[{"$f":"IF('Navne kontrol'!A1000=\"\",\"\",'Navne kontrol'!A1000)","v":""},997,null,null,null,null,null,null,997,null,null,"","",0,""]
[{"$f":"IF('Navne kontrol'!A1001=\"\",\"\",'Navne kontrol'!A1001)","v":""},998,null,null,null,null,null,null,998,null,null,"",{"$f":"IF(H1001=\"\",\"\",IF(H1001=\"xx\",1,IF(H1001=\"xxx\",1,\"\")))","v":""},0,""]
[{"$f":"IF('Navne kontrol'!A1002=\"\",\"\",'Navne kontrol'!A1002)","v":""},999,null,null,null,null,null,null,{"$f":"B1002","v":999},null,null,"","",0,""]
[{"$f":"IF('Navne kontrol'!A1003=\"\",\"\",'Navne kontrol'!A1003)","v":""},1000,null,null,null,null,null,null,1000,null,null,"",{"$f":"IF(H1003=\"\",\"\",IF(H1003=\"xx\",1,IF(H1003=\"xxx\",1,\"\")))","v":""},{"$f":"SUM(L1003:M1003)","v":0},{"$f":"IF(N1003=2,1,\"\")","v":""}]

{"sheet":"Navne kontrol","index":3,"n_rows":1003,"n_cols":8,"rows_kept":1003,"cut":false,"hidden":true,"merged":[]}
[null,null,"Model til navnekontrol"]
[{"$f":"IF(H3=\"\",\"\",H2)","v":""},null,null,null,null,null,null,"Fejlen er"]
[{"$f":"H3","v":""},null,{"$f":"IF(SUM(G4:G1003)=0,\"\",\"Navnet findes allerede\")","v":""},"Navn","Række nummer","Medlemsnummer 3 fra rækkenummer","Sammenligner medlemsnummer i kolonne C og F",{"$f":"IF(C3=\"\",\"\",(VLOOKUP(\"Fejl\",B1:D1003,3,FALSE)))","v":""}]
[{"$f":"IF(H4=\"\",\"\",IF(H4=1,\"Fejl\",\"\"))","v":""},{"$f":"IF(G4=1,\"Fejl\",\"\")","v":""},1,{"$f":"IF(Deltagere!C4=\"\",\"\",Deltagere!C4)","v":""},{"$f":"IF(D4=\"\",\"\",MATCH(D4,D$1:D$1003,0))","v":""},{"$f":"IF(D4=\"\",\"\",E4-3)","v":""},{"$f":"IF(D4=\"\",\"\",IF(C4=F4,0,1))","v":""},{"$f":"IF(D4=\"\",\"\",IF(D4=H$3,1,\"\"))","v":""}]
["","",2,{"$f":"IF(Deltagere!C5=\"\",\"\",Deltagere!C5)","v":"Hans Skaanning"},5,2,0,""]
["","",3,{"$f":"IF(Deltagere!C6=\"\",\"\",Deltagere!C6)","v":"Otto Hansen"},6,3,0,""]
["","",4,{"$f":"IF(Deltagere!C7=\"\",\"\",Deltagere!C7)","v":"Pia Omdal"},7,4,0,""]
["","",5,{"$f":"IF(Deltagere!C8=\"\",\"\",Deltagere!C8)","v":""},"","","",""]
["","",6,{"$f":"IF(Deltagere!C9=\"\",\"\",Deltagere!C9)","v":"Jens-Thomas Thomsen"},9,6,0,""]
["","",7,{"$f":"IF(Deltagere!C10=\"\",\"\",Deltagere!C10)","v":""},"","","",""]
["","",8,{"$f":"IF(Deltagere!C11=\"\",\"\",Deltagere!C11)","v":"Solbjørg Regil"},11,8,0,""]
["","",9,"Finn Regil",12,9,0,""]
["","",10,{"$f":"IF(Deltagere!C13=\"\",\"\",Deltagere!C13)","v":"Henrik Krause"},13,10,0,""]
["","",11,{"$f":"IF(Deltagere!C14=\"\",\"\",Deltagere!C14)","v":"Bent Poulsen"},14,11,0,""]
["","",12,{"$f":"IF(Deltagere!C15=\"\",\"\",Deltagere!C15)","v":"Grethe Krause"},15,12,0,""]
["","",13,{"$f":"IF(Deltagere!C16=\"\",\"\",Deltagere!C16)","v":""},"","","",""]
["","",14,{"$f":"IF(Deltagere!C17=\"\",\"\",Deltagere!C17)","v":"Erik Staben"},17,14,0,""]
["","",15,{"$f":"IF(Deltagere!C18=\"\",\"\",Deltagere!C18)","v":""},"","","",""]
["","",16,{"$f":"IF(Deltagere!C19=\"\",\"\",Deltagere!C19)","v":""},"","","",""]
["","",17,{"$f":"IF(Deltagere!C20=\"\",\"\",Deltagere!C20)","v":"Jytte Nielsen"},20,17,0,""]
["","",18,{"$f":"IF(Deltagere!C21=\"\",\"\",Deltagere!C21)","v":"Kaj Andersson"},21,18,0,""]
["","",19,{"$f":"IF(Deltagere!C22=\"\",\"\",Deltagere!C22)","v":"Aase Poulsen"},22,19,0,""]
["","",20,{"$f":"IF(Deltagere!C23=\"\",\"\",Deltagere!C23)","v":"Ruth Sørensen"},23,20,0,""]
["","",21,{"$f":"IF(Deltagere!C24=\"\",\"\",Deltagere!C24)","v":""},"","","",""]
["","",22,{"$f":"IF(Deltagere!C25=\"\",\"\",Deltagere!C25)","v":"Renè Christiansen"},25,22,0,""]
["","",23,{"$f":"IF(Deltagere!C26=\"\",\"\",Deltagere!C26)","v":"Karin F.L. Kjærgaard"},26,23,0,""]
["","",24,{"$f":"IF(Deltagere!C27=\"\",\"\",Deltagere!C27)","v":"Jette Svensson"},27,24,0,""]
["","",25,{"$f":"IF(Deltagere!C28=\"\",\"\",Deltagere!C28)","v":"Rosalind Kristensen"},28,25,0,""]
["","",26,{"$f":"IF(Deltagere!C29=\"\",\"\",Deltagere!C29)","v":"Peder Grønne"},29,26,0,""]
["","",27,{"$f":"IF(Deltagere!C30=\"\",\"\",Deltagere!C30)","v":""},"","","",""]
["","",28,{"$f":"IF(Deltagere!C31=\"\",\"\",Deltagere!C31)","v":""},"","","",""]
["","",29,{"$f":"IF(Deltagere!C32=\"\",\"\",Deltagere!C32)","v":""},"","","",""]
["","",30,{"$f":"IF(Deltagere!C33=\"\",\"\",Deltagere!C33)","v":""},"","","",""]
["","",31,{"$f":"IF(Deltagere!C34=\"\",\"\",Deltagere!C34)","v":""},"","","",""]
["","",32,{"$f":"IF(Deltagere!C35=\"\",\"\",Deltagere!C35)","v":""},"","","",""]
["","",33,{"$f":"IF(Deltagere!C36=\"\",\"\",Deltagere!C36)","v":""},"","","",""]
["","",34,{"$f":"IF(Deltagere!C37=\"\",\"\",Deltagere!C37)","v":""},"","","",""]
["","",35,{"$f":"IF(Deltagere!C38=\"\",\"\",Deltagere!C38)","v":"Ruth Eriksen"},38,35,0,""]
["","",36,{"$f":"IF(Deltagere!C39=\"\",\"\",Deltagere!C39)","v":""},"","","",""]
["","",37,{"$f":"IF(Deltagere!C40=\"\",\"\",Deltagere!C40)","v":""},"","","",""]
["","",38,{"$f":"IF(Deltagere!C41=\"\",\"\",Deltagere!C41)","v":""},"","","",""]
["","",39,{"$f":"IF(Deltagere!C42=\"\",\"\",Deltagere!C42)","v":""},"","","",""]
["","",40,{"$f":"IF(Deltagere!C43=\"\",\"\",Deltagere!C43)","v":""},"","","",""]
["","",41,{"$f":"IF(Deltagere!C44=\"\",\"\",Deltagere!C44)","v":""},"","","",""]
["","",42,{"$f":"IF(Deltagere!C45=\"\",\"\",Deltagere!C45)","v":""},"","","",""]
["","",43,{"$f":"IF(Deltagere!C46=\"\",\"\",Deltagere!C46)","v":""},"","","",""]
["","",44,{"$f":"IF(Deltagere!C47=\"\",\"\",Deltagere!C47)","v":""},"","","",""]
["","",45,{"$f":"IF(Deltagere!C48=\"\",\"\",Deltagere!C48)","v":""},"","","",""]
["","",46,{"$f":"IF(Deltagere!C49=\"\",\"\",Deltagere!C49)","v":""},"","","",""]
["","",47,{"$f":"IF(Deltagere!C50=\"\",\"\",Deltagere!C50)","v":""},"","","",""]
["","",48,{"$f":"IF(Deltagere!C51=\"\",\"\",Deltagere!C51)","v":""},"","","",""]
["","",49,{"$f":"IF(Deltagere!C52=\"\",\"\",Deltagere!C52)","v":""},"","","",""]
["","",50,{"$f":"IF(Deltagere!C53=\"\",\"\",Deltagere!C53)","v":""},"","","",""]
["","",51,{"$f":"IF(Deltagere!C54=\"\",\"\",Deltagere!C54)","v":"Tage Jensen"},54,51,0,""]
["","",52,{"$f":"IF(Deltagere!C55=\"\",\"\",Deltagere!C55)","v":"Bodil Olsen"},55,52,0,""]
["","",53,{"$f":"IF(Deltagere!C56=\"\",\"\",Deltagere!C56)","v":"Edith Elkjær"},56,53,0,""]
["","",54,{"$f":"IF(Deltagere!C57=\"\",\"\",Deltagere!C57)","v":"Søren Helbo"},57,54,0,""]
["","",55,{"$f":"IF(Deltagere!C58=\"\",\"\",Deltagere!C58)","v":"Peter Knudsen"},58,55,0,""]
["","",56,{"$f":"IF(Deltagere!C59=\"\",\"\",Deltagere!C59)","v":"Mogens Bodilsen"},59,56,0,""]
["","",57,{"$f":"IF(Deltagere!C60=\"\",\"\",Deltagere!C60)","v":"Niels Aare Jensen"},60,57,0,""]
["","",58,{"$f":"IF(Deltagere!C61=\"\",\"\",Deltagere!C61)","v":"Alis Bodilsen"},61,58,0,""]
["","",59,{"$f":"IF(Deltagere!C62=\"\",\"\",Deltagere!C62)","v":"Carin Andersen"},62,59,0,""]
["","",60,{"$f":"IF(Deltagere!C63=\"\",\"\",Deltagere!C63)","v":"Anna Grethe Christensen"},63,60,0,""]
["","",61,{"$f":"IF(Deltagere!C64=\"\",\"\",Deltagere!C64)","v":"Annie Jensen"},64,61,0,""]
["","",62,{"$f":"IF(Deltagere!C65=\"\",\"\",Deltagere!C65)","v":"Jørgen Hvilsom"},65,62,0,""]
["","",63,{"$f":"IF(Deltagere!C66=\"\",\"\",Deltagere!C66)","v":"Lennert Sørensen"},66,63,0,""]
["","",64,{"$f":"IF(Deltagere!C67=\"\",\"\",Deltagere!C67)","v":"Villy Jensen"},67,64,0,""]
[{"$f":"IF(H68=\"\",\"\",IF(H68=1,\"Fejl\",\"\"))","v":""},{"$f":"IF(G68=1,\"Fejl\",\"\")","v":""},65,{"$f":"IF(Deltagere!C68=\"\",\"\",Deltagere!C68)","v":"Anne Marie Laustsen"},{"$f":"IF(D68=\"\",\"\",MATCH(D68,D$1:D$1003,0))","v":68},{"$f":"IF(D68=\"\",\"\",E68-3)","v":65},{"$f":"IF(D68=\"\",\"\",IF(C68=F68,0,1))","v":0},{"$f":"IF(D68=\"\",\"\",IF(D68=H$3,1,\"\"))","v":""}]
["","",66,{"$f":"IF(Deltagere!C69=\"\",\"\",Deltagere!C69)","v":"Egon Jensen"},69,66,0,""]
["","",67,{"$f":"IF(Deltagere!C70=\"\",\"\",Deltagere!C70)","v":""},"","","",""]
["","",68,{"$f":"IF(Deltagere!C71=\"\",\"\",Deltagere!C71)","v":""},"","","",""]
["","",69,{"$f":"IF(Deltagere!C72=\"\",\"\",Deltagere!C72)","v":"Poul Andersen"},72,69,0,""]
["","",70,{"$f":"IF(Deltagere!C73=\"\",\"\",Deltagere!C73)","v":""},"","","",""]
["","",71,{"$f":"IF(Deltagere!C74=\"\",\"\",Deltagere!C74)","v":""},"","","",""]
["","",72,{"$f":"IF(Deltagere!C75=\"\",\"\",Deltagere!C75)","v":""},"","","",""]
["","",73,{"$f":"IF(Deltagere!C76=\"\",\"\",Deltagere!C76)","v":"Petra Knudsen"},76,73,0,""]
["","",74,{"$f":"IF(Deltagere!C77=\"\",\"\",Deltagere!C77)","v":"Lise Qvist Bebe"},77,74,0,""]
["","",75,{"$f":"IF(Deltagere!C78=\"\",\"\",Deltagere!C78)","v":"Peter Aare"},78,75,0,""]
["","",76,{"$f":"IF(Deltagere!C79=\"\",\"\",Deltagere!C79)","v":"Connie Bregnvig"},79,76,0,""]
["","",77,{"$f":"IF(Deltagere!C80=\"\",\"\",Deltagere!C80)","v":"Preben Ludore"},80,77,0,""]
["","",78,{"$f":"IF(Deltagere!C81=\"\",\"\",Deltagere!C81)","v":""},"","","",""]
["","",79,{"$f":"IF(Deltagere!C82=\"\",\"\",Deltagere!C82)","v":""},"","","",""]
["","",80,{"$f":"IF(Deltagere!C83=\"\",\"\",Deltagere!C83)","v":""},"","","",""]
["","",81,{"$f":"IF(Deltagere!C84=\"\",\"\",Deltagere!C84)","v":""},"","","",""]
["","",82,{"$f":"IF(Deltagere!C85=\"\",\"\",Deltagere!C85)","v":""},"","","",""]
["","",83,{"$f":"IF(Deltagere!C86=\"\",\"\",Deltagere!C86)","v":""},"","","",""]
["","",84,{"$f":"IF(Deltagere!C87=\"\",\"\",Deltagere!C87)","v":""},"","","",""]
["","",85,{"$f":"IF(Deltagere!C88=\"\",\"\",Deltagere!C88)","v":""},"","","",""]
["","",86,{"$f":"IF(Deltagere!C89=\"\",\"\",Deltagere!C89)","v":""},"","","",""]
["","",87,{"$f":"IF(Deltagere!C90=\"\",\"\",Deltagere!C90)","v":""},"","","",""]
["","",88,{"$f":"IF(Deltagere!C91=\"\",\"\",Deltagere!C91)","v":""},"","","",""]
["","",89,{"$f":"IF(Deltagere!C92=\"\",\"\",Deltagere!C92)","v":""},"","","",""]
["","",90,{"$f":"IF(Deltagere!C93=\"\",\"\",Deltagere!C93)","v":""},"","","",""]
["","",91,{"$f":"IF(Deltagere!C94=\"\",\"\",Deltagere!C94)","v":""},"","","",""]
["","",92,{"$f":"IF(Deltagere!C95=\"\",\"\",Deltagere!C95)","v":""},"","","",""]
["","",93,{"$f":"IF(Deltagere!C96=\"\",\"\",Deltagere!C96)","v":""},"","","",""]
["","",94,{"$f":"IF(Deltagere!C97=\"\",\"\",Deltagere!C97)","v":""},"","","",""]
["","",95,{"$f":"IF(Deltagere!C98=\"\",\"\",Deltagere!C98)","v":""},"","","",""]
["","",96,{"$f":"IF(Deltagere!C99=\"\",\"\",Deltagere!C99)","v":""},"","","",""]
["","",97,{"$f":"IF(Deltagere!C100=\"\",\"\",Deltagere!C100)","v":""},"","","",""]
["","",98,{"$f":"IF(Deltagere!C101=\"\",\"\",Deltagere!C101)","v":""},"","","",""]
["","",99,{"$f":"IF(Deltagere!C102=\"\",\"\",Deltagere!C102)","v":""},"","","",""]
["","",100,{"$f":"IF(Deltagere!C103=\"\",\"\",Deltagere!C103)","v":""},"","","",""]
["","",101,{"$f":"IF(Deltagere!C104=\"\",\"\",Deltagere!C104)","v":""},"","","",""]
["","",102,{"$f":"IF(Deltagere!C105=\"\",\"\",Deltagere!C105)","v":"Niels Frederiksen"},105,102,0,""]
["","",103,{"$f":"IF(Deltagere!C106=\"\",\"\",Deltagere!C106)","v":"Peter Rohleder"},106,103,0,""]
["","",104,{"$f":"IF(Deltagere!C107=\"\",\"\",Deltagere!C107)","v":"Linda Christiansen"},107,104,0,""]
["","",105,{"$f":"IF(Deltagere!C108=\"\",\"\",Deltagere!C108)","v":"Jørgen Ramskov"},108,105,0,""]
["","",106,{"$f":"IF(Deltagere!C109=\"\",\"\",Deltagere!C109)","v":"Morten Mortensen"},109,106,0,""]
["","",107,{"$f":"IF(Deltagere!C110=\"\",\"\",Deltagere!C110)","v":"Kjeld Hjorth"},110,107,0,""]
["","",108,{"$f":"IF(Deltagere!C111=\"\",\"\",Deltagere!C111)","v":"Jette Ringius"},111,108,0,""]
["","",109,{"$f":"IF(Deltagere!C112=\"\",\"\",Deltagere!C112)","v":"Anne Røndbjerg"},112,109,0,""]
["","",110,{"$f":"IF(Deltagere!C113=\"\",\"\",Deltagere!C113)","v":"Jytte Hedlund"},113,110,0,""]
["","",111,{"$f":"IF(Deltagere!C114=\"\",\"\",Deltagere!C114)","v":"Kim Larsen"},114,111,0,""]
["","",112,{"$f":"IF(Deltagere!C115=\"\",\"\",Deltagere!C115)","v":"Birgit Rose Holm"},115,112,0,""]
["","",113,{"$f":"IF(Deltagere!C116=\"\",\"\",Deltagere!C116)","v":"Flemming Carlsen"},116,113,0,""]
["","",114,{"$f":"IF(Deltagere!C117=\"\",\"\",Deltagere!C117)","v":"Jette Carlsen"},117,114,0,""]
["","",115,{"$f":"IF(Deltagere!C118=\"\",\"\",Deltagere!C118)","v":"Elo Andersen"},118,115,0,""]
["","",116,{"$f":"IF(Deltagere!C119=\"\",\"\",Deltagere!C119)","v":"Mona Hansen"},119,116,0,""]
["","",117,{"$f":"IF(Deltagere!C120=\"\",\"\",Deltagere!C120)","v":"Knud Erik Johansen"},120,117,0,""]
["","",118,{"$f":"IF(Deltagere!C121=\"\",\"\",Deltagere!C121)","v":"Ina Tell"},121,118,0,""]
["","",119,{"$f":"IF(Deltagere!C122=\"\",\"\",Deltagere!C122)","v":"Anny Lorentzen"},122,119,0,""]
["","",120,{"$f":"IF(Deltagere!C123=\"\",\"\",Deltagere!C123)","v":"Jytte Rasmussen"},123,120,0,""]
["","",121,{"$f":"IF(Deltagere!C124=\"\",\"\",Deltagere!C124)","v":"Ketty Hinrichsen"},124,121,0,""]
["","",122,{"$f":"IF(Deltagere!C125=\"\",\"\",Deltagere!C125)","v":""},"","","",""]
["","",123,{"$f":"IF(Deltagere!C126=\"\",\"\",Deltagere!C126)","v":"Karsten Roed"},126,123,0,""]
["","",124,{"$f":"IF(Deltagere!C127=\"\",\"\",Deltagere!C127)","v":"Mogens Hinrichsen"},127,124,0,""]
["","",125,{"$f":"IF(Deltagere!C128=\"\",\"\",Deltagere!C128)","v":"Jens Frede Poulsen"},128,125,0,""]
["","",126,{"$f":"IF(Deltagere!C129=\"\",\"\",Deltagere!C129)","v":""},"","","",""]
["","",127,{"$f":"IF(Deltagere!C130=\"\",\"\",Deltagere!C130)","v":"Per Bentzen"},130,127,0,""]
["","",128,{"$f":"IF(Deltagere!C131=\"\",\"\",Deltagere!C131)","v":"Bobby Maric"},131,128,0,""]
[{"$f":"IF(H132=\"\",\"\",IF(H132=1,\"Fejl\",\"\"))","v":""},{"$f":"IF(G132=1,\"Fejl\",\"\")","v":""},129,{"$f":"IF(Deltagere!C132=\"\",\"\",Deltagere!C132)","v":"Holger Larsen"},{"$f":"IF(D132=\"\",\"\",MATCH(D132,D$1:D$1003,0))","v":132},{"$f":"IF(D132=\"\",\"\",E132-3)","v":129},{"$f":"IF(D132=\"\",\"\",IF(C132=F132,0,1))","v":0},{"$f":"IF(D132=\"\",\"\",IF(D132=H$3,1,\"\"))","v":""}]
["","",130,{"$f":"IF(Deltagere!C133=\"\",\"\",Deltagere!C133)","v":"Jytte Knudsen"},133,130,0,""]
["","",131,{"$f":"IF(Deltagere!C134=\"\",\"\",Deltagere!C134)","v":"Karen Larsen"},134,131,0,""]
["","",132,{"$f":"IF(Deltagere!C135=\"\",\"\",Deltagere!C135)","v":"Knud Jensen"},135,132,0,""]
["","",133,{"$f":"IF(Deltagere!C136=\"\",\"\",Deltagere!C136)","v":"Marianne Maric"},136,133,0,""]
["","",134,{"$f":"IF(Deltagere!C137=\"\",\"\",Deltagere!C137)","v":"Ole Knudsen"},137,134,0,""]
["","",135,{"$f":"IF(Deltagere!C138=\"\",\"\",Deltagere!C138)","v":"Anni Bentzen"},138,135,0,""]
["","",136,{"$f":"IF(Deltagere!C139=\"\",\"\",Deltagere!C139)","v":"Susanne Madsen"},139,136,0,""]
["","",137,{"$f":"IF(Deltagere!C140=\"\",\"\",Deltagere!C140)","v":"Flemming Madsen"},140,137,0,""]
["","",138,{"$f":"IF(Deltagere!C141=\"\",\"\",Deltagere!C141)","v":"Birgit Schimmell"},141,138,0,""]
["","",139,{"$f":"IF(Deltagere!C142=\"\",\"\",Deltagere!C142)","v":"Jytte Løsche"},142,139,0,""]
["","",140,{"$f":"IF(Deltagere!C143=\"\",\"\",Deltagere!C143)","v":""},"","","",""]
["","",141,{"$f":"IF(Deltagere!C144=\"\",\"\",Deltagere!C144)","v":"Kaj Hansen"},144,141,0,""]
["","",142,{"$f":"IF(Deltagere!C145=\"\",\"\",Deltagere!C145)","v":"Kirsten Vegge"},145,142,0,""]
["","",143,{"$f":"IF(Deltagere!C146=\"\",\"\",Deltagere!C146)","v":"Lis Nielebock"},146,143,0,""]
["","",144,{"$f":"IF(Deltagere!C147=\"\",\"\",Deltagere!C147)","v":""},"","","",""]
["","",145,{"$f":"IF(Deltagere!C148=\"\",\"\",Deltagere!C148)","v":""},"","","",""]
["","",146,{"$f":"IF(Deltagere!C149=\"\",\"\",Deltagere!C149)","v":""},"","","",""]
["","",147,{"$f":"IF(Deltagere!C150=\"\",\"\",Deltagere!C150)","v":""},"","","",""]
["","",148,{"$f":"IF(Deltagere!C151=\"\",\"\",Deltagere!C151)","v":""},"","","",""]
["","",149,{"$f":"IF(Deltagere!C152=\"\",\"\",Deltagere!C152)","v":""},"","","",""]
["","",150,{"$f":"IF(Deltagere!C153=\"\",\"\",Deltagere!C153)","v":""},"","","",""]
["","",151,{"$f":"IF(Deltagere!C154=\"\",\"\",Deltagere!C154)","v":"Ann Larsen"},154,151,0,""]
["","",152,{"$f":"IF(Deltagere!C155=\"\",\"\",Deltagere!C155)","v":"Per Henrichsen"},155,152,0,""]
["","",153,{"$f":"IF(Deltagere!C156=\"\",\"\",Deltagere!C156)","v":"Birger Rosendal"},156,153,0,""]
["","",154,{"$f":"IF(Deltagere!C157=\"\",\"\",Deltagere!C157)","v":"Lene Rosendal"},157,154,0,""]
["","",155,{"$f":"IF(Deltagere!C158=\"\",\"\",Deltagere!C158)","v":"Harry Petersen"},158,155,0,""]
["","",156,{"$f":"IF(Deltagere!C159=\"\",\"\",Deltagere!C159)","v":"Per Kyhn"},159,156,0,""]
["","",157,{"$f":"IF(Deltagere!C160=\"\",\"\",Deltagere!C160)","v":"Tove Andersen"},160,157,0,""]
["","",158,{"$f":"IF(Deltagere!C161=\"\",\"\",Deltagere!C161)","v":""},"","","",""]
["","",159,{"$f":"IF(Deltagere!C162=\"\",\"\",Deltagere!C162)","v":""},"","","",""]
["","",160,{"$f":"IF(Deltagere!C163=\"\",\"\",Deltagere!C163)","v":"Anette Hviid Rodger"},163,160,0,""]
["","",161,{"$f":"IF(Deltagere!C164=\"\",\"\",Deltagere!C164)","v":""},"","","",""]
["","",162,{"$f":"IF(Deltagere!C165=\"\",\"\",Deltagere!C165)","v":"Bjarne Nielsen"},165,162,0,""]
["","",163,{"$f":"IF(Deltagere!C166=\"\",\"\",Deltagere!C166)","v":""},"","","",""]
["","",164,{"$f":"IF(Deltagere!C167=\"\",\"\",Deltagere!C167)","v":"Jan E. Pedersen"},167,164,0,""]
["","",165,{"$f":"IF(Deltagere!C168=\"\",\"\",Deltagere!C168)","v":""},"","","",""]
["","",166,{"$f":"IF(Deltagere!C169=\"\",\"\",Deltagere!C169)","v":"Ib Jensen"},169,166,0,""]
["","",167,{"$f":"IF(Deltagere!C170=\"\",\"\",Deltagere!C170)","v":"Jette Jensen"},170,167,0,""]
["","",168,{"$f":"IF(Deltagere!C171=\"\",\"\",Deltagere!C171)","v":""},"","","",""]
["","",169,{"$f":"IF(Deltagere!C172=\"\",\"\",Deltagere!C172)","v":"Kate Petersen"},172,169,0,""]
["","",170,{"$f":"IF(Deltagere!C173=\"\",\"\",Deltagere!C173)","v":""},"","","",""]
["","",171,{"$f":"IF(Deltagere!C174=\"\",\"\",Deltagere!C174)","v":"Åse Thaning"},174,171,0,""]
["","",172,{"$f":"IF(Deltagere!C175=\"\",\"\",Deltagere!C175)","v":"Jytte Hansen"},175,172,0,""]
["","",173,{"$f":"IF(Deltagere!C176=\"\",\"\",Deltagere!C176)","v":"Karin Børresen"},176,173,0,""]
["","",174,{"$f":"IF(Deltagere!C177=\"\",\"\",Deltagere!C177)","v":"Marianne Albertsen"},177,174,0,""]
["","",175,{"$f":"IF(Deltagere!C178=\"\",\"\",Deltagere!C178)","v":""},"","","",""]
["","",176,{"$f":"IF(Deltagere!C179=\"\",\"\",Deltagere!C179)","v":"Preben Willum"},179,176,0,""]
["","",177,{"$f":"IF(Deltagere!C180=\"\",\"\",Deltagere!C180)","v":"Lone Nyc"},180,177,0,""]
["","",178,{"$f":"IF(Deltagere!C181=\"\",\"\",Deltagere!C181)","v":"Bjarne Hansson"},181,178,0,""]
["","",179,{"$f":"IF(Deltagere!C182=\"\",\"\",Deltagere!C182)","v":""},"","","",""]
["","",180,{"$f":"IF(Deltagere!C183=\"\",\"\",Deltagere!C183)","v":"Inger Andersen"},183,180,0,""]
["","",181,{"$f":"IF(Deltagere!C184=\"\",\"\",Deltagere!C184)","v":"Peter Norlund"},184,181,0,""]
["","",182,{"$f":"IF(Deltagere!C185=\"\",\"\",Deltagere!C185)","v":"Sanne Norlund"},185,182,0,""]
["","",183,{"$f":"IF(Deltagere!C186=\"\",\"\",Deltagere!C186)","v":""},"","","",""]
["","",184,{"$f":"IF(Deltagere!C187=\"\",\"\",Deltagere!C187)","v":""},"","","",""]
["","",185,{"$f":"IF(Deltagere!C188=\"\",\"\",Deltagere!C188)","v":""},"","","",""]
["","",186,{"$f":"IF(Deltagere!C189=\"\",\"\",Deltagere!C189)","v":""},"","","",""]
["","",187,{"$f":"IF(Deltagere!C190=\"\",\"\",Deltagere!C190)","v":""},"","","",""]
["","",188,{"$f":"IF(Deltagere!C191=\"\",\"\",Deltagere!C191)","v":""},"","","",""]
["","",189,{"$f":"IF(Deltagere!C192=\"\",\"\",Deltagere!C192)","v":""},"","","",""]
["","",190,{"$f":"IF(Deltagere!C193=\"\",\"\",Deltagere!C193)","v":""},"","","",""]
["","",191,{"$f":"IF(Deltagere!C194=\"\",\"\",Deltagere!C194)","v":""},"","","",""]
["","",192,{"$f":"IF(Deltagere!C195=\"\",\"\",Deltagere!C195)","v":""},"","","",""]
[{"$f":"IF(H196=\"\",\"\",IF(H196=1,\"Fejl\",\"\"))","v":""},{"$f":"IF(G196=1,\"Fejl\",\"\")","v":""},193,{"$f":"IF(Deltagere!C196=\"\",\"\",Deltagere!C196)","v":""},{"$f":"IF(D196=\"\",\"\",MATCH(D196,D$1:D$1003,0))","v":""},{"$f":"IF(D196=\"\",\"\",E196-3)","v":""},{"$f":"IF(D196=\"\",\"\",IF(C196=F196,0,1))","v":""},{"$f":"IF(D196=\"\",\"\",IF(D196=H$3,1,\"\"))","v":""}]
["","",194,{"$f":"IF(Deltagere!C197=\"\",\"\",Deltagere!C197)","v":""},"","","",""]
["","",195,{"$f":"IF(Deltagere!C198=\"\",\"\",Deltagere!C198)","v":""},"","","",""]
["","",196,{"$f":"IF(Deltagere!C199=\"\",\"\",Deltagere!C199)","v":""},"","","",""]
["","",197,{"$f":"IF(Deltagere!C200=\"\",\"\",Deltagere!C200)","v":""},"","","",""]
["","",198,{"$f":"IF(Deltagere!C201=\"\",\"\",Deltagere!C201)","v":""},"","","",""]
["","",199,{"$f":"IF(Deltagere!C202=\"\",\"\",Deltagere!C202)","v":""},"","","",""]
["","",200,{"$f":"IF(Deltagere!C203=\"\",\"\",Deltagere!C203)","v":""},"","","",""]
["","",201,{"$f":"IF(Deltagere!C204=\"\",\"\",Deltagere!C204)","v":"Laila Birkemosegård"},204,201,0,""]
["","",202,{"$f":"IF(Deltagere!C205=\"\",\"\",Deltagere!C205)","v":"Flemming Birkemosegård"},205,202,0,""]
["","",203,{"$f":"IF(Deltagere!C206=\"\",\"\",Deltagere!C206)","v":"Sonja Sørensen"},206,203,0,""]
["","",204,{"$f":"IF(Deltagere!C207=\"\",\"\",Deltagere!C207)","v":"Esther Knudsen"},207,204,0,""]
["","",205,{"$f":"IF(Deltagere!C208=\"\",\"\",Deltagere!C208)","v":"Niels Madsen"},208,205,0,""]
["","",206,{"$f":"IF(Deltagere!C209=\"\",\"\",Deltagere!C209)","v":"Tommy Andersen"},209,206,0,""]
["","",207,{"$f":"IF(Deltagere!C210=\"\",\"\",Deltagere!C210)","v":"Kurt Nielsen"},210,207,0,""]
["","",208,{"$f":"IF(Deltagere!C211=\"\",\"\",Deltagere!C211)","v":"Ulla J. Jakobsen"},211,208,0,""]
["","",209,{"$f":"IF(Deltagere!C212=\"\",\"\",Deltagere!C212)","v":"Steen Knudsen"},212,209,0,""]
["","",210,{"$f":"IF(Deltagere!C213=\"\",\"\",Deltagere!C213)","v":"Jonna Nielsen"},213,210,0,""]
["","",211,{"$f":"IF(Deltagere!C214=\"\",\"\",Deltagere!C214)","v":"Jytte Schmidt"},214,211,0,""]
["","",212,{"$f":"IF(Deltagere!C215=\"\",\"\",Deltagere!C215)","v":"Lissi Norup Jensen"},215,212,0,""]
["","",213,{"$f":"IF(Deltagere!C216=\"\",\"\",Deltagere!C216)","v":"Gunnar Persson"},216,213,0,""]
["","",214,{"$f":"IF(Deltagere!C217=\"\",\"\",Deltagere!C217)","v":"Flemming B. Larsen"},217,214,0,""]
["","",215,{"$f":"IF(Deltagere!C218=\"\",\"\",Deltagere!C218)","v":"Niels Nielsen"},218,215,0,""]
["","",216,{"$f":"IF(Deltagere!C219=\"\",\"\",Deltagere!C219)","v":"Flemming B. Jensen"},219,216,0,""]
["","",217,{"$f":"IF(Deltagere!C220=\"\",\"\",Deltagere!C220)","v":"Tove Blad"},220,217,0,""]
["","",218,{"$f":"IF(Deltagere!C221=\"\",\"\",Deltagere!C221)","v":"Helle Skovbro"},221,218,0,""]
["","",219,{"$f":"IF(Deltagere!C222=\"\",\"\",Deltagere!C222)","v":"Bjarne Poulsen"},222,219,0,""]
["","",220,{"$f":"IF(Deltagere!C223=\"\",\"\",Deltagere!C223)","v":"Nina Nielsen"},223,220,0,""]
["","",221,{"$f":"IF(Deltagere!C224=\"\",\"\",Deltagere!C224)","v":"Hans J. Carow"},224,221,0,""]
["","",222,{"$f":"IF(Deltagere!C225=\"\",\"\",Deltagere!C225)","v":"Jette Friis Hansen"},225,222,0,""]
["","",223,{"$f":"IF(Deltagere!C226=\"\",\"\",Deltagere!C226)","v":"Bente Pedersen"},226,223,0,""]
["","",224,{"$f":"IF(Deltagere!C227=\"\",\"\",Deltagere!C227)","v":"Elke Hesthaven"},227,224,0,""]
["","",225,{"$f":"IF(Deltagere!C228=\"\",\"\",Deltagere!C228)","v":"Hanne Petersen"},228,225,0,""]
["","",226,{"$f":"IF(Deltagere!C229=\"\",\"\",Deltagere!C229)","v":"Bodil Jansson"},229,226,0,""]
["","",227,{"$f":"IF(Deltagere!C230=\"\",\"\",Deltagere!C230)","v":"Tove Skovbo"},230,227,0,""]
["","",228,{"$f":"IF(Deltagere!C231=\"\",\"\",Deltagere!C231)","v":"Carsten Jansson"},231,228,0,""]
["","",229,{"$f":"IF(Deltagere!C232=\"\",\"\",Deltagere!C232)","v":"Jytte Behrend"},232,229,0,""]
["","",230,{"$f":"IF(Deltagere!C233=\"\",\"\",Deltagere!C233)","v":"Jeanette Olsen"},233,230,0,""]
["","",231,{"$f":"IF(Deltagere!C234=\"\",\"\",Deltagere!C234)","v":"Berit Tofte Hansen"},234,231,0,""]
["","",232,{"$f":"IF(Deltagere!C235=\"\",\"\",Deltagere!C235)","v":"Susanne Lembke"},235,232,0,""]
["","",233,{"$f":"IF(Deltagere!C236=\"\",\"\",Deltagere!C236)","v":"Annie Christensen"},236,233,0,""]
["","",234,{"$f":"IF(Deltagere!C237=\"\",\"\",Deltagere!C237)","v":"Svend Ove Bahnsen"},237,234,0,""]
["","",235,{"$f":"IF(Deltagere!C238=\"\",\"\",Deltagere!C238)","v":"Inge Poulsen"},238,235,0,""]
["","",236,{"$f":"IF(Deltagere!C239=\"\",\"\",Deltagere!C239)","v":"Anette Møller"},239,236,0,""]
["","",237,{"$f":"IF(Deltagere!C240=\"\",\"\",Deltagere!C240)","v":"Hanne Bahnsen"},240,237,0,""]
["","",238,{"$f":"IF(Deltagere!C241=\"\",\"\",Deltagere!C241)","v":"Margrethe Mørkvig"},241,238,0,""]
["","",239,{"$f":"IF(Deltagere!C242=\"\",\"\",Deltagere!C242)","v":"Leif Behrend"},242,239,0,""]
["","",240,{"$f":"IF(Deltagere!C243=\"\",\"\",Deltagere!C243)","v":"Tom Olsen"},243,240,0,""]
["","",241,{"$f":"IF(Deltagere!C244=\"\",\"\",Deltagere!C244)","v":"Inge Lander"},244,241,0,""]
["","",242,{"$f":"IF(Deltagere!C245=\"\",\"\",Deltagere!C245)","v":"Edith Pettersson"},245,242,0,""]
["","",243,{"$f":"IF(Deltagere!C246=\"\",\"\",Deltagere!C246)","v":"Inge Beyer"},246,243,0,""]
["","",244,{"$f":"IF(Deltagere!C247=\"\",\"\",Deltagere!C247)","v":"Lotte Zinck"},247,244,0,""]
["","",245,{"$f":"IF(Deltagere!C248=\"\",\"\",Deltagere!C248)","v":"Birthe Allermann"},248,245,0,""]
["","",246,{"$f":"IF(Deltagere!C249=\"\",\"\",Deltagere!C249)","v":"Inger Mortensen"},249,246,0,""]
["","",247,{"$f":"IF(Deltagere!C250=\"\",\"\",Deltagere!C250)","v":"Gunnar Nielsen"},250,247,0,""]
["","",248,{"$f":"IF(Deltagere!C251=\"\",\"\",Deltagere!C251)","v":"Margrethe Andersen"},251,248,0,""]
["","",249,{"$f":"IF(Deltagere!C252=\"\",\"\",Deltagere!C252)","v":"Majbrith Corfixen"},252,249,0,""]
["","",250,{"$f":"IF(Deltagere!C253=\"\",\"\",Deltagere!C253)","v":"Palle Thomsen"},253,250,0,""]
["","",251,{"$f":"IF(Deltagere!C254=\"\",\"\",Deltagere!C254)","v":"Sally Klarskov"},254,251,0,""]
["","",252,{"$f":"IF(Deltagere!C255=\"\",\"\",Deltagere!C255)","v":"Bjarne Bruun"},255,252,0,""]
["","",253,{"$f":"IF(Deltagere!C256=\"\",\"\",Deltagere!C256)","v":"Carsten Skovbro"},256,253,0,""]
["","",254,{"$f":"IF(Deltagere!C257=\"\",\"\",Deltagere!C257)","v":"Kurt Jeritslev"},257,254,0,""]
["","",255,{"$f":"IF(Deltagere!C258=\"\",\"\",Deltagere!C258)","v":"Birthe Pedersen"},258,255,0,""]
["","",256,{"$f":"IF(Deltagere!C259=\"\",\"\",Deltagere!C259)","v":""},"","","",""]
[{"$f":"IF(H260=\"\",\"\",IF(H260=1,\"Fejl\",\"\"))","v":""},{"$f":"IF(G260=1,\"Fejl\",\"\")","v":""},257,{"$f":"IF(Deltagere!C260=\"\",\"\",Deltagere!C260)","v":""},{"$f":"IF(D260=\"\",\"\",MATCH(D260,D$1:D$1003,0))","v":""},{"$f":"IF(D260=\"\",\"\",E260-3)","v":""},{"$f":"IF(D260=\"\",\"\",IF(C260=F260,0,1))","v":""},{"$f":"IF(D260=\"\",\"\",IF(D260=H$3,1,\"\"))","v":""}]
["","",258,{"$f":"IF(Deltagere!C261=\"\",\"\",Deltagere!C261)","v":""},"","","",""]
["","",259,{"$f":"IF(Deltagere!C262=\"\",\"\",Deltagere!C262)","v":""},"","","",""]
["","",260,{"$f":"IF(Deltagere!C263=\"\",\"\",Deltagere!C263)","v":""},"","","",""]
["","",261,{"$f":"IF(Deltagere!C264=\"\",\"\",Deltagere!C264)","v":""},"","","",""]
["","",262,{"$f":"IF(Deltagere!C265=\"\",\"\",Deltagere!C265)","v":""},"","","",""]
["","",263,{"$f":"IF(Deltagere!C266=\"\",\"\",Deltagere!C266)","v":""},"","","",""]
["","",264,{"$f":"IF(Deltagere!C267=\"\",\"\",Deltagere!C267)","v":""},"","","",""]
["","",265,{"$f":"IF(Deltagere!C268=\"\",\"\",Deltagere!C268)","v":""},"","","",""]
["","",266,{"$f":"IF(Deltagere!C269=\"\",\"\",Deltagere!C269)","v":""},"","","",""]
["","",267,{"$f":"IF(Deltagere!C270=\"\",\"\",Deltagere!C270)","v":""},"","","",""]
["","",268,{"$f":"IF(Deltagere!C271=\"\",\"\",Deltagere!C271)","v":""},"","","",""]
["","",269,{"$f":"IF(Deltagere!C272=\"\",\"\",Deltagere!C272)","v":""},"","","",""]
["","",270,{"$f":"IF(Deltagere!C273=\"\",\"\",Deltagere!C273)","v":""},"","","",""]
["","",271,{"$f":"IF(Deltagere!C274=\"\",\"\",Deltagere!C274)","v":""},"","","",""]
["","",272,{"$f":"IF(Deltagere!C275=\"\",\"\",Deltagere!C275)","v":""},"","","",""]
["","",273,{"$f":"IF(Deltagere!C276=\"\",\"\",Deltagere!C276)","v":""},"","","",""]
["","",274,{"$f":"IF(Deltagere!C277=\"\",\"\",Deltagere!C277)","v":""},"","","",""]
["","",275,{"$f":"IF(Deltagere!C278=\"\",\"\",Deltagere!C278)","v":""},"","","",""]
["","",276,{"$f":"IF(Deltagere!C279=\"\",\"\",Deltagere!C279)","v":""},"","","",""]
["","",277,{"$f":"IF(Deltagere!C280=\"\",\"\",Deltagere!C280)","v":""},"","","",""]
["","",278,{"$f":"IF(Deltagere!C281=\"\",\"\",Deltagere!C281)","v":""},"","","",""]
["","",279,{"$f":"IF(Deltagere!C282=\"\",\"\",Deltagere!C282)","v":""},"","","",""]
["","",280,{"$f":"IF(Deltagere!C283=\"\",\"\",Deltagere!C283)","v":""},"","","",""]
["","",281,{"$f":"IF(Deltagere!C284=\"\",\"\",Deltagere!C284)","v":""},"","","",""]
["","",282,{"$f":"IF(Deltagere!C285=\"\",\"\",Deltagere!C285)","v":""},"","","",""]
["","",283,{"$f":"IF(Deltagere!C286=\"\",\"\",Deltagere!C286)","v":""},"","","",""]
["","",284,{"$f":"IF(Deltagere!C287=\"\",\"\",Deltagere!C287)","v":""},"","","",""]
["","",285,{"$f":"IF(Deltagere!C288=\"\",\"\",Deltagere!C288)","v":""},"","","",""]
["","",286,{"$f":"IF(Deltagere!C289=\"\",\"\",Deltagere!C289)","v":""},"","","",""]
["","",287,{"$f":"IF(Deltagere!C290=\"\",\"\",Deltagere!C290)","v":""},"","","",""]
["","",288,{"$f":"IF(Deltagere!C291=\"\",\"\",Deltagere!C291)","v":""},"","","",""]
["","",289,{"$f":"IF(Deltagere!C292=\"\",\"\",Deltagere!C292)","v":""},"","","",""]
["","",290,{"$f":"IF(Deltagere!C293=\"\",\"\",Deltagere!C293)","v":""},"","","",""]
["","",291,{"$f":"IF(Deltagere!C294=\"\",\"\",Deltagere!C294)","v":""},"","","",""]
["","",292,{"$f":"IF(Deltagere!C295=\"\",\"\",Deltagere!C295)","v":""},"","","",""]
["","",293,{"$f":"IF(Deltagere!C296=\"\",\"\",Deltagere!C296)","v":""},"","","",""]
["","",294,{"$f":"IF(Deltagere!C297=\"\",\"\",Deltagere!C297)","v":""},"","","",""]
["","",295,{"$f":"IF(Deltagere!C298=\"\",\"\",Deltagere!C298)","v":""},"","","",""]
["","",296,{"$f":"IF(Deltagere!C299=\"\",\"\",Deltagere!C299)","v":""},"","","",""]
["","",297,{"$f":"IF(Deltagere!C300=\"\",\"\",Deltagere!C300)","v":""},"","","",""]
["","",298,{"$f":"IF(Deltagere!C301=\"\",\"\",Deltagere!C301)","v":""},"","","",""]
["","",299,{"$f":"IF(Deltagere!C302=\"\",\"\",Deltagere!C302)","v":""},"","","",""]
["","",300,{"$f":"IF(Deltagere!C303=\"\",\"\",Deltagere!C303)","v":""},"","","",""]
["","",301,{"$f":"IF(Deltagere!C304=\"\",\"\",Deltagere!C304)","v":"Svend Faigh"},304,301,0,""]
["","",302,{"$f":"IF(Deltagere!C305=\"\",\"\",Deltagere!C305)","v":"Jørgen Hugo Larsen"},305,302,0,""]
["","",303,{"$f":"IF(Deltagere!C306=\"\",\"\",Deltagere!C306)","v":"Lone Nielsen"},306,303,0,""]
["","",304,{"$f":"IF(Deltagere!C307=\"\",\"\",Deltagere!C307)","v":""},"","","",""]
["","",305,{"$f":"IF(Deltagere!C308=\"\",\"\",Deltagere!C308)","v":"Annette Lykke Madsen"},308,305,0,""]
["","",306,{"$f":"IF(Deltagere!C309=\"\",\"\",Deltagere!C309)","v":"Alex Schackinger"},309,306,0,""]
["","",307,{"$f":"IF(Deltagere!C310=\"\",\"\",Deltagere!C310)","v":"Åge  Zcharau"},310,307,0,""]
["","",308,{"$f":"IF(Deltagere!C311=\"\",\"\",Deltagere!C311)","v":"Conny Schackinger"},311,308,0,""]
["","",309,{"$f":"IF(Deltagere!C312=\"\",\"\",Deltagere!C312)","v":"Birthe Blom"},312,309,0,""]
["","",310,{"$f":"IF(Deltagere!C313=\"\",\"\",Deltagere!C313)","v":"Annette Traulsen"},313,310,0,""]
["","",311,{"$f":"IF(Deltagere!C314=\"\",\"\",Deltagere!C314)","v":"Per Aune"},314,311,0,""]
["","",312,{"$f":"IF(Deltagere!C315=\"\",\"\",Deltagere!C315)","v":"Annie Dresler"},315,312,0,""]
["","",313,{"$f":"IF(Deltagere!C316=\"\",\"\",Deltagere!C316)","v":"Gunnar Frandsen"},316,313,0,""]
["","",314,{"$f":"IF(Deltagere!C317=\"\",\"\",Deltagere!C317)","v":"Rita Jørgensen"},317,314,0,""]
["","",315,{"$f":"IF(Deltagere!C318=\"\",\"\",Deltagere!C318)","v":"Tove Perlt"},318,315,0,""]
["","",316,{"$f":"IF(Deltagere!C319=\"\",\"\",Deltagere!C319)","v":"Preben Madsen"},319,316,0,""]
["","",317,{"$f":"IF(Deltagere!C320=\"\",\"\",Deltagere!C320)","v":"Lis Rasmussen"},320,317,0,""]
["","",318,{"$f":"IF(Deltagere!C321=\"\",\"\",Deltagere!C321)","v":"Peter Sølsten"},321,318,0,""]
["","",319,{"$f":"IF(Deltagere!C322=\"\",\"\",Deltagere!C322)","v":""},"","","",""]
["","",320,{"$f":"IF(Deltagere!C323=\"\",\"\",Deltagere!C323)","v":"Margit Larsen"},323,320,0,""]
[{"$f":"IF(H324=\"\",\"\",IF(H324=1,\"Fejl\",\"\"))","v":""},{"$f":"IF(G324=1,\"Fejl\",\"\")","v":""},321,{"$f":"IF(Deltagere!C324=\"\",\"\",Deltagere!C324)","v":""},{"$f":"IF(D324=\"\",\"\",MATCH(D324,D$1:D$1003,0))","v":""},{"$f":"IF(D324=\"\",\"\",E324-3)","v":""},{"$f":"IF(D324=\"\",\"\",IF(C324=F324,0,1))","v":""},{"$f":"IF(D324=\"\",\"\",IF(D324=H$3,1,\"\"))","v":""}]
["","",322,{"$f":"IF(Deltagere!C325=\"\",\"\",Deltagere!C325)","v":"Anette Nielsen"},325,322,0,""]
["","",323,{"$f":"IF(Deltagere!C326=\"\",\"\",Deltagere!C326)","v":""},"","","",""]
["","",324,{"$f":"IF(Deltagere!C327=\"\",\"\",Deltagere!C327)","v":""},"","","",""]
["","",325,{"$f":"IF(Deltagere!C328=\"\",\"\",Deltagere!C328)","v":""},"","","",""]
["","",326,{"$f":"IF(Deltagere!C329=\"\",\"\",Deltagere!C329)","v":""},"","","",""]
["","",327,{"$f":"IF(Deltagere!C330=\"\",\"\",Deltagere!C330)","v":"Mogens Kortegaard"},330,327,0,""]
["","",328,{"$f":"IF(Deltagere!C331=\"\",\"\",Deltagere!C331)","v":"Annie Damsgaard"},331,328,0,""]
["","",329,{"$f":"IF(Deltagere!C332=\"\",\"\",Deltagere!C332)","v":""},"","","",""]
["","",330,{"$f":"IF(Deltagere!C333=\"\",\"\",Deltagere!C333)","v":""},"","","",""]
["","",331,{"$f":"IF(Deltagere!C334=\"\",\"\",Deltagere!C334)","v":""},"","","",""]
["","",332,{"$f":"IF(Deltagere!C335=\"\",\"\",Deltagere!C335)","v":""},"","","",""]
["","",333,{"$f":"IF(Deltagere!C336=\"\",\"\",Deltagere!C336)","v":""},"","","",""]
["","",334,{"$f":"IF(Deltagere!C337=\"\",\"\",Deltagere!C337)","v":""},"","","",""]
["","",335,{"$f":"IF(Deltagere!C338=\"\",\"\",Deltagere!C338)","v":""},"","","",""]
["","",336,{"$f":"IF(Deltagere!C339=\"\",\"\",Deltagere!C339)","v":""},"","","",""]
["","",337,{"$f":"IF(Deltagere!C340=\"\",\"\",Deltagere!C340)","v":""},"","","",""]
["","",338,{"$f":"IF(Deltagere!C341=\"\",\"\",Deltagere!C341)","v":""},"","","",""]
["","",339,{"$f":"IF(Deltagere!C342=\"\",\"\",Deltagere!C342)","v":""},"","","",""]
["","",340,{"$f":"IF(Deltagere!C343=\"\",\"\",Deltagere!C343)","v":""},"","","",""]
["","",341,{"$f":"IF(Deltagere!C344=\"\",\"\",Deltagere!C344)","v":""},"","","",""]
["","",342,{"$f":"IF(Deltagere!C345=\"\",\"\",Deltagere!C345)","v":""},"","","",""]
["","",343,{"$f":"IF(Deltagere!C346=\"\",\"\",Deltagere!C346)","v":""},"","","",""]
["","",344,{"$f":"IF(Deltagere!C347=\"\",\"\",Deltagere!C347)","v":""},"","","",""]
["","",345,{"$f":"IF(Deltagere!C348=\"\",\"\",Deltagere!C348)","v":""},"","","",""]
["","",346,{"$f":"IF(Deltagere!C349=\"\",\"\",Deltagere!C349)","v":""},"","","",""]
["","",347,{"$f":"IF(Deltagere!C350=\"\",\"\",Deltagere!C350)","v":""},"","","",""]
["","",348,{"$f":"IF(Deltagere!C351=\"\",\"\",Deltagere!C351)","v":""},"","","",""]
["","",349,{"$f":"IF(Deltagere!C352=\"\",\"\",Deltagere!C352)","v":""},"","","",""]
["","",350,{"$f":"IF(Deltagere!C353=\"\",\"\",Deltagere!C353)","v":""},"","","",""]
["","",351,{"$f":"IF(Deltagere!C354=\"\",\"\",Deltagere!C354)","v":"Børge Jul Pedersen"},354,351,0,""]
["","",352,{"$f":"IF(Deltagere!C355=\"\",\"\",Deltagere!C355)","v":"Grethe Clausen"},355,352,0,""]
["","",353,{"$f":"IF(Deltagere!C356=\"\",\"\",Deltagere!C356)","v":"Helge Eilersen"},356,353,0,""]
["","",354,{"$f":"IF(Deltagere!C357=\"\",\"\",Deltagere!C357)","v":"Tobias Peter Nielsen"},357,354,0,""]
["","",355,{"$f":"IF(Deltagere!C358=\"\",\"\",Deltagere!C358)","v":""},"","","",""]
["","",356,{"$f":"IF(Deltagere!C359=\"\",\"\",Deltagere!C359)","v":"Jørgen Laursen"},359,356,0,""]
["","",357,{"$f":"IF(Deltagere!C360=\"\",\"\",Deltagere!C360)","v":"Sim Krahl"},360,357,0,""]
["","",358,{"$f":"IF(Deltagere!C361=\"\",\"\",Deltagere!C361)","v":"Tage Clausen"},361,358,0,""]
["","",359,{"$f":"IF(Deltagere!C362=\"\",\"\",Deltagere!C362)","v":"Kirsten Eilersen"},362,359,0,""]
["","",360,{"$f":"IF(Deltagere!C363=\"\",\"\",Deltagere!C363)","v":"Benny Arne Sigvardt"},363,360,0,""]
["","",361,{"$f":"IF(Deltagere!C364=\"\",\"\",Deltagere!C364)","v":"Bente J. Pedersen"},364,361,0,""]
["","",362,{"$f":"IF(Deltagere!C365=\"\",\"\",Deltagere!C365)","v":"Lone Vilhelmsen"},365,362,0,""]
["","",363,{"$f":"IF(Deltagere!C366=\"\",\"\",Deltagere!C366)","v":"Lis Maack"},366,363,0,""]
["","",364,{"$f":"IF(Deltagere!C367=\"\",\"\",Deltagere!C367)","v":"Sven Åge Vilhelmsen"},367,364,0,""]
["","",365,{"$f":"IF(Deltagere!C368=\"\",\"\",Deltagere!C368)","v":"Ole Bæk Olsen"},368,365,0,""]
["","",366,{"$f":"IF(Deltagere!C369=\"\",\"\",Deltagere!C369)","v":"Henrik Rasmussen"},369,366,0,""]
["","",367,{"$f":"IF(Deltagere!C370=\"\",\"\",Deltagere!C370)","v":"Janne Rasmussen"},370,367,0,""]
["","",368,{"$f":"IF(Deltagere!C371=\"\",\"\",Deltagere!C371)","v":"Frank Ness"},371,368,0,""]
["","",369,{"$f":"IF(Deltagere!C372=\"\",\"\",Deltagere!C372)","v":"Bente Ness"},372,369,0,""]
["","",370,{"$f":"IF(Deltagere!C373=\"\",\"\",Deltagere!C373)","v":"Bebs Andersen"},373,370,0,""]
["","",371,{"$f":"IF(Deltagere!C374=\"\",\"\",Deltagere!C374)","v":"Henrik Hansen"},374,371,0,""]
["","",372,{"$f":"IF(Deltagere!C375=\"\",\"\",Deltagere!C375)","v":"Lise Nielsen"},375,372,0,""]
["","",373,{"$f":"IF(Deltagere!C376=\"\",\"\",Deltagere!C376)","v":"Mariane Mambell"},376,373,0,""]
["","",374,{"$f":"IF(Deltagere!C377=\"\",\"\",Deltagere!C377)","v":""},"","","",""]
["","",375,{"$f":"IF(Deltagere!C378=\"\",\"\",Deltagere!C378)","v":""},"","","",""]
["","",376,{"$f":"IF(Deltagere!C379=\"\",\"\",Deltagere!C379)","v":""},"","","",""]
["","",377,{"$f":"IF(Deltagere!C380=\"\",\"\",Deltagere!C380)","v":""},"","","",""]
["","",378,{"$f":"IF(Deltagere!C381=\"\",\"\",Deltagere!C381)","v":""},"","","",""]
["","",379,{"$f":"IF(Deltagere!C382=\"\",\"\",Deltagere!C382)","v":""},"","","",""]
["","",380,{"$f":"IF(Deltagere!C383=\"\",\"\",Deltagere!C383)","v":""},"","","",""]
["","",381,{"$f":"IF(Deltagere!C384=\"\",\"\",Deltagere!C384)","v":""},"","","",""]
["","",382,{"$f":"IF(Deltagere!C385=\"\",\"\",Deltagere!C385)","v":""},"","","",""]
["","",383,{"$f":"IF(Deltagere!C386=\"\",\"\",Deltagere!C386)","v":""},"","","",""]
["","",384,{"$f":"IF(Deltagere!C387=\"\",\"\",Deltagere!C387)","v":""},"","","",""]
[{"$f":"IF(H388=\"\",\"\",IF(H388=1,\"Fejl\",\"\"))","v":""},{"$f":"IF(G388=1,\"Fejl\",\"\")","v":""},385,{"$f":"IF(Deltagere!C388=\"\",\"\",Deltagere!C388)","v":""},{"$f":"IF(D388=\"\",\"\",MATCH(D388,D$1:D$1003,0))","v":""},{"$f":"IF(D388=\"\",\"\",E388-3)","v":""},{"$f":"IF(D388=\"\",\"\",IF(C388=F388,0,1))","v":""},{"$f":"IF(D388=\"\",\"\",IF(D388=H$3,1,\"\"))","v":""}]
["","",386,{"$f":"IF(Deltagere!C389=\"\",\"\",Deltagere!C389)","v":""},"","","",""]
["","",387,{"$f":"IF(Deltagere!C390=\"\",\"\",Deltagere!C390)","v":""},"","","",""]
["","",388,{"$f":"IF(Deltagere!C391=\"\",\"\",Deltagere!C391)","v":""},"","","",""]
["","",389,{"$f":"IF(Deltagere!C392=\"\",\"\",Deltagere!C392)","v":""},"","","",""]
["","",390,{"$f":"IF(Deltagere!C393=\"\",\"\",Deltagere!C393)","v":""},"","","",""]
["","",391,{"$f":"IF(Deltagere!C394=\"\",\"\",Deltagere!C394)","v":""},"","","",""]
["","",392,{"$f":"IF(Deltagere!C395=\"\",\"\",Deltagere!C395)","v":""},"","","",""]
["","",393,{"$f":"IF(Deltagere!C396=\"\",\"\",Deltagere!C396)","v":""},"","","",""]
["","",394,{"$f":"IF(Deltagere!C397=\"\",\"\",Deltagere!C397)","v":""},"","","",""]
["","",395,{"$f":"IF(Deltagere!C398=\"\",\"\",Deltagere!C398)","v":""},"","","",""]
["","",396,{"$f":"IF(Deltagere!C399=\"\",\"\",Deltagere!C399)","v":""},"","","",""]
["","",397,{"$f":"IF(Deltagere!C400=\"\",\"\",Deltagere!C400)","v":""},"","","",""]
["","",398,{"$f":"IF(Deltagere!C401=\"\",\"\",Deltagere!C401)","v":""},"","","",""]
["","",399,{"$f":"IF(Deltagere!C402=\"\",\"\",Deltagere!C402)","v":""},"","","",""]
["","",400,{"$f":"IF(Deltagere!C403=\"\",\"\",Deltagere!C403)","v":""},"","","",""]
["","",401,{"$f":"IF(Deltagere!C404=\"\",\"\",Deltagere!C404)","v":"Hilmer Kampsø"},404,401,0,""]
["","",402,{"$f":"IF(Deltagere!C405=\"\",\"\",Deltagere!C405)","v":"Walter Henriques"},405,402,0,""]
["","",403,{"$f":"IF(Deltagere!C406=\"\",\"\",Deltagere!C406)","v":"Per Jensen"},406,403,0,""]
["","",404,{"$f":"IF(Deltagere!C407=\"\",\"\",Deltagere!C407)","v":"Michael Nørholt"},407,404,0,""]
["","",405,{"$f":"IF(Deltagere!C408=\"\",\"\",Deltagere!C408)","v":"Natacha Uhre"},408,405,0,""]
["","",406,{"$f":"IF(Deltagere!C409=\"\",\"\",Deltagere!C409)","v":"Torben Jensen"},409,406,0,""]
["","",407,{"$f":"IF(Deltagere!C410=\"\",\"\",Deltagere!C410)","v":"Ida U."},410,407,0,""]
["","",408,{"$f":"IF(Deltagere!C411=\"\",\"\",Deltagere!C411)","v":"Niels Esbech"},411,408,0,""]
["","",409,{"$f":"IF(Deltagere!C412=\"\",\"\",Deltagere!C412)","v":"DirchThøgersen"},412,409,0,""]
["","",410,{"$f":"IF(Deltagere!C413=\"\",\"\",Deltagere!C413)","v":"Isabel Laier"},413,410,0,""]
["","",411,{"$f":"IF(Deltagere!C414=\"\",\"\",Deltagere!C414)","v":"Rene Rafen"},414,411,0,""]
["","",412,{"$f":"IF(Deltagere!C415=\"\",\"\",Deltagere!C415)","v":"Susanne Kuhnau"},415,412,0,""]
["","",413,{"$f":"IF(Deltagere!C416=\"\",\"\",Deltagere!C416)","v":"Steen Møller"},416,413,0,""]
["","",414,{"$f":"IF(Deltagere!C417=\"\",\"\",Deltagere!C417)","v":"Søren Holger Jensen"},417,414,0,""]
["","",415,{"$f":"IF(Deltagere!C418=\"\",\"\",Deltagere!C418)","v":"Betina Kuhnau"},418,415,0,""]
["","",416,{"$f":"IF(Deltagere!C419=\"\",\"\",Deltagere!C419)","v":"Henrik Binderup"},419,416,0,""]
["","",417,{"$f":"IF(Deltagere!C420=\"\",\"\",Deltagere!C420)","v":"Lene Agergaard"},420,417,0,""]
["","",418,{"$f":"IF(Deltagere!C421=\"\",\"\",Deltagere!C421)","v":"Stine Olsen"},421,418,0,""]
["","",419,{"$f":"IF(Deltagere!C422=\"\",\"\",Deltagere!C422)","v":""},"","","",""]
["","",420,{"$f":"IF(Deltagere!C423=\"\",\"\",Deltagere!C423)","v":""},"","","",""]
["","",421,{"$f":"IF(Deltagere!C424=\"\",\"\",Deltagere!C424)","v":""},"","","",""]
["","",422,{"$f":"IF(Deltagere!C425=\"\",\"\",Deltagere!C425)","v":""},"","","",""]
["","",423,{"$f":"IF(Deltagere!C426=\"\",\"\",Deltagere!C426)","v":""},"","","",""]
["","",424,{"$f":"IF(Deltagere!C427=\"\",\"\",Deltagere!C427)","v":""},"","","",""]
["","",425,{"$f":"IF(Deltagere!C428=\"\",\"\",Deltagere!C428)","v":""},"","","",""]
["","",426,{"$f":"IF(Deltagere!C429=\"\",\"\",Deltagere!C429)","v":""},"","","",""]
["","",427,{"$f":"IF(Deltagere!C430=\"\",\"\",Deltagere!C430)","v":""},"","","",""]
["","",428,{"$f":"IF(Deltagere!C431=\"\",\"\",Deltagere!C431)","v":""},"","","",""]
["","",429,{"$f":"IF(Deltagere!C432=\"\",\"\",Deltagere!C432)","v":""},"","","",""]
["","",430,{"$f":"IF(Deltagere!C433=\"\",\"\",Deltagere!C433)","v":""},"","","",""]
["","",431,{"$f":"IF(Deltagere!C434=\"\",\"\",Deltagere!C434)","v":""},"","","",""]
["","",432,{"$f":"IF(Deltagere!C435=\"\",\"\",Deltagere!C435)","v":""},"","","",""]
["","",433,{"$f":"IF(Deltagere!C436=\"\",\"\",Deltagere!C436)","v":""},"","","",""]
["","",434,{"$f":"IF(Deltagere!C437=\"\",\"\",Deltagere!C437)","v":""},"","","",""]
["","",435,{"$f":"IF(Deltagere!C438=\"\",\"\",Deltagere!C438)","v":""},"","","",""]
["","",436,{"$f":"IF(Deltagere!C439=\"\",\"\",Deltagere!C439)","v":""},"","","",""]
["","",437,{"$f":"IF(Deltagere!C440=\"\",\"\",Deltagere!C440)","v":""},"","","",""]
["","",438,{"$f":"IF(Deltagere!C441=\"\",\"\",Deltagere!C441)","v":""},"","","",""]
["","",439,{"$f":"IF(Deltagere!C442=\"\",\"\",Deltagere!C442)","v":""},"","","",""]
["","",440,{"$f":"IF(Deltagere!C443=\"\",\"\",Deltagere!C443)","v":""},"","","",""]
["","",441,{"$f":"IF(Deltagere!C444=\"\",\"\",Deltagere!C444)","v":""},"","","",""]
["","",442,{"$f":"IF(Deltagere!C445=\"\",\"\",Deltagere!C445)","v":""},"","","",""]
["","",443,{"$f":"IF(Deltagere!C446=\"\",\"\",Deltagere!C446)","v":""},"","","",""]
["","",444,{"$f":"IF(Deltagere!C447=\"\",\"\",Deltagere!C447)","v":""},"","","",""]
["","",445,{"$f":"IF(Deltagere!C448=\"\",\"\",Deltagere!C448)","v":""},"","","",""]
["","",446,{"$f":"IF(Deltagere!C449=\"\",\"\",Deltagere!C449)","v":""},"","","",""]
["","",447,{"$f":"IF(Deltagere!C450=\"\",\"\",Deltagere!C450)","v":""},"","","",""]
["","",448,{"$f":"IF(Deltagere!C451=\"\",\"\",Deltagere!C451)","v":""},"","","",""]
[{"$f":"IF(H452=\"\",\"\",IF(H452=1,\"Fejl\",\"\"))","v":""},{"$f":"IF(G452=1,\"Fejl\",\"\")","v":""},449,{"$f":"IF(Deltagere!C452=\"\",\"\",Deltagere!C452)","v":""},{"$f":"IF(D452=\"\",\"\",MATCH(D452,D$1:D$1003,0))","v":""},{"$f":"IF(D452=\"\",\"\",E452-3)","v":""},{"$f":"IF(D452=\"\",\"\",IF(C452=F452,0,1))","v":""},{"$f":"IF(D452=\"\",\"\",IF(D452=H$3,1,\"\"))","v":""}]
["","",450,{"$f":"IF(Deltagere!C453=\"\",\"\",Deltagere!C453)","v":""},"","","",""]
["","",451,{"$f":"IF(Deltagere!C454=\"\",\"\",Deltagere!C454)","v":"Steen Lergard"},454,451,0,""]
["","",452,{"$f":"IF(Deltagere!C455=\"\",\"\",Deltagere!C455)","v":"Helga Andersen"},455,452,0,""]
["","",453,{"$f":"IF(Deltagere!C456=\"\",\"\",Deltagere!C456)","v":"Lone Hansen"},456,453,0,""]
["","",454,{"$f":"IF(Deltagere!C457=\"\",\"\",Deltagere!C457)","v":"Erik Wagner"},457,454,0,""]
["","",455,{"$f":"IF(Deltagere!C458=\"\",\"\",Deltagere!C458)","v":"Jette S. Olsen"},458,455,0,""]
["","",456,{"$f":"IF(Deltagere!C459=\"\",\"\",Deltagere!C459)","v":"Hans Blomhøj"},459,456,0,""]
["","",457,{"$f":"IF(Deltagere!C460=\"\",\"\",Deltagere!C460)","v":"Lisser Kristensen"},460,457,0,""]
["","",458,{"$f":"IF(Deltagere!C461=\"\",\"\",Deltagere!C461)","v":"Jørgen Hansen"},461,458,0,""]
["","",459,{"$f":"IF(Deltagere!C462=\"\",\"\",Deltagere!C462)","v":"Michael Jørgensen"},462,459,0,""]
["","",460,{"$f":"IF(Deltagere!C463=\"\",\"\",Deltagere!C463)","v":"Kaj Jacobsen"},463,460,0,""]
["","",461,{"$f":"IF(Deltagere!C464=\"\",\"\",Deltagere!C464)","v":"Hanne Hansen"},464,461,0,""]
["","",462,{"$f":"IF(Deltagere!C465=\"\",\"\",Deltagere!C465)","v":"Inge Pedersen"},465,462,0,""]
["","",463,{"$f":"IF(Deltagere!C466=\"\",\"\",Deltagere!C466)","v":"Ivan Szumlanski"},466,463,0,""]
["","",464,{"$f":"IF(Deltagere!C467=\"\",\"\",Deltagere!C467)","v":"Gytha Szumlanski"},467,464,0,""]
["","",465,{"$f":"IF(Deltagere!C468=\"\",\"\",Deltagere!C468)","v":"Ole Schjerbeck"},468,465,0,""]
["","",466,{"$f":"IF(Deltagere!C469=\"\",\"\",Deltagere!C469)","v":"Finn Jørgensen"},469,466,0,""]
["","",467,{"$f":"IF(Deltagere!C470=\"\",\"\",Deltagere!C470)","v":"Lena Kirkegaard"},470,467,0,""]
["","",468,{"$f":"IF(Deltagere!C471=\"\",\"\",Deltagere!C471)","v":"Kjeld Hansen"},471,468,0,""]
["","",469,{"$f":"IF(Deltagere!C472=\"\",\"\",Deltagere!C472)","v":"Vivi Jepsen"},472,469,0,""]
["","",470,{"$f":"IF(Deltagere!C473=\"\",\"\",Deltagere!C473)","v":"Ingrid Jensen"},473,470,0,""]
["","",471,{"$f":"IF(Deltagere!C474=\"\",\"\",Deltagere!C474)","v":"Bodil Pedersen"},474,471,0,""]
["","",472,{"$f":"IF(Deltagere!C475=\"\",\"\",Deltagere!C475)","v":"Allan Pedersen"},475,472,0,""]
["","",473,{"$f":"IF(Deltagere!C476=\"\",\"\",Deltagere!C476)","v":"Erik Schmidt"},476,473,0,""]
["","",474,{"$f":"IF(Deltagere!C477=\"\",\"\",Deltagere!C477)","v":"Liselotte Storgaard"},477,474,0,""]
["","",475,{"$f":"IF(Deltagere!C478=\"\",\"\",Deltagere!C478)","v":"Niels Jepsen"},478,475,0,""]
["","",476,{"$f":"IF(Deltagere!C479=\"\",\"\",Deltagere!C479)","v":"Christian Blid"},479,476,0,""]
["","",477,{"$f":"IF(Deltagere!C480=\"\",\"\",Deltagere!C480)","v":"Inge Sørensen"},480,477,0,""]
["","",478,{"$f":"IF(Deltagere!C481=\"\",\"\",Deltagere!C481)","v":"Allan Larsen"},481,478,0,""]
["","",479,{"$f":"IF(Deltagere!C482=\"\",\"\",Deltagere!C482)","v":"Bjørn Krogh"},482,479,0,""]
["","",480,{"$f":"IF(Deltagere!C483=\"\",\"\",Deltagere!C483)","v":"Lissi Lindberg"},483,480,0,""]
["","",481,{"$f":"IF(Deltagere!C484=\"\",\"\",Deltagere!C484)","v":"Alice Rask"},484,481,0,""]
["","",482,{"$f":"IF(Deltagere!C485=\"\",\"\",Deltagere!C485)","v":"Jim Jørgensen"},485,482,0,""]
["","",483,{"$f":"IF(Deltagere!C486=\"\",\"\",Deltagere!C486)","v":"Lone S. Nielsen"},486,483,0,""]
["","",484,{"$f":"IF(Deltagere!C487=\"\",\"\",Deltagere!C487)","v":"Majbritt Nielsen"},487,484,0,""]
["","",485,{"$f":"IF(Deltagere!C488=\"\",\"\",Deltagere!C488)","v":"Ole Nilaus Nielsen"},488,485,0,""]
["","",486,{"$f":"IF(Deltagere!C489=\"\",\"\",Deltagere!C489)","v":"Benthe Dahl"},489,486,0,""]
["","",487,{"$f":"IF(Deltagere!C490=\"\",\"\",Deltagere!C490)","v":"Susanne Blok"},490,487,0,""]
["","",488,{"$f":"IF(Deltagere!C491=\"\",\"\",Deltagere!C491)","v":"Vibeke Jørgensen"},491,488,0,""]
["","",489,{"$f":"IF(Deltagere!C492=\"\",\"\",Deltagere!C492)","v":"Lillian Søndergaard"},492,489,0,""]
["","",490,{"$f":"IF(Deltagere!C493=\"\",\"\",Deltagere!C493)","v":"Poul Bent Fischer"},493,490,0,""]
["","",491,{"$f":"IF(Deltagere!C494=\"\",\"\",Deltagere!C494)","v":"Hans Pedersen"},494,491,0,""]
["","",492,{"$f":"IF(Deltagere!C495=\"\",\"\",Deltagere!C495)","v":"Rikke Fischer N."},495,492,0,""]
["","",493,{"$f":"IF(Deltagere!C496=\"\",\"\",Deltagere!C496)","v":"Renè Jørgensen"},496,493,0,""]
["","",494,{"$f":"IF(Deltagere!C497=\"\",\"\",Deltagere!C497)","v":"Ida Olsen"},497,494,0,""]
["","",495,{"$f":"IF(Deltagere!C498=\"\",\"\",Deltagere!C498)","v":"Ole Christensen"},498,495,0,""]
["","",496,{"$f":"IF(Deltagere!C499=\"\",\"\",Deltagere!C499)","v":"Elsa Banzhaf"},499,496,0,""]
["","",497,{"$f":"IF(Deltagere!C500=\"\",\"\",Deltagere!C500)","v":"Ib M. Jensen"},500,497,0,""]
["","",498,{"$f":"IF(Deltagere!C501=\"\",\"\",Deltagere!C501)","v":"Peter Christensen"},501,498,0,""]
["","",499,{"$f":"IF(Deltagere!C502=\"\",\"\",Deltagere!C502)","v":"Jannie Christensen"},502,499,0,""]
["","",500,{"$f":"IF(Deltagere!C503=\"\",\"\",Deltagere!C503)","v":"Birgit Larsen"},503,500,0,""]
["","",501,{"$f":"IF(Deltagere!C504=\"\",\"\",Deltagere!C504)","v":"Jonna Hansen"},504,501,0,""]
["","",502,{"$f":"IF(Deltagere!C505=\"\",\"\",Deltagere!C505)","v":""},"","","",""]
["","",503,{"$f":"IF(Deltagere!C506=\"\",\"\",Deltagere!C506)","v":"Lis Holsdorf"},506,503,0,""]
["","",504,{"$f":"IF(Deltagere!C507=\"\",\"\",Deltagere!C507)","v":""},"","","",""]
["","",505,{"$f":"IF(Deltagere!C508=\"\",\"\",Deltagere!C508)","v":""},"","","",""]
["","",506,{"$f":"IF(Deltagere!C509=\"\",\"\",Deltagere!C509)","v":""},"","","",""]
["","",507,{"$f":"IF(Deltagere!C510=\"\",\"\",Deltagere!C510)","v":"Ellinor Petersen"},510,507,0,""]
["","",508,{"$f":"IF(Deltagere!C511=\"\",\"\",Deltagere!C511)","v":"Lisbeth Reland"},511,508,0,""]
["","",509,{"$f":"IF(Deltagere!C512=\"\",\"\",Deltagere!C512)","v":""},"","","",""]
["","",510,{"$f":"IF(Deltagere!C513=\"\",\"\",Deltagere!C513)","v":""},"","","",""]
["","",511,{"$f":"IF(Deltagere!C514=\"\",\"\",Deltagere!C514)","v":""},"","","",""]
["","",512,{"$f":"IF(Deltagere!C515=\"\",\"\",Deltagere!C515)","v":""},"","","",""]
[{"$f":"IF(H516=\"\",\"\",IF(H516=1,\"Fejl\",\"\"))","v":""},{"$f":"IF(G516=1,\"Fejl\",\"\")","v":""},513,{"$f":"IF(Deltagere!C516=\"\",\"\",Deltagere!C516)","v":""},{"$f":"IF(D516=\"\",\"\",MATCH(D516,D$1:D$1003,0))","v":""},{"$f":"IF(D516=\"\",\"\",E516-3)","v":""},{"$f":"IF(D516=\"\",\"\",IF(C516=F516,0,1))","v":""},{"$f":"IF(D516=\"\",\"\",IF(D516=H$3,1,\"\"))","v":""}]
["","",514,{"$f":"IF(Deltagere!C517=\"\",\"\",Deltagere!C517)","v":""},"","","",""]
["","",515,{"$f":"IF(Deltagere!C518=\"\",\"\",Deltagere!C518)","v":""},"","","",""]
["","",516,{"$f":"IF(Deltagere!C519=\"\",\"\",Deltagere!C519)","v":""},"","","",""]
["","",517,{"$f":"IF(Deltagere!C520=\"\",\"\",Deltagere!C520)","v":""},"","","",""]
["","",518,{"$f":"IF(Deltagere!C521=\"\",\"\",Deltagere!C521)","v":""},"","","",""]
["","",519,{"$f":"IF(Deltagere!C522=\"\",\"\",Deltagere!C522)","v":""},"","","",""]
["","",520,{"$f":"IF(Deltagere!C523=\"\",\"\",Deltagere!C523)","v":""},"","","",""]
["","",521,{"$f":"IF(Deltagere!C524=\"\",\"\",Deltagere!C524)","v":""},"","","",""]
["","",522,{"$f":"IF(Deltagere!C525=\"\",\"\",Deltagere!C525)","v":""},"","","",""]
["","",523,{"$f":"IF(Deltagere!C526=\"\",\"\",Deltagere!C526)","v":""},"","","",""]
["","",524,{"$f":"IF(Deltagere!C527=\"\",\"\",Deltagere!C527)","v":""},"","","",""]
["","",525,{"$f":"IF(Deltagere!C528=\"\",\"\",Deltagere!C528)","v":""},"","","",""]
["","",526,{"$f":"IF(Deltagere!C529=\"\",\"\",Deltagere!C529)","v":""},"","","",""]
["","",527,{"$f":"IF(Deltagere!C530=\"\",\"\",Deltagere!C530)","v":""},"","","",""]
["","",528,{"$f":"IF(Deltagere!C531=\"\",\"\",Deltagere!C531)","v":""},"","","",""]
["","",529,{"$f":"IF(Deltagere!C532=\"\",\"\",Deltagere!C532)","v":""},"","","",""]
["","",530,{"$f":"IF(Deltagere!C533=\"\",\"\",Deltagere!C533)","v":""},"","","",""]
["","",531,{"$f":"IF(Deltagere!C534=\"\",\"\",Deltagere!C534)","v":""},"","","",""]
["","",532,{"$f":"IF(Deltagere!C535=\"\",\"\",Deltagere!C535)","v":""},"","","",""]
["","",533,{"$f":"IF(Deltagere!C536=\"\",\"\",Deltagere!C536)","v":""},"","","",""]
["","",534,{"$f":"IF(Deltagere!C537=\"\",\"\",Deltagere!C537)","v":""},"","","",""]
["","",535,{"$f":"IF(Deltagere!C538=\"\",\"\",Deltagere!C538)","v":""},"","","",""]
["","",536,{"$f":"IF(Deltagere!C539=\"\",\"\",Deltagere!C539)","v":""},"","","",""]
["","",537,{"$f":"IF(Deltagere!C540=\"\",\"\",Deltagere!C540)","v":""},"","","",""]
["","",538,{"$f":"IF(Deltagere!C541=\"\",\"\",Deltagere!C541)","v":""},"","","",""]
["","",539,{"$f":"IF(Deltagere!C542=\"\",\"\",Deltagere!C542)","v":""},"","","",""]
["","",540,{"$f":"IF(Deltagere!C543=\"\",\"\",Deltagere!C543)","v":""},"","","",""]
["","",541,{"$f":"IF(Deltagere!C544=\"\",\"\",Deltagere!C544)","v":""},"","","",""]
["","",542,{"$f":"IF(Deltagere!C545=\"\",\"\",Deltagere!C545)","v":""},"","","",""]
["","",543,{"$f":"IF(Deltagere!C546=\"\",\"\",Deltagere!C546)","v":""},"","","",""]
["","",544,{"$f":"IF(Deltagere!C547=\"\",\"\",Deltagere!C547)","v":""},"","","",""]
["","",545,{"$f":"IF(Deltagere!C548=\"\",\"\",Deltagere!C548)","v":""},"","","",""]
["","",546,{"$f":"IF(Deltagere!C549=\"\",\"\",Deltagere!C549)","v":""},"","","",""]
["","",547,{"$f":"IF(Deltagere!C550=\"\",\"\",Deltagere!C550)","v":""},"","","",""]
["","",548,{"$f":"IF(Deltagere!C551=\"\",\"\",Deltagere!C551)","v":""},"","","",""]
["","",549,{"$f":"IF(Deltagere!C552=\"\",\"\",Deltagere!C552)","v":""},"","","",""]
["","",550,{"$f":"IF(Deltagere!C553=\"\",\"\",Deltagere!C553)","v":""},"","","",""]
["","",551,{"$f":"IF(Deltagere!C554=\"\",\"\",Deltagere!C554)","v":"Jan Manfred"},554,551,0,""]
["","",552,{"$f":"IF(Deltagere!C555=\"\",\"\",Deltagere!C555)","v":"Suzanne Grønlund"},555,552,0,""]
["","",553,{"$f":"IF(Deltagere!C556=\"\",\"\",Deltagere!C556)","v":""},"","","",""]
["","",554,{"$f":"IF(Deltagere!C557=\"\",\"\",Deltagere!C557)","v":""},"","","",""]
["","",555,{"$f":"IF(Deltagere!C558=\"\",\"\",Deltagere!C558)","v":""},"","","",""]
["","",556,{"$f":"IF(Deltagere!C559=\"\",\"\",Deltagere!C559)","v":""},"","","",""]
["","",557,{"$f":"IF(Deltagere!C560=\"\",\"\",Deltagere!C560)","v":""},"","","",""]
["","",558,{"$f":"IF(Deltagere!C561=\"\",\"\",Deltagere!C561)","v":""},"","","",""]
["","",559,{"$f":"IF(Deltagere!C562=\"\",\"\",Deltagere!C562)","v":""},"","","",""]
["","",560,{"$f":"IF(Deltagere!C563=\"\",\"\",Deltagere!C563)","v":""},"","","",""]
["","",561,{"$f":"IF(Deltagere!C564=\"\",\"\",Deltagere!C564)","v":""},"","","",""]
["","",562,{"$f":"IF(Deltagere!C565=\"\",\"\",Deltagere!C565)","v":""},"","","",""]
["","",563,{"$f":"IF(Deltagere!C566=\"\",\"\",Deltagere!C566)","v":""},"","","",""]
["","",564,{"$f":"IF(Deltagere!C567=\"\",\"\",Deltagere!C567)","v":""},"","","",""]
["","",565,{"$f":"IF(Deltagere!C568=\"\",\"\",Deltagere!C568)","v":""},"","","",""]
["","",566,{"$f":"IF(Deltagere!C569=\"\",\"\",Deltagere!C569)","v":""},"","","",""]
["","",567,{"$f":"IF(Deltagere!C570=\"\",\"\",Deltagere!C570)","v":""},"","","",""]
["","",568,{"$f":"IF(Deltagere!C571=\"\",\"\",Deltagere!C571)","v":""},"","","",""]
["","",569,{"$f":"IF(Deltagere!C572=\"\",\"\",Deltagere!C572)","v":""},"","","",""]
["","",570,{"$f":"IF(Deltagere!C573=\"\",\"\",Deltagere!C573)","v":""},"","","",""]
["","",571,{"$f":"IF(Deltagere!C574=\"\",\"\",Deltagere!C574)","v":""},"","","",""]
["","",572,{"$f":"IF(Deltagere!C575=\"\",\"\",Deltagere!C575)","v":""},"","","",""]
["","",573,{"$f":"IF(Deltagere!C576=\"\",\"\",Deltagere!C576)","v":""},"","","",""]
["","",574,{"$f":"IF(Deltagere!C577=\"\",\"\",Deltagere!C577)","v":""},"","","",""]
["","",575,{"$f":"IF(Deltagere!C578=\"\",\"\",Deltagere!C578)","v":""},"","","",""]
["","",576,{"$f":"IF(Deltagere!C579=\"\",\"\",Deltagere!C579)","v":""},"","","",""]
[{"$f":"IF(H580=\"\",\"\",IF(H580=1,\"Fejl\",\"\"))","v":""},{"$f":"IF(G580=1,\"Fejl\",\"\")","v":""},577,{"$f":"IF(Deltagere!C580=\"\",\"\",Deltagere!C580)","v":""},{"$f":"IF(D580=\"\",\"\",MATCH(D580,D$1:D$1003,0))","v":""},{"$f":"IF(D580=\"\",\"\",E580-3)","v":""},{"$f":"IF(D580=\"\",\"\",IF(C580=F580,0,1))","v":""},{"$f":"IF(D580=\"\",\"\",IF(D580=H$3,1,\"\"))","v":""}]
["","",578,{"$f":"IF(Deltagere!C581=\"\",\"\",Deltagere!C581)","v":""},"","","",""]
["","",579,{"$f":"IF(Deltagere!C582=\"\",\"\",Deltagere!C582)","v":""},"","","",""]
["","",580,{"$f":"IF(Deltagere!C583=\"\",\"\",Deltagere!C583)","v":""},"","","",""]
["","",581,{"$f":"IF(Deltagere!C584=\"\",\"\",Deltagere!C584)","v":""},"","","",""]
["","",582,{"$f":"IF(Deltagere!C585=\"\",\"\",Deltagere!C585)","v":""},"","","",""]
["","",583,{"$f":"IF(Deltagere!C586=\"\",\"\",Deltagere!C586)","v":""},"","","",""]
["","",584,{"$f":"IF(Deltagere!C587=\"\",\"\",Deltagere!C587)","v":""},"","","",""]
["","",585,{"$f":"IF(Deltagere!C588=\"\",\"\",Deltagere!C588)","v":""},"","","",""]
["","",586,{"$f":"IF(Deltagere!C589=\"\",\"\",Deltagere!C589)","v":""},"","","",""]
["","",587,{"$f":"IF(Deltagere!C590=\"\",\"\",Deltagere!C590)","v":""},"","","",""]
["","",588,{"$f":"IF(Deltagere!C591=\"\",\"\",Deltagere!C591)","v":""},"","","",""]
["","",589,{"$f":"IF(Deltagere!C592=\"\",\"\",Deltagere!C592)","v":""},"","","",""]
["","",590,{"$f":"IF(Deltagere!C593=\"\",\"\",Deltagere!C593)","v":""},"","","",""]
["","",591,{"$f":"IF(Deltagere!C594=\"\",\"\",Deltagere!C594)","v":""},"","","",""]
["","",592,{"$f":"IF(Deltagere!C595=\"\",\"\",Deltagere!C595)","v":""},"","","",""]
["","",593,{"$f":"IF(Deltagere!C596=\"\",\"\",Deltagere!C596)","v":""},"","","",""]
["","",594,{"$f":"IF(Deltagere!C597=\"\",\"\",Deltagere!C597)","v":""},"","","",""]
["","",595,{"$f":"IF(Deltagere!C598=\"\",\"\",Deltagere!C598)","v":""},"","","",""]
["","",596,{"$f":"IF(Deltagere!C599=\"\",\"\",Deltagere!C599)","v":""},"","","",""]
["","",597,{"$f":"IF(Deltagere!C600=\"\",\"\",Deltagere!C600)","v":""},"","","",""]
["","",598,{"$f":"IF(Deltagere!C601=\"\",\"\",Deltagere!C601)","v":""},"","","",""]
["","",599,{"$f":"IF(Deltagere!C602=\"\",\"\",Deltagere!C602)","v":""},"","","",""]
["","",600,{"$f":"IF(Deltagere!C603=\"\",\"\",Deltagere!C603)","v":""},"","","",""]
["","",601,{"$f":"IF(Deltagere!C604=\"\",\"\",Deltagere!C604)","v":"Anders Jørgensen"},604,601,0,""]
["","",602,{"$f":"IF(Deltagere!C605=\"\",\"\",Deltagere!C605)","v":"Kian Andersen"},605,602,0,""]
["","",603,{"$f":"IF(Deltagere!C606=\"\",\"\",Deltagere!C606)","v":"Chararlotte Jensen"},606,603,0,""]
["","",604,{"$f":"IF(Deltagere!C607=\"\",\"\",Deltagere!C607)","v":"Kennet Sørensen"},607,604,0,""]
["","",605,{"$f":"IF(Deltagere!C608=\"\",\"\",Deltagere!C608)","v":"Nicklas Sørensen"},608,605,0,""]
["","",606,{"$f":"IF(Deltagere!C609=\"\",\"\",Deltagere!C609)","v":"Kennet  Jensen"},609,606,0,""]
["","",607,{"$f":"IF(Deltagere!C610=\"\",\"\",Deltagere!C610)","v":"Renè Puggaard"},610,607,0,""]
["","",608,{"$f":"IF(Deltagere!C611=\"\",\"\",Deltagere!C611)","v":"Søren Skourup"},611,608,0,""]
["","",609,{"$f":"IF(Deltagere!C612=\"\",\"\",Deltagere!C612)","v":"Daniel Hansen"},612,609,0,""]
["","",610,{"$f":"IF(Deltagere!C613=\"\",\"\",Deltagere!C613)","v":"Sarah Christiansen"},613,610,0,""]
["","",611,{"$f":"IF(Deltagere!C614=\"\",\"\",Deltagere!C614)","v":"Elisabeth Holmskov"},614,611,0,""]
["","",612,{"$f":"IF(Deltagere!C615=\"\",\"\",Deltagere!C615)","v":"Adam Kristoffersen"},615,612,0,""]
["","",613,{"$f":"IF(Deltagere!C616=\"\",\"\",Deltagere!C616)","v":""},"","","",""]
["","",614,{"$f":"IF(Deltagere!C617=\"\",\"\",Deltagere!C617)","v":""},"","","",""]
["","",615,{"$f":"IF(Deltagere!C618=\"\",\"\",Deltagere!C618)","v":""},"","","",""]
["","",616,{"$f":"IF(Deltagere!C619=\"\",\"\",Deltagere!C619)","v":""},"","","",""]
["","",617,{"$f":"IF(Deltagere!C620=\"\",\"\",Deltagere!C620)","v":""},"","","",""]
["","",618,{"$f":"IF(Deltagere!C621=\"\",\"\",Deltagere!C621)","v":""},"","","",""]
["","",619,{"$f":"IF(Deltagere!C622=\"\",\"\",Deltagere!C622)","v":""},"","","",""]
["","",620,{"$f":"IF(Deltagere!C623=\"\",\"\",Deltagere!C623)","v":""},"","","",""]
["","",621,{"$f":"IF(Deltagere!C624=\"\",\"\",Deltagere!C624)","v":""},"","","",""]
["","",622,{"$f":"IF(Deltagere!C625=\"\",\"\",Deltagere!C625)","v":""},"","","",""]
["","",623,{"$f":"IF(Deltagere!C626=\"\",\"\",Deltagere!C626)","v":""},"","","",""]
["","",624,{"$f":"IF(Deltagere!C627=\"\",\"\",Deltagere!C627)","v":""},"","","",""]
["","",625,{"$f":"IF(Deltagere!C628=\"\",\"\",Deltagere!C628)","v":""},"","","",""]
["","",626,{"$f":"IF(Deltagere!C629=\"\",\"\",Deltagere!C629)","v":""},"","","",""]
["","",627,{"$f":"IF(Deltagere!C630=\"\",\"\",Deltagere!C630)","v":""},"","","",""]
["","",628,{"$f":"IF(Deltagere!C631=\"\",\"\",Deltagere!C631)","v":""},"","","",""]
["","",629,{"$f":"IF(Deltagere!C632=\"\",\"\",Deltagere!C632)","v":""},"","","",""]
["","",630,{"$f":"IF(Deltagere!C633=\"\",\"\",Deltagere!C633)","v":""},"","","",""]
["","",631,{"$f":"IF(Deltagere!C634=\"\",\"\",Deltagere!C634)","v":""},"","","",""]
["","",632,{"$f":"IF(Deltagere!C635=\"\",\"\",Deltagere!C635)","v":""},"","","",""]
["","",633,{"$f":"IF(Deltagere!C636=\"\",\"\",Deltagere!C636)","v":""},"","","",""]
["","",634,{"$f":"IF(Deltagere!C637=\"\",\"\",Deltagere!C637)","v":""},"","","",""]
["","",635,{"$f":"IF(Deltagere!C638=\"\",\"\",Deltagere!C638)","v":""},"","","",""]
["","",636,{"$f":"IF(Deltagere!C639=\"\",\"\",Deltagere!C639)","v":""},"","","",""]
["","",637,{"$f":"IF(Deltagere!C640=\"\",\"\",Deltagere!C640)","v":""},"","","",""]
["","",638,{"$f":"IF(Deltagere!C641=\"\",\"\",Deltagere!C641)","v":""},"","","",""]
["","",639,{"$f":"IF(Deltagere!C642=\"\",\"\",Deltagere!C642)","v":""},"","","",""]
["","",640,{"$f":"IF(Deltagere!C643=\"\",\"\",Deltagere!C643)","v":""},"","","",""]
[{"$f":"IF(H644=\"\",\"\",IF(H644=1,\"Fejl\",\"\"))","v":""},{"$f":"IF(G644=1,\"Fejl\",\"\")","v":""},641,{"$f":"IF(Deltagere!C644=\"\",\"\",Deltagere!C644)","v":""},{"$f":"IF(D644=\"\",\"\",MATCH(D644,D$1:D$1003,0))","v":""},{"$f":"IF(D644=\"\",\"\",E644-3)","v":""},{"$f":"IF(D644=\"\",\"\",IF(C644=F644,0,1))","v":""},{"$f":"IF(D644=\"\",\"\",IF(D644=H$3,1,\"\"))","v":""}]
["","",642,{"$f":"IF(Deltagere!C645=\"\",\"\",Deltagere!C645)","v":""},"","","",""]
["","",643,{"$f":"IF(Deltagere!C646=\"\",\"\",Deltagere!C646)","v":""},"","","",""]
["","",644,{"$f":"IF(Deltagere!C647=\"\",\"\",Deltagere!C647)","v":""},"","","",""]
["","",645,{"$f":"IF(Deltagere!C648=\"\",\"\",Deltagere!C648)","v":""},"","","",""]
["","",646,{"$f":"IF(Deltagere!C649=\"\",\"\",Deltagere!C649)","v":""},"","","",""]
["","",647,{"$f":"IF(Deltagere!C650=\"\",\"\",Deltagere!C650)","v":""},"","","",""]
["","",648,{"$f":"IF(Deltagere!C651=\"\",\"\",Deltagere!C651)","v":""},"","","",""]
["","",649,{"$f":"IF(Deltagere!C652=\"\",\"\",Deltagere!C652)","v":""},"","","",""]
["","",650,{"$f":"IF(Deltagere!C653=\"\",\"\",Deltagere!C653)","v":""},"","","",""]
["","",651,{"$f":"IF(Deltagere!C654=\"\",\"\",Deltagere!C654)","v":""},"","","",""]
["","",652,{"$f":"IF(Deltagere!C655=\"\",\"\",Deltagere!C655)","v":""},"","","",""]
["","",653,{"$f":"IF(Deltagere!C656=\"\",\"\",Deltagere!C656)","v":""},"","","",""]
["","",654,{"$f":"IF(Deltagere!C657=\"\",\"\",Deltagere!C657)","v":""},"","","",""]
["","",655,{"$f":"IF(Deltagere!C658=\"\",\"\",Deltagere!C658)","v":""},"","","",""]
["","",656,{"$f":"IF(Deltagere!C659=\"\",\"\",Deltagere!C659)","v":""},"","","",""]
["","",657,{"$f":"IF(Deltagere!C660=\"\",\"\",Deltagere!C660)","v":""},"","","",""]
["","",658,{"$f":"IF(Deltagere!C661=\"\",\"\",Deltagere!C661)","v":""},"","","",""]
["","",659,{"$f":"IF(Deltagere!C662=\"\",\"\",Deltagere!C662)","v":""},"","","",""]
["","",660,{"$f":"IF(Deltagere!C663=\"\",\"\",Deltagere!C663)","v":""},"","","",""]
["","",661,{"$f":"IF(Deltagere!C664=\"\",\"\",Deltagere!C664)","v":""},"","","",""]
["","",662,{"$f":"IF(Deltagere!C665=\"\",\"\",Deltagere!C665)","v":""},"","","",""]
["","",663,{"$f":"IF(Deltagere!C666=\"\",\"\",Deltagere!C666)","v":""},"","","",""]
["","",664,{"$f":"IF(Deltagere!C667=\"\",\"\",Deltagere!C667)","v":""},"","","",""]
["","",665,{"$f":"IF(Deltagere!C668=\"\",\"\",Deltagere!C668)","v":""},"","","",""]
["","",666,{"$f":"IF(Deltagere!C669=\"\",\"\",Deltagere!C669)","v":""},"","","",""]
["","",667,{"$f":"IF(Deltagere!C670=\"\",\"\",Deltagere!C670)","v":""},"","","",""]
["","",668,{"$f":"IF(Deltagere!C671=\"\",\"\",Deltagere!C671)","v":""},"","","",""]
["","",669,{"$f":"IF(Deltagere!C672=\"\",\"\",Deltagere!C672)","v":""},"","","",""]
["","",670,{"$f":"IF(Deltagere!C673=\"\",\"\",Deltagere!C673)","v":""},"","","",""]
["","",671,{"$f":"IF(Deltagere!C674=\"\",\"\",Deltagere!C674)","v":""},"","","",""]
["","",672,{"$f":"IF(Deltagere!C675=\"\",\"\",Deltagere!C675)","v":""},"","","",""]
["","",673,{"$f":"IF(Deltagere!C676=\"\",\"\",Deltagere!C676)","v":""},"","","",""]
["","",674,{"$f":"IF(Deltagere!C677=\"\",\"\",Deltagere!C677)","v":""},"","","",""]
["","",675,{"$f":"IF(Deltagere!C678=\"\",\"\",Deltagere!C678)","v":""},"","","",""]
["","",676,{"$f":"IF(Deltagere!C679=\"\",\"\",Deltagere!C679)","v":""},"","","",""]
["","",677,{"$f":"IF(Deltagere!C680=\"\",\"\",Deltagere!C680)","v":""},"","","",""]
["","",678,{"$f":"IF(Deltagere!C681=\"\",\"\",Deltagere!C681)","v":""},"","","",""]
["","",679,{"$f":"IF(Deltagere!C682=\"\",\"\",Deltagere!C682)","v":""},"","","",""]
["","",680,{"$f":"IF(Deltagere!C683=\"\",\"\",Deltagere!C683)","v":""},"","","",""]
["","",681,{"$f":"IF(Deltagere!C684=\"\",\"\",Deltagere!C684)","v":""},"","","",""]
["","",682,{"$f":"IF(Deltagere!C685=\"\",\"\",Deltagere!C685)","v":""},"","","",""]
["","",683,{"$f":"IF(Deltagere!C686=\"\",\"\",Deltagere!C686)","v":""},"","","",""]
["","",684,{"$f":"IF(Deltagere!C687=\"\",\"\",Deltagere!C687)","v":""},"","","",""]
["","",685,{"$f":"IF(Deltagere!C688=\"\",\"\",Deltagere!C688)","v":""},"","","",""]
["","",686,{"$f":"IF(Deltagere!C689=\"\",\"\",Deltagere!C689)","v":""},"","","",""]
["","",687,{"$f":"IF(Deltagere!C690=\"\",\"\",Deltagere!C690)","v":""},"","","",""]
["","",688,{"$f":"IF(Deltagere!C691=\"\",\"\",Deltagere!C691)","v":""},"","","",""]
["","",689,{"$f":"IF(Deltagere!C692=\"\",\"\",Deltagere!C692)","v":""},"","","",""]
["","",690,{"$f":"IF(Deltagere!C693=\"\",\"\",Deltagere!C693)","v":""},"","","",""]
["","",691,{"$f":"IF(Deltagere!C694=\"\",\"\",Deltagere!C694)","v":""},"","","",""]
["","",692,{"$f":"IF(Deltagere!C695=\"\",\"\",Deltagere!C695)","v":""},"","","",""]
["","",693,{"$f":"IF(Deltagere!C696=\"\",\"\",Deltagere!C696)","v":""},"","","",""]
["","",694,{"$f":"IF(Deltagere!C697=\"\",\"\",Deltagere!C697)","v":""},"","","",""]
["","",695,{"$f":"IF(Deltagere!C698=\"\",\"\",Deltagere!C698)","v":""},"","","",""]
["","",696,{"$f":"IF(Deltagere!C699=\"\",\"\",Deltagere!C699)","v":""},"","","",""]
["","",697,{"$f":"IF(Deltagere!C700=\"\",\"\",Deltagere!C700)","v":""},"","","",""]
["","",698,{"$f":"IF(Deltagere!C701=\"\",\"\",Deltagere!C701)","v":""},"","","",""]
["","",699,{"$f":"IF(Deltagere!C702=\"\",\"\",Deltagere!C702)","v":""},"","","",""]
["","",700,{"$f":"IF(Deltagere!C703=\"\",\"\",Deltagere!C703)","v":""},"","","",""]
["","",701,{"$f":"IF(Deltagere!C704=\"\",\"\",Deltagere!C704)","v":""},"","","",""]
["","",702,{"$f":"IF(Deltagere!C705=\"\",\"\",Deltagere!C705)","v":""},"","","",""]
["","",703,{"$f":"IF(Deltagere!C706=\"\",\"\",Deltagere!C706)","v":""},"","","",""]
["","",704,{"$f":"IF(Deltagere!C707=\"\",\"\",Deltagere!C707)","v":""},"","","",""]
[{"$f":"IF(H708=\"\",\"\",IF(H708=1,\"Fejl\",\"\"))","v":""},{"$f":"IF(G708=1,\"Fejl\",\"\")","v":""},705,{"$f":"IF(Deltagere!C708=\"\",\"\",Deltagere!C708)","v":""},{"$f":"IF(D708=\"\",\"\",MATCH(D708,D$1:D$1003,0))","v":""},{"$f":"IF(D708=\"\",\"\",E708-3)","v":""},{"$f":"IF(D708=\"\",\"\",IF(C708=F708,0,1))","v":""},{"$f":"IF(D708=\"\",\"\",IF(D708=H$3,1,\"\"))","v":""}]
["","",706,{"$f":"IF(Deltagere!C709=\"\",\"\",Deltagere!C709)","v":""},"","","",""]
["","",707,{"$f":"IF(Deltagere!C710=\"\",\"\",Deltagere!C710)","v":""},"","","",""]
["","",708,{"$f":"IF(Deltagere!C711=\"\",\"\",Deltagere!C711)","v":""},"","","",""]
["","",709,{"$f":"IF(Deltagere!C712=\"\",\"\",Deltagere!C712)","v":""},"","","",""]
["","",710,{"$f":"IF(Deltagere!C713=\"\",\"\",Deltagere!C713)","v":""},"","","",""]
["","",711,{"$f":"IF(Deltagere!C714=\"\",\"\",Deltagere!C714)","v":""},"","","",""]
["","",712,{"$f":"IF(Deltagere!C715=\"\",\"\",Deltagere!C715)","v":""},"","","",""]
["","",713,{"$f":"IF(Deltagere!C716=\"\",\"\",Deltagere!C716)","v":""},"","","",""]
["","",714,{"$f":"IF(Deltagere!C717=\"\",\"\",Deltagere!C717)","v":""},"","","",""]
["","",715,{"$f":"IF(Deltagere!C718=\"\",\"\",Deltagere!C718)","v":""},"","","",""]
["","",716,{"$f":"IF(Deltagere!C719=\"\",\"\",Deltagere!C719)","v":""},"","","",""]
["","",717,{"$f":"IF(Deltagere!C720=\"\",\"\",Deltagere!C720)","v":""},"","","",""]
["","",718,{"$f":"IF(Deltagere!C721=\"\",\"\",Deltagere!C721)","v":""},"","","",""]
["","",719,{"$f":"IF(Deltagere!C722=\"\",\"\",Deltagere!C722)","v":""},"","","",""]
["","",720,{"$f":"IF(Deltagere!C723=\"\",\"\",Deltagere!C723)","v":""},"","","",""]
["","",721,{"$f":"IF(Deltagere!C724=\"\",\"\",Deltagere!C724)","v":""},"","","",""]
["","",722,{"$f":"IF(Deltagere!C725=\"\",\"\",Deltagere!C725)","v":""},"","","",""]
["","",723,{"$f":"IF(Deltagere!C726=\"\",\"\",Deltagere!C726)","v":""},"","","",""]
["","",724,{"$f":"IF(Deltagere!C727=\"\",\"\",Deltagere!C727)","v":""},"","","",""]
["","",725,{"$f":"IF(Deltagere!C728=\"\",\"\",Deltagere!C728)","v":""},"","","",""]
["","",726,{"$f":"IF(Deltagere!C729=\"\",\"\",Deltagere!C729)","v":""},"","","",""]
["","",727,{"$f":"IF(Deltagere!C730=\"\",\"\",Deltagere!C730)","v":""},"","","",""]
["","",728,{"$f":"IF(Deltagere!C731=\"\",\"\",Deltagere!C731)","v":""},"","","",""]
["","",729,{"$f":"IF(Deltagere!C732=\"\",\"\",Deltagere!C732)","v":""},"","","",""]
["","",730,{"$f":"IF(Deltagere!C733=\"\",\"\",Deltagere!C733)","v":""},"","","",""]
["","",731,{"$f":"IF(Deltagere!C734=\"\",\"\",Deltagere!C734)","v":""},"","","",""]
["","",732,{"$f":"IF(Deltagere!C735=\"\",\"\",Deltagere!C735)","v":""},"","","",""]
["","",733,{"$f":"IF(Deltagere!C736=\"\",\"\",Deltagere!C736)","v":""},"","","",""]
["","",734,{"$f":"IF(Deltagere!C737=\"\",\"\",Deltagere!C737)","v":""},"","","",""]
["","",735,{"$f":"IF(Deltagere!C738=\"\",\"\",Deltagere!C738)","v":""},"","","",""]
["","",736,{"$f":"IF(Deltagere!C739=\"\",\"\",Deltagere!C739)","v":""},"","","",""]
["","",737,{"$f":"IF(Deltagere!C740=\"\",\"\",Deltagere!C740)","v":""},"","","",""]
["","",738,{"$f":"IF(Deltagere!C741=\"\",\"\",Deltagere!C741)","v":""},"","","",""]
["","",739,{"$f":"IF(Deltagere!C742=\"\",\"\",Deltagere!C742)","v":""},"","","",""]
["","",740,{"$f":"IF(Deltagere!C743=\"\",\"\",Deltagere!C743)","v":""},"","","",""]
["","",741,{"$f":"IF(Deltagere!C744=\"\",\"\",Deltagere!C744)","v":""},"","","",""]
["","",742,{"$f":"IF(Deltagere!C745=\"\",\"\",Deltagere!C745)","v":""},"","","",""]
["","",743,{"$f":"IF(Deltagere!C746=\"\",\"\",Deltagere!C746)","v":""},"","","",""]
["","",744,{"$f":"IF(Deltagere!C747=\"\",\"\",Deltagere!C747)","v":""},"","","",""]
["","",745,{"$f":"IF(Deltagere!C748=\"\",\"\",Deltagere!C748)","v":""},"","","",""]
["","",746,{"$f":"IF(Deltagere!C749=\"\",\"\",Deltagere!C749)","v":""},"","","",""]
["","",747,{"$f":"IF(Deltagere!C750=\"\",\"\",Deltagere!C750)","v":""},"","","",""]
["","",748,{"$f":"IF(Deltagere!C751=\"\",\"\",Deltagere!C751)","v":""},"","","",""]
["","",749,{"$f":"IF(Deltagere!C752=\"\",\"\",Deltagere!C752)","v":""},"","","",""]
["","",750,{"$f":"IF(Deltagere!C753=\"\",\"\",Deltagere!C753)","v":""},"","","",""]
["","",751,{"$f":"IF(Deltagere!C754=\"\",\"\",Deltagere!C754)","v":""},"","","",""]
["","",752,{"$f":"IF(Deltagere!C755=\"\",\"\",Deltagere!C755)","v":""},"","","",""]
["","",753,{"$f":"IF(Deltagere!C756=\"\",\"\",Deltagere!C756)","v":""},"","","",""]
["","",754,{"$f":"IF(Deltagere!C757=\"\",\"\",Deltagere!C757)","v":""},"","","",""]
["","",755,{"$f":"IF(Deltagere!C758=\"\",\"\",Deltagere!C758)","v":""},"","","",""]
["","",756,{"$f":"IF(Deltagere!C759=\"\",\"\",Deltagere!C759)","v":""},"","","",""]
["","",757,{"$f":"IF(Deltagere!C760=\"\",\"\",Deltagere!C760)","v":""},"","","",""]
["","",758,{"$f":"IF(Deltagere!C761=\"\",\"\",Deltagere!C761)","v":""},"","","",""]
["","",759,{"$f":"IF(Deltagere!C762=\"\",\"\",Deltagere!C762)","v":""},"","","",""]
["","",760,{"$f":"IF(Deltagere!C763=\"\",\"\",Deltagere!C763)","v":""},"","","",""]
["","",761,{"$f":"IF(Deltagere!C764=\"\",\"\",Deltagere!C764)","v":""},"","","",""]
["","",762,{"$f":"IF(Deltagere!C765=\"\",\"\",Deltagere!C765)","v":""},"","","",""]
["","",763,{"$f":"IF(Deltagere!C766=\"\",\"\",Deltagere!C766)","v":""},"","","",""]
["","",764,{"$f":"IF(Deltagere!C767=\"\",\"\",Deltagere!C767)","v":""},"","","",""]
["","",765,{"$f":"IF(Deltagere!C768=\"\",\"\",Deltagere!C768)","v":""},"","","",""]
["","",766,{"$f":"IF(Deltagere!C769=\"\",\"\",Deltagere!C769)","v":""},"","","",""]
["","",767,{"$f":"IF(Deltagere!C770=\"\",\"\",Deltagere!C770)","v":""},"","","",""]
["","",768,{"$f":"IF(Deltagere!C771=\"\",\"\",Deltagere!C771)","v":""},"","","",""]
[{"$f":"IF(H772=\"\",\"\",IF(H772=1,\"Fejl\",\"\"))","v":""},{"$f":"IF(G772=1,\"Fejl\",\"\")","v":""},769,{"$f":"IF(Deltagere!C772=\"\",\"\",Deltagere!C772)","v":""},{"$f":"IF(D772=\"\",\"\",MATCH(D772,D$1:D$1003,0))","v":""},{"$f":"IF(D772=\"\",\"\",E772-3)","v":""},{"$f":"IF(D772=\"\",\"\",IF(C772=F772,0,1))","v":""},{"$f":"IF(D772=\"\",\"\",IF(D772=H$3,1,\"\"))","v":""}]
["","",770,{"$f":"IF(Deltagere!C773=\"\",\"\",Deltagere!C773)","v":""},"","","",""]
["","",771,{"$f":"IF(Deltagere!C774=\"\",\"\",Deltagere!C774)","v":""},"","","",""]
["","",772,{"$f":"IF(Deltagere!C775=\"\",\"\",Deltagere!C775)","v":""},"","","",""]
["","",773,{"$f":"IF(Deltagere!C776=\"\",\"\",Deltagere!C776)","v":""},"","","",""]
["","",774,{"$f":"IF(Deltagere!C777=\"\",\"\",Deltagere!C777)","v":""},"","","",""]
["","",775,{"$f":"IF(Deltagere!C778=\"\",\"\",Deltagere!C778)","v":""},"","","",""]
["","",776,{"$f":"IF(Deltagere!C779=\"\",\"\",Deltagere!C779)","v":""},"","","",""]
["","",777,{"$f":"IF(Deltagere!C780=\"\",\"\",Deltagere!C780)","v":""},"","","",""]
["","",778,{"$f":"IF(Deltagere!C781=\"\",\"\",Deltagere!C781)","v":""},"","","",""]
["","",779,{"$f":"IF(Deltagere!C782=\"\",\"\",Deltagere!C782)","v":""},"","","",""]
["","",780,{"$f":"IF(Deltagere!C783=\"\",\"\",Deltagere!C783)","v":""},"","","",""]
["","",781,{"$f":"IF(Deltagere!C784=\"\",\"\",Deltagere!C784)","v":""},"","","",""]
["","",782,{"$f":"IF(Deltagere!C785=\"\",\"\",Deltagere!C785)","v":""},"","","",""]
["","",783,{"$f":"IF(Deltagere!C786=\"\",\"\",Deltagere!C786)","v":""},"","","",""]
["","",784,{"$f":"IF(Deltagere!C787=\"\",\"\",Deltagere!C787)","v":""},"","","",""]
["","",785,{"$f":"IF(Deltagere!C788=\"\",\"\",Deltagere!C788)","v":""},"","","",""]
["","",786,{"$f":"IF(Deltagere!C789=\"\",\"\",Deltagere!C789)","v":""},"","","",""]
["","",787,{"$f":"IF(Deltagere!C790=\"\",\"\",Deltagere!C790)","v":""},"","","",""]
["","",788,{"$f":"IF(Deltagere!C791=\"\",\"\",Deltagere!C791)","v":""},"","","",""]
["","",789,{"$f":"IF(Deltagere!C792=\"\",\"\",Deltagere!C792)","v":""},"","","",""]
["","",790,{"$f":"IF(Deltagere!C793=\"\",\"\",Deltagere!C793)","v":""},"","","",""]
["","",791,{"$f":"IF(Deltagere!C794=\"\",\"\",Deltagere!C794)","v":""},"","","",""]
["","",792,{"$f":"IF(Deltagere!C795=\"\",\"\",Deltagere!C795)","v":""},"","","",""]
["","",793,{"$f":"IF(Deltagere!C796=\"\",\"\",Deltagere!C796)","v":""},"","","",""]
["","",794,{"$f":"IF(Deltagere!C797=\"\",\"\",Deltagere!C797)","v":""},"","","",""]
["","",795,{"$f":"IF(Deltagere!C798=\"\",\"\",Deltagere!C798)","v":""},"","","",""]
["","",796,{"$f":"IF(Deltagere!C799=\"\",\"\",Deltagere!C799)","v":""},"","","",""]
["","",797,{"$f":"IF(Deltagere!C800=\"\",\"\",Deltagere!C800)","v":""},"","","",""]
["","",798,{"$f":"IF(Deltagere!C801=\"\",\"\",Deltagere!C801)","v":""},"","","",""]
["","",799,{"$f":"IF(Deltagere!C802=\"\",\"\",Deltagere!C802)","v":""},"","","",""]
["","",800,{"$f":"IF(Deltagere!C803=\"\",\"\",Deltagere!C803)","v":""},"","","",""]
["","",801,{"$f":"IF(Deltagere!C804=\"\",\"\",Deltagere!C804)","v":""},"","","",""]
["","",802,{"$f":"IF(Deltagere!C805=\"\",\"\",Deltagere!C805)","v":""},"","","",""]
["","",803,{"$f":"IF(Deltagere!C806=\"\",\"\",Deltagere!C806)","v":""},"","","",""]
["","",804,{"$f":"IF(Deltagere!C807=\"\",\"\",Deltagere!C807)","v":""},"","","",""]
["","",805,{"$f":"IF(Deltagere!C808=\"\",\"\",Deltagere!C808)","v":""},"","","",""]
["","",806,{"$f":"IF(Deltagere!C809=\"\",\"\",Deltagere!C809)","v":""},"","","",""]
["","",807,{"$f":"IF(Deltagere!C810=\"\",\"\",Deltagere!C810)","v":""},"","","",""]
["","",808,{"$f":"IF(Deltagere!C811=\"\",\"\",Deltagere!C811)","v":""},"","","",""]
["","",809,{"$f":"IF(Deltagere!C812=\"\",\"\",Deltagere!C812)","v":""},"","","",""]
["","",810,{"$f":"IF(Deltagere!C813=\"\",\"\",Deltagere!C813)","v":""},"","","",""]
["","",811,{"$f":"IF(Deltagere!C814=\"\",\"\",Deltagere!C814)","v":""},"","","",""]
["","",812,{"$f":"IF(Deltagere!C815=\"\",\"\",Deltagere!C815)","v":""},"","","",""]
["","",813,{"$f":"IF(Deltagere!C816=\"\",\"\",Deltagere!C816)","v":""},"","","",""]
["","",814,{"$f":"IF(Deltagere!C817=\"\",\"\",Deltagere!C817)","v":""},"","","",""]
["","",815,{"$f":"IF(Deltagere!C818=\"\",\"\",Deltagere!C818)","v":""},"","","",""]
["","",816,{"$f":"IF(Deltagere!C819=\"\",\"\",Deltagere!C819)","v":""},"","","",""]
["","",817,{"$f":"IF(Deltagere!C820=\"\",\"\",Deltagere!C820)","v":""},"","","",""]
["","",818,{"$f":"IF(Deltagere!C821=\"\",\"\",Deltagere!C821)","v":""},"","","",""]
["","",819,{"$f":"IF(Deltagere!C822=\"\",\"\",Deltagere!C822)","v":""},"","","",""]
["","",820,{"$f":"IF(Deltagere!C823=\"\",\"\",Deltagere!C823)","v":""},"","","",""]
["","",821,{"$f":"IF(Deltagere!C824=\"\",\"\",Deltagere!C824)","v":""},"","","",""]
["","",822,{"$f":"IF(Deltagere!C825=\"\",\"\",Deltagere!C825)","v":""},"","","",""]
["","",823,{"$f":"IF(Deltagere!C826=\"\",\"\",Deltagere!C826)","v":""},"","","",""]
["","",824,{"$f":"IF(Deltagere!C827=\"\",\"\",Deltagere!C827)","v":""},"","","",""]
["","",825,{"$f":"IF(Deltagere!C828=\"\",\"\",Deltagere!C828)","v":""},"","","",""]
["","",826,{"$f":"IF(Deltagere!C829=\"\",\"\",Deltagere!C829)","v":""},"","","",""]
["","",827,{"$f":"IF(Deltagere!C830=\"\",\"\",Deltagere!C830)","v":""},"","","",""]
["","",828,{"$f":"IF(Deltagere!C831=\"\",\"\",Deltagere!C831)","v":""},"","","",""]
["","",829,{"$f":"IF(Deltagere!C832=\"\",\"\",Deltagere!C832)","v":""},"","","",""]
["","",830,{"$f":"IF(Deltagere!C833=\"\",\"\",Deltagere!C833)","v":""},"","","",""]
["","",831,{"$f":"IF(Deltagere!C834=\"\",\"\",Deltagere!C834)","v":""},"","","",""]
["","",832,{"$f":"IF(Deltagere!C835=\"\",\"\",Deltagere!C835)","v":""},"","","",""]
[{"$f":"IF(H836=\"\",\"\",IF(H836=1,\"Fejl\",\"\"))","v":""},{"$f":"IF(G836=1,\"Fejl\",\"\")","v":""},833,{"$f":"IF(Deltagere!C836=\"\",\"\",Deltagere!C836)","v":""},{"$f":"IF(D836=\"\",\"\",MATCH(D836,D$1:D$1003,0))","v":""},{"$f":"IF(D836=\"\",\"\",E836-3)","v":""},{"$f":"IF(D836=\"\",\"\",IF(C836=F836,0,1))","v":""},{"$f":"IF(D836=\"\",\"\",IF(D836=H$3,1,\"\"))","v":""}]
["","",834,{"$f":"IF(Deltagere!C837=\"\",\"\",Deltagere!C837)","v":""},"","","",""]
["","",835,{"$f":"IF(Deltagere!C838=\"\",\"\",Deltagere!C838)","v":""},"","","",""]
["","",836,{"$f":"IF(Deltagere!C839=\"\",\"\",Deltagere!C839)","v":""},"","","",""]
["","",837,{"$f":"IF(Deltagere!C840=\"\",\"\",Deltagere!C840)","v":""},"","","",""]
["","",838,{"$f":"IF(Deltagere!C841=\"\",\"\",Deltagere!C841)","v":""},"","","",""]
["","",839,{"$f":"IF(Deltagere!C842=\"\",\"\",Deltagere!C842)","v":""},"","","",""]
["","",840,{"$f":"IF(Deltagere!C843=\"\",\"\",Deltagere!C843)","v":""},"","","",""]
["","",841,{"$f":"IF(Deltagere!C844=\"\",\"\",Deltagere!C844)","v":""},"","","",""]
["","",842,{"$f":"IF(Deltagere!C845=\"\",\"\",Deltagere!C845)","v":""},"","","",""]
["","",843,{"$f":"IF(Deltagere!C846=\"\",\"\",Deltagere!C846)","v":""},"","","",""]
["","",844,{"$f":"IF(Deltagere!C847=\"\",\"\",Deltagere!C847)","v":""},"","","",""]
["","",845,{"$f":"IF(Deltagere!C848=\"\",\"\",Deltagere!C848)","v":""},"","","",""]
["","",846,{"$f":"IF(Deltagere!C849=\"\",\"\",Deltagere!C849)","v":""},"","","",""]
["","",847,{"$f":"IF(Deltagere!C850=\"\",\"\",Deltagere!C850)","v":""},"","","",""]
["","",848,{"$f":"IF(Deltagere!C851=\"\",\"\",Deltagere!C851)","v":""},"","","",""]
["","",849,{"$f":"IF(Deltagere!C852=\"\",\"\",Deltagere!C852)","v":""},"","","",""]
["","",850,{"$f":"IF(Deltagere!C853=\"\",\"\",Deltagere!C853)","v":""},"","","",""]
["","",851,{"$f":"IF(Deltagere!C854=\"\",\"\",Deltagere!C854)","v":""},"","","",""]
["","",852,{"$f":"IF(Deltagere!C855=\"\",\"\",Deltagere!C855)","v":""},"","","",""]
["","",853,{"$f":"IF(Deltagere!C856=\"\",\"\",Deltagere!C856)","v":""},"","","",""]
["","",854,{"$f":"IF(Deltagere!C857=\"\",\"\",Deltagere!C857)","v":""},"","","",""]
["","",855,{"$f":"IF(Deltagere!C858=\"\",\"\",Deltagere!C858)","v":""},"","","",""]
["","",856,{"$f":"IF(Deltagere!C859=\"\",\"\",Deltagere!C859)","v":""},"","","",""]
["","",857,{"$f":"IF(Deltagere!C860=\"\",\"\",Deltagere!C860)","v":""},"","","",""]
["","",858,{"$f":"IF(Deltagere!C861=\"\",\"\",Deltagere!C861)","v":""},"","","",""]
["","",859,{"$f":"IF(Deltagere!C862=\"\",\"\",Deltagere!C862)","v":""},"","","",""]
["","",860,{"$f":"IF(Deltagere!C863=\"\",\"\",Deltagere!C863)","v":""},"","","",""]
["","",861,{"$f":"IF(Deltagere!C864=\"\",\"\",Deltagere!C864)","v":""},"","","",""]
["","",862,{"$f":"IF(Deltagere!C865=\"\",\"\",Deltagere!C865)","v":""},"","","",""]
["","",863,{"$f":"IF(Deltagere!C866=\"\",\"\",Deltagere!C866)","v":""},"","","",""]
["","",864,{"$f":"IF(Deltagere!C867=\"\",\"\",Deltagere!C867)","v":""},"","","",""]
["","",865,{"$f":"IF(Deltagere!C868=\"\",\"\",Deltagere!C868)","v":""},"","","",""]
["","",866,{"$f":"IF(Deltagere!C869=\"\",\"\",Deltagere!C869)","v":""},"","","",""]
["","",867,{"$f":"IF(Deltagere!C870=\"\",\"\",Deltagere!C870)","v":""},"","","",""]
["","",868,{"$f":"IF(Deltagere!C871=\"\",\"\",Deltagere!C871)","v":""},"","","",""]
["","",869,{"$f":"IF(Deltagere!C872=\"\",\"\",Deltagere!C872)","v":""},"","","",""]
["","",870,{"$f":"IF(Deltagere!C873=\"\",\"\",Deltagere!C873)","v":""},"","","",""]
["","",871,{"$f":"IF(Deltagere!C874=\"\",\"\",Deltagere!C874)","v":""},"","","",""]
["","",872,{"$f":"IF(Deltagere!C875=\"\",\"\",Deltagere!C875)","v":""},"","","",""]
["","",873,{"$f":"IF(Deltagere!C876=\"\",\"\",Deltagere!C876)","v":""},"","","",""]
["","",874,{"$f":"IF(Deltagere!C877=\"\",\"\",Deltagere!C877)","v":""},"","","",""]
["","",875,{"$f":"IF(Deltagere!C878=\"\",\"\",Deltagere!C878)","v":""},"","","",""]
["","",876,{"$f":"IF(Deltagere!C879=\"\",\"\",Deltagere!C879)","v":""},"","","",""]
["","",877,{"$f":"IF(Deltagere!C880=\"\",\"\",Deltagere!C880)","v":""},"","","",""]
["","",878,{"$f":"IF(Deltagere!C881=\"\",\"\",Deltagere!C881)","v":""},"","","",""]
["","",879,{"$f":"IF(Deltagere!C882=\"\",\"\",Deltagere!C882)","v":""},"","","",""]
["","",880,{"$f":"IF(Deltagere!C883=\"\",\"\",Deltagere!C883)","v":""},"","","",""]
["","",881,{"$f":"IF(Deltagere!C884=\"\",\"\",Deltagere!C884)","v":""},"","","",""]
["","",882,{"$f":"IF(Deltagere!C885=\"\",\"\",Deltagere!C885)","v":""},"","","",""]
["","",883,{"$f":"IF(Deltagere!C886=\"\",\"\",Deltagere!C886)","v":""},"","","",""]
["","",884,{"$f":"IF(Deltagere!C887=\"\",\"\",Deltagere!C887)","v":""},"","","",""]
["","",885,{"$f":"IF(Deltagere!C888=\"\",\"\",Deltagere!C888)","v":""},"","","",""]
["","",886,{"$f":"IF(Deltagere!C889=\"\",\"\",Deltagere!C889)","v":""},"","","",""]
["","",887,{"$f":"IF(Deltagere!C890=\"\",\"\",Deltagere!C890)","v":""},"","","",""]
["","",888,{"$f":"IF(Deltagere!C891=\"\",\"\",Deltagere!C891)","v":""},"","","",""]
["","",889,{"$f":"IF(Deltagere!C892=\"\",\"\",Deltagere!C892)","v":""},"","","",""]
["","",890,{"$f":"IF(Deltagere!C893=\"\",\"\",Deltagere!C893)","v":""},"","","",""]
["","",891,{"$f":"IF(Deltagere!C894=\"\",\"\",Deltagere!C894)","v":""},"","","",""]
["","",892,{"$f":"IF(Deltagere!C895=\"\",\"\",Deltagere!C895)","v":""},"","","",""]
["","",893,{"$f":"IF(Deltagere!C896=\"\",\"\",Deltagere!C896)","v":""},"","","",""]
["","",894,{"$f":"IF(Deltagere!C897=\"\",\"\",Deltagere!C897)","v":""},"","","",""]
["","",895,{"$f":"IF(Deltagere!C898=\"\",\"\",Deltagere!C898)","v":""},"","","",""]
["","",896,{"$f":"IF(Deltagere!C899=\"\",\"\",Deltagere!C899)","v":""},"","","",""]
[{"$f":"IF(H900=\"\",\"\",IF(H900=1,\"Fejl\",\"\"))","v":""},{"$f":"IF(G900=1,\"Fejl\",\"\")","v":""},897,{"$f":"IF(Deltagere!C900=\"\",\"\",Deltagere!C900)","v":""},{"$f":"IF(D900=\"\",\"\",MATCH(D900,D$1:D$1003,0))","v":""},{"$f":"IF(D900=\"\",\"\",E900-3)","v":""},{"$f":"IF(D900=\"\",\"\",IF(C900=F900,0,1))","v":""},{"$f":"IF(D900=\"\",\"\",IF(D900=H$3,1,\"\"))","v":""}]
["","",898,{"$f":"IF(Deltagere!C901=\"\",\"\",Deltagere!C901)","v":""},"","","",""]
["","",899,{"$f":"IF(Deltagere!C902=\"\",\"\",Deltagere!C902)","v":""},"","","",""]
["","",900,{"$f":"IF(Deltagere!C903=\"\",\"\",Deltagere!C903)","v":""},"","","",""]
["","",901,{"$f":"IF(Deltagere!C904=\"\",\"\",Deltagere!C904)","v":""},"","","",""]
["","",902,{"$f":"IF(Deltagere!C905=\"\",\"\",Deltagere!C905)","v":""},"","","",""]
["","",903,{"$f":"IF(Deltagere!C906=\"\",\"\",Deltagere!C906)","v":""},"","","",""]
["","",904,{"$f":"IF(Deltagere!C907=\"\",\"\",Deltagere!C907)","v":""},"","","",""]
["","",905,{"$f":"IF(Deltagere!C908=\"\",\"\",Deltagere!C908)","v":""},"","","",""]
["","",906,{"$f":"IF(Deltagere!C909=\"\",\"\",Deltagere!C909)","v":""},"","","",""]
["","",907,{"$f":"IF(Deltagere!C910=\"\",\"\",Deltagere!C910)","v":""},"","","",""]
["","",908,{"$f":"IF(Deltagere!C911=\"\",\"\",Deltagere!C911)","v":""},"","","",""]
["","",909,{"$f":"IF(Deltagere!C912=\"\",\"\",Deltagere!C912)","v":""},"","","",""]
["","",910,{"$f":"IF(Deltagere!C913=\"\",\"\",Deltagere!C913)","v":""},"","","",""]
["","",911,{"$f":"IF(Deltagere!C914=\"\",\"\",Deltagere!C914)","v":""},"","","",""]
["","",912,{"$f":"IF(Deltagere!C915=\"\",\"\",Deltagere!C915)","v":""},"","","",""]
["","",913,{"$f":"IF(Deltagere!C916=\"\",\"\",Deltagere!C916)","v":""},"","","",""]
["","",914,{"$f":"IF(Deltagere!C917=\"\",\"\",Deltagere!C917)","v":""},"","","",""]
["","",915,{"$f":"IF(Deltagere!C918=\"\",\"\",Deltagere!C918)","v":""},"","","",""]
["","",916,{"$f":"IF(Deltagere!C919=\"\",\"\",Deltagere!C919)","v":""},"","","",""]
["","",917,{"$f":"IF(Deltagere!C920=\"\",\"\",Deltagere!C920)","v":""},"","","",""]
["","",918,{"$f":"IF(Deltagere!C921=\"\",\"\",Deltagere!C921)","v":""},"","","",""]
["","",919,{"$f":"IF(Deltagere!C922=\"\",\"\",Deltagere!C922)","v":""},"","","",""]
["","",920,{"$f":"IF(Deltagere!C923=\"\",\"\",Deltagere!C923)","v":""},"","","",""]
["","",921,{"$f":"IF(Deltagere!C924=\"\",\"\",Deltagere!C924)","v":""},"","","",""]
["","",922,{"$f":"IF(Deltagere!C925=\"\",\"\",Deltagere!C925)","v":""},"","","",""]
["","",923,{"$f":"IF(Deltagere!C926=\"\",\"\",Deltagere!C926)","v":""},"","","",""]
["","",924,{"$f":"IF(Deltagere!C927=\"\",\"\",Deltagere!C927)","v":""},"","","",""]
["","",925,{"$f":"IF(Deltagere!C928=\"\",\"\",Deltagere!C928)","v":""},"","","",""]
["","",926,{"$f":"IF(Deltagere!C929=\"\",\"\",Deltagere!C929)","v":""},"","","",""]
["","",927,{"$f":"IF(Deltagere!C930=\"\",\"\",Deltagere!C930)","v":""},"","","",""]
["","",928,{"$f":"IF(Deltagere!C931=\"\",\"\",Deltagere!C931)","v":""},"","","",""]
["","",929,{"$f":"IF(Deltagere!C932=\"\",\"\",Deltagere!C932)","v":""},"","","",""]
["","",930,{"$f":"IF(Deltagere!C933=\"\",\"\",Deltagere!C933)","v":""},"","","",""]
["","",931,{"$f":"IF(Deltagere!C934=\"\",\"\",Deltagere!C934)","v":""},"","","",""]
["","",932,{"$f":"IF(Deltagere!C935=\"\",\"\",Deltagere!C935)","v":""},"","","",""]
["","",933,{"$f":"IF(Deltagere!C936=\"\",\"\",Deltagere!C936)","v":""},"","","",""]
["","",934,{"$f":"IF(Deltagere!C937=\"\",\"\",Deltagere!C937)","v":""},"","","",""]
["","",935,{"$f":"IF(Deltagere!C938=\"\",\"\",Deltagere!C938)","v":""},"","","",""]
["","",936,{"$f":"IF(Deltagere!C939=\"\",\"\",Deltagere!C939)","v":""},"","","",""]
["","",937,{"$f":"IF(Deltagere!C940=\"\",\"\",Deltagere!C940)","v":""},"","","",""]
["","",938,{"$f":"IF(Deltagere!C941=\"\",\"\",Deltagere!C941)","v":""},"","","",""]
["","",939,{"$f":"IF(Deltagere!C942=\"\",\"\",Deltagere!C942)","v":""},"","","",""]
["","",940,{"$f":"IF(Deltagere!C943=\"\",\"\",Deltagere!C943)","v":""},"","","",""]
["","",941,{"$f":"IF(Deltagere!C944=\"\",\"\",Deltagere!C944)","v":""},"","","",""]
["","",942,{"$f":"IF(Deltagere!C945=\"\",\"\",Deltagere!C945)","v":""},"","","",""]
["","",943,{"$f":"IF(Deltagere!C946=\"\",\"\",Deltagere!C946)","v":""},"","","",""]
["","",944,{"$f":"IF(Deltagere!C947=\"\",\"\",Deltagere!C947)","v":""},"","","",""]
["","",945,{"$f":"IF(Deltagere!C948=\"\",\"\",Deltagere!C948)","v":""},"","","",""]
["","",946,{"$f":"IF(Deltagere!C949=\"\",\"\",Deltagere!C949)","v":""},"","","",""]
["","",947,{"$f":"IF(Deltagere!C950=\"\",\"\",Deltagere!C950)","v":""},"","","",""]
["","",948,{"$f":"IF(Deltagere!C951=\"\",\"\",Deltagere!C951)","v":""},"","","",""]
["","",949,{"$f":"IF(Deltagere!C952=\"\",\"\",Deltagere!C952)","v":""},"","","",""]
["","",950,{"$f":"IF(Deltagere!C953=\"\",\"\",Deltagere!C953)","v":""},"","","",""]
["","",951,{"$f":"IF(Deltagere!C954=\"\",\"\",Deltagere!C954)","v":""},"","","",""]
["","",952,{"$f":"IF(Deltagere!C955=\"\",\"\",Deltagere!C955)","v":""},"","","",""]
["","",953,{"$f":"IF(Deltagere!C956=\"\",\"\",Deltagere!C956)","v":""},"","","",""]
["","",954,{"$f":"IF(Deltagere!C957=\"\",\"\",Deltagere!C957)","v":""},"","","",""]
["","",955,{"$f":"IF(Deltagere!C958=\"\",\"\",Deltagere!C958)","v":""},"","","",""]
["","",956,{"$f":"IF(Deltagere!C959=\"\",\"\",Deltagere!C959)","v":""},"","","",""]
["","",957,{"$f":"IF(Deltagere!C960=\"\",\"\",Deltagere!C960)","v":""},"","","",""]
["","",958,{"$f":"IF(Deltagere!C961=\"\",\"\",Deltagere!C961)","v":""},"","","",""]
["","",959,{"$f":"IF(Deltagere!C962=\"\",\"\",Deltagere!C962)","v":""},"","","",""]
["","",960,{"$f":"IF(Deltagere!C963=\"\",\"\",Deltagere!C963)","v":""},"","","",""]
[{"$f":"IF(H964=\"\",\"\",IF(H964=1,\"Fejl\",\"\"))","v":""},{"$f":"IF(G964=1,\"Fejl\",\"\")","v":""},961,{"$f":"IF(Deltagere!C964=\"\",\"\",Deltagere!C964)","v":""},{"$f":"IF(D964=\"\",\"\",MATCH(D964,D$1:D$1003,0))","v":""},{"$f":"IF(D964=\"\",\"\",E964-3)","v":""},{"$f":"IF(D964=\"\",\"\",IF(C964=F964,0,1))","v":""},{"$f":"IF(D964=\"\",\"\",IF(D964=H$3,1,\"\"))","v":""}]
["","",962,{"$f":"IF(Deltagere!C965=\"\",\"\",Deltagere!C965)","v":""},"","","",""]
["","",963,{"$f":"IF(Deltagere!C966=\"\",\"\",Deltagere!C966)","v":""},"","","",""]
["","",964,{"$f":"IF(Deltagere!C967=\"\",\"\",Deltagere!C967)","v":""},"","","",""]
["","",965,{"$f":"IF(Deltagere!C968=\"\",\"\",Deltagere!C968)","v":""},"","","",""]
["","",966,{"$f":"IF(Deltagere!C969=\"\",\"\",Deltagere!C969)","v":""},"","","",""]
["","",967,{"$f":"IF(Deltagere!C970=\"\",\"\",Deltagere!C970)","v":""},"","","",""]
["","",968,{"$f":"IF(Deltagere!C971=\"\",\"\",Deltagere!C971)","v":""},"","","",""]
["","",969,{"$f":"IF(Deltagere!C972=\"\",\"\",Deltagere!C972)","v":""},"","","",""]
["","",970,{"$f":"IF(Deltagere!C973=\"\",\"\",Deltagere!C973)","v":""},"","","",""]
["","",971,{"$f":"IF(Deltagere!C974=\"\",\"\",Deltagere!C974)","v":""},"","","",""]
["","",972,{"$f":"IF(Deltagere!C975=\"\",\"\",Deltagere!C975)","v":""},"","","",""]
["","",973,{"$f":"IF(Deltagere!C976=\"\",\"\",Deltagere!C976)","v":""},"","","",""]
["","",974,{"$f":"IF(Deltagere!C977=\"\",\"\",Deltagere!C977)","v":""},"","","",""]
["","",975,{"$f":"IF(Deltagere!C978=\"\",\"\",Deltagere!C978)","v":""},"","","",""]
["","",976,{"$f":"IF(Deltagere!C979=\"\",\"\",Deltagere!C979)","v":""},"","","",""]
["","",977,{"$f":"IF(Deltagere!C980=\"\",\"\",Deltagere!C980)","v":""},"","","",""]
["","",978,{"$f":"IF(Deltagere!C981=\"\",\"\",Deltagere!C981)","v":""},"","","",""]
["","",979,{"$f":"IF(Deltagere!C982=\"\",\"\",Deltagere!C982)","v":""},"","","",""]
["","",980,{"$f":"IF(Deltagere!C983=\"\",\"\",Deltagere!C983)","v":""},"","","",""]
["","",981,{"$f":"IF(Deltagere!C984=\"\",\"\",Deltagere!C984)","v":""},"","","",""]
["","",982,{"$f":"IF(Deltagere!C985=\"\",\"\",Deltagere!C985)","v":""},"","","",""]
["","",983,{"$f":"IF(Deltagere!C986=\"\",\"\",Deltagere!C986)","v":""},"","","",""]
["","",984,{"$f":"IF(Deltagere!C987=\"\",\"\",Deltagere!C987)","v":""},"","","",""]
["","",985,{"$f":"IF(Deltagere!C988=\"\",\"\",Deltagere!C988)","v":""},"","","",""]
["","",986,{"$f":"IF(Deltagere!C989=\"\",\"\",Deltagere!C989)","v":""},"","","",""]
["","",987,{"$f":"IF(Deltagere!C990=\"\",\"\",Deltagere!C990)","v":""},"","","",""]
["","",988,{"$f":"IF(Deltagere!C991=\"\",\"\",Deltagere!C991)","v":""},"","","",""]
["","",989,{"$f":"IF(Deltagere!C992=\"\",\"\",Deltagere!C992)","v":""},"","","",""]
["","",990,{"$f":"IF(Deltagere!C993=\"\",\"\",Deltagere!C993)","v":""},"","","",""]
["","",991,{"$f":"IF(Deltagere!C994=\"\",\"\",Deltagere!C994)","v":""},"","","",""]
["","",992,{"$f":"IF(Deltagere!C995=\"\",\"\",Deltagere!C995)","v":""},"","","",""]
["","",993,{"$f":"IF(Deltagere!C996=\"\",\"\",Deltagere!C996)","v":""},"","","",""]
["","",994,{"$f":"IF(Deltagere!C997=\"\",\"\",Deltagere!C997)","v":""},"","","",""]
["","",995,{"$f":"IF(Deltagere!C998=\"\",\"\",Deltagere!C998)","v":""},"","","",""]
["","",996,{"$f":"IF(Deltagere!C999=\"\",\"\",Deltagere!C999)","v":""},"","","",""]
["","",997,{"$f":"IF(Deltagere!C1000=\"\",\"\",Deltagere!C1000)","v":""},"","","",""]
["","",998,{"$f":"IF(Deltagere!C1001=\"\",\"\",Deltagere!C1001)","v":""},"","","",""]
["","",999,{"$f":"IF(Deltagere!C1002=\"\",\"\",Deltagere!C1002)","v":""},"","","",""]
["","",1000,{"$f":"IF(Deltagere!C1003=\"\",\"\",Deltagere!C1003)","v":""},"","","",""]

{"sheet":"Holdsammensætning  ","index":4,"n_rows":1098,"n_cols":10,"rows_kept":1098,"cut":false,"hidden":false,"merged":[]}
["        Antal Deltagere",null,"Dommere til rådighed","Antal hold","Antal hold i alt","Runde 1 - 2 ","Hold med 4","Hold med 3","Antal dommere","Antal dommere, som skal dømme i 2 runder."]
["  I alt     =",{"$f":"Deltagere!G2","v":70},{"$f":"Deltagere!H2","v":40},{"$f":"IF(B2<8,\"\",VLOOKUP(B2,'Antal hold'!B29:F69,5,FALSE))","v":{"$error":"#N/A"}},{"$f":"IF(G2=\"\",\"\",G2+H2)","v":18},null,{"$f":"IF(B2<8,\"\",VLOOKUP(B2,'Antal hold'!B5:E69,2,FALSE))","v":16},{"$f":"IF(B2<8,\"\",VLOOKUP(B2,'Antal hold'!B5:E69,3,FALSE))","v":2},{"$f":"IF(B2<8,\"\",VLOOKUP(B2,'Antal hold'!B5:E69,4,FALSE))","v":36},{"$f":"IF(B2<8,\"\",I2-C2)","v":-4}]
["Stævne hos :","BK Greve",null,null,null,null,null,"Antal hold",null,18]
[null,null,null,null,null,null,null," Dato",null,"2023-08-15"]
["Kontrol af indtastning",{"$f":"IF(Kontrol!H6=1,\"                   OK\",\"Indtastning mangler eller der er fejl\")","v":"                   OK"},null,null,{"$f":"IF(Kontrol!J6=1,\"                   OK\",\"Indtastning mangler eller der er fejl\")","v":"                   OK"}]
["Gul farve er dommer",null,"Runde 1",null,null,"Runde 2",null,"Se her hvilke klubber deltagerne "]
["Start ved hul nr.","Spiller nr.","Spiller navn","Hold ","Spiller nr.","Spiller navn",null,"             på holdene kommer fra."]
[null,308,{"$f":"IF(B8=\"\",\"\",VLOOKUP(B8,Deltagere!$B$4:$D$1003,2,FALSE))","v":"Conny Schackinger"},1,452,{"$f":"IF(E8=\"\",\"\",VLOOKUP(E8,Deltagere!$B$4:$D$1003,2,FALSE))","v":"Helga Andersen"},null,"Nr.     1 - 50   er Frederikssund"]
[1,482,{"$f":"IF(B9=\"\",\"\",VLOOKUP(B9,Deltagere!$B$4:$D$1003,2,FALSE))","v":"Jim Jørgensen"},1,75,{"$f":"IF(E9=\"\",\"\",VLOOKUP(E9,Deltagere!$B$4:$D$1003,2,FALSE))","v":"Peter Aare"},null,"Nr.   51 - 100 er Meløse"]
[null,454,{"$f":"IF(B10=\"\",\"\",VLOOKUP(B10,Deltagere!$B$4:$D$1003,2,FALSE))","v":"Erik Wagner"},1,311,{"$f":"IF(E10=\"\",\"\",VLOOKUP(E10,Deltagere!$B$4:$D$1003,2,FALSE))","v":"Per Aune"},null,"Nr. 101 - 150 er Hornsherred"]
[null,57,{"$f":"IF(B11=\"\",\"\",VLOOKUP(B11,Deltagere!$B$4:$D$1003,2,FALSE))","v":"Niels Aare Jensen"},1,null,{"$f":"IF(E11=\"\",\"\",VLOOKUP(E11,Deltagere!$B$4:$D$1003,2,FALSE))","v":""},null,"Nr. 151 - 200 er Ølstykke"]
[null,301,{"$f":"IF(B12=\"\",\"\",VLOOKUP(B12,Deltagere!$B$4:$D$1003,2,FALSE))","v":"Svend Faigh"},1,453,{"$f":"IF(E12=\"\",\"\",VLOOKUP(E12,Deltagere!$B$4:$D$1003,2,FALSE))","v":"Lone Hansen"},null,"Nr. 201 - 300 er Ledøje/Smørum "]
[2,481,{"$f":"IF(B13=\"\",\"\",VLOOKUP(B13,Deltagere!$B$4:$D$1003,2,FALSE))","v":"Alice Rask"},1,74,{"$f":"IF(E13=\"\",\"\",VLOOKUP(E13,Deltagere!$B$4:$D$1003,2,FALSE))","v":"Lise Qvist Bebe"},null,"Nr. 301 - 350 er BK Greve"]
[null,457,{"$f":"IF(B14=\"\",\"\",VLOOKUP(B14,Deltagere!$B$4:$D$1003,2,FALSE))","v":"Lisser Kristensen"},1,485,{"$f":"IF(E14=\"\",\"\",VLOOKUP(E14,Deltagere!$B$4:$D$1003,2,FALSE))","v":"Ole Nilaus Nielsen"},null,"Nr. 351 - 400 er Albertslund"]
[null,56,{"$f":"IF(B15=\"\",\"\",VLOOKUP(B15,Deltagere!$B$4:$D$1003,2,FALSE))","v":"Mogens Bodilsen"},1,307,{"$f":"IF(E15=\"\",\"\",VLOOKUP(E15,Deltagere!$B$4:$D$1003,2,FALSE))","v":"Åge  Zcharau"},null,"Nr. 401 - 450 er Lyngby"]
[null,328,{"$f":"IF(B16=\"\",\"\",VLOOKUP(B16,Deltagere!$B$4:$D$1003,2,FALSE))","v":"Annie Damsgaard"},1,455,{"$f":"IF(E16=\"\",\"\",VLOOKUP(E16,Deltagere!$B$4:$D$1003,2,FALSE))","v":"Jette S. Olsen"},null,"Nr. 451 - 500 er Krolffolket"]
[3,479,{"$f":"IF(B17=\"\",\"\",VLOOKUP(B17,Deltagere!$B$4:$D$1003,2,FALSE))","v":"Bjørn Krogh"},1,65,{"$f":"IF(E17=\"\",\"\",VLOOKUP(E17,Deltagere!$B$4:$D$1003,2,FALSE))","v":"Anne Marie Laustsen"},null,"Nr. 501 - 550 er Tapeten"]
[null,451,{"$f":"IF(B18=\"\",\"\",VLOOKUP(B18,Deltagere!$B$4:$D$1003,2,FALSE))","v":"Steen Lergard"},1,495,{"$f":"IF(E18=\"\",\"\",VLOOKUP(E18,Deltagere!$B$4:$D$1003,2,FALSE))","v":"Ole Christensen"},null,"Nr. 551 - 600 er Vesterbro"]
[null,60,{"$f":"IF(B19=\"\",\"\",VLOOKUP(B19,Deltagere!$B$4:$D$1003,2,FALSE))","v":"Anna Grethe Christensen"},1,310,{"$f":"IF(E19=\"\",\"\",VLOOKUP(E19,Deltagere!$B$4:$D$1003,2,FALSE))","v":"Annette Traulsen"},null,"Nr. 601 - 650 er Vikingerne"]
[null,316,{"$f":"IF(B20=\"\",\"\",VLOOKUP(B20,Deltagere!$B$4:$D$1003,2,FALSE))","v":"Preben Madsen"},1,494,{"$f":"IF(E20=\"\",\"\",VLOOKUP(E20,Deltagere!$B$4:$D$1003,2,FALSE))","v":"Ida Olsen"}]
[4,478,{"$f":"IF(B21=\"\",\"\",VLOOKUP(B21,Deltagere!$B$4:$D$1003,2,FALSE))","v":"Allan Larsen"},1,63,{"$f":"IF(E21=\"\",\"\",VLOOKUP(E21,Deltagere!$B$4:$D$1003,2,FALSE))","v":"Lennert Sørensen"}]
[null,608,{"$f":"IF(B22=\"\",\"\",VLOOKUP(B22,Deltagere!$B$4:$D$1003,2,FALSE))","v":"Søren Skourup"},1,315,{"$f":"IF(E22=\"\",\"\",VLOOKUP(E22,Deltagere!$B$4:$D$1003,2,FALSE))","v":"Tove Perlt"}]
[null,62,{"$f":"IF(B23=\"\",\"\",VLOOKUP(B23,Deltagere!$B$4:$D$1003,2,FALSE))","v":"Jørgen Hvilsom"},1,null,{"$f":"IF(E23=\"\",\"\",VLOOKUP(E23,Deltagere!$B$4:$D$1003,2,FALSE))","v":""}]
[null,305,{"$f":"IF(B24=\"\",\"\",VLOOKUP(B24,Deltagere!$B$4:$D$1003,2,FALSE))","v":"Annette Lykke Madsen"},1,458,{"$f":"IF(E24=\"\",\"\",VLOOKUP(E24,Deltagere!$B$4:$D$1003,2,FALSE))","v":"Jørgen Hansen"}]
[5,477,{"$f":"IF(B25=\"\",\"\",VLOOKUP(B25,Deltagere!$B$4:$D$1003,2,FALSE))","v":"Inge Sørensen"},1,61,{"$f":"IF(E25=\"\",\"\",VLOOKUP(E25,Deltagere!$B$4:$D$1003,2,FALSE))","v":"Annie Jensen"}]
[null,474,{"$f":"IF(B26=\"\",\"\",VLOOKUP(B26,Deltagere!$B$4:$D$1003,2,FALSE))","v":"Liselotte Storgaard"},1,488,{"$f":"IF(E26=\"\",\"\",VLOOKUP(E26,Deltagere!$B$4:$D$1003,2,FALSE))","v":"Vibeke Jørgensen"}]
[null,64,{"$f":"IF(B27=\"\",\"\",VLOOKUP(B27,Deltagere!$B$4:$D$1003,2,FALSE))","v":"Villy Jensen"},1,317,{"$f":"IF(E27=\"\",\"\",VLOOKUP(E27,Deltagere!$B$4:$D$1003,2,FALSE))","v":"Lis Rasmussen"}]
[null,327,{"$f":"IF(B28=\"\",\"\",VLOOKUP(B28,Deltagere!$B$4:$D$1003,2,FALSE))","v":"Mogens Kortegaard"},1,459,{"$f":"IF(E28=\"\",\"\",VLOOKUP(E28,Deltagere!$B$4:$D$1003,2,FALSE))","v":"Michael Jørgensen"}]
[6,476,{"$f":"IF(B29=\"\",\"\",VLOOKUP(B29,Deltagere!$B$4:$D$1003,2,FALSE))","v":"Christian Blid"},1,62,{"$f":"IF(E29=\"\",\"\",VLOOKUP(E29,Deltagere!$B$4:$D$1003,2,FALSE))","v":"Jørgen Hvilsom"}]
[null,77,{"$f":"IF(B30=\"\",\"\",VLOOKUP(B30,Deltagere!$B$4:$D$1003,2,FALSE))","v":"Preben Ludore"},1,487,{"$f":"IF(E30=\"\",\"\",VLOOKUP(E30,Deltagere!$B$4:$D$1003,2,FALSE))","v":"Susanne Blok"}]
[null,73,{"$f":"IF(B31=\"\",\"\",VLOOKUP(B31,Deltagere!$B$4:$D$1003,2,FALSE))","v":"Petra Knudsen"},1,318,{"$f":"IF(E31=\"\",\"\",VLOOKUP(E31,Deltagere!$B$4:$D$1003,2,FALSE))","v":"Peter Sølsten"}]
[null,303,{"$f":"IF(B32=\"\",\"\",VLOOKUP(B32,Deltagere!$B$4:$D$1003,2,FALSE))","v":"Lone Nielsen"},1,461,{"$f":"IF(E32=\"\",\"\",VLOOKUP(E32,Deltagere!$B$4:$D$1003,2,FALSE))","v":"Hanne Hansen"}]
[7,470,{"$f":"IF(B33=\"\",\"\",VLOOKUP(B33,Deltagere!$B$4:$D$1003,2,FALSE))","v":"Ingrid Jensen"},1,55,{"$f":"IF(E33=\"\",\"\",VLOOKUP(E33,Deltagere!$B$4:$D$1003,2,FALSE))","v":"Peter Knudsen"}]
[null,472,{"$f":"IF(B34=\"\",\"\",VLOOKUP(B34,Deltagere!$B$4:$D$1003,2,FALSE))","v":"Allan Pedersen"},1,486,{"$f":"IF(E34=\"\",\"\",VLOOKUP(E34,Deltagere!$B$4:$D$1003,2,FALSE))","v":"Benthe Dahl"}]
[null,76,{"$f":"IF(B35=\"\",\"\",VLOOKUP(B35,Deltagere!$B$4:$D$1003,2,FALSE))","v":"Connie Bregnvig"},1,320,{"$f":"IF(E35=\"\",\"\",VLOOKUP(E35,Deltagere!$B$4:$D$1003,2,FALSE))","v":"Margit Larsen"}]
[null,51,{"$f":"IF(B36=\"\",\"\",VLOOKUP(B36,Deltagere!$B$4:$D$1003,2,FALSE))","v":"Tage Jensen"},1,463,{"$f":"IF(E36=\"\",\"\",VLOOKUP(E36,Deltagere!$B$4:$D$1003,2,FALSE))","v":"Ivan Szumlanski"}]
[8,468,{"$f":"IF(B37=\"\",\"\",VLOOKUP(B37,Deltagere!$B$4:$D$1003,2,FALSE))","v":"Kjeld Hansen"},1,54,{"$f":"IF(E37=\"\",\"\",VLOOKUP(E37,Deltagere!$B$4:$D$1003,2,FALSE))","v":"Søren Helbo"}]
[null,480,{"$f":"IF(B38=\"\",\"\",VLOOKUP(B38,Deltagere!$B$4:$D$1003,2,FALSE))","v":"Lissi Lindberg"},1,484,{"$f":"IF(E38=\"\",\"\",VLOOKUP(E38,Deltagere!$B$4:$D$1003,2,FALSE))","v":"Majbritt Nielsen"}]
[null,302,{"$f":"IF(B39=\"\",\"\",VLOOKUP(B39,Deltagere!$B$4:$D$1003,2,FALSE))","v":"Jørgen Hugo Larsen"},1,322,{"$f":"IF(E39=\"\",\"\",VLOOKUP(E39,Deltagere!$B$4:$D$1003,2,FALSE))","v":"Anette Nielsen"}]
[null,54,{"$f":"IF(B40=\"\",\"\",VLOOKUP(B40,Deltagere!$B$4:$D$1003,2,FALSE))","v":"Søren Helbo"},1,464,{"$f":"IF(E40=\"\",\"\",VLOOKUP(E40,Deltagere!$B$4:$D$1003,2,FALSE))","v":"Gytha Szumlanski"}]
[9,466,{"$f":"IF(B41=\"\",\"\",VLOOKUP(B41,Deltagere!$B$4:$D$1003,2,FALSE))","v":"Finn Jørgensen"},1,51,{"$f":"IF(E41=\"\",\"\",VLOOKUP(E41,Deltagere!$B$4:$D$1003,2,FALSE))","v":"Tage Jensen"}]
[null,485,{"$f":"IF(B42=\"\",\"\",VLOOKUP(B42,Deltagere!$B$4:$D$1003,2,FALSE))","v":"Ole Nilaus Nielsen"},1,483,{"$f":"IF(E42=\"\",\"\",VLOOKUP(E42,Deltagere!$B$4:$D$1003,2,FALSE))","v":"Lone S. Nielsen"}]
[null,307,{"$f":"IF(B43=\"\",\"\",VLOOKUP(B43,Deltagere!$B$4:$D$1003,2,FALSE))","v":"Åge  Zcharau"},1,64,{"$f":"IF(E43=\"\",\"\",VLOOKUP(E43,Deltagere!$B$4:$D$1003,2,FALSE))","v":"Villy Jensen"}]
[null,55,{"$f":"IF(B44=\"\",\"\",VLOOKUP(B44,Deltagere!$B$4:$D$1003,2,FALSE))","v":"Peter Knudsen"},1,466,{"$f":"IF(E44=\"\",\"\",VLOOKUP(E44,Deltagere!$B$4:$D$1003,2,FALSE))","v":"Finn Jørgensen"}]
[10,464,{"$f":"IF(B45=\"\",\"\",VLOOKUP(B45,Deltagere!$B$4:$D$1003,2,FALSE))","v":"Gytha Szumlanski"},1,301,{"$f":"IF(E45=\"\",\"\",VLOOKUP(E45,Deltagere!$B$4:$D$1003,2,FALSE))","v":"Svend Faigh"}]
[null,486,{"$f":"IF(B46=\"\",\"\",VLOOKUP(B46,Deltagere!$B$4:$D$1003,2,FALSE))","v":"Benthe Dahl"},1,480,{"$f":"IF(E46=\"\",\"\",VLOOKUP(E46,Deltagere!$B$4:$D$1003,2,FALSE))","v":"Lissi Lindberg"}]
[null,310,{"$f":"IF(B47=\"\",\"\",VLOOKUP(B47,Deltagere!$B$4:$D$1003,2,FALSE))","v":"Annette Traulsen"},1,56,{"$f":"IF(E47=\"\",\"\",VLOOKUP(E47,Deltagere!$B$4:$D$1003,2,FALSE))","v":"Mogens Bodilsen"}]
[null,487,{"$f":"IF(B48=\"\",\"\",VLOOKUP(B48,Deltagere!$B$4:$D$1003,2,FALSE))","v":"Susanne Blok"},1,468,{"$f":"IF(E48=\"\",\"\",VLOOKUP(E48,Deltagere!$B$4:$D$1003,2,FALSE))","v":"Kjeld Hansen"}]
[11,463,{"$f":"IF(B49=\"\",\"\",VLOOKUP(B49,Deltagere!$B$4:$D$1003,2,FALSE))","v":"Ivan Szumlanski"},1,303,{"$f":"IF(E49=\"\",\"\",VLOOKUP(E49,Deltagere!$B$4:$D$1003,2,FALSE))","v":"Lone Nielsen"}]
[null,467,{"$f":"IF(B50=\"\",\"\",VLOOKUP(B50,Deltagere!$B$4:$D$1003,2,FALSE))","v":"Lena Kirkegaard"},1,474,{"$f":"IF(E50=\"\",\"\",VLOOKUP(E50,Deltagere!$B$4:$D$1003,2,FALSE))","v":"Liselotte Storgaard"}]
[null,315,{"$f":"IF(B51=\"\",\"\",VLOOKUP(B51,Deltagere!$B$4:$D$1003,2,FALSE))","v":"Tove Perlt"},1,57,{"$f":"IF(E51=\"\",\"\",VLOOKUP(E51,Deltagere!$B$4:$D$1003,2,FALSE))","v":"Niels Aare Jensen"}]
[null,61,{"$f":"IF(B52=\"\",\"\",VLOOKUP(B52,Deltagere!$B$4:$D$1003,2,FALSE))","v":"Annie Jensen"},1,482,{"$f":"IF(E52=\"\",\"\",VLOOKUP(E52,Deltagere!$B$4:$D$1003,2,FALSE))","v":"Jim Jørgensen"}]
[12,461,{"$f":"IF(B53=\"\",\"\",VLOOKUP(B53,Deltagere!$B$4:$D$1003,2,FALSE))","v":"Hanne Hansen"},1,305,{"$f":"IF(E53=\"\",\"\",VLOOKUP(E53,Deltagere!$B$4:$D$1003,2,FALSE))","v":"Annette Lykke Madsen"}]
[null,488,{"$f":"IF(B54=\"\",\"\",VLOOKUP(B54,Deltagere!$B$4:$D$1003,2,FALSE))","v":"Vibeke Jørgensen"},1,472,{"$f":"IF(E54=\"\",\"\",VLOOKUP(E54,Deltagere!$B$4:$D$1003,2,FALSE))","v":"Allan Pedersen"}]
[null,612,{"$f":"IF(B55=\"\",\"\",VLOOKUP(B55,Deltagere!$B$4:$D$1003,2,FALSE))","v":"Adam Kristoffersen"},1,60,{"$f":"IF(E55=\"\",\"\",VLOOKUP(E55,Deltagere!$B$4:$D$1003,2,FALSE))","v":"Anna Grethe Christensen"}]
[null,63,{"$f":"IF(B56=\"\",\"\",VLOOKUP(B56,Deltagere!$B$4:$D$1003,2,FALSE))","v":"Lennert Sørensen"},1,470,{"$f":"IF(E56=\"\",\"\",VLOOKUP(E56,Deltagere!$B$4:$D$1003,2,FALSE))","v":"Ingrid Jensen"}]
[13,459,{"$f":"IF(B57=\"\",\"\",VLOOKUP(B57,Deltagere!$B$4:$D$1003,2,FALSE))","v":"Michael Jørgensen"},1,316,{"$f":"IF(E57=\"\",\"\",VLOOKUP(E57,Deltagere!$B$4:$D$1003,2,FALSE))","v":"Preben Madsen"}]
[null,494,{"$f":"IF(B58=\"\",\"\",VLOOKUP(B58,Deltagere!$B$4:$D$1003,2,FALSE))","v":"Ida Olsen"},1,467,{"$f":"IF(E58=\"\",\"\",VLOOKUP(E58,Deltagere!$B$4:$D$1003,2,FALSE))","v":"Lena Kirkegaard"}]
[null,318,{"$f":"IF(B59=\"\",\"\",VLOOKUP(B59,Deltagere!$B$4:$D$1003,2,FALSE))","v":"Peter Sølsten"},1,77,{"$f":"IF(E59=\"\",\"\",VLOOKUP(E59,Deltagere!$B$4:$D$1003,2,FALSE))","v":"Preben Ludore"}]
[null,65,{"$f":"IF(B60=\"\",\"\",VLOOKUP(B60,Deltagere!$B$4:$D$1003,2,FALSE))","v":"Anne Marie Laustsen"},1,476,{"$f":"IF(E60=\"\",\"\",VLOOKUP(E60,Deltagere!$B$4:$D$1003,2,FALSE))","v":"Christian Blid"}]
[14,458,{"$f":"IF(B61=\"\",\"\",VLOOKUP(B61,Deltagere!$B$4:$D$1003,2,FALSE))","v":"Jørgen Hansen"},1,327,{"$f":"IF(E61=\"\",\"\",VLOOKUP(E61,Deltagere!$B$4:$D$1003,2,FALSE))","v":"Mogens Kortegaard"}]
[null,495,{"$f":"IF(B62=\"\",\"\",VLOOKUP(B62,Deltagere!$B$4:$D$1003,2,FALSE))","v":"Ole Christensen"},1,454,{"$f":"IF(E62=\"\",\"\",VLOOKUP(E62,Deltagere!$B$4:$D$1003,2,FALSE))","v":"Erik Wagner"}]
[null,610,{"$f":"IF(B63=\"\",\"\",VLOOKUP(B63,Deltagere!$B$4:$D$1003,2,FALSE))","v":"Sarah Christiansen"},1,602,{"$f":"IF(E63=\"\",\"\",VLOOKUP(E63,Deltagere!$B$4:$D$1003,2,FALSE))","v":"Kian Andersen"}]
[null,74,{"$f":"IF(B64=\"\",\"\",VLOOKUP(B64,Deltagere!$B$4:$D$1003,2,FALSE))","v":"Lise Qvist Bebe"},1,477,{"$f":"IF(E64=\"\",\"\",VLOOKUP(E64,Deltagere!$B$4:$D$1003,2,FALSE))","v":"Inge Sørensen"}]
[15,322,{"$f":"IF(B65=\"\",\"\",VLOOKUP(B65,Deltagere!$B$4:$D$1003,2,FALSE))","v":"Anette Nielsen"},1,328,{"$f":"IF(E65=\"\",\"\",VLOOKUP(E65,Deltagere!$B$4:$D$1003,2,FALSE))","v":"Annie Damsgaard"}]
[null,498,{"$f":"IF(B66=\"\",\"\",VLOOKUP(B66,Deltagere!$B$4:$D$1003,2,FALSE))","v":"Peter Christensen"},1,451,{"$f":"IF(E66=\"\",\"\",VLOOKUP(E66,Deltagere!$B$4:$D$1003,2,FALSE))","v":"Steen Lergard"}]
[null,null,{"$f":"IF(B67=\"\",\"\",VLOOKUP(B67,Deltagere!$B$4:$D$1003,2,FALSE))","v":""},1,608,{"$f":"IF(E67=\"\",\"\",VLOOKUP(E67,Deltagere!$B$4:$D$1003,2,FALSE))","v":"Søren Skourup"}]
[null,484,{"$f":"IF(B68=\"\",\"\",VLOOKUP(B68,Deltagere!$B$4:$D$1003,2,FALSE))","v":"Majbritt Nielsen"},1,478,{"$f":"IF(E68=\"\",\"\",VLOOKUP(E68,Deltagere!$B$4:$D$1003,2,FALSE))","v":"Allan Larsen"}]
[16,455,{"$f":"IF(B69=\"\",\"\",VLOOKUP(B69,Deltagere!$B$4:$D$1003,2,FALSE))","v":"Jette S. Olsen"},1,601,{"$f":"IF(E69=\"\",\"\",VLOOKUP(E69,Deltagere!$B$4:$D$1003,2,FALSE))","v":"Anders Jørgensen"}]
[null,601,{"$f":"IF(B70=\"\",\"\",VLOOKUP(B70,Deltagere!$B$4:$D$1003,2,FALSE))","v":"Anders Jørgensen"},1,457,{"$f":"IF(E70=\"\",\"\",VLOOKUP(E70,Deltagere!$B$4:$D$1003,2,FALSE))","v":"Lisser Kristensen"}]
[null,320,{"$f":"IF(B71=\"\",\"\",VLOOKUP(B71,Deltagere!$B$4:$D$1003,2,FALSE))","v":"Margit Larsen"},1,76,{"$f":"IF(E71=\"\",\"\",VLOOKUP(E71,Deltagere!$B$4:$D$1003,2,FALSE))","v":"Connie Bregnvig"}]
[null,75,{"$f":"IF(B72=\"\",\"\",VLOOKUP(B72,Deltagere!$B$4:$D$1003,2,FALSE))","v":"Peter Aare"},1,479,{"$f":"IF(E72=\"\",\"\",VLOOKUP(E72,Deltagere!$B$4:$D$1003,2,FALSE))","v":"Bjørn Krogh"}]
[17,453,{"$f":"IF(B73=\"\",\"\",VLOOKUP(B73,Deltagere!$B$4:$D$1003,2,FALSE))","v":"Lone Hansen"},1,302,{"$f":"IF(E73=\"\",\"\",VLOOKUP(E73,Deltagere!$B$4:$D$1003,2,FALSE))","v":"Jørgen Hugo Larsen"}]
[null,317,{"$f":"IF(B74=\"\",\"\",VLOOKUP(B74,Deltagere!$B$4:$D$1003,2,FALSE))","v":"Lis Rasmussen"},1,73,{"$f":"IF(E74=\"\",\"\",VLOOKUP(E74,Deltagere!$B$4:$D$1003,2,FALSE))","v":"Petra Knudsen"}]
[null,null,{"$f":"IF(B75=\"\",\"\",VLOOKUP(B75,Deltagere!$B$4:$D$1003,2,FALSE))","v":""},1,612,{"$f":"IF(E75=\"\",\"\",VLOOKUP(E75,Deltagere!$B$4:$D$1003,2,FALSE))","v":"Adam Kristoffersen"}]
[null,483,{"$f":"IF(B76=\"\",\"\",VLOOKUP(B76,Deltagere!$B$4:$D$1003,2,FALSE))","v":"Lone S. Nielsen"},1,481,{"$f":"IF(E76=\"\",\"\",VLOOKUP(E76,Deltagere!$B$4:$D$1003,2,FALSE))","v":"Alice Rask"}]
[18,452,{"$f":"IF(B77=\"\",\"\",VLOOKUP(B77,Deltagere!$B$4:$D$1003,2,FALSE))","v":"Helga Andersen"},1,308,{"$f":"IF(E77=\"\",\"\",VLOOKUP(E77,Deltagere!$B$4:$D$1003,2,FALSE))","v":"Conny Schackinger"}]
[null,602,{"$f":"IF(B78=\"\",\"\",VLOOKUP(B78,Deltagere!$B$4:$D$1003,2,FALSE))","v":"Kian Andersen"},1,610,{"$f":"IF(E78=\"\",\"\",VLOOKUP(E78,Deltagere!$B$4:$D$1003,2,FALSE))","v":"Sarah Christiansen"}]
[null,311,{"$f":"IF(B79=\"\",\"\",VLOOKUP(B79,Deltagere!$B$4:$D$1003,2,FALSE))","v":"Per Aune"},1,498,{"$f":"IF(E79=\"\",\"\",VLOOKUP(E79,Deltagere!$B$4:$D$1003,2,FALSE))","v":"Peter Christensen"}]
[]
[]
[]
["Gul farve er dommer",null,"Runde 1",null,null,"Runde 2",null,"Se her hvilke klubber deltagerne "]
["Start ved hul nr.","Spiller nr.","Spiller navn","Hold ","Spiller nr.","Spiller navn",null,"             på holdene kommer fra."]
[null,null,{"$f":"IF(B85=\"\",\"\",VLOOKUP(B85,Deltagere!$B$4:$D$1003,2,FALSE))","v":""},1,null,{"$f":"IF(E85=\"\",\"\",VLOOKUP(E85,Deltagere!$B$4:$D$1003,2,FALSE))","v":""},null,"Nr.     1 - 50   er Frederikssund"]
[1,null,{"$f":"IF(B86=\"\",\"\",VLOOKUP(B86,Deltagere!$B$4:$D$1003,2,FALSE))","v":""},1,null,{"$f":"IF(E86=\"\",\"\",VLOOKUP(E86,Deltagere!$B$4:$D$1003,2,FALSE))","v":""},null,"Nr.   51 - 100 er Meløse"]
[null,null,{"$f":"IF(B87=\"\",\"\",VLOOKUP(B87,Deltagere!$B$4:$D$1003,2,FALSE))","v":""},1,null,{"$f":"IF(E87=\"\",\"\",VLOOKUP(E87,Deltagere!$B$4:$D$1003,2,FALSE))","v":""},null,"Nr. 101 - 150 er Hornsherred"]
[null,null,{"$f":"IF(B88=\"\",\"\",VLOOKUP(B88,Deltagere!$B$4:$D$1003,2,FALSE))","v":""},1,null,{"$f":"IF(E88=\"\",\"\",VLOOKUP(E88,Deltagere!$B$4:$D$1003,2,FALSE))","v":""},null,"Nr. 151 - 200 er Ølstykke"]
[null,null,{"$f":"IF(B89=\"\",\"\",VLOOKUP(B89,Deltagere!$B$4:$D$1003,2,FALSE))","v":""},1,null,{"$f":"IF(E89=\"\",\"\",VLOOKUP(E89,Deltagere!$B$4:$D$1003,2,FALSE))","v":""},null,"Nr. 201 - 300 er Ledøje/Smørum "]
[9,null,{"$f":"IF(B90=\"\",\"\",VLOOKUP(B90,Deltagere!$B$4:$D$1003,2,FALSE))","v":""},1,null,{"$f":"IF(E90=\"\",\"\",VLOOKUP(E90,Deltagere!$B$4:$D$1003,2,FALSE))","v":""},null,"Nr. 301 - 350 er BK Greve"]
[null,null,{"$f":"IF(B91=\"\",\"\",VLOOKUP(B91,Deltagere!$B$4:$D$1003,2,FALSE))","v":""},1,null,{"$f":"IF(E91=\"\",\"\",VLOOKUP(E91,Deltagere!$B$4:$D$1003,2,FALSE))","v":""},null,"Nr. 351 - 400 er Albertslund"]
[null,null,{"$f":"IF(B92=\"\",\"\",VLOOKUP(B92,Deltagere!$B$4:$D$1003,2,FALSE))","v":""},1,null,{"$f":"IF(E92=\"\",\"\",VLOOKUP(E92,Deltagere!$B$4:$D$1003,2,FALSE))","v":""},null,"Nr. 401 - 450 er Lyngby"]
[null,null,null,null,null,null,null,"Nr. 451 - 500 er Krolffolket"]
[null,null,null,null,null,null,null,"Nr. 501 - 550 er Tapeten"]
[null,null,null,null,null,null,null,"Nr. 551 - 600 er Vesterbro"]
[null,null,null,null,null,null,null,"Nr. 601 - 650 er Vikingerne"]
[]
[]
[]
[]
[]
[]
[]
[]
[]
[]
[]
[]
[]
[]
[]
[]
[]
[]
[]
[]
[]
[]
[]
[]
[]
[]
[]
[]
[]
[]
[]
[]
[]
[]
[]
[]
[]
[]
[]
[]
[]
[]
[]
["Gul farve er dommer",null,"Runde 1",null,null,"Runde 2",null,"Se her hvilke klubber deltagerne "]
["Start ved hul nr.","Spiller nr.","Spiller navn","Hold ","Spiller nr.","Spiller navn",null,"             på holdene kommer fra."]
[null,null,{"$f":"IF(B142=\"\",\"\",VLOOKUP(B142,Deltagere!$B$4:$D$1003,2,FALSE))","v":""},1,null,{"$f":"IF(E142=\"\",\"\",VLOOKUP(E142,Deltagere!$B$4:$D$1003,2,FALSE))","v":""},null,"Nr.     1 - 50   er Frederikssund"]
[1,null,{"$f":"IF(B143=\"\",\"\",VLOOKUP(B143,Deltagere!$B$4:$D$1003,2,FALSE))","v":""},1,null,{"$f":"IF(E143=\"\",\"\",VLOOKUP(E143,Deltagere!$B$4:$D$1003,2,FALSE))","v":""},null,"Nr.   51 - 100 er Meløse"]
[null,null,{"$f":"IF(B144=\"\",\"\",VLOOKUP(B144,Deltagere!$B$4:$D$1003,2,FALSE))","v":""},1,null,{"$f":"IF(E144=\"\",\"\",VLOOKUP(E144,Deltagere!$B$4:$D$1003,2,FALSE))","v":""},null,"Nr. 101 - 150 er Hornsherred"]
[null,null,{"$f":"IF(B145=\"\",\"\",VLOOKUP(B145,Deltagere!$B$4:$D$1003,2,FALSE))","v":""},1,null,{"$f":"IF(E145=\"\",\"\",VLOOKUP(E145,Deltagere!$B$4:$D$1003,2,FALSE))","v":""},null,"Nr. 151 - 200 er Ølstykke"]
[null,null,{"$f":"IF(B146=\"\",\"\",VLOOKUP(B146,Deltagere!$B$4:$D$1003,2,FALSE))","v":""},1,null,{"$f":"IF(E146=\"\",\"\",VLOOKUP(E146,Deltagere!$B$4:$D$1003,2,FALSE))","v":""},null,"Nr. 201 - 300 er Ledøje/Smørum "]
[9,null,{"$f":"IF(B147=\"\",\"\",VLOOKUP(B147,Deltagere!$B$4:$D$1003,2,FALSE))","v":""},1,null,{"$f":"IF(E147=\"\",\"\",VLOOKUP(E147,Deltagere!$B$4:$D$1003,2,FALSE))","v":""},null,"Nr. 301 - 350 er BK Greve"]
[null,null,{"$f":"IF(B148=\"\",\"\",VLOOKUP(B148,Deltagere!$B$4:$D$1003,2,FALSE))","v":""},1,null,{"$f":"IF(E148=\"\",\"\",VLOOKUP(E148,Deltagere!$B$4:$D$1003,2,FALSE))","v":""},null,"Nr. 351 - 400 er Albertslund"]
[null,null,{"$f":"IF(B149=\"\",\"\",VLOOKUP(B149,Deltagere!$B$4:$D$1003,2,FALSE))","v":""},1,null,{"$f":"IF(E149=\"\",\"\",VLOOKUP(E149,Deltagere!$B$4:$D$1003,2,FALSE))","v":""},null,"Nr. 401 - 450 er Lyngby"]
[null,null,{"$f":"IF(B150=\"\",\"\",VLOOKUP(B150,Deltagere!$B$4:$D$1003,2,FALSE))","v":""},1,null,{"$f":"IF(E150=\"\",\"\",VLOOKUP(E150,Deltagere!$B$4:$D$1003,2,FALSE))","v":""},null,"Nr. 451 - 500 er Krolffolket"]
[16,null,{"$f":"IF(B151=\"\",\"\",VLOOKUP(B151,Deltagere!$B$4:$D$1003,2,FALSE))","v":""},1,null,{"$f":"IF(E151=\"\",\"\",VLOOKUP(E151,Deltagere!$B$4:$D$1003,2,FALSE))","v":""},null,"Nr. 501 - 550 er Tapeten"]
[null,null,{"$f":"IF(B152=\"\",\"\",VLOOKUP(B152,Deltagere!$B$4:$D$1003,2,FALSE))","v":""},1,null,{"$f":"IF(E152=\"\",\"\",VLOOKUP(E152,Deltagere!$B$4:$D$1003,2,FALSE))","v":""},null,"Nr. 551 - 600 er Vesterbro"]
[null,null,{"$f":"IF(B153=\"\",\"\",VLOOKUP(B153,Deltagere!$B$4:$D$1003,2,FALSE))","v":""},1,null,{"$f":"IF(E153=\"\",\"\",VLOOKUP(E153,Deltagere!$B$4:$D$1003,2,FALSE))","v":""},null,"Nr. 601 - 650 er Vikingerne"]
[]
[]
[]
[]
[]
[]
[]
[]
[]
[]
[]
[]
[]
[]
[]
[]
[]
[]
[]
[]
[]
[]
[]
[]
[]
[]
[]
[]
[]
[]
[]
[]
[]
[]
[]
[]
[]
[]
[]
[]
[]
[]
[]
["Gul farve er dommer",null,"Runde 1",null,null,"Runde 2",null,"Se her hvilke klubber deltagerne "]
["Start ved hul nr.","Spiller nr.","Spiller navn","Hold ","Spiller nr.","Spiller navn",null,"             på holdene kommer fra."]
[null,null,{"$f":"IF(B199=\"\",\"\",VLOOKUP(B199,Deltagere!$B$4:$D$1003,2,FALSE))","v":""},1,null,{"$f":"IF(E199=\"\",\"\",VLOOKUP(E199,Deltagere!$B$4:$D$1003,2,FALSE))","v":""},null,"Nr.     1 - 50   er Frederikssund"]
[1,null,{"$f":"IF(B200=\"\",\"\",VLOOKUP(B200,Deltagere!$B$4:$D$1003,2,FALSE))","v":""},1,null,{"$f":"IF(E200=\"\",\"\",VLOOKUP(E200,Deltagere!$B$4:$D$1003,2,FALSE))","v":""},null,"Nr.   51 - 100 er Meløse"]
[null,null,{"$f":"IF(B201=\"\",\"\",VLOOKUP(B201,Deltagere!$B$4:$D$1003,2,FALSE))","v":""},1,null,{"$f":"IF(E201=\"\",\"\",VLOOKUP(E201,Deltagere!$B$4:$D$1003,2,FALSE))","v":""},null,"Nr. 101 - 150 er Hornsherred"]
[null,null,{"$f":"IF(B202=\"\",\"\",VLOOKUP(B202,Deltagere!$B$4:$D$1003,2,FALSE))","v":""},1,null,{"$f":"IF(E202=\"\",\"\",VLOOKUP(E202,Deltagere!$B$4:$D$1003,2,FALSE))","v":""},null,"Nr. 151 - 200 er Ølstykke"]
[null,null,{"$f":"IF(B203=\"\",\"\",VLOOKUP(B203,Deltagere!$B$4:$D$1003,2,FALSE))","v":""},1,null,{"$f":"IF(E203=\"\",\"\",VLOOKUP(E203,Deltagere!$B$4:$D$1003,2,FALSE))","v":""},null,"Nr. 201 - 300 er Ledøje/Smørum "]
[9,null,{"$f":"IF(B204=\"\",\"\",VLOOKUP(B204,Deltagere!$B$4:$D$1003,2,FALSE))","v":""},1,null,{"$f":"IF(E204=\"\",\"\",VLOOKUP(E204,Deltagere!$B$4:$D$1003,2,FALSE))","v":""},null,"Nr. 301 - 350 er BK Greve"]
[null,null,{"$f":"IF(B205=\"\",\"\",VLOOKUP(B205,Deltagere!$B$4:$D$1003,2,FALSE))","v":""},1,null,{"$f":"IF(E205=\"\",\"\",VLOOKUP(E205,Deltagere!$B$4:$D$1003,2,FALSE))","v":""},null,"Nr. 351 - 400 er Albertslund"]
[null,null,{"$f":"IF(B206=\"\",\"\",VLOOKUP(B206,Deltagere!$B$4:$D$1003,2,FALSE))","v":""},1,null,{"$f":"IF(E206=\"\",\"\",VLOOKUP(E206,Deltagere!$B$4:$D$1003,2,FALSE))","v":""},null,"Nr. 401 - 450 er Lyngby"]
[null,null,{"$f":"IF(B207=\"\",\"\",VLOOKUP(B207,Deltagere!$B$4:$D$1003,2,FALSE))","v":""},1,null,{"$f":"IF(E207=\"\",\"\",VLOOKUP(E207,Deltagere!$B$4:$D$1003,2,FALSE))","v":""},null,"Nr. 451 - 500 er Krolffolket"]
[13,null,{"$f":"IF(B208=\"\",\"\",VLOOKUP(B208,Deltagere!$B$4:$D$1003,2,FALSE))","v":""},1,null,{"$f":"IF(E208=\"\",\"\",VLOOKUP(E208,Deltagere!$B$4:$D$1003,2,FALSE))","v":""},null,"Nr. 501 - 550 er Tapeten"]
[null,null,{"$f":"IF(B209=\"\",\"\",VLOOKUP(B209,Deltagere!$B$4:$D$1003,2,FALSE))","v":""},1,null,{"$f":"IF(E209=\"\",\"\",VLOOKUP(E209,Deltagere!$B$4:$D$1003,2,FALSE))","v":""},null,"Nr. 551 - 600 er Vesterbro"]
[null,null,{"$f":"IF(B210=\"\",\"\",VLOOKUP(B210,Deltagere!$B$4:$D$1003,2,FALSE))","v":""},1,null,{"$f":"IF(E210=\"\",\"\",VLOOKUP(E210,Deltagere!$B$4:$D$1003,2,FALSE))","v":""},null,"Nr. 601 - 650 er Vikingerne"]
[null,null,{"$f":"IF(B211=\"\",\"\",VLOOKUP(B211,Deltagere!$B$4:$D$1003,2,FALSE))","v":""},1,null,{"$f":"IF(E211=\"\",\"\",VLOOKUP(E211,Deltagere!$B$4:$D$1003,2,FALSE))","v":""}]
[16,null,{"$f":"IF(B212=\"\",\"\",VLOOKUP(B212,Deltagere!$B$4:$D$1003,2,FALSE))","v":""},1,null,{"$f":"IF(E212=\"\",\"\",VLOOKUP(E212,Deltagere!$B$4:$D$1003,2,FALSE))","v":""}]
[null,null,{"$f":"IF(B213=\"\",\"\",VLOOKUP(B213,Deltagere!$B$4:$D$1003,2,FALSE))","v":""},1,null,{"$f":"IF(E213=\"\",\"\",VLOOKUP(E213,Deltagere!$B$4:$D$1003,2,FALSE))","v":""}]
[null,null,{"$f":"IF(B214=\"\",\"\",VLOOKUP(B214,Deltagere!$B$4:$D$1003,2,FALSE))","v":""},1,null,{"$f":"IF(E214=\"\",\"\",VLOOKUP(E214,Deltagere!$B$4:$D$1003,2,FALSE))","v":""}]
[]
[]
[]
[]
[]
[]
[]
[]
[]
[]
[]
[]
[]
[]
[]
[]
[]
[]
[]
[]
[]
[]
[]
[]
[]
[]
[]
[]
[]
[]
[]
[]
[]
[]
[]
[]
[]
[]
[]
["Gul farve er dommer",null,"Runde 1",null,null,"Runde 2",null,"Se her hvilke klubber deltagerne "]
["Start ved hul nr.","Spiller nr.","Spiller navn","Hold ","Spiller nr.","Spiller navn",null,"             på holdene kommer fra."]
[null,null,{"$f":"IF(B256=\"\",\"\",VLOOKUP(B256,Deltagere!$B$4:$D$1003,2,FALSE))","v":""},1,null,{"$f":"IF(E256=\"\",\"\",VLOOKUP(E256,Deltagere!$B$4:$D$1003,2,FALSE))","v":""},null,"Nr.     1 - 50   er Frederikssund"]
[1,null,{"$f":"IF(B257=\"\",\"\",VLOOKUP(B257,Deltagere!$B$4:$D$1003,2,FALSE))","v":""},1,null,{"$f":"IF(E257=\"\",\"\",VLOOKUP(E257,Deltagere!$B$4:$D$1003,2,FALSE))","v":""},null,"Nr.   51 - 100 er Meløse"]
[null,null,{"$f":"IF(B258=\"\",\"\",VLOOKUP(B258,Deltagere!$B$4:$D$1003,2,FALSE))","v":""},1,null,{"$f":"IF(E258=\"\",\"\",VLOOKUP(E258,Deltagere!$B$4:$D$1003,2,FALSE))","v":""},null,"Nr. 101 - 150 er Hornsherred"]
[null,null,{"$f":"IF(B259=\"\",\"\",VLOOKUP(B259,Deltagere!$B$4:$D$1003,2,FALSE))","v":""},1,null,{"$f":"IF(E259=\"\",\"\",VLOOKUP(E259,Deltagere!$B$4:$D$1003,2,FALSE))","v":""},null,"Nr. 151 - 200 er Ølstykke"]
[null,null,{"$f":"IF(B260=\"\",\"\",VLOOKUP(B260,Deltagere!$B$4:$D$1003,2,FALSE))","v":""},1,null,{"$f":"IF(E260=\"\",\"\",VLOOKUP(E260,Deltagere!$B$4:$D$1003,2,FALSE))","v":""},null,"Nr. 201 - 300 er Ledøje/Smørum "]
[9,null,{"$f":"IF(B261=\"\",\"\",VLOOKUP(B261,Deltagere!$B$4:$D$1003,2,FALSE))","v":""},1,null,{"$f":"IF(E261=\"\",\"\",VLOOKUP(E261,Deltagere!$B$4:$D$1003,2,FALSE))","v":""},null,"Nr. 301 - 350 er BK Greve"]
[null,null,{"$f":"IF(B262=\"\",\"\",VLOOKUP(B262,Deltagere!$B$4:$D$1003,2,FALSE))","v":""},1,null,{"$f":"IF(E262=\"\",\"\",VLOOKUP(E262,Deltagere!$B$4:$D$1003,2,FALSE))","v":""},null,"Nr. 351 - 400 er Albertslund"]
[null,null,{"$f":"IF(B263=\"\",\"\",VLOOKUP(B263,Deltagere!$B$4:$D$1003,2,FALSE))","v":""},1,null,{"$f":"IF(E263=\"\",\"\",VLOOKUP(E263,Deltagere!$B$4:$D$1003,2,FALSE))","v":""},null,"Nr. 401 - 450 er Lyngby"]
[null,null,{"$f":"IF(B264=\"\",\"\",VLOOKUP(B264,Deltagere!$B$4:$D$1003,2,FALSE))","v":""},1,null,{"$f":"IF(E264=\"\",\"\",VLOOKUP(E264,Deltagere!$B$4:$D$1003,2,FALSE))","v":""},null,"Nr. 451 - 500 er Krolffolket"]
[11,null,{"$f":"IF(B265=\"\",\"\",VLOOKUP(B265,Deltagere!$B$4:$D$1003,2,FALSE))","v":""},1,null,{"$f":"IF(E265=\"\",\"\",VLOOKUP(E265,Deltagere!$B$4:$D$1003,2,FALSE))","v":""},null,"Nr. 501 - 550 er Tapeten"]
[null,null,{"$f":"IF(B266=\"\",\"\",VLOOKUP(B266,Deltagere!$B$4:$D$1003,2,FALSE))","v":""},1,null,{"$f":"IF(E266=\"\",\"\",VLOOKUP(E266,Deltagere!$B$4:$D$1003,2,FALSE))","v":""},null,"Nr. 551 - 600 er Vesterbro"]
[null,null,{"$f":"IF(B267=\"\",\"\",VLOOKUP(B267,Deltagere!$B$4:$D$1003,2,FALSE))","v":""},1,null,{"$f":"IF(E267=\"\",\"\",VLOOKUP(E267,Deltagere!$B$4:$D$1003,2,FALSE))","v":""},null,"Nr. 601 - 650 er Vikingerne"]
[null,null,{"$f":"IF(B268=\"\",\"\",VLOOKUP(B268,Deltagere!$B$4:$D$1003,2,FALSE))","v":""},1,null,{"$f":"IF(E268=\"\",\"\",VLOOKUP(E268,Deltagere!$B$4:$D$1003,2,FALSE))","v":""}]
[13,null,{"$f":"IF(B269=\"\",\"\",VLOOKUP(B269,Deltagere!$B$4:$D$1003,2,FALSE))","v":""},1,null,{"$f":"IF(E269=\"\",\"\",VLOOKUP(E269,Deltagere!$B$4:$D$1003,2,FALSE))","v":""}]
[null,null,{"$f":"IF(B270=\"\",\"\",VLOOKUP(B270,Deltagere!$B$4:$D$1003,2,FALSE))","v":""},1,null,{"$f":"IF(E270=\"\",\"\",VLOOKUP(E270,Deltagere!$B$4:$D$1003,2,FALSE))","v":""}]
[null,null,{"$f":"IF(B271=\"\",\"\",VLOOKUP(B271,Deltagere!$B$4:$D$1003,2,FALSE))","v":""},1,null,{"$f":"IF(E271=\"\",\"\",VLOOKUP(E271,Deltagere!$B$4:$D$1003,2,FALSE))","v":""}]
[null,null,{"$f":"IF(B272=\"\",\"\",VLOOKUP(B272,Deltagere!$B$4:$D$1003,2,FALSE))","v":""},1,null,{"$f":"IF(E272=\"\",\"\",VLOOKUP(E272,Deltagere!$B$4:$D$1003,2,FALSE))","v":""}]
[16,null,{"$f":"IF(B273=\"\",\"\",VLOOKUP(B273,Deltagere!$B$4:$D$1003,2,FALSE))","v":""},1,null,{"$f":"IF(E273=\"\",\"\",VLOOKUP(E273,Deltagere!$B$4:$D$1003,2,FALSE))","v":""}]
[null,null,{"$f":"IF(B274=\"\",\"\",VLOOKUP(B274,Deltagere!$B$4:$D$1003,2,FALSE))","v":""},1,null,{"$f":"IF(E274=\"\",\"\",VLOOKUP(E274,Deltagere!$B$4:$D$1003,2,FALSE))","v":""}]
[null,null,{"$f":"IF(B275=\"\",\"\",VLOOKUP(B275,Deltagere!$B$4:$D$1003,2,FALSE))","v":""},1,null,{"$f":"IF(E275=\"\",\"\",VLOOKUP(E275,Deltagere!$B$4:$D$1003,2,FALSE))","v":""}]
[]
[]
[]
[]
[]
[]
[]
[]
[]
[]
[]
[]
[]
[]
[]
[]
[]
[]
[]
[]
[]
[]
[]
[]
[]
[]
[]
[]
[]
[]
[]
[]
[]
[]
[]
["Gul farve er dommer",null,"Runde 1",null,null,"Runde 2",null,"Se her hvilke klubber deltagerne "]
["Start ved hul nr.","Spiller nr.","Spiller navn","Hold ","Spiller nr.","Spiller navn",null,"             på holdene kommer fra."]
[null,null,{"$f":"IF(B313=\"\",\"\",VLOOKUP(B313,Deltagere!$B$4:$D$1003,2,FALSE))","v":""},1,null,{"$f":"IF(E313=\"\",\"\",VLOOKUP(E313,Deltagere!$B$4:$D$1003,2,FALSE))","v":""},null,"Nr.     1 - 50   er Frederikssund"]
[1,null,{"$f":"IF(B314=\"\",\"\",VLOOKUP(B314,Deltagere!$B$4:$D$1003,2,FALSE))","v":""},1,null,{"$f":"IF(E314=\"\",\"\",VLOOKUP(E314,Deltagere!$B$4:$D$1003,2,FALSE))","v":""},null,"Nr.   51 - 100 er Meløse"]
[null,null,{"$f":"IF(B315=\"\",\"\",VLOOKUP(B315,Deltagere!$B$4:$D$1003,2,FALSE))","v":""},1,null,{"$f":"IF(E315=\"\",\"\",VLOOKUP(E315,Deltagere!$B$4:$D$1003,2,FALSE))","v":""},null,"Nr. 101 - 150 er Hornsherred"]
[null,null,{"$f":"IF(B316=\"\",\"\",VLOOKUP(B316,Deltagere!$B$4:$D$1003,2,FALSE))","v":""},1,null,{"$f":"IF(E316=\"\",\"\",VLOOKUP(E316,Deltagere!$B$4:$D$1003,2,FALSE))","v":""},null,"Nr. 151 - 200 er Ølstykke"]
[null,null,{"$f":"IF(B317=\"\",\"\",VLOOKUP(B317,Deltagere!$B$4:$D$1003,2,FALSE))","v":""},1,null,{"$f":"IF(E317=\"\",\"\",VLOOKUP(E317,Deltagere!$B$4:$D$1003,2,FALSE))","v":""},null,"Nr. 201 - 300 er Ledøje/Smørum "]
[6,null,{"$f":"IF(B318=\"\",\"\",VLOOKUP(B318,Deltagere!$B$4:$D$1003,2,FALSE))","v":""},1,null,{"$f":"IF(E318=\"\",\"\",VLOOKUP(E318,Deltagere!$B$4:$D$1003,2,FALSE))","v":""},null,"Nr. 301 - 350 er BK Greve"]
[null,null,{"$f":"IF(B319=\"\",\"\",VLOOKUP(B319,Deltagere!$B$4:$D$1003,2,FALSE))","v":""},1,null,{"$f":"IF(E319=\"\",\"\",VLOOKUP(E319,Deltagere!$B$4:$D$1003,2,FALSE))","v":""},null,"Nr. 351 - 400 er Albertslund"]
[null,null,{"$f":"IF(B320=\"\",\"\",VLOOKUP(B320,Deltagere!$B$4:$D$1003,2,FALSE))","v":""},1,null,{"$f":"IF(E320=\"\",\"\",VLOOKUP(E320,Deltagere!$B$4:$D$1003,2,FALSE))","v":""},null,"Nr. 401 - 450 er Lyngby"]
[null,null,{"$f":"IF(B321=\"\",\"\",VLOOKUP(B321,Deltagere!$B$4:$D$1003,2,FALSE))","v":""},1,null,{"$f":"IF(E321=\"\",\"\",VLOOKUP(E321,Deltagere!$B$4:$D$1003,2,FALSE))","v":""},null,"Nr. 451 - 500 er Krolffolket"]
[9,null,{"$f":"IF(B322=\"\",\"\",VLOOKUP(B322,Deltagere!$B$4:$D$1003,2,FALSE))","v":""},1,null,{"$f":"IF(E322=\"\",\"\",VLOOKUP(E322,Deltagere!$B$4:$D$1003,2,FALSE))","v":""},null,"Nr. 501 - 550 er Tapeten"]
[null,null,{"$f":"IF(B323=\"\",\"\",VLOOKUP(B323,Deltagere!$B$4:$D$1003,2,FALSE))","v":""},1,null,{"$f":"IF(E323=\"\",\"\",VLOOKUP(E323,Deltagere!$B$4:$D$1003,2,FALSE))","v":""},null,"Nr. 551 - 600 er Vesterbro"]
[null,null,{"$f":"IF(B324=\"\",\"\",VLOOKUP(B324,Deltagere!$B$4:$D$1003,2,FALSE))","v":""},1,null,{"$f":"IF(E324=\"\",\"\",VLOOKUP(E324,Deltagere!$B$4:$D$1003,2,FALSE))","v":""},null,"Nr. 601 - 650 er Vikingerne"]
[null,null,{"$f":"IF(B325=\"\",\"\",VLOOKUP(B325,Deltagere!$B$4:$D$1003,2,FALSE))","v":""},1,null,{"$f":"IF(E325=\"\",\"\",VLOOKUP(E325,Deltagere!$B$4:$D$1003,2,FALSE))","v":""}]
[11,null,{"$f":"IF(B326=\"\",\"\",VLOOKUP(B326,Deltagere!$B$4:$D$1003,2,FALSE))","v":""},1,null,{"$f":"IF(E326=\"\",\"\",VLOOKUP(E326,Deltagere!$B$4:$D$1003,2,FALSE))","v":""}]
[null,null,{"$f":"IF(B327=\"\",\"\",VLOOKUP(B327,Deltagere!$B$4:$D$1003,2,FALSE))","v":""},1,null,{"$f":"IF(E327=\"\",\"\",VLOOKUP(E327,Deltagere!$B$4:$D$1003,2,FALSE))","v":""}]
[null,null,{"$f":"IF(B328=\"\",\"\",VLOOKUP(B328,Deltagere!$B$4:$D$1003,2,FALSE))","v":""},1,null,{"$f":"IF(E328=\"\",\"\",VLOOKUP(E328,Deltagere!$B$4:$D$1003,2,FALSE))","v":""}]
[null,null,{"$f":"IF(B329=\"\",\"\",VLOOKUP(B329,Deltagere!$B$4:$D$1003,2,FALSE))","v":""},1,null,{"$f":"IF(E329=\"\",\"\",VLOOKUP(E329,Deltagere!$B$4:$D$1003,2,FALSE))","v":""}]
[13,null,{"$f":"IF(B330=\"\",\"\",VLOOKUP(B330,Deltagere!$B$4:$D$1003,2,FALSE))","v":""},1,null,{"$f":"IF(E330=\"\",\"\",VLOOKUP(E330,Deltagere!$B$4:$D$1003,2,FALSE))","v":""}]
[null,null,{"$f":"IF(B331=\"\",\"\",VLOOKUP(B331,Deltagere!$B$4:$D$1003,2,FALSE))","v":""},1,null,{"$f":"IF(E331=\"\",\"\",VLOOKUP(E331,Deltagere!$B$4:$D$1003,2,FALSE))","v":""}]
[null,null,{"$f":"IF(B332=\"\",\"\",VLOOKUP(B332,Deltagere!$B$4:$D$1003,2,FALSE))","v":""},1,null,{"$f":"IF(E332=\"\",\"\",VLOOKUP(E332,Deltagere!$B$4:$D$1003,2,FALSE))","v":""}]
[null,null,{"$f":"IF(B333=\"\",\"\",VLOOKUP(B333,Deltagere!$B$4:$D$1003,2,FALSE))","v":""},1,null,{"$f":"IF(E333=\"\",\"\",VLOOKUP(E333,Deltagere!$B$4:$D$1003,2,FALSE))","v":""}]
[16,null,{"$f":"IF(B334=\"\",\"\",VLOOKUP(B334,Deltagere!$B$4:$D$1003,2,FALSE))","v":""},1,null,{"$f":"IF(E334=\"\",\"\",VLOOKUP(E334,Deltagere!$B$4:$D$1003,2,FALSE))","v":""}]
[null,null,{"$f":"IF(B335=\"\",\"\",VLOOKUP(B335,Deltagere!$B$4:$D$1003,2,FALSE))","v":""},1,null,{"$f":"IF(E335=\"\",\"\",VLOOKUP(E335,Deltagere!$B$4:$D$1003,2,FALSE))","v":""}]
[null,null,{"$f":"IF(B336=\"\",\"\",VLOOKUP(B336,Deltagere!$B$4:$D$1003,2,FALSE))","v":""},1,null,{"$f":"IF(E336=\"\",\"\",VLOOKUP(E336,Deltagere!$B$4:$D$1003,2,FALSE))","v":""}]
[]
[]
[]
[]
[]
[]
[]
[]
[]
[]
[]
[]
[]
[]
[]
[]
[]
[]
[]
[]
[]
[]
[]
[]
[]
[]
[]
[]
[]
[]
[]
["Gul farve er dommer",null,"Runde 1",null,null,"Runde 2",null,"Se her hvilke klubber deltagerne "]
["Start ved hul nr.","Spiller nr.","Spiller navn","Hold ","Spiller nr.","Spiller navn",null,"             på holdene kommer fra."]
[null,null,{"$f":"IF(B370=\"\",\"\",VLOOKUP(B370,Deltagere!$B$4:$D$1003,2,FALSE))","v":""},1,null,{"$f":"IF(E370=\"\",\"\",VLOOKUP(E370,Deltagere!$B$4:$D$1003,2,FALSE))","v":""},null,"Nr.     1 - 50   er Frederikssund"]
[1,null,{"$f":"IF(B371=\"\",\"\",VLOOKUP(B371,Deltagere!$B$4:$D$1003,2,FALSE))","v":""},1,null,{"$f":"IF(E371=\"\",\"\",VLOOKUP(E371,Deltagere!$B$4:$D$1003,2,FALSE))","v":""},null,"Nr.   51 - 100 er Meløse"]
[null,null,{"$f":"IF(B372=\"\",\"\",VLOOKUP(B372,Deltagere!$B$4:$D$1003,2,FALSE))","v":""},1,null,{"$f":"IF(E372=\"\",\"\",VLOOKUP(E372,Deltagere!$B$4:$D$1003,2,FALSE))","v":""},null,"Nr. 101 - 150 er Hornsherred"]
[null,null,{"$f":"IF(B373=\"\",\"\",VLOOKUP(B373,Deltagere!$B$4:$D$1003,2,FALSE))","v":""},1,null,{"$f":"IF(E373=\"\",\"\",VLOOKUP(E373,Deltagere!$B$4:$D$1003,2,FALSE))","v":""},null,"Nr. 151 - 200 er Ølstykke"]
[null,null,{"$f":"IF(B374=\"\",\"\",VLOOKUP(B374,Deltagere!$B$4:$D$1003,2,FALSE))","v":""},1,null,{"$f":"IF(E374=\"\",\"\",VLOOKUP(E374,Deltagere!$B$4:$D$1003,2,FALSE))","v":""},null,"Nr. 201 - 300 er Ledøje/Smørum "]
[4,null,{"$f":"IF(B375=\"\",\"\",VLOOKUP(B375,Deltagere!$B$4:$D$1003,2,FALSE))","v":""},1,null,{"$f":"IF(E375=\"\",\"\",VLOOKUP(E375,Deltagere!$B$4:$D$1003,2,FALSE))","v":""},null,"Nr. 301 - 350 er BK Greve"]
[null,null,{"$f":"IF(B376=\"\",\"\",VLOOKUP(B376,Deltagere!$B$4:$D$1003,2,FALSE))","v":""},1,null,{"$f":"IF(E376=\"\",\"\",VLOOKUP(E376,Deltagere!$B$4:$D$1003,2,FALSE))","v":""},null,"Nr. 351 - 400 er Albertslund"]
[null,null,{"$f":"IF(B377=\"\",\"\",VLOOKUP(B377,Deltagere!$B$4:$D$1003,2,FALSE))","v":""},1,null,{"$f":"IF(E377=\"\",\"\",VLOOKUP(E377,Deltagere!$B$4:$D$1003,2,FALSE))","v":""},null,"Nr. 401 - 450 er Lyngby"]
[null,null,{"$f":"IF(B378=\"\",\"\",VLOOKUP(B378,Deltagere!$B$4:$D$1003,2,FALSE))","v":""},1,null,{"$f":"IF(E378=\"\",\"\",VLOOKUP(E378,Deltagere!$B$4:$D$1003,2,FALSE))","v":""},null,"Nr. 451 - 500 er Krolffolket"]
[6,null,{"$f":"IF(B379=\"\",\"\",VLOOKUP(B379,Deltagere!$B$4:$D$1003,2,FALSE))","v":""},1,null,{"$f":"IF(E379=\"\",\"\",VLOOKUP(E379,Deltagere!$B$4:$D$1003,2,FALSE))","v":""},null,"Nr. 501 - 550 er Tapeten"]
[null,null,{"$f":"IF(B380=\"\",\"\",VLOOKUP(B380,Deltagere!$B$4:$D$1003,2,FALSE))","v":""},1,null,{"$f":"IF(E380=\"\",\"\",VLOOKUP(E380,Deltagere!$B$4:$D$1003,2,FALSE))","v":""},null,"Nr. 551 - 600 er Vesterbro"]
[null,null,{"$f":"IF(B381=\"\",\"\",VLOOKUP(B381,Deltagere!$B$4:$D$1003,2,FALSE))","v":""},1,null,{"$f":"IF(E381=\"\",\"\",VLOOKUP(E381,Deltagere!$B$4:$D$1003,2,FALSE))","v":""},null,"Nr. 601 - 650 er Vikingerne"]
[null,null,{"$f":"IF(B382=\"\",\"\",VLOOKUP(B382,Deltagere!$B$4:$D$1003,2,FALSE))","v":""},1,null,{"$f":"IF(E382=\"\",\"\",VLOOKUP(E382,Deltagere!$B$4:$D$1003,2,FALSE))","v":""}]
[9,null,{"$f":"IF(B383=\"\",\"\",VLOOKUP(B383,Deltagere!$B$4:$D$1003,2,FALSE))","v":""},1,null,{"$f":"IF(E383=\"\",\"\",VLOOKUP(E383,Deltagere!$B$4:$D$1003,2,FALSE))","v":""}]
[null,null,{"$f":"IF(B384=\"\",\"\",VLOOKUP(B384,Deltagere!$B$4:$D$1003,2,FALSE))","v":""},1,null,{"$f":"IF(E384=\"\",\"\",VLOOKUP(E384,Deltagere!$B$4:$D$1003,2,FALSE))","v":""}]
[null,null,{"$f":"IF(B385=\"\",\"\",VLOOKUP(B385,Deltagere!$B$4:$D$1003,2,FALSE))","v":""},1,null,{"$f":"IF(E385=\"\",\"\",VLOOKUP(E385,Deltagere!$B$4:$D$1003,2,FALSE))","v":""}]
[null,null,{"$f":"IF(B386=\"\",\"\",VLOOKUP(B386,Deltagere!$B$4:$D$1003,2,FALSE))","v":""},1,null,{"$f":"IF(E386=\"\",\"\",VLOOKUP(E386,Deltagere!$B$4:$D$1003,2,FALSE))","v":""}]
[11,null,{"$f":"IF(B387=\"\",\"\",VLOOKUP(B387,Deltagere!$B$4:$D$1003,2,FALSE))","v":""},1,null,{"$f":"IF(E387=\"\",\"\",VLOOKUP(E387,Deltagere!$B$4:$D$1003,2,FALSE))","v":""}]
[null,null,{"$f":"IF(B388=\"\",\"\",VLOOKUP(B388,Deltagere!$B$4:$D$1003,2,FALSE))","v":""},1,null,{"$f":"IF(E388=\"\",\"\",VLOOKUP(E388,Deltagere!$B$4:$D$1003,2,FALSE))","v":""}]
[null,null,{"$f":"IF(B389=\"\",\"\",VLOOKUP(B389,Deltagere!$B$4:$D$1003,2,FALSE))","v":""},1,null,{"$f":"IF(E389=\"\",\"\",VLOOKUP(E389,Deltagere!$B$4:$D$1003,2,FALSE))","v":""}]
[null,null,{"$f":"IF(B390=\"\",\"\",VLOOKUP(B390,Deltagere!$B$4:$D$1003,2,FALSE))","v":""},1,null,{"$f":"IF(E390=\"\",\"\",VLOOKUP(E390,Deltagere!$B$4:$D$1003,2,FALSE))","v":""}]
[13,null,{"$f":"IF(B391=\"\",\"\",VLOOKUP(B391,Deltagere!$B$4:$D$1003,2,FALSE))","v":""},1,null,{"$f":"IF(E391=\"\",\"\",VLOOKUP(E391,Deltagere!$B$4:$D$1003,2,FALSE))","v":""}]
[null,null,{"$f":"IF(B392=\"\",\"\",VLOOKUP(B392,Deltagere!$B$4:$D$1003,2,FALSE))","v":""},1,null,{"$f":"IF(E392=\"\",\"\",VLOOKUP(E392,Deltagere!$B$4:$D$1003,2,FALSE))","v":""}]
[null,null,{"$f":"IF(B393=\"\",\"\",VLOOKUP(B393,Deltagere!$B$4:$D$1003,2,FALSE))","v":""},1,null,{"$f":"IF(E393=\"\",\"\",VLOOKUP(E393,Deltagere!$B$4:$D$1003,2,FALSE))","v":""}]
[null,null,{"$f":"IF(B394=\"\",\"\",VLOOKUP(B394,Deltagere!$B$4:$D$1003,2,FALSE))","v":""},1,null,{"$f":"IF(E394=\"\",\"\",VLOOKUP(E394,Deltagere!$B$4:$D$1003,2,FALSE))","v":""}]
[16,null,{"$f":"IF(B395=\"\",\"\",VLOOKUP(B395,Deltagere!$B$4:$D$1003,2,FALSE))","v":""},1,null,{"$f":"IF(E395=\"\",\"\",VLOOKUP(E395,Deltagere!$B$4:$D$1003,2,FALSE))","v":""}]
[null,null,{"$f":"IF(B396=\"\",\"\",VLOOKUP(B396,Deltagere!$B$4:$D$1003,2,FALSE))","v":""},1,null,{"$f":"IF(E396=\"\",\"\",VLOOKUP(E396,Deltagere!$B$4:$D$1003,2,FALSE))","v":""}]
[null,null,{"$f":"IF(B397=\"\",\"\",VLOOKUP(B397,Deltagere!$B$4:$D$1003,2,FALSE))","v":""},1,null,{"$f":"IF(E397=\"\",\"\",VLOOKUP(E397,Deltagere!$B$4:$D$1003,2,FALSE))","v":""}]
[]
[]
[]
[]
[]
[]
[]
[]
[]
[]
[]
[]
[]
[]
[]
[]
[]
[]
[]
[]
[]
[]
[]
[]
[]
[]
[]
["Gul farve er dommer",null,"Runde 1",null,null,"Runde 2",null,"Se her hvilke klubber deltagerne "]
["Start ved hul nr.","Spiller nr.","Spiller navn","Hold ","Spiller nr.","Spiller navn",null,"             på holdene kommer fra."]
[null,null,{"$f":"IF(B427=\"\",\"\",VLOOKUP(B427,Deltagere!$B$4:$D$1003,2,FALSE))","v":""},1,null,{"$f":"IF(E427=\"\",\"\",VLOOKUP(E427,Deltagere!$B$4:$D$1003,2,FALSE))","v":""},null,"Nr.     1 - 50   er Frederikssund"]
[1,null,{"$f":"IF(B428=\"\",\"\",VLOOKUP(B428,Deltagere!$B$4:$D$1003,2,FALSE))","v":""},1,null,{"$f":"IF(E428=\"\",\"\",VLOOKUP(E428,Deltagere!$B$4:$D$1003,2,FALSE))","v":""},null,"Nr.   51 - 100 er Meløse"]
[null,null,{"$f":"IF(B429=\"\",\"\",VLOOKUP(B429,Deltagere!$B$4:$D$1003,2,FALSE))","v":""},1,null,{"$f":"IF(E429=\"\",\"\",VLOOKUP(E429,Deltagere!$B$4:$D$1003,2,FALSE))","v":""},null,"Nr. 101 - 150 er Hornsherred"]
[null,null,{"$f":"IF(B430=\"\",\"\",VLOOKUP(B430,Deltagere!$B$4:$D$1003,2,FALSE))","v":""},1,null,{"$f":"IF(E430=\"\",\"\",VLOOKUP(E430,Deltagere!$B$4:$D$1003,2,FALSE))","v":""},null,"Nr. 151 - 200 er Ølstykke"]
[null,null,{"$f":"IF(B431=\"\",\"\",VLOOKUP(B431,Deltagere!$B$4:$D$1003,2,FALSE))","v":""},1,null,{"$f":"IF(E431=\"\",\"\",VLOOKUP(E431,Deltagere!$B$4:$D$1003,2,FALSE))","v":""},null,"Nr. 201 - 300 er Ledøje/Smørum "]
[4,null,{"$f":"IF(B432=\"\",\"\",VLOOKUP(B432,Deltagere!$B$4:$D$1003,2,FALSE))","v":""},1,null,{"$f":"IF(E432=\"\",\"\",VLOOKUP(E432,Deltagere!$B$4:$D$1003,2,FALSE))","v":""},null,"Nr. 301 - 350 er BK Greve"]
[null,null,{"$f":"IF(B433=\"\",\"\",VLOOKUP(B433,Deltagere!$B$4:$D$1003,2,FALSE))","v":""},1,null,{"$f":"IF(E433=\"\",\"\",VLOOKUP(E433,Deltagere!$B$4:$D$1003,2,FALSE))","v":""},null,"Nr. 351 - 400 er Albertslund"]
[null,null,{"$f":"IF(B434=\"\",\"\",VLOOKUP(B434,Deltagere!$B$4:$D$1003,2,FALSE))","v":""},1,null,{"$f":"IF(E434=\"\",\"\",VLOOKUP(E434,Deltagere!$B$4:$D$1003,2,FALSE))","v":""},null,"Nr. 401 - 450 er Lyngby"]
[null,null,{"$f":"IF(B435=\"\",\"\",VLOOKUP(B435,Deltagere!$B$4:$D$1003,2,FALSE))","v":""},1,null,{"$f":"IF(E435=\"\",\"\",VLOOKUP(E435,Deltagere!$B$4:$D$1003,2,FALSE))","v":""},null,"Nr. 451 - 500 er Krolffolket"]
[6,null,{"$f":"IF(B436=\"\",\"\",VLOOKUP(B436,Deltagere!$B$4:$D$1003,2,FALSE))","v":""},1,null,{"$f":"IF(E436=\"\",\"\",VLOOKUP(E436,Deltagere!$B$4:$D$1003,2,FALSE))","v":""},null,"Nr. 501 - 550 er Tapeten"]
[null,null,{"$f":"IF(B437=\"\",\"\",VLOOKUP(B437,Deltagere!$B$4:$D$1003,2,FALSE))","v":""},1,null,{"$f":"IF(E437=\"\",\"\",VLOOKUP(E437,Deltagere!$B$4:$D$1003,2,FALSE))","v":""},null,"Nr. 551 - 600 er Vesterbro"]
[null,null,{"$f":"IF(B438=\"\",\"\",VLOOKUP(B438,Deltagere!$B$4:$D$1003,2,FALSE))","v":""},1,null,{"$f":"IF(E438=\"\",\"\",VLOOKUP(E438,Deltagere!$B$4:$D$1003,2,FALSE))","v":""},null,"Nr. 601 - 650 er Vikingerne"]
[null,null,{"$f":"IF(B439=\"\",\"\",VLOOKUP(B439,Deltagere!$B$4:$D$1003,2,FALSE))","v":""},1,null,{"$f":"IF(E439=\"\",\"\",VLOOKUP(E439,Deltagere!$B$4:$D$1003,2,FALSE))","v":""}]
[9,null,{"$f":"IF(B440=\"\",\"\",VLOOKUP(B440,Deltagere!$B$4:$D$1003,2,FALSE))","v":""},1,null,{"$f":"IF(E440=\"\",\"\",VLOOKUP(E440,Deltagere!$B$4:$D$1003,2,FALSE))","v":""}]
[null,null,{"$f":"IF(B441=\"\",\"\",VLOOKUP(B441,Deltagere!$B$4:$D$1003,2,FALSE))","v":""},1,null,{"$f":"IF(E441=\"\",\"\",VLOOKUP(E441,Deltagere!$B$4:$D$1003,2,FALSE))","v":""}]
[null,null,{"$f":"IF(B442=\"\",\"\",VLOOKUP(B442,Deltagere!$B$4:$D$1003,2,FALSE))","v":""},1,null,{"$f":"IF(E442=\"\",\"\",VLOOKUP(E442,Deltagere!$B$4:$D$1003,2,FALSE))","v":""}]
[null,null,{"$f":"IF(B443=\"\",\"\",VLOOKUP(B443,Deltagere!$B$4:$D$1003,2,FALSE))","v":""},1,null,{"$f":"IF(E443=\"\",\"\",VLOOKUP(E443,Deltagere!$B$4:$D$1003,2,FALSE))","v":""}]
[11,null,{"$f":"IF(B444=\"\",\"\",VLOOKUP(B444,Deltagere!$B$4:$D$1003,2,FALSE))","v":""},1,null,{"$f":"IF(E444=\"\",\"\",VLOOKUP(E444,Deltagere!$B$4:$D$1003,2,FALSE))","v":""}]
[null,null,{"$f":"IF(B445=\"\",\"\",VLOOKUP(B445,Deltagere!$B$4:$D$1003,2,FALSE))","v":""},1,null,{"$f":"IF(E445=\"\",\"\",VLOOKUP(E445,Deltagere!$B$4:$D$1003,2,FALSE))","v":""}]
[null,null,{"$f":"IF(B446=\"\",\"\",VLOOKUP(B446,Deltagere!$B$4:$D$1003,2,FALSE))","v":""},1,null,{"$f":"IF(E446=\"\",\"\",VLOOKUP(E446,Deltagere!$B$4:$D$1003,2,FALSE))","v":""}]
[null,null,{"$f":"IF(B447=\"\",\"\",VLOOKUP(B447,Deltagere!$B$4:$D$1003,2,FALSE))","v":""},1,null,{"$f":"IF(E447=\"\",\"\",VLOOKUP(E447,Deltagere!$B$4:$D$1003,2,FALSE))","v":""}]
[13,null,{"$f":"IF(B448=\"\",\"\",VLOOKUP(B448,Deltagere!$B$4:$D$1003,2,FALSE))","v":""},1,null,{"$f":"IF(E448=\"\",\"\",VLOOKUP(E448,Deltagere!$B$4:$D$1003,2,FALSE))","v":""}]
[null,null,{"$f":"IF(B449=\"\",\"\",VLOOKUP(B449,Deltagere!$B$4:$D$1003,2,FALSE))","v":""},1,null,{"$f":"IF(E449=\"\",\"\",VLOOKUP(E449,Deltagere!$B$4:$D$1003,2,FALSE))","v":""}]
[null,null,{"$f":"IF(B450=\"\",\"\",VLOOKUP(B450,Deltagere!$B$4:$D$1003,2,FALSE))","v":""},1,null,{"$f":"IF(E450=\"\",\"\",VLOOKUP(E450,Deltagere!$B$4:$D$1003,2,FALSE))","v":""}]
[null,null,{"$f":"IF(B451=\"\",\"\",VLOOKUP(B451,Deltagere!$B$4:$D$1003,2,FALSE))","v":""},1,null,{"$f":"IF(E451=\"\",\"\",VLOOKUP(E451,Deltagere!$B$4:$D$1003,2,FALSE))","v":""}]
[16,null,{"$f":"IF(B452=\"\",\"\",VLOOKUP(B452,Deltagere!$B$4:$D$1003,2,FALSE))","v":""},1,null,{"$f":"IF(E452=\"\",\"\",VLOOKUP(E452,Deltagere!$B$4:$D$1003,2,FALSE))","v":""}]
[null,null,{"$f":"IF(B453=\"\",\"\",VLOOKUP(B453,Deltagere!$B$4:$D$1003,2,FALSE))","v":""},1,null,{"$f":"IF(E453=\"\",\"\",VLOOKUP(E453,Deltagere!$B$4:$D$1003,2,FALSE))","v":""}]
[null,null,{"$f":"IF(B454=\"\",\"\",VLOOKUP(B454,Deltagere!$B$4:$D$1003,2,FALSE))","v":""},1,null,{"$f":"IF(E454=\"\",\"\",VLOOKUP(E454,Deltagere!$B$4:$D$1003,2,FALSE))","v":""}]
[null,null,{"$f":"IF(B455=\"\",\"\",VLOOKUP(B455,Deltagere!$B$4:$D$1003,2,FALSE))","v":""},1,null,{"$f":"IF(E455=\"\",\"\",VLOOKUP(E455,Deltagere!$B$4:$D$1003,2,FALSE))","v":""}]
[18,null,{"$f":"IF(B456=\"\",\"\",VLOOKUP(B456,Deltagere!$B$4:$D$1003,2,FALSE))","v":""},1,null,{"$f":"IF(E456=\"\",\"\",VLOOKUP(E456,Deltagere!$B$4:$D$1003,2,FALSE))","v":""}]
[null,null,{"$f":"IF(B457=\"\",\"\",VLOOKUP(B457,Deltagere!$B$4:$D$1003,2,FALSE))","v":""},1,null,{"$f":"IF(E457=\"\",\"\",VLOOKUP(E457,Deltagere!$B$4:$D$1003,2,FALSE))","v":""}]
[null,null,{"$f":"IF(B458=\"\",\"\",VLOOKUP(B458,Deltagere!$B$4:$D$1003,2,FALSE))","v":""},1,null,{"$f":"IF(E458=\"\",\"\",VLOOKUP(E458,Deltagere!$B$4:$D$1003,2,FALSE))","v":""}]
[]
[]
[]
[]
[]
[]
[]
[]
[]
[]
[]
[]
[]
[]
[]
[]
[]
[]
[]
[]
[]
[]
[]
["Gul farve er dommer",null,"Runde 1",null,null,"Runde 2",null,"Se her hvilke klubber deltagerne "]
["Start ved hul nr.","Spiller nr.","Spiller navn","Hold ","Spiller nr.","Spiller navn",null,"             på holdene kommer fra."]
[null,null,{"$f":"IF(B484=\"\",\"\",VLOOKUP(B484,Deltagere!$B$4:$D$1003,2,FALSE))","v":""},1,null,{"$f":"IF(E484=\"\",\"\",VLOOKUP(E484,Deltagere!$B$4:$D$1003,2,FALSE))","v":""},null,"Nr.     1 - 50   er Frederikssund"]
[1,null,{"$f":"IF(B485=\"\",\"\",VLOOKUP(B485,Deltagere!$B$4:$D$1003,2,FALSE))","v":""},1,null,{"$f":"IF(E485=\"\",\"\",VLOOKUP(E485,Deltagere!$B$4:$D$1003,2,FALSE))","v":""},null,"Nr.   51 - 100 er Meløse"]
[null,null,{"$f":"IF(B486=\"\",\"\",VLOOKUP(B486,Deltagere!$B$4:$D$1003,2,FALSE))","v":""},1,null,{"$f":"IF(E486=\"\",\"\",VLOOKUP(E486,Deltagere!$B$4:$D$1003,2,FALSE))","v":""},null,"Nr. 101 - 150 er Hornsherred"]
[null,null,{"$f":"IF(B487=\"\",\"\",VLOOKUP(B487,Deltagere!$B$4:$D$1003,2,FALSE))","v":""},1,null,{"$f":"IF(E487=\"\",\"\",VLOOKUP(E487,Deltagere!$B$4:$D$1003,2,FALSE))","v":""},null,"Nr. 151 - 200 er Ølstykke"]
[null,null,{"$f":"IF(B488=\"\",\"\",VLOOKUP(B488,Deltagere!$B$4:$D$1003,2,FALSE))","v":""},1,null,{"$f":"IF(E488=\"\",\"\",VLOOKUP(E488,Deltagere!$B$4:$D$1003,2,FALSE))","v":""},null,"Nr. 201 - 300 er Ledøje/Smørum "]
[2,null,{"$f":"IF(B489=\"\",\"\",VLOOKUP(B489,Deltagere!$B$4:$D$1003,2,FALSE))","v":""},1,null,{"$f":"IF(E489=\"\",\"\",VLOOKUP(E489,Deltagere!$B$4:$D$1003,2,FALSE))","v":""},null,"Nr. 301 - 350 er BK Greve"]
[null,null,{"$f":"IF(B490=\"\",\"\",VLOOKUP(B490,Deltagere!$B$4:$D$1003,2,FALSE))","v":""},1,null,{"$f":"IF(E490=\"\",\"\",VLOOKUP(E490,Deltagere!$B$4:$D$1003,2,FALSE))","v":""},null,"Nr. 351 - 400 er Albertslund"]
[null,null,{"$f":"IF(B491=\"\",\"\",VLOOKUP(B491,Deltagere!$B$4:$D$1003,2,FALSE))","v":""},1,null,{"$f":"IF(E491=\"\",\"\",VLOOKUP(E491,Deltagere!$B$4:$D$1003,2,FALSE))","v":""},null,"Nr. 401 - 450 er Lyngby"]
[null,null,{"$f":"IF(B492=\"\",\"\",VLOOKUP(B492,Deltagere!$B$4:$D$1003,2,FALSE))","v":""},1,null,{"$f":"IF(E492=\"\",\"\",VLOOKUP(E492,Deltagere!$B$4:$D$1003,2,FALSE))","v":""},null,"Nr. 451 - 500 er Krolffolket"]
[4,null,{"$f":"IF(B493=\"\",\"\",VLOOKUP(B493,Deltagere!$B$4:$D$1003,2,FALSE))","v":""},1,null,{"$f":"IF(E493=\"\",\"\",VLOOKUP(E493,Deltagere!$B$4:$D$1003,2,FALSE))","v":""},null,"Nr. 501 - 550 er Tapeten"]
[null,null,{"$f":"IF(B494=\"\",\"\",VLOOKUP(B494,Deltagere!$B$4:$D$1003,2,FALSE))","v":""},1,null,{"$f":"IF(E494=\"\",\"\",VLOOKUP(E494,Deltagere!$B$4:$D$1003,2,FALSE))","v":""},null,"Nr. 551 - 600 er Vesterbro"]
[null,null,{"$f":"IF(B495=\"\",\"\",VLOOKUP(B495,Deltagere!$B$4:$D$1003,2,FALSE))","v":""},1,null,{"$f":"IF(E495=\"\",\"\",VLOOKUP(E495,Deltagere!$B$4:$D$1003,2,FALSE))","v":""},null,"Nr. 601 - 650 er Vikingerne"]
[null,null,{"$f":"IF(B496=\"\",\"\",VLOOKUP(B496,Deltagere!$B$4:$D$1003,2,FALSE))","v":""},1,null,{"$f":"IF(E496=\"\",\"\",VLOOKUP(E496,Deltagere!$B$4:$D$1003,2,FALSE))","v":""}]
[6,null,{"$f":"IF(B497=\"\",\"\",VLOOKUP(B497,Deltagere!$B$4:$D$1003,2,FALSE))","v":""},1,null,{"$f":"IF(E497=\"\",\"\",VLOOKUP(E497,Deltagere!$B$4:$D$1003,2,FALSE))","v":""}]
[null,null,{"$f":"IF(B498=\"\",\"\",VLOOKUP(B498,Deltagere!$B$4:$D$1003,2,FALSE))","v":""},1,null,{"$f":"IF(E498=\"\",\"\",VLOOKUP(E498,Deltagere!$B$4:$D$1003,2,FALSE))","v":""}]
[null,null,{"$f":"IF(B499=\"\",\"\",VLOOKUP(B499,Deltagere!$B$4:$D$1003,2,FALSE))","v":""},1,null,{"$f":"IF(E499=\"\",\"\",VLOOKUP(E499,Deltagere!$B$4:$D$1003,2,FALSE))","v":""}]
[null,null,{"$f":"IF(B500=\"\",\"\",VLOOKUP(B500,Deltagere!$B$4:$D$1003,2,FALSE))","v":""},1,null,{"$f":"IF(E500=\"\",\"\",VLOOKUP(E500,Deltagere!$B$4:$D$1003,2,FALSE))","v":""}]
[9,null,{"$f":"IF(B501=\"\",\"\",VLOOKUP(B501,Deltagere!$B$4:$D$1003,2,FALSE))","v":""},1,null,{"$f":"IF(E501=\"\",\"\",VLOOKUP(E501,Deltagere!$B$4:$D$1003,2,FALSE))","v":""}]
[null,null,{"$f":"IF(B502=\"\",\"\",VLOOKUP(B502,Deltagere!$B$4:$D$1003,2,FALSE))","v":""},1,null,{"$f":"IF(E502=\"\",\"\",VLOOKUP(E502,Deltagere!$B$4:$D$1003,2,FALSE))","v":""}]
[null,null,{"$f":"IF(B503=\"\",\"\",VLOOKUP(B503,Deltagere!$B$4:$D$1003,2,FALSE))","v":""},1,null,{"$f":"IF(E503=\"\",\"\",VLOOKUP(E503,Deltagere!$B$4:$D$1003,2,FALSE))","v":""}]
[null,null,{"$f":"IF(B504=\"\",\"\",VLOOKUP(B504,Deltagere!$B$4:$D$1003,2,FALSE))","v":""},1,null,{"$f":"IF(E504=\"\",\"\",VLOOKUP(E504,Deltagere!$B$4:$D$1003,2,FALSE))","v":""}]
[11,null,{"$f":"IF(B505=\"\",\"\",VLOOKUP(B505,Deltagere!$B$4:$D$1003,2,FALSE))","v":""},1,null,{"$f":"IF(E505=\"\",\"\",VLOOKUP(E505,Deltagere!$B$4:$D$1003,2,FALSE))","v":""}]
[null,null,{"$f":"IF(B506=\"\",\"\",VLOOKUP(B506,Deltagere!$B$4:$D$1003,2,FALSE))","v":""},1,null,{"$f":"IF(E506=\"\",\"\",VLOOKUP(E506,Deltagere!$B$4:$D$1003,2,FALSE))","v":""}]
[null,null,{"$f":"IF(B507=\"\",\"\",VLOOKUP(B507,Deltagere!$B$4:$D$1003,2,FALSE))","v":""},1,null,{"$f":"IF(E507=\"\",\"\",VLOOKUP(E507,Deltagere!$B$4:$D$1003,2,FALSE))","v":""}]
[null,null,{"$f":"IF(B508=\"\",\"\",VLOOKUP(B508,Deltagere!$B$4:$D$1003,2,FALSE))","v":""},1,null,{"$f":"IF(E508=\"\",\"\",VLOOKUP(E508,Deltagere!$B$4:$D$1003,2,FALSE))","v":""}]
[13,null,{"$f":"IF(B509=\"\",\"\",VLOOKUP(B509,Deltagere!$B$4:$D$1003,2,FALSE))","v":""},1,null,{"$f":"IF(E509=\"\",\"\",VLOOKUP(E509,Deltagere!$B$4:$D$1003,2,FALSE))","v":""}]
[null,null,{"$f":"IF(B510=\"\",\"\",VLOOKUP(B510,Deltagere!$B$4:$D$1003,2,FALSE))","v":""},1,null,{"$f":"IF(E510=\"\",\"\",VLOOKUP(E510,Deltagere!$B$4:$D$1003,2,FALSE))","v":""}]
[null,null,{"$f":"IF(B511=\"\",\"\",VLOOKUP(B511,Deltagere!$B$4:$D$1003,2,FALSE))","v":""},1,null,{"$f":"IF(E511=\"\",\"\",VLOOKUP(E511,Deltagere!$B$4:$D$1003,2,FALSE))","v":""}]
[null,null,{"$f":"IF(B512=\"\",\"\",VLOOKUP(B512,Deltagere!$B$4:$D$1003,2,FALSE))","v":""},1,null,{"$f":"IF(E512=\"\",\"\",VLOOKUP(E512,Deltagere!$B$4:$D$1003,2,FALSE))","v":""}]
[16,null,{"$f":"IF(B513=\"\",\"\",VLOOKUP(B513,Deltagere!$B$4:$D$1003,2,FALSE))","v":""},1,null,{"$f":"IF(E513=\"\",\"\",VLOOKUP(E513,Deltagere!$B$4:$D$1003,2,FALSE))","v":""}]
[null,null,{"$f":"IF(B514=\"\",\"\",VLOOKUP(B514,Deltagere!$B$4:$D$1003,2,FALSE))","v":""},1,null,{"$f":"IF(E514=\"\",\"\",VLOOKUP(E514,Deltagere!$B$4:$D$1003,2,FALSE))","v":""}]
[null,null,{"$f":"IF(B515=\"\",\"\",VLOOKUP(B515,Deltagere!$B$4:$D$1003,2,FALSE))","v":""},1,null,{"$f":"IF(E515=\"\",\"\",VLOOKUP(E515,Deltagere!$B$4:$D$1003,2,FALSE))","v":""}]
[null,null,{"$f":"IF(B516=\"\",\"\",VLOOKUP(B516,Deltagere!$B$4:$D$1003,2,FALSE))","v":""},1,null,{"$f":"IF(E516=\"\",\"\",VLOOKUP(E516,Deltagere!$B$4:$D$1003,2,FALSE))","v":""}]
[18,null,{"$f":"IF(B517=\"\",\"\",VLOOKUP(B517,Deltagere!$B$4:$D$1003,2,FALSE))","v":""},1,null,{"$f":"IF(E517=\"\",\"\",VLOOKUP(E517,Deltagere!$B$4:$D$1003,2,FALSE))","v":""}]
[null,null,{"$f":"IF(B518=\"\",\"\",VLOOKUP(B518,Deltagere!$B$4:$D$1003,2,FALSE))","v":""},1,null,{"$f":"IF(E518=\"\",\"\",VLOOKUP(E518,Deltagere!$B$4:$D$1003,2,FALSE))","v":""}]
[null,null,{"$f":"IF(B519=\"\",\"\",VLOOKUP(B519,Deltagere!$B$4:$D$1003,2,FALSE))","v":""},1,null,{"$f":"IF(E519=\"\",\"\",VLOOKUP(E519,Deltagere!$B$4:$D$1003,2,FALSE))","v":""}]
[]
[]
[]
[]
[]
[]
[]
[]
[]
[]
[]
[]
[]
[]
[]
[]
[]
[]
[]
["Gul farve er dommer",null,"Runde 1",null,null,"Runde 2",null,"Se her hvilke klubber deltagerne "]
["Start ved hul nr.","Spiller nr.","Spiller navn","Hold ","Spiller nr.","Spiller navn",null,"             på holdene kommer fra."]
[null,null,{"$f":"IF(B541=\"\",\"\",VLOOKUP(B541,Deltagere!$B$4:$D$1003,2,FALSE))","v":""},1,null,{"$f":"IF(E541=\"\",\"\",VLOOKUP(E541,Deltagere!$B$4:$D$1003,2,FALSE))","v":""},null,"Nr.     1 - 50   er Frederikssund"]
[1,null,{"$f":"IF(B542=\"\",\"\",VLOOKUP(B542,Deltagere!$B$4:$D$1003,2,FALSE))","v":""},1,null,{"$f":"IF(E542=\"\",\"\",VLOOKUP(E542,Deltagere!$B$4:$D$1003,2,FALSE))","v":""},null,"Nr.   51 - 100 er Meløse"]
[null,null,{"$f":"IF(B543=\"\",\"\",VLOOKUP(B543,Deltagere!$B$4:$D$1003,2,FALSE))","v":""},1,null,{"$f":"IF(E543=\"\",\"\",VLOOKUP(E543,Deltagere!$B$4:$D$1003,2,FALSE))","v":""},null,"Nr. 101 - 150 er Hornsherred"]
[null,null,{"$f":"IF(B544=\"\",\"\",VLOOKUP(B544,Deltagere!$B$4:$D$1003,2,FALSE))","v":""},1,null,{"$f":"IF(E544=\"\",\"\",VLOOKUP(E544,Deltagere!$B$4:$D$1003,2,FALSE))","v":""},null,"Nr. 151 - 200 er Ølstykke"]
[null,null,{"$f":"IF(B545=\"\",\"\",VLOOKUP(B545,Deltagere!$B$4:$D$1003,2,FALSE))","v":""},1,null,{"$f":"IF(E545=\"\",\"\",VLOOKUP(E545,Deltagere!$B$4:$D$1003,2,FALSE))","v":""},null,"Nr. 201 - 300 er Ledøje/Smørum "]
[2,null,{"$f":"IF(B546=\"\",\"\",VLOOKUP(B546,Deltagere!$B$4:$D$1003,2,FALSE))","v":""},1,null,{"$f":"IF(E546=\"\",\"\",VLOOKUP(E546,Deltagere!$B$4:$D$1003,2,FALSE))","v":""},null,"Nr. 301 - 350 er BK Greve"]
[null,null,{"$f":"IF(B547=\"\",\"\",VLOOKUP(B547,Deltagere!$B$4:$D$1003,2,FALSE))","v":""},1,null,{"$f":"IF(E547=\"\",\"\",VLOOKUP(E547,Deltagere!$B$4:$D$1003,2,FALSE))","v":""},null,"Nr. 351 - 400 er Albertslund"]
[null,null,{"$f":"IF(B548=\"\",\"\",VLOOKUP(B548,Deltagere!$B$4:$D$1003,2,FALSE))","v":""},1,null,{"$f":"IF(E548=\"\",\"\",VLOOKUP(E548,Deltagere!$B$4:$D$1003,2,FALSE))","v":""},null,"Nr. 401 - 450 er Lyngby"]
[null,null,{"$f":"IF(B549=\"\",\"\",VLOOKUP(B549,Deltagere!$B$4:$D$1003,2,FALSE))","v":""},1,null,{"$f":"IF(E549=\"\",\"\",VLOOKUP(E549,Deltagere!$B$4:$D$1003,2,FALSE))","v":""},null,"Nr. 451 - 500 er Krolffolket"]
[4,null,{"$f":"IF(B550=\"\",\"\",VLOOKUP(B550,Deltagere!$B$4:$D$1003,2,FALSE))","v":""},1,null,{"$f":"IF(E550=\"\",\"\",VLOOKUP(E550,Deltagere!$B$4:$D$1003,2,FALSE))","v":""},null,"Nr. 501 - 550 er Tapeten"]
[null,null,{"$f":"IF(B551=\"\",\"\",VLOOKUP(B551,Deltagere!$B$4:$D$1003,2,FALSE))","v":""},1,null,{"$f":"IF(E551=\"\",\"\",VLOOKUP(E551,Deltagere!$B$4:$D$1003,2,FALSE))","v":""},null,"Nr. 551 - 600 er Vesterbro"]
[null,null,{"$f":"IF(B552=\"\",\"\",VLOOKUP(B552,Deltagere!$B$4:$D$1003,2,FALSE))","v":""},1,null,{"$f":"IF(E552=\"\",\"\",VLOOKUP(E552,Deltagere!$B$4:$D$1003,2,FALSE))","v":""},null,"Nr. 601 - 650 er Vikingerne"]
[null,null,{"$f":"IF(B553=\"\",\"\",VLOOKUP(B553,Deltagere!$B$4:$D$1003,2,FALSE))","v":""},1,null,{"$f":"IF(E553=\"\",\"\",VLOOKUP(E553,Deltagere!$B$4:$D$1003,2,FALSE))","v":""}]
[6,null,{"$f":"IF(B554=\"\",\"\",VLOOKUP(B554,Deltagere!$B$4:$D$1003,2,FALSE))","v":""},1,null,{"$f":"IF(E554=\"\",\"\",VLOOKUP(E554,Deltagere!$B$4:$D$1003,2,FALSE))","v":""}]
[null,null,{"$f":"IF(B555=\"\",\"\",VLOOKUP(B555,Deltagere!$B$4:$D$1003,2,FALSE))","v":""},1,null,{"$f":"IF(E555=\"\",\"\",VLOOKUP(E555,Deltagere!$B$4:$D$1003,2,FALSE))","v":""}]
[null,null,{"$f":"IF(B556=\"\",\"\",VLOOKUP(B556,Deltagere!$B$4:$D$1003,2,FALSE))","v":""},1,null,{"$f":"IF(E556=\"\",\"\",VLOOKUP(E556,Deltagere!$B$4:$D$1003,2,FALSE))","v":""}]
[null,null,{"$f":"IF(B557=\"\",\"\",VLOOKUP(B557,Deltagere!$B$4:$D$1003,2,FALSE))","v":""},1,null,{"$f":"IF(E557=\"\",\"\",VLOOKUP(E557,Deltagere!$B$4:$D$1003,2,FALSE))","v":""}]
[9,null,{"$f":"IF(B558=\"\",\"\",VLOOKUP(B558,Deltagere!$B$4:$D$1003,2,FALSE))","v":""},1,null,{"$f":"IF(E558=\"\",\"\",VLOOKUP(E558,Deltagere!$B$4:$D$1003,2,FALSE))","v":""}]
[null,null,{"$f":"IF(B559=\"\",\"\",VLOOKUP(B559,Deltagere!$B$4:$D$1003,2,FALSE))","v":""},1,null,{"$f":"IF(E559=\"\",\"\",VLOOKUP(E559,Deltagere!$B$4:$D$1003,2,FALSE))","v":""}]
[null,null,{"$f":"IF(B560=\"\",\"\",VLOOKUP(B560,Deltagere!$B$4:$D$1003,2,FALSE))","v":""},1,null,{"$f":"IF(E560=\"\",\"\",VLOOKUP(E560,Deltagere!$B$4:$D$1003,2,FALSE))","v":""}]
[null,null,{"$f":"IF(B561=\"\",\"\",VLOOKUP(B561,Deltagere!$B$4:$D$1003,2,FALSE))","v":""},1,null,{"$f":"IF(E561=\"\",\"\",VLOOKUP(E561,Deltagere!$B$4:$D$1003,2,FALSE))","v":""}]
[11,null,{"$f":"IF(B562=\"\",\"\",VLOOKUP(B562,Deltagere!$B$4:$D$1003,2,FALSE))","v":""},1,null,{"$f":"IF(E562=\"\",\"\",VLOOKUP(E562,Deltagere!$B$4:$D$1003,2,FALSE))","v":""}]
[null,null,{"$f":"IF(B563=\"\",\"\",VLOOKUP(B563,Deltagere!$B$4:$D$1003,2,FALSE))","v":""},1,null,{"$f":"IF(E563=\"\",\"\",VLOOKUP(E563,Deltagere!$B$4:$D$1003,2,FALSE))","v":""}]
[null,null,{"$f":"IF(B564=\"\",\"\",VLOOKUP(B564,Deltagere!$B$4:$D$1003,2,FALSE))","v":""},1,null,{"$f":"IF(E564=\"\",\"\",VLOOKUP(E564,Deltagere!$B$4:$D$1003,2,FALSE))","v":""}]
[null,null,{"$f":"IF(B565=\"\",\"\",VLOOKUP(B565,Deltagere!$B$4:$D$1003,2,FALSE))","v":""},1,null,{"$f":"IF(E565=\"\",\"\",VLOOKUP(E565,Deltagere!$B$4:$D$1003,2,FALSE))","v":""}]
[13,null,{"$f":"IF(B566=\"\",\"\",VLOOKUP(B566,Deltagere!$B$4:$D$1003,2,FALSE))","v":""},1,null,{"$f":"IF(E566=\"\",\"\",VLOOKUP(E566,Deltagere!$B$4:$D$1003,2,FALSE))","v":""}]
[null,null,{"$f":"IF(B567=\"\",\"\",VLOOKUP(B567,Deltagere!$B$4:$D$1003,2,FALSE))","v":""},1,null,{"$f":"IF(E567=\"\",\"\",VLOOKUP(E567,Deltagere!$B$4:$D$1003,2,FALSE))","v":""}]
[null,null,{"$f":"IF(B568=\"\",\"\",VLOOKUP(B568,Deltagere!$B$4:$D$1003,2,FALSE))","v":""},1,null,{"$f":"IF(E568=\"\",\"\",VLOOKUP(E568,Deltagere!$B$4:$D$1003,2,FALSE))","v":""}]
[null,null,{"$f":"IF(B569=\"\",\"\",VLOOKUP(B569,Deltagere!$B$4:$D$1003,2,FALSE))","v":""},1,null,{"$f":"IF(E569=\"\",\"\",VLOOKUP(E569,Deltagere!$B$4:$D$1003,2,FALSE))","v":""}]
[15,null,{"$f":"IF(B570=\"\",\"\",VLOOKUP(B570,Deltagere!$B$4:$D$1003,2,FALSE))","v":""},1,null,{"$f":"IF(E570=\"\",\"\",VLOOKUP(E570,Deltagere!$B$4:$D$1003,2,FALSE))","v":""}]
[null,null,{"$f":"IF(B571=\"\",\"\",VLOOKUP(B571,Deltagere!$B$4:$D$1003,2,FALSE))","v":""},1,null,{"$f":"IF(E571=\"\",\"\",VLOOKUP(E571,Deltagere!$B$4:$D$1003,2,FALSE))","v":""}]
[null,null,{"$f":"IF(B572=\"\",\"\",VLOOKUP(B572,Deltagere!$B$4:$D$1003,2,FALSE))","v":""},1,null,{"$f":"IF(E572=\"\",\"\",VLOOKUP(E572,Deltagere!$B$4:$D$1003,2,FALSE))","v":""}]
[null,null,{"$f":"IF(B573=\"\",\"\",VLOOKUP(B573,Deltagere!$B$4:$D$1003,2,FALSE))","v":""},1,null,{"$f":"IF(E573=\"\",\"\",VLOOKUP(E573,Deltagere!$B$4:$D$1003,2,FALSE))","v":""}]
[16,null,{"$f":"IF(B574=\"\",\"\",VLOOKUP(B574,Deltagere!$B$4:$D$1003,2,FALSE))","v":""},1,null,{"$f":"IF(E574=\"\",\"\",VLOOKUP(E574,Deltagere!$B$4:$D$1003,2,FALSE))","v":""}]
[null,null,{"$f":"IF(B575=\"\",\"\",VLOOKUP(B575,Deltagere!$B$4:$D$1003,2,FALSE))","v":""},1,null,{"$f":"IF(E575=\"\",\"\",VLOOKUP(E575,Deltagere!$B$4:$D$1003,2,FALSE))","v":""}]
[null,null,{"$f":"IF(B576=\"\",\"\",VLOOKUP(B576,Deltagere!$B$4:$D$1003,2,FALSE))","v":""},1,null,{"$f":"IF(E576=\"\",\"\",VLOOKUP(E576,Deltagere!$B$4:$D$1003,2,FALSE))","v":""}]
[null,null,{"$f":"IF(B577=\"\",\"\",VLOOKUP(B577,Deltagere!$B$4:$D$1003,2,FALSE))","v":""},1,null,{"$f":"IF(E577=\"\",\"\",VLOOKUP(E577,Deltagere!$B$4:$D$1003,2,FALSE))","v":""}]
[18,null,{"$f":"IF(B578=\"\",\"\",VLOOKUP(B578,Deltagere!$B$4:$D$1003,2,FALSE))","v":""},1,null,{"$f":"IF(E578=\"\",\"\",VLOOKUP(E578,Deltagere!$B$4:$D$1003,2,FALSE))","v":""}]
[null,null,{"$f":"IF(B579=\"\",\"\",VLOOKUP(B579,Deltagere!$B$4:$D$1003,2,FALSE))","v":""},1,null,{"$f":"IF(E579=\"\",\"\",VLOOKUP(E579,Deltagere!$B$4:$D$1003,2,FALSE))","v":""}]
[null,null,{"$f":"IF(B580=\"\",\"\",VLOOKUP(B580,Deltagere!$B$4:$D$1003,2,FALSE))","v":""},1,null,{"$f":"IF(E580=\"\",\"\",VLOOKUP(E580,Deltagere!$B$4:$D$1003,2,FALSE))","v":""}]
[]
[]
[]
[]
[]
[]
[]
[]
[]
[]
[]
[]
[]
[]
[]
["Gul farve er dommer",null,"Runde 1",null,null,"Runde 2",null,"Se her hvilke klubber deltagerne "]
["Start ved hul nr.","Spiller nr.","Spiller navn","Hold ","Spiller nr.","Spiller navn",null,"             på holdene kommer fra."]
[null,null,{"$f":"IF(B598=\"\",\"\",VLOOKUP(B598,Deltagere!$B$4:$D$1003,2,FALSE))","v":""},1,null,{"$f":"IF(E598=\"\",\"\",VLOOKUP(E598,Deltagere!$B$4:$D$1003,2,FALSE))","v":""},null,"Nr.     1 - 50   er Frederikssund"]
[1,null,{"$f":"IF(B599=\"\",\"\",VLOOKUP(B599,Deltagere!$B$4:$D$1003,2,FALSE))","v":""},1,null,{"$f":"IF(E599=\"\",\"\",VLOOKUP(E599,Deltagere!$B$4:$D$1003,2,FALSE))","v":""},null,"Nr.   51 - 100 er Meløse"]
[null,null,{"$f":"IF(B600=\"\",\"\",VLOOKUP(B600,Deltagere!$B$4:$D$1003,2,FALSE))","v":""},1,null,{"$f":"IF(E600=\"\",\"\",VLOOKUP(E600,Deltagere!$B$4:$D$1003,2,FALSE))","v":""},null,"Nr. 101 - 150 er Hornsherred"]
[null,null,{"$f":"IF(B601=\"\",\"\",VLOOKUP(B601,Deltagere!$B$4:$D$1003,2,FALSE))","v":""},1,null,{"$f":"IF(E601=\"\",\"\",VLOOKUP(E601,Deltagere!$B$4:$D$1003,2,FALSE))","v":""},null,"Nr. 151 - 200 er Ølstykke"]
[null,null,{"$f":"IF(B602=\"\",\"\",VLOOKUP(B602,Deltagere!$B$4:$D$1003,2,FALSE))","v":""},1,null,{"$f":"IF(E602=\"\",\"\",VLOOKUP(E602,Deltagere!$B$4:$D$1003,2,FALSE))","v":""},null,"Nr. 201 - 300 er Ledøje/Smørum "]
[2,null,{"$f":"IF(B603=\"\",\"\",VLOOKUP(B603,Deltagere!$B$4:$D$1003,2,FALSE))","v":""},1,null,{"$f":"IF(E603=\"\",\"\",VLOOKUP(E603,Deltagere!$B$4:$D$1003,2,FALSE))","v":""},null,"Nr. 301 - 350 er BK Greve"]
[null,null,{"$f":"IF(B604=\"\",\"\",VLOOKUP(B604,Deltagere!$B$4:$D$1003,2,FALSE))","v":""},1,null,{"$f":"IF(E604=\"\",\"\",VLOOKUP(E604,Deltagere!$B$4:$D$1003,2,FALSE))","v":""},null,"Nr. 351 - 400 er Albertslund"]
[null,null,{"$f":"IF(B605=\"\",\"\",VLOOKUP(B605,Deltagere!$B$4:$D$1003,2,FALSE))","v":""},1,null,{"$f":"IF(E605=\"\",\"\",VLOOKUP(E605,Deltagere!$B$4:$D$1003,2,FALSE))","v":""},null,"Nr. 401 - 450 er Lyngby"]
[null,null,{"$f":"IF(B606=\"\",\"\",VLOOKUP(B606,Deltagere!$B$4:$D$1003,2,FALSE))","v":""},1,null,{"$f":"IF(E606=\"\",\"\",VLOOKUP(E606,Deltagere!$B$4:$D$1003,2,FALSE))","v":""},null,"Nr. 451 - 500 er Krolffolket"]
[4,null,{"$f":"IF(B607=\"\",\"\",VLOOKUP(B607,Deltagere!$B$4:$D$1003,2,FALSE))","v":""},1,null,{"$f":"IF(E607=\"\",\"\",VLOOKUP(E607,Deltagere!$B$4:$D$1003,2,FALSE))","v":""},null,"Nr. 501 - 550 er Tapeten"]
[null,null,{"$f":"IF(B608=\"\",\"\",VLOOKUP(B608,Deltagere!$B$4:$D$1003,2,FALSE))","v":""},1,null,{"$f":"IF(E608=\"\",\"\",VLOOKUP(E608,Deltagere!$B$4:$D$1003,2,FALSE))","v":""},null,"Nr. 551 - 600 er Vesterbro"]
[null,null,{"$f":"IF(B609=\"\",\"\",VLOOKUP(B609,Deltagere!$B$4:$D$1003,2,FALSE))","v":""},1,null,{"$f":"IF(E609=\"\",\"\",VLOOKUP(E609,Deltagere!$B$4:$D$1003,2,FALSE))","v":""},null,"Nr. 601 - 650 er Vikingerne"]
[null,null,{"$f":"IF(B610=\"\",\"\",VLOOKUP(B610,Deltagere!$B$4:$D$1003,2,FALSE))","v":""},1,null,{"$f":"IF(E610=\"\",\"\",VLOOKUP(E610,Deltagere!$B$4:$D$1003,2,FALSE))","v":""}]
[6,null,{"$f":"IF(B611=\"\",\"\",VLOOKUP(B611,Deltagere!$B$4:$D$1003,2,FALSE))","v":""},1,null,{"$f":"IF(E611=\"\",\"\",VLOOKUP(E611,Deltagere!$B$4:$D$1003,2,FALSE))","v":""}]
[null,null,{"$f":"IF(B612=\"\",\"\",VLOOKUP(B612,Deltagere!$B$4:$D$1003,2,FALSE))","v":""},1,null,{"$f":"IF(E612=\"\",\"\",VLOOKUP(E612,Deltagere!$B$4:$D$1003,2,FALSE))","v":""}]
[null,null,{"$f":"IF(B613=\"\",\"\",VLOOKUP(B613,Deltagere!$B$4:$D$1003,2,FALSE))","v":""},1,null,{"$f":"IF(E613=\"\",\"\",VLOOKUP(E613,Deltagere!$B$4:$D$1003,2,FALSE))","v":""}]
[null,null,{"$f":"IF(B614=\"\",\"\",VLOOKUP(B614,Deltagere!$B$4:$D$1003,2,FALSE))","v":""},1,null,{"$f":"IF(E614=\"\",\"\",VLOOKUP(E614,Deltagere!$B$4:$D$1003,2,FALSE))","v":""}]
[8,null,{"$f":"IF(B615=\"\",\"\",VLOOKUP(B615,Deltagere!$B$4:$D$1003,2,FALSE))","v":""},1,null,{"$f":"IF(E615=\"\",\"\",VLOOKUP(E615,Deltagere!$B$4:$D$1003,2,FALSE))","v":""}]
[null,null,{"$f":"IF(B616=\"\",\"\",VLOOKUP(B616,Deltagere!$B$4:$D$1003,2,FALSE))","v":""},1,null,{"$f":"IF(E616=\"\",\"\",VLOOKUP(E616,Deltagere!$B$4:$D$1003,2,FALSE))","v":""}]
[null,null,{"$f":"IF(B617=\"\",\"\",VLOOKUP(B617,Deltagere!$B$4:$D$1003,2,FALSE))","v":""},1,null,{"$f":"IF(E617=\"\",\"\",VLOOKUP(E617,Deltagere!$B$4:$D$1003,2,FALSE))","v":""}]
[null,null,{"$f":"IF(B618=\"\",\"\",VLOOKUP(B618,Deltagere!$B$4:$D$1003,2,FALSE))","v":""},1,null,{"$f":"IF(E618=\"\",\"\",VLOOKUP(E618,Deltagere!$B$4:$D$1003,2,FALSE))","v":""}]
[9,null,{"$f":"IF(B619=\"\",\"\",VLOOKUP(B619,Deltagere!$B$4:$D$1003,2,FALSE))","v":""},1,null,{"$f":"IF(E619=\"\",\"\",VLOOKUP(E619,Deltagere!$B$4:$D$1003,2,FALSE))","v":""}]
[null,null,{"$f":"IF(B620=\"\",\"\",VLOOKUP(B620,Deltagere!$B$4:$D$1003,2,FALSE))","v":""},1,null,{"$f":"IF(E620=\"\",\"\",VLOOKUP(E620,Deltagere!$B$4:$D$1003,2,FALSE))","v":""}]
[null,null,{"$f":"IF(B621=\"\",\"\",VLOOKUP(B621,Deltagere!$B$4:$D$1003,2,FALSE))","v":""},1,null,{"$f":"IF(E621=\"\",\"\",VLOOKUP(E621,Deltagere!$B$4:$D$1003,2,FALSE))","v":""}]
[null,null,{"$f":"IF(B622=\"\",\"\",VLOOKUP(B622,Deltagere!$B$4:$D$1003,2,FALSE))","v":""},1,null,{"$f":"IF(E622=\"\",\"\",VLOOKUP(E622,Deltagere!$B$4:$D$1003,2,FALSE))","v":""}]
[11,null,{"$f":"IF(B623=\"\",\"\",VLOOKUP(B623,Deltagere!$B$4:$D$1003,2,FALSE))","v":""},1,null,{"$f":"IF(E623=\"\",\"\",VLOOKUP(E623,Deltagere!$B$4:$D$1003,2,FALSE))","v":""}]
[null,null,{"$f":"IF(B624=\"\",\"\",VLOOKUP(B624,Deltagere!$B$4:$D$1003,2,FALSE))","v":""},1,null,{"$f":"IF(E624=\"\",\"\",VLOOKUP(E624,Deltagere!$B$4:$D$1003,2,FALSE))","v":""}]
[null,null,{"$f":"IF(B625=\"\",\"\",VLOOKUP(B625,Deltagere!$B$4:$D$1003,2,FALSE))","v":""},1,null,{"$f":"IF(E625=\"\",\"\",VLOOKUP(E625,Deltagere!$B$4:$D$1003,2,FALSE))","v":""}]
[null,null,{"$f":"IF(B626=\"\",\"\",VLOOKUP(B626,Deltagere!$B$4:$D$1003,2,FALSE))","v":""},1,null,{"$f":"IF(E626=\"\",\"\",VLOOKUP(E626,Deltagere!$B$4:$D$1003,2,FALSE))","v":""}]
[13,null,{"$f":"IF(B627=\"\",\"\",VLOOKUP(B627,Deltagere!$B$4:$D$1003,2,FALSE))","v":""},1,null,{"$f":"IF(E627=\"\",\"\",VLOOKUP(E627,Deltagere!$B$4:$D$1003,2,FALSE))","v":""}]
[null,null,{"$f":"IF(B628=\"\",\"\",VLOOKUP(B628,Deltagere!$B$4:$D$1003,2,FALSE))","v":""},1,null,{"$f":"IF(E628=\"\",\"\",VLOOKUP(E628,Deltagere!$B$4:$D$1003,2,FALSE))","v":""}]
[null,null,{"$f":"IF(B629=\"\",\"\",VLOOKUP(B629,Deltagere!$B$4:$D$1003,2,FALSE))","v":""},1,null,{"$f":"IF(E629=\"\",\"\",VLOOKUP(E629,Deltagere!$B$4:$D$1003,2,FALSE))","v":""}]
[null,null,{"$f":"IF(B630=\"\",\"\",VLOOKUP(B630,Deltagere!$B$4:$D$1003,2,FALSE))","v":""},1,null,{"$f":"IF(E630=\"\",\"\",VLOOKUP(E630,Deltagere!$B$4:$D$1003,2,FALSE))","v":""}]
[15,null,{"$f":"IF(B631=\"\",\"\",VLOOKUP(B631,Deltagere!$B$4:$D$1003,2,FALSE))","v":""},1,null,{"$f":"IF(E631=\"\",\"\",VLOOKUP(E631,Deltagere!$B$4:$D$1003,2,FALSE))","v":""}]
[null,null,{"$f":"IF(B632=\"\",\"\",VLOOKUP(B632,Deltagere!$B$4:$D$1003,2,FALSE))","v":""},1,null,{"$f":"IF(E632=\"\",\"\",VLOOKUP(E632,Deltagere!$B$4:$D$1003,2,FALSE))","v":""}]
[null,null,{"$f":"IF(B633=\"\",\"\",VLOOKUP(B633,Deltagere!$B$4:$D$1003,2,FALSE))","v":""},1,null,{"$f":"IF(E633=\"\",\"\",VLOOKUP(E633,Deltagere!$B$4:$D$1003,2,FALSE))","v":""}]
[null,null,{"$f":"IF(B634=\"\",\"\",VLOOKUP(B634,Deltagere!$B$4:$D$1003,2,FALSE))","v":""},1,null,{"$f":"IF(E634=\"\",\"\",VLOOKUP(E634,Deltagere!$B$4:$D$1003,2,FALSE))","v":""}]
[16,null,{"$f":"IF(B635=\"\",\"\",VLOOKUP(B635,Deltagere!$B$4:$D$1003,2,FALSE))","v":""},1,null,{"$f":"IF(E635=\"\",\"\",VLOOKUP(E635,Deltagere!$B$4:$D$1003,2,FALSE))","v":""}]
[null,null,{"$f":"IF(B636=\"\",\"\",VLOOKUP(B636,Deltagere!$B$4:$D$1003,2,FALSE))","v":""},1,null,{"$f":"IF(E636=\"\",\"\",VLOOKUP(E636,Deltagere!$B$4:$D$1003,2,FALSE))","v":""}]
[null,null,{"$f":"IF(B637=\"\",\"\",VLOOKUP(B637,Deltagere!$B$4:$D$1003,2,FALSE))","v":""},1,null,{"$f":"IF(E637=\"\",\"\",VLOOKUP(E637,Deltagere!$B$4:$D$1003,2,FALSE))","v":""}]
[null,null,{"$f":"IF(B638=\"\",\"\",VLOOKUP(B638,Deltagere!$B$4:$D$1003,2,FALSE))","v":""},1,null,{"$f":"IF(E638=\"\",\"\",VLOOKUP(E638,Deltagere!$B$4:$D$1003,2,FALSE))","v":""}]
[18,null,{"$f":"IF(B639=\"\",\"\",VLOOKUP(B639,Deltagere!$B$4:$D$1003,2,FALSE))","v":""},1,null,{"$f":"IF(E639=\"\",\"\",VLOOKUP(E639,Deltagere!$B$4:$D$1003,2,FALSE))","v":""}]
[null,null,{"$f":"IF(B640=\"\",\"\",VLOOKUP(B640,Deltagere!$B$4:$D$1003,2,FALSE))","v":""},1,null,{"$f":"IF(E640=\"\",\"\",VLOOKUP(E640,Deltagere!$B$4:$D$1003,2,FALSE))","v":""}]
[null,null,{"$f":"IF(B641=\"\",\"\",VLOOKUP(B641,Deltagere!$B$4:$D$1003,2,FALSE))","v":""},1,null,{"$f":"IF(E641=\"\",\"\",VLOOKUP(E641,Deltagere!$B$4:$D$1003,2,FALSE))","v":""}]
[]
[]
[]
[]
[]
[]
[]
[]
[]
[]
[]
["Gul farve er dommer",null,"Runde 1",null,null,"Runde 2",null,"Se her hvilke klubber deltagerne "]
["Start ved hul nr.","Spiller nr.","Spiller navn","Hold ","Spiller nr.","Spiller navn",null,"             på holdene kommer fra."]
[null,null,{"$f":"IF(B655=\"\",\"\",VLOOKUP(B655,Deltagere!$B$4:$D$1003,2,FALSE))","v":""},1,null,{"$f":"IF(E655=\"\",\"\",VLOOKUP(E655,Deltagere!$B$4:$D$1003,2,FALSE))","v":""},null,"Nr.     1 - 50   er Frederikssund"]
[1,null,{"$f":"IF(B656=\"\",\"\",VLOOKUP(B656,Deltagere!$B$4:$D$1003,2,FALSE))","v":""},1,null,{"$f":"IF(E656=\"\",\"\",VLOOKUP(E656,Deltagere!$B$4:$D$1003,2,FALSE))","v":""},null,"Nr.   51 - 100 er Meløse"]
[null,null,{"$f":"IF(B657=\"\",\"\",VLOOKUP(B657,Deltagere!$B$4:$D$1003,2,FALSE))","v":""},1,null,{"$f":"IF(E657=\"\",\"\",VLOOKUP(E657,Deltagere!$B$4:$D$1003,2,FALSE))","v":""},null,"Nr. 101 - 150 er Hornsherred"]
[null,null,{"$f":"IF(B658=\"\",\"\",VLOOKUP(B658,Deltagere!$B$4:$D$1003,2,FALSE))","v":""},1,null,{"$f":"IF(E658=\"\",\"\",VLOOKUP(E658,Deltagere!$B$4:$D$1003,2,FALSE))","v":""},null,"Nr. 151 - 200 er Ølstykke"]
[null,null,{"$f":"IF(B659=\"\",\"\",VLOOKUP(B659,Deltagere!$B$4:$D$1003,2,FALSE))","v":""},1,null,{"$f":"IF(E659=\"\",\"\",VLOOKUP(E659,Deltagere!$B$4:$D$1003,2,FALSE))","v":""},null,"Nr. 201 - 300 er Ledøje/Smørum "]
[2,null,{"$f":"IF(B660=\"\",\"\",VLOOKUP(B660,Deltagere!$B$4:$D$1003,2,FALSE))","v":""},1,null,{"$f":"IF(E660=\"\",\"\",VLOOKUP(E660,Deltagere!$B$4:$D$1003,2,FALSE))","v":""},null,"Nr. 301 - 350 er BK Greve"]
[null,null,{"$f":"IF(B661=\"\",\"\",VLOOKUP(B661,Deltagere!$B$4:$D$1003,2,FALSE))","v":""},1,null,{"$f":"IF(E661=\"\",\"\",VLOOKUP(E661,Deltagere!$B$4:$D$1003,2,FALSE))","v":""},null,"Nr. 351 - 400 er Albertslund"]
[null,null,{"$f":"IF(B662=\"\",\"\",VLOOKUP(B662,Deltagere!$B$4:$D$1003,2,FALSE))","v":""},1,null,{"$f":"IF(E662=\"\",\"\",VLOOKUP(E662,Deltagere!$B$4:$D$1003,2,FALSE))","v":""},null,"Nr. 401 - 450 er Lyngby"]
[null,null,{"$f":"IF(B663=\"\",\"\",VLOOKUP(B663,Deltagere!$B$4:$D$1003,2,FALSE))","v":""},1,null,{"$f":"IF(E663=\"\",\"\",VLOOKUP(E663,Deltagere!$B$4:$D$1003,2,FALSE))","v":""},null,"Nr. 451 - 500 er Krolffolket"]
[4,null,{"$f":"IF(B664=\"\",\"\",VLOOKUP(B664,Deltagere!$B$4:$D$1003,2,FALSE))","v":""},1,null,{"$f":"IF(E664=\"\",\"\",VLOOKUP(E664,Deltagere!$B$4:$D$1003,2,FALSE))","v":""},null,"Nr. 501 - 550 er Tapeten"]
[null,null,{"$f":"IF(B665=\"\",\"\",VLOOKUP(B665,Deltagere!$B$4:$D$1003,2,FALSE))","v":""},1,null,{"$f":"IF(E665=\"\",\"\",VLOOKUP(E665,Deltagere!$B$4:$D$1003,2,FALSE))","v":""},null,"Nr. 551 - 600 er Vesterbro"]
[null,null,{"$f":"IF(B666=\"\",\"\",VLOOKUP(B666,Deltagere!$B$4:$D$1003,2,FALSE))","v":""},1,null,{"$f":"IF(E666=\"\",\"\",VLOOKUP(E666,Deltagere!$B$4:$D$1003,2,FALSE))","v":""},null,"Nr. 601 - 650 er Vikingerne"]
[null,null,{"$f":"IF(B667=\"\",\"\",VLOOKUP(B667,Deltagere!$B$4:$D$1003,2,FALSE))","v":""},1,null,{"$f":"IF(E667=\"\",\"\",VLOOKUP(E667,Deltagere!$B$4:$D$1003,2,FALSE))","v":""}]
[6,null,{"$f":"IF(B668=\"\",\"\",VLOOKUP(B668,Deltagere!$B$4:$D$1003,2,FALSE))","v":""},1,null,{"$f":"IF(E668=\"\",\"\",VLOOKUP(E668,Deltagere!$B$4:$D$1003,2,FALSE))","v":""}]
[null,null,{"$f":"IF(B669=\"\",\"\",VLOOKUP(B669,Deltagere!$B$4:$D$1003,2,FALSE))","v":""},1,null,{"$f":"IF(E669=\"\",\"\",VLOOKUP(E669,Deltagere!$B$4:$D$1003,2,FALSE))","v":""}]
[null,null,{"$f":"IF(B670=\"\",\"\",VLOOKUP(B670,Deltagere!$B$4:$D$1003,2,FALSE))","v":""},1,null,{"$f":"IF(E670=\"\",\"\",VLOOKUP(E670,Deltagere!$B$4:$D$1003,2,FALSE))","v":""}]
[null,null,{"$f":"IF(B671=\"\",\"\",VLOOKUP(B671,Deltagere!$B$4:$D$1003,2,FALSE))","v":""},1,null,{"$f":"IF(E671=\"\",\"\",VLOOKUP(E671,Deltagere!$B$4:$D$1003,2,FALSE))","v":""}]
[8,null,{"$f":"IF(B672=\"\",\"\",VLOOKUP(B672,Deltagere!$B$4:$D$1003,2,FALSE))","v":""},1,null,{"$f":"IF(E672=\"\",\"\",VLOOKUP(E672,Deltagere!$B$4:$D$1003,2,FALSE))","v":""}]
[null,null,{"$f":"IF(B673=\"\",\"\",VLOOKUP(B673,Deltagere!$B$4:$D$1003,2,FALSE))","v":""},1,null,{"$f":"IF(E673=\"\",\"\",VLOOKUP(E673,Deltagere!$B$4:$D$1003,2,FALSE))","v":""}]
[null,null,{"$f":"IF(B674=\"\",\"\",VLOOKUP(B674,Deltagere!$B$4:$D$1003,2,FALSE))","v":""},1,null,{"$f":"IF(E674=\"\",\"\",VLOOKUP(E674,Deltagere!$B$4:$D$1003,2,FALSE))","v":""}]
[null,null,{"$f":"IF(B675=\"\",\"\",VLOOKUP(B675,Deltagere!$B$4:$D$1003,2,FALSE))","v":""},1,null,{"$f":"IF(E675=\"\",\"\",VLOOKUP(E675,Deltagere!$B$4:$D$1003,2,FALSE))","v":""}]
[9,null,{"$f":"IF(B676=\"\",\"\",VLOOKUP(B676,Deltagere!$B$4:$D$1003,2,FALSE))","v":""},1,null,{"$f":"IF(E676=\"\",\"\",VLOOKUP(E676,Deltagere!$B$4:$D$1003,2,FALSE))","v":""}]
[null,null,{"$f":"IF(B677=\"\",\"\",VLOOKUP(B677,Deltagere!$B$4:$D$1003,2,FALSE))","v":""},1,null,{"$f":"IF(E677=\"\",\"\",VLOOKUP(E677,Deltagere!$B$4:$D$1003,2,FALSE))","v":""}]
[null,null,{"$f":"IF(B678=\"\",\"\",VLOOKUP(B678,Deltagere!$B$4:$D$1003,2,FALSE))","v":""},1,null,{"$f":"IF(E678=\"\",\"\",VLOOKUP(E678,Deltagere!$B$4:$D$1003,2,FALSE))","v":""}]
[null,null,{"$f":"IF(B679=\"\",\"\",VLOOKUP(B679,Deltagere!$B$4:$D$1003,2,FALSE))","v":""},1,null,{"$f":"IF(E679=\"\",\"\",VLOOKUP(E679,Deltagere!$B$4:$D$1003,2,FALSE))","v":""}]
[11,null,{"$f":"IF(B680=\"\",\"\",VLOOKUP(B680,Deltagere!$B$4:$D$1003,2,FALSE))","v":""},1,null,{"$f":"IF(E680=\"\",\"\",VLOOKUP(E680,Deltagere!$B$4:$D$1003,2,FALSE))","v":""}]
[null,null,{"$f":"IF(B681=\"\",\"\",VLOOKUP(B681,Deltagere!$B$4:$D$1003,2,FALSE))","v":""},1,null,{"$f":"IF(E681=\"\",\"\",VLOOKUP(E681,Deltagere!$B$4:$D$1003,2,FALSE))","v":""}]
[null,null,{"$f":"IF(B682=\"\",\"\",VLOOKUP(B682,Deltagere!$B$4:$D$1003,2,FALSE))","v":""},1,null,{"$f":"IF(E682=\"\",\"\",VLOOKUP(E682,Deltagere!$B$4:$D$1003,2,FALSE))","v":""}]
[null,null,{"$f":"IF(B683=\"\",\"\",VLOOKUP(B683,Deltagere!$B$4:$D$1003,2,FALSE))","v":""},1,null,{"$f":"IF(E683=\"\",\"\",VLOOKUP(E683,Deltagere!$B$4:$D$1003,2,FALSE))","v":""}]
[13,null,{"$f":"IF(B684=\"\",\"\",VLOOKUP(B684,Deltagere!$B$4:$D$1003,2,FALSE))","v":""},1,null,{"$f":"IF(E684=\"\",\"\",VLOOKUP(E684,Deltagere!$B$4:$D$1003,2,FALSE))","v":""}]
[null,null,{"$f":"IF(B685=\"\",\"\",VLOOKUP(B685,Deltagere!$B$4:$D$1003,2,FALSE))","v":""},1,null,{"$f":"IF(E685=\"\",\"\",VLOOKUP(E685,Deltagere!$B$4:$D$1003,2,FALSE))","v":""}]
[null,null,{"$f":"IF(B686=\"\",\"\",VLOOKUP(B686,Deltagere!$B$4:$D$1003,2,FALSE))","v":""},1,null,{"$f":"IF(E686=\"\",\"\",VLOOKUP(E686,Deltagere!$B$4:$D$1003,2,FALSE))","v":""}]
[null,null,{"$f":"IF(B687=\"\",\"\",VLOOKUP(B687,Deltagere!$B$4:$D$1003,2,FALSE))","v":""},1,null,{"$f":"IF(E687=\"\",\"\",VLOOKUP(E687,Deltagere!$B$4:$D$1003,2,FALSE))","v":""}]
[15,null,{"$f":"IF(B688=\"\",\"\",VLOOKUP(B688,Deltagere!$B$4:$D$1003,2,FALSE))","v":""},1,null,{"$f":"IF(E688=\"\",\"\",VLOOKUP(E688,Deltagere!$B$4:$D$1003,2,FALSE))","v":""}]
[null,null,{"$f":"IF(B689=\"\",\"\",VLOOKUP(B689,Deltagere!$B$4:$D$1003,2,FALSE))","v":""},1,null,{"$f":"IF(E689=\"\",\"\",VLOOKUP(E689,Deltagere!$B$4:$D$1003,2,FALSE))","v":""}]
[null,null,{"$f":"IF(B690=\"\",\"\",VLOOKUP(B690,Deltagere!$B$4:$D$1003,2,FALSE))","v":""},1,null,{"$f":"IF(E690=\"\",\"\",VLOOKUP(E690,Deltagere!$B$4:$D$1003,2,FALSE))","v":""}]
[null,null,{"$f":"IF(B691=\"\",\"\",VLOOKUP(B691,Deltagere!$B$4:$D$1003,2,FALSE))","v":""},1,null,{"$f":"IF(E691=\"\",\"\",VLOOKUP(E691,Deltagere!$B$4:$D$1003,2,FALSE))","v":""}]
[16,null,{"$f":"IF(B692=\"\",\"\",VLOOKUP(B692,Deltagere!$B$4:$D$1003,2,FALSE))","v":""},1,null,{"$f":"IF(E692=\"\",\"\",VLOOKUP(E692,Deltagere!$B$4:$D$1003,2,FALSE))","v":""}]
[null,null,{"$f":"IF(B693=\"\",\"\",VLOOKUP(B693,Deltagere!$B$4:$D$1003,2,FALSE))","v":""},1,null,{"$f":"IF(E693=\"\",\"\",VLOOKUP(E693,Deltagere!$B$4:$D$1003,2,FALSE))","v":""}]
[null,null,{"$f":"IF(B694=\"\",\"\",VLOOKUP(B694,Deltagere!$B$4:$D$1003,2,FALSE))","v":""},1,null,{"$f":"IF(E694=\"\",\"\",VLOOKUP(E694,Deltagere!$B$4:$D$1003,2,FALSE))","v":""}]
[null,null,{"$f":"IF(B695=\"\",\"\",VLOOKUP(B695,Deltagere!$B$4:$D$1003,2,FALSE))","v":""},1,null,{"$f":"IF(E695=\"\",\"\",VLOOKUP(E695,Deltagere!$B$4:$D$1003,2,FALSE))","v":""}]
[17,null,{"$f":"IF(B696=\"\",\"\",VLOOKUP(B696,Deltagere!$B$4:$D$1003,2,FALSE))","v":""},1,null,{"$f":"IF(E696=\"\",\"\",VLOOKUP(E696,Deltagere!$B$4:$D$1003,2,FALSE))","v":""}]
[null,null,{"$f":"IF(B697=\"\",\"\",VLOOKUP(B697,Deltagere!$B$4:$D$1003,2,FALSE))","v":""},1,null,{"$f":"IF(E697=\"\",\"\",VLOOKUP(E697,Deltagere!$B$4:$D$1003,2,FALSE))","v":""}]
[null,null,{"$f":"IF(B698=\"\",\"\",VLOOKUP(B698,Deltagere!$B$4:$D$1003,2,FALSE))","v":""},1,null,{"$f":"IF(E698=\"\",\"\",VLOOKUP(E698,Deltagere!$B$4:$D$1003,2,FALSE))","v":""}]
[null,null,{"$f":"IF(B699=\"\",\"\",VLOOKUP(B699,Deltagere!$B$4:$D$1003,2,FALSE))","v":""},1,null,{"$f":"IF(E699=\"\",\"\",VLOOKUP(E699,Deltagere!$B$4:$D$1003,2,FALSE))","v":""}]
[18,null,{"$f":"IF(B700=\"\",\"\",VLOOKUP(B700,Deltagere!$B$4:$D$1003,2,FALSE))","v":""},1,null,{"$f":"IF(E700=\"\",\"\",VLOOKUP(E700,Deltagere!$B$4:$D$1003,2,FALSE))","v":""}]
[null,null,{"$f":"IF(B701=\"\",\"\",VLOOKUP(B701,Deltagere!$B$4:$D$1003,2,FALSE))","v":""},1,null,{"$f":"IF(E701=\"\",\"\",VLOOKUP(E701,Deltagere!$B$4:$D$1003,2,FALSE))","v":""}]
[null,null,{"$f":"IF(B702=\"\",\"\",VLOOKUP(B702,Deltagere!$B$4:$D$1003,2,FALSE))","v":""},1,null,{"$f":"IF(E702=\"\",\"\",VLOOKUP(E702,Deltagere!$B$4:$D$1003,2,FALSE))","v":""}]
[]
[]
["Gul farve er dommer",null,"Runde 1",null,null,"Runde 2",null,"Se her hvilke klubber deltagerne "]
["Start ved hul nr.","Spiller nr.","Spiller navn","Hold ","Spiller nr.","Spiller navn",null,"             på holdene kommer fra."]
[null,null,{"$f":"IF(B707=\"\",\"\",VLOOKUP(B707,Deltagere!$B$4:$D$1003,2,FALSE))","v":""},1,null,{"$f":"IF(E707=\"\",\"\",VLOOKUP(E707,Deltagere!$B$4:$D$1003,2,FALSE))","v":""},null,"Nr.     1 - 50   er Frederikssund"]
[1,null,{"$f":"IF(B708=\"\",\"\",VLOOKUP(B708,Deltagere!$B$4:$D$1003,2,FALSE))","v":""},1,null,{"$f":"IF(E708=\"\",\"\",VLOOKUP(E708,Deltagere!$B$4:$D$1003,2,FALSE))","v":""},null,"Nr.   51 - 100 er Meløse"]
[null,null,{"$f":"IF(B709=\"\",\"\",VLOOKUP(B709,Deltagere!$B$4:$D$1003,2,FALSE))","v":""},1,null,{"$f":"IF(E709=\"\",\"\",VLOOKUP(E709,Deltagere!$B$4:$D$1003,2,FALSE))","v":""},null,"Nr. 101 - 150 er Hornsherred"]
[null,null,{"$f":"IF(B710=\"\",\"\",VLOOKUP(B710,Deltagere!$B$4:$D$1003,2,FALSE))","v":""},1,null,{"$f":"IF(E710=\"\",\"\",VLOOKUP(E710,Deltagere!$B$4:$D$1003,2,FALSE))","v":""},null,"Nr. 151 - 200 er Ølstykke"]
[null,null,{"$f":"IF(B711=\"\",\"\",VLOOKUP(B711,Deltagere!$B$4:$D$1003,2,FALSE))","v":""},1,null,{"$f":"IF(E711=\"\",\"\",VLOOKUP(E711,Deltagere!$B$4:$D$1003,2,FALSE))","v":""},null,"Nr. 201 - 300 er Ledøje/Smørum "]
[2,null,{"$f":"IF(B712=\"\",\"\",VLOOKUP(B712,Deltagere!$B$4:$D$1003,2,FALSE))","v":""},1,null,{"$f":"IF(E712=\"\",\"\",VLOOKUP(E712,Deltagere!$B$4:$D$1003,2,FALSE))","v":""},null,"Nr. 301 - 350 er BK Greve"]
[null,null,{"$f":"IF(B713=\"\",\"\",VLOOKUP(B713,Deltagere!$B$4:$D$1003,2,FALSE))","v":""},1,null,{"$f":"IF(E713=\"\",\"\",VLOOKUP(E713,Deltagere!$B$4:$D$1003,2,FALSE))","v":""},null,"Nr. 351 - 400 er Albertslund"]
[null,null,{"$f":"IF(B714=\"\",\"\",VLOOKUP(B714,Deltagere!$B$4:$D$1003,2,FALSE))","v":""},1,null,{"$f":"IF(E714=\"\",\"\",VLOOKUP(E714,Deltagere!$B$4:$D$1003,2,FALSE))","v":""},null,"Nr. 401 - 450 er Lyngby"]
[null,null,{"$f":"IF(B715=\"\",\"\",VLOOKUP(B715,Deltagere!$B$4:$D$1003,2,FALSE))","v":""},1,null,{"$f":"IF(E715=\"\",\"\",VLOOKUP(E715,Deltagere!$B$4:$D$1003,2,FALSE))","v":""},null,"Nr. 451 - 500 er Krolffolket"]
[4,null,{"$f":"IF(B716=\"\",\"\",VLOOKUP(B716,Deltagere!$B$4:$D$1003,2,FALSE))","v":""},1,null,{"$f":"IF(E716=\"\",\"\",VLOOKUP(E716,Deltagere!$B$4:$D$1003,2,FALSE))","v":""},null,"Nr. 501 - 550 er Tapeten"]
[null,null,{"$f":"IF(B717=\"\",\"\",VLOOKUP(B717,Deltagere!$B$4:$D$1003,2,FALSE))","v":""},1,null,{"$f":"IF(E717=\"\",\"\",VLOOKUP(E717,Deltagere!$B$4:$D$1003,2,FALSE))","v":""},null,"Nr. 551 - 600 er Vesterbro"]
[null,null,{"$f":"IF(B718=\"\",\"\",VLOOKUP(B718,Deltagere!$B$4:$D$1003,2,FALSE))","v":""},1,null,{"$f":"IF(E718=\"\",\"\",VLOOKUP(E718,Deltagere!$B$4:$D$1003,2,FALSE))","v":""},null,"Nr. 601 - 650 er Vikingerne"]
[null,null,{"$f":"IF(B719=\"\",\"\",VLOOKUP(B719,Deltagere!$B$4:$D$1003,2,FALSE))","v":""},1,null,{"$f":"IF(E719=\"\",\"\",VLOOKUP(E719,Deltagere!$B$4:$D$1003,2,FALSE))","v":""}]
[6,null,{"$f":"IF(B720=\"\",\"\",VLOOKUP(B720,Deltagere!$B$4:$D$1003,2,FALSE))","v":""},1,null,{"$f":"IF(E720=\"\",\"\",VLOOKUP(E720,Deltagere!$B$4:$D$1003,2,FALSE))","v":""}]
[null,null,{"$f":"IF(B721=\"\",\"\",VLOOKUP(B721,Deltagere!$B$4:$D$1003,2,FALSE))","v":""},1,null,{"$f":"IF(E721=\"\",\"\",VLOOKUP(E721,Deltagere!$B$4:$D$1003,2,FALSE))","v":""}]
[null,null,{"$f":"IF(B722=\"\",\"\",VLOOKUP(B722,Deltagere!$B$4:$D$1003,2,FALSE))","v":""},1,null,{"$f":"IF(E722=\"\",\"\",VLOOKUP(E722,Deltagere!$B$4:$D$1003,2,FALSE))","v":""}]
[null,null,{"$f":"IF(B723=\"\",\"\",VLOOKUP(B723,Deltagere!$B$4:$D$1003,2,FALSE))","v":""},1,null,{"$f":"IF(E723=\"\",\"\",VLOOKUP(E723,Deltagere!$B$4:$D$1003,2,FALSE))","v":""}]
[7,null,{"$f":"IF(B724=\"\",\"\",VLOOKUP(B724,Deltagere!$B$4:$D$1003,2,FALSE))","v":""},1,null,{"$f":"IF(E724=\"\",\"\",VLOOKUP(E724,Deltagere!$B$4:$D$1003,2,FALSE))","v":""}]
[null,null,{"$f":"IF(B725=\"\",\"\",VLOOKUP(B725,Deltagere!$B$4:$D$1003,2,FALSE))","v":""},1,null,{"$f":"IF(E725=\"\",\"\",VLOOKUP(E725,Deltagere!$B$4:$D$1003,2,FALSE))","v":""}]
[null,null,{"$f":"IF(B726=\"\",\"\",VLOOKUP(B726,Deltagere!$B$4:$D$1003,2,FALSE))","v":""},1,null,{"$f":"IF(E726=\"\",\"\",VLOOKUP(E726,Deltagere!$B$4:$D$1003,2,FALSE))","v":""}]
[null,null,{"$f":"IF(B727=\"\",\"\",VLOOKUP(B727,Deltagere!$B$4:$D$1003,2,FALSE))","v":""},1,null,{"$f":"IF(E727=\"\",\"\",VLOOKUP(E727,Deltagere!$B$4:$D$1003,2,FALSE))","v":""}]
[8,null,{"$f":"IF(B728=\"\",\"\",VLOOKUP(B728,Deltagere!$B$4:$D$1003,2,FALSE))","v":""},1,null,{"$f":"IF(E728=\"\",\"\",VLOOKUP(E728,Deltagere!$B$4:$D$1003,2,FALSE))","v":""}]
[null,null,{"$f":"IF(B729=\"\",\"\",VLOOKUP(B729,Deltagere!$B$4:$D$1003,2,FALSE))","v":""},1,null,{"$f":"IF(E729=\"\",\"\",VLOOKUP(E729,Deltagere!$B$4:$D$1003,2,FALSE))","v":""}]
[null,null,{"$f":"IF(B730=\"\",\"\",VLOOKUP(B730,Deltagere!$B$4:$D$1003,2,FALSE))","v":""},1,null,{"$f":"IF(E730=\"\",\"\",VLOOKUP(E730,Deltagere!$B$4:$D$1003,2,FALSE))","v":""}]
[null,null,{"$f":"IF(B731=\"\",\"\",VLOOKUP(B731,Deltagere!$B$4:$D$1003,2,FALSE))","v":""},1,null,{"$f":"IF(E731=\"\",\"\",VLOOKUP(E731,Deltagere!$B$4:$D$1003,2,FALSE))","v":""}]
[9,null,{"$f":"IF(B732=\"\",\"\",VLOOKUP(B732,Deltagere!$B$4:$D$1003,2,FALSE))","v":""},1,null,{"$f":"IF(E732=\"\",\"\",VLOOKUP(E732,Deltagere!$B$4:$D$1003,2,FALSE))","v":""}]
[null,null,{"$f":"IF(B733=\"\",\"\",VLOOKUP(B733,Deltagere!$B$4:$D$1003,2,FALSE))","v":""},1,null,{"$f":"IF(E733=\"\",\"\",VLOOKUP(E733,Deltagere!$B$4:$D$1003,2,FALSE))","v":""}]
[null,null,{"$f":"IF(B734=\"\",\"\",VLOOKUP(B734,Deltagere!$B$4:$D$1003,2,FALSE))","v":""},1,null,{"$f":"IF(E734=\"\",\"\",VLOOKUP(E734,Deltagere!$B$4:$D$1003,2,FALSE))","v":""}]
[null,null,{"$f":"IF(B735=\"\",\"\",VLOOKUP(B735,Deltagere!$B$4:$D$1003,2,FALSE))","v":""},1,null,{"$f":"IF(E735=\"\",\"\",VLOOKUP(E735,Deltagere!$B$4:$D$1003,2,FALSE))","v":""}]
[11,null,{"$f":"IF(B736=\"\",\"\",VLOOKUP(B736,Deltagere!$B$4:$D$1003,2,FALSE))","v":""},1,null,{"$f":"IF(E736=\"\",\"\",VLOOKUP(E736,Deltagere!$B$4:$D$1003,2,FALSE))","v":""}]
[null,null,{"$f":"IF(B737=\"\",\"\",VLOOKUP(B737,Deltagere!$B$4:$D$1003,2,FALSE))","v":""},1,null,{"$f":"IF(E737=\"\",\"\",VLOOKUP(E737,Deltagere!$B$4:$D$1003,2,FALSE))","v":""}]
[null,null,{"$f":"IF(B738=\"\",\"\",VLOOKUP(B738,Deltagere!$B$4:$D$1003,2,FALSE))","v":""},1,null,{"$f":"IF(E738=\"\",\"\",VLOOKUP(E738,Deltagere!$B$4:$D$1003,2,FALSE))","v":""}]
[null,null,{"$f":"IF(B739=\"\",\"\",VLOOKUP(B739,Deltagere!$B$4:$D$1003,2,FALSE))","v":""},1,null,{"$f":"IF(E739=\"\",\"\",VLOOKUP(E739,Deltagere!$B$4:$D$1003,2,FALSE))","v":""}]
[13,null,{"$f":"IF(B740=\"\",\"\",VLOOKUP(B740,Deltagere!$B$4:$D$1003,2,FALSE))","v":""},1,null,{"$f":"IF(E740=\"\",\"\",VLOOKUP(E740,Deltagere!$B$4:$D$1003,2,FALSE))","v":""}]
[null,null,{"$f":"IF(B741=\"\",\"\",VLOOKUP(B741,Deltagere!$B$4:$D$1003,2,FALSE))","v":""},1,null,{"$f":"IF(E741=\"\",\"\",VLOOKUP(E741,Deltagere!$B$4:$D$1003,2,FALSE))","v":""}]
[null,null,{"$f":"IF(B742=\"\",\"\",VLOOKUP(B742,Deltagere!$B$4:$D$1003,2,FALSE))","v":""},1,null,{"$f":"IF(E742=\"\",\"\",VLOOKUP(E742,Deltagere!$B$4:$D$1003,2,FALSE))","v":""}]
[null,null,{"$f":"IF(B743=\"\",\"\",VLOOKUP(B743,Deltagere!$B$4:$D$1003,2,FALSE))","v":""},1,null,{"$f":"IF(E743=\"\",\"\",VLOOKUP(E743,Deltagere!$B$4:$D$1003,2,FALSE))","v":""}]
[15,null,{"$f":"IF(B744=\"\",\"\",VLOOKUP(B744,Deltagere!$B$4:$D$1003,2,FALSE))","v":""},1,null,{"$f":"IF(E744=\"\",\"\",VLOOKUP(E744,Deltagere!$B$4:$D$1003,2,FALSE))","v":""}]
[null,null,{"$f":"IF(B745=\"\",\"\",VLOOKUP(B745,Deltagere!$B$4:$D$1003,2,FALSE))","v":""},1,null,{"$f":"IF(E745=\"\",\"\",VLOOKUP(E745,Deltagere!$B$4:$D$1003,2,FALSE))","v":""}]
[null,null,{"$f":"IF(B746=\"\",\"\",VLOOKUP(B746,Deltagere!$B$4:$D$1003,2,FALSE))","v":""},1,null,{"$f":"IF(E746=\"\",\"\",VLOOKUP(E746,Deltagere!$B$4:$D$1003,2,FALSE))","v":""}]
[null,null,{"$f":"IF(B747=\"\",\"\",VLOOKUP(B747,Deltagere!$B$4:$D$1003,2,FALSE))","v":""},1,null,{"$f":"IF(E747=\"\",\"\",VLOOKUP(E747,Deltagere!$B$4:$D$1003,2,FALSE))","v":""}]
[16,null,{"$f":"IF(B748=\"\",\"\",VLOOKUP(B748,Deltagere!$B$4:$D$1003,2,FALSE))","v":""},1,null,{"$f":"IF(E748=\"\",\"\",VLOOKUP(E748,Deltagere!$B$4:$D$1003,2,FALSE))","v":""}]
[null,null,{"$f":"IF(B749=\"\",\"\",VLOOKUP(B749,Deltagere!$B$4:$D$1003,2,FALSE))","v":""},1,null,{"$f":"IF(E749=\"\",\"\",VLOOKUP(E749,Deltagere!$B$4:$D$1003,2,FALSE))","v":""}]
[null,null,{"$f":"IF(B750=\"\",\"\",VLOOKUP(B750,Deltagere!$B$4:$D$1003,2,FALSE))","v":""},1,null,{"$f":"IF(E750=\"\",\"\",VLOOKUP(E750,Deltagere!$B$4:$D$1003,2,FALSE))","v":""}]
[null,null,{"$f":"IF(B751=\"\",\"\",VLOOKUP(B751,Deltagere!$B$4:$D$1003,2,FALSE))","v":""},1,null,{"$f":"IF(E751=\"\",\"\",VLOOKUP(E751,Deltagere!$B$4:$D$1003,2,FALSE))","v":""}]
[17,null,{"$f":"IF(B752=\"\",\"\",VLOOKUP(B752,Deltagere!$B$4:$D$1003,2,FALSE))","v":""},1,null,{"$f":"IF(E752=\"\",\"\",VLOOKUP(E752,Deltagere!$B$4:$D$1003,2,FALSE))","v":""}]
[null,null,{"$f":"IF(B753=\"\",\"\",VLOOKUP(B753,Deltagere!$B$4:$D$1003,2,FALSE))","v":""},1,null,{"$f":"IF(E753=\"\",\"\",VLOOKUP(E753,Deltagere!$B$4:$D$1003,2,FALSE))","v":""}]
[null,null,{"$f":"IF(B754=\"\",\"\",VLOOKUP(B754,Deltagere!$B$4:$D$1003,2,FALSE))","v":""},1,null,{"$f":"IF(E754=\"\",\"\",VLOOKUP(E754,Deltagere!$B$4:$D$1003,2,FALSE))","v":""}]
[null,null,{"$f":"IF(B755=\"\",\"\",VLOOKUP(B755,Deltagere!$B$4:$D$1003,2,FALSE))","v":""},1,null,{"$f":"IF(E755=\"\",\"\",VLOOKUP(E755,Deltagere!$B$4:$D$1003,2,FALSE))","v":""}]
[18,null,{"$f":"IF(B756=\"\",\"\",VLOOKUP(B756,Deltagere!$B$4:$D$1003,2,FALSE))","v":""},1,null,{"$f":"IF(E756=\"\",\"\",VLOOKUP(E756,Deltagere!$B$4:$D$1003,2,FALSE))","v":""}]
[null,null,{"$f":"IF(B757=\"\",\"\",VLOOKUP(B757,Deltagere!$B$4:$D$1003,2,FALSE))","v":""},1,null,{"$f":"IF(E757=\"\",\"\",VLOOKUP(E757,Deltagere!$B$4:$D$1003,2,FALSE))","v":""}]
[null,null,{"$f":"IF(B758=\"\",\"\",VLOOKUP(B758,Deltagere!$B$4:$D$1003,2,FALSE))","v":""},1,null,{"$f":"IF(E758=\"\",\"\",VLOOKUP(E758,Deltagere!$B$4:$D$1003,2,FALSE))","v":""}]
[]
[]
["Gul farve er dommer",null,"Runde 1",null,null,"Runde 2",null,"Se her hvilke klubber deltagerne "]
["Start ved hul nr.","Spiller nr.","Spiller navn","Hold ","Spiller nr.","Spiller navn",null,"             på holdene kommer fra."]
[null,null,{"$f":"IF(B763=\"\",\"\",VLOOKUP(B763,Deltagere!$B$4:$D$1003,2,FALSE))","v":""},1,null,{"$f":"IF(E763=\"\",\"\",VLOOKUP(E763,Deltagere!$B$4:$D$1003,2,FALSE))","v":""},null,"Nr.     1 - 50   er Frederikssund"]
[1,null,{"$f":"IF(B764=\"\",\"\",VLOOKUP(B764,Deltagere!$B$4:$D$1003,2,FALSE))","v":""},1,null,{"$f":"IF(E764=\"\",\"\",VLOOKUP(E764,Deltagere!$B$4:$D$1003,2,FALSE))","v":""},null,"Nr.   51 - 100 er Meløse"]
[null,null,{"$f":"IF(B765=\"\",\"\",VLOOKUP(B765,Deltagere!$B$4:$D$1003,2,FALSE))","v":""},1,null,{"$f":"IF(E765=\"\",\"\",VLOOKUP(E765,Deltagere!$B$4:$D$1003,2,FALSE))","v":""},null,"Nr. 101 - 150 er Hornsherred"]
[null,null,{"$f":"IF(B766=\"\",\"\",VLOOKUP(B766,Deltagere!$B$4:$D$1003,2,FALSE))","v":""},1,null,{"$f":"IF(E766=\"\",\"\",VLOOKUP(E766,Deltagere!$B$4:$D$1003,2,FALSE))","v":""},null,"Nr. 151 - 200 er Ølstykke"]
[null,null,{"$f":"IF(B767=\"\",\"\",VLOOKUP(B767,Deltagere!$B$4:$D$1003,2,FALSE))","v":""},1,null,{"$f":"IF(E767=\"\",\"\",VLOOKUP(E767,Deltagere!$B$4:$D$1003,2,FALSE))","v":""},null,"Nr. 201 - 300 er Ledøje/Smørum "]
[2,null,{"$f":"IF(B768=\"\",\"\",VLOOKUP(B768,Deltagere!$B$4:$D$1003,2,FALSE))","v":""},1,null,{"$f":"IF(E768=\"\",\"\",VLOOKUP(E768,Deltagere!$B$4:$D$1003,2,FALSE))","v":""},null,"Nr. 301 - 350 er BK Greve"]
[null,null,{"$f":"IF(B769=\"\",\"\",VLOOKUP(B769,Deltagere!$B$4:$D$1003,2,FALSE))","v":""},1,null,{"$f":"IF(E769=\"\",\"\",VLOOKUP(E769,Deltagere!$B$4:$D$1003,2,FALSE))","v":""},null,"Nr. 351 - 400 er Albertslund"]
[null,null,{"$f":"IF(B770=\"\",\"\",VLOOKUP(B770,Deltagere!$B$4:$D$1003,2,FALSE))","v":""},1,null,{"$f":"IF(E770=\"\",\"\",VLOOKUP(E770,Deltagere!$B$4:$D$1003,2,FALSE))","v":""},null,"Nr. 401 - 450 er Lyngby"]
[null,null,{"$f":"IF(B771=\"\",\"\",VLOOKUP(B771,Deltagere!$B$4:$D$1003,2,FALSE))","v":""},1,null,{"$f":"IF(E771=\"\",\"\",VLOOKUP(E771,Deltagere!$B$4:$D$1003,2,FALSE))","v":""},null,"Nr. 451 - 500 er Krolffolket"]
[4,null,{"$f":"IF(B772=\"\",\"\",VLOOKUP(B772,Deltagere!$B$4:$D$1003,2,FALSE))","v":""},1,null,{"$f":"IF(E772=\"\",\"\",VLOOKUP(E772,Deltagere!$B$4:$D$1003,2,FALSE))","v":""},null,"Nr. 501 - 550 er Tapeten"]
[null,null,{"$f":"IF(B773=\"\",\"\",VLOOKUP(B773,Deltagere!$B$4:$D$1003,2,FALSE))","v":""},1,null,{"$f":"IF(E773=\"\",\"\",VLOOKUP(E773,Deltagere!$B$4:$D$1003,2,FALSE))","v":""},null,"Nr. 551 - 600 er Vesterbro"]
[null,null,{"$f":"IF(B774=\"\",\"\",VLOOKUP(B774,Deltagere!$B$4:$D$1003,2,FALSE))","v":""},1,null,{"$f":"IF(E774=\"\",\"\",VLOOKUP(E774,Deltagere!$B$4:$D$1003,2,FALSE))","v":""},null,"Nr. 601 - 650 er Vikingerne"]
[null,null,{"$f":"IF(B775=\"\",\"\",VLOOKUP(B775,Deltagere!$B$4:$D$1003,2,FALSE))","v":""},1,null,{"$f":"IF(E775=\"\",\"\",VLOOKUP(E775,Deltagere!$B$4:$D$1003,2,FALSE))","v":""}]
[6,null,{"$f":"IF(B776=\"\",\"\",VLOOKUP(B776,Deltagere!$B$4:$D$1003,2,FALSE))","v":""},1,null,{"$f":"IF(E776=\"\",\"\",VLOOKUP(E776,Deltagere!$B$4:$D$1003,2,FALSE))","v":""}]
[null,null,{"$f":"IF(B777=\"\",\"\",VLOOKUP(B777,Deltagere!$B$4:$D$1003,2,FALSE))","v":""},1,null,{"$f":"IF(E777=\"\",\"\",VLOOKUP(E777,Deltagere!$B$4:$D$1003,2,FALSE))","v":""}]
[null,null,{"$f":"IF(B778=\"\",\"\",VLOOKUP(B778,Deltagere!$B$4:$D$1003,2,FALSE))","v":""},1,null,{"$f":"IF(E778=\"\",\"\",VLOOKUP(E778,Deltagere!$B$4:$D$1003,2,FALSE))","v":""}]
[null,null,{"$f":"IF(B779=\"\",\"\",VLOOKUP(B779,Deltagere!$B$4:$D$1003,2,FALSE))","v":""},1,null,{"$f":"IF(E779=\"\",\"\",VLOOKUP(E779,Deltagere!$B$4:$D$1003,2,FALSE))","v":""}]
[7,null,{"$f":"IF(B780=\"\",\"\",VLOOKUP(B780,Deltagere!$B$4:$D$1003,2,FALSE))","v":""},1,null,{"$f":"IF(E780=\"\",\"\",VLOOKUP(E780,Deltagere!$B$4:$D$1003,2,FALSE))","v":""}]
[null,null,{"$f":"IF(B781=\"\",\"\",VLOOKUP(B781,Deltagere!$B$4:$D$1003,2,FALSE))","v":""},1,null,{"$f":"IF(E781=\"\",\"\",VLOOKUP(E781,Deltagere!$B$4:$D$1003,2,FALSE))","v":""}]
[null,null,{"$f":"IF(B782=\"\",\"\",VLOOKUP(B782,Deltagere!$B$4:$D$1003,2,FALSE))","v":""},1,null,{"$f":"IF(E782=\"\",\"\",VLOOKUP(E782,Deltagere!$B$4:$D$1003,2,FALSE))","v":""}]
[null,null,{"$f":"IF(B783=\"\",\"\",VLOOKUP(B783,Deltagere!$B$4:$D$1003,2,FALSE))","v":""},1,null,{"$f":"IF(E783=\"\",\"\",VLOOKUP(E783,Deltagere!$B$4:$D$1003,2,FALSE))","v":""}]
[8,null,{"$f":"IF(B784=\"\",\"\",VLOOKUP(B784,Deltagere!$B$4:$D$1003,2,FALSE))","v":""},1,null,{"$f":"IF(E784=\"\",\"\",VLOOKUP(E784,Deltagere!$B$4:$D$1003,2,FALSE))","v":""}]
[null,null,{"$f":"IF(B785=\"\",\"\",VLOOKUP(B785,Deltagere!$B$4:$D$1003,2,FALSE))","v":""},1,null,{"$f":"IF(E785=\"\",\"\",VLOOKUP(E785,Deltagere!$B$4:$D$1003,2,FALSE))","v":""}]
[null,null,{"$f":"IF(B786=\"\",\"\",VLOOKUP(B786,Deltagere!$B$4:$D$1003,2,FALSE))","v":""},1,null,{"$f":"IF(E786=\"\",\"\",VLOOKUP(E786,Deltagere!$B$4:$D$1003,2,FALSE))","v":""}]
[null,null,{"$f":"IF(B787=\"\",\"\",VLOOKUP(B787,Deltagere!$B$4:$D$1003,2,FALSE))","v":""},1,null,{"$f":"IF(E787=\"\",\"\",VLOOKUP(E787,Deltagere!$B$4:$D$1003,2,FALSE))","v":""}]
[9,null,{"$f":"IF(B788=\"\",\"\",VLOOKUP(B788,Deltagere!$B$4:$D$1003,2,FALSE))","v":""},1,null,{"$f":"IF(E788=\"\",\"\",VLOOKUP(E788,Deltagere!$B$4:$D$1003,2,FALSE))","v":""}]
[null,null,{"$f":"IF(B789=\"\",\"\",VLOOKUP(B789,Deltagere!$B$4:$D$1003,2,FALSE))","v":""},1,null,{"$f":"IF(E789=\"\",\"\",VLOOKUP(E789,Deltagere!$B$4:$D$1003,2,FALSE))","v":""}]
[null,null,{"$f":"IF(B790=\"\",\"\",VLOOKUP(B790,Deltagere!$B$4:$D$1003,2,FALSE))","v":""},1,null,{"$f":"IF(E790=\"\",\"\",VLOOKUP(E790,Deltagere!$B$4:$D$1003,2,FALSE))","v":""}]
[null,null,{"$f":"IF(B791=\"\",\"\",VLOOKUP(B791,Deltagere!$B$4:$D$1003,2,FALSE))","v":""},1,null,{"$f":"IF(E791=\"\",\"\",VLOOKUP(E791,Deltagere!$B$4:$D$1003,2,FALSE))","v":""}]
[11,null,{"$f":"IF(B792=\"\",\"\",VLOOKUP(B792,Deltagere!$B$4:$D$1003,2,FALSE))","v":""},1,null,{"$f":"IF(E792=\"\",\"\",VLOOKUP(E792,Deltagere!$B$4:$D$1003,2,FALSE))","v":""}]
[null,null,{"$f":"IF(B793=\"\",\"\",VLOOKUP(B793,Deltagere!$B$4:$D$1003,2,FALSE))","v":""},1,null,{"$f":"IF(E793=\"\",\"\",VLOOKUP(E793,Deltagere!$B$4:$D$1003,2,FALSE))","v":""}]
[null,null,{"$f":"IF(B794=\"\",\"\",VLOOKUP(B794,Deltagere!$B$4:$D$1003,2,FALSE))","v":""},1,null,{"$f":"IF(E794=\"\",\"\",VLOOKUP(E794,Deltagere!$B$4:$D$1003,2,FALSE))","v":""}]
[null,null,{"$f":"IF(B795=\"\",\"\",VLOOKUP(B795,Deltagere!$B$4:$D$1003,2,FALSE))","v":""},1,null,{"$f":"IF(E795=\"\",\"\",VLOOKUP(E795,Deltagere!$B$4:$D$1003,2,FALSE))","v":""}]
[12,null,{"$f":"IF(B796=\"\",\"\",VLOOKUP(B796,Deltagere!$B$4:$D$1003,2,FALSE))","v":""},1,null,{"$f":"IF(E796=\"\",\"\",VLOOKUP(E796,Deltagere!$B$4:$D$1003,2,FALSE))","v":""}]
[null,null,{"$f":"IF(B797=\"\",\"\",VLOOKUP(B797,Deltagere!$B$4:$D$1003,2,FALSE))","v":""},1,null,{"$f":"IF(E797=\"\",\"\",VLOOKUP(E797,Deltagere!$B$4:$D$1003,2,FALSE))","v":""}]
[null,null,{"$f":"IF(B798=\"\",\"\",VLOOKUP(B798,Deltagere!$B$4:$D$1003,2,FALSE))","v":""},1,null,{"$f":"IF(E798=\"\",\"\",VLOOKUP(E798,Deltagere!$B$4:$D$1003,2,FALSE))","v":""}]
[null,null,{"$f":"IF(B799=\"\",\"\",VLOOKUP(B799,Deltagere!$B$4:$D$1003,2,FALSE))","v":""},1,null,{"$f":"IF(E799=\"\",\"\",VLOOKUP(E799,Deltagere!$B$4:$D$1003,2,FALSE))","v":""}]
[13,null,{"$f":"IF(B800=\"\",\"\",VLOOKUP(B800,Deltagere!$B$4:$D$1003,2,FALSE))","v":""},1,null,{"$f":"IF(E800=\"\",\"\",VLOOKUP(E800,Deltagere!$B$4:$D$1003,2,FALSE))","v":""}]
[null,null,{"$f":"IF(B801=\"\",\"\",VLOOKUP(B801,Deltagere!$B$4:$D$1003,2,FALSE))","v":""},1,null,{"$f":"IF(E801=\"\",\"\",VLOOKUP(E801,Deltagere!$B$4:$D$1003,2,FALSE))","v":""}]
[null,null,{"$f":"IF(B802=\"\",\"\",VLOOKUP(B802,Deltagere!$B$4:$D$1003,2,FALSE))","v":""},1,null,{"$f":"IF(E802=\"\",\"\",VLOOKUP(E802,Deltagere!$B$4:$D$1003,2,FALSE))","v":""}]
[null,null,{"$f":"IF(B803=\"\",\"\",VLOOKUP(B803,Deltagere!$B$4:$D$1003,2,FALSE))","v":""},1,null,{"$f":"IF(E803=\"\",\"\",VLOOKUP(E803,Deltagere!$B$4:$D$1003,2,FALSE))","v":""}]
[15,null,{"$f":"IF(B804=\"\",\"\",VLOOKUP(B804,Deltagere!$B$4:$D$1003,2,FALSE))","v":""},1,null,{"$f":"IF(E804=\"\",\"\",VLOOKUP(E804,Deltagere!$B$4:$D$1003,2,FALSE))","v":""}]
[null,null,{"$f":"IF(B805=\"\",\"\",VLOOKUP(B805,Deltagere!$B$4:$D$1003,2,FALSE))","v":""},1,null,{"$f":"IF(E805=\"\",\"\",VLOOKUP(E805,Deltagere!$B$4:$D$1003,2,FALSE))","v":""}]
[null,null,{"$f":"IF(B806=\"\",\"\",VLOOKUP(B806,Deltagere!$B$4:$D$1003,2,FALSE))","v":""},1,null,{"$f":"IF(E806=\"\",\"\",VLOOKUP(E806,Deltagere!$B$4:$D$1003,2,FALSE))","v":""}]
[null,null,{"$f":"IF(B807=\"\",\"\",VLOOKUP(B807,Deltagere!$B$4:$D$1003,2,FALSE))","v":""},1,null,{"$f":"IF(E807=\"\",\"\",VLOOKUP(E807,Deltagere!$B$4:$D$1003,2,FALSE))","v":""}]
[16,null,{"$f":"IF(B808=\"\",\"\",VLOOKUP(B808,Deltagere!$B$4:$D$1003,2,FALSE))","v":""},1,null,{"$f":"IF(E808=\"\",\"\",VLOOKUP(E808,Deltagere!$B$4:$D$1003,2,FALSE))","v":""}]
[null,null,{"$f":"IF(B809=\"\",\"\",VLOOKUP(B809,Deltagere!$B$4:$D$1003,2,FALSE))","v":""},1,null,{"$f":"IF(E809=\"\",\"\",VLOOKUP(E809,Deltagere!$B$4:$D$1003,2,FALSE))","v":""}]
[null,null,{"$f":"IF(B810=\"\",\"\",VLOOKUP(B810,Deltagere!$B$4:$D$1003,2,FALSE))","v":""},1,null,{"$f":"IF(E810=\"\",\"\",VLOOKUP(E810,Deltagere!$B$4:$D$1003,2,FALSE))","v":""}]
[null,null,{"$f":"IF(B811=\"\",\"\",VLOOKUP(B811,Deltagere!$B$4:$D$1003,2,FALSE))","v":""},1,null,{"$f":"IF(E811=\"\",\"\",VLOOKUP(E811,Deltagere!$B$4:$D$1003,2,FALSE))","v":""}]
[17,null,{"$f":"IF(B812=\"\",\"\",VLOOKUP(B812,Deltagere!$B$4:$D$1003,2,FALSE))","v":""},1,null,{"$f":"IF(E812=\"\",\"\",VLOOKUP(E812,Deltagere!$B$4:$D$1003,2,FALSE))","v":""}]
[null,null,{"$f":"IF(B813=\"\",\"\",VLOOKUP(B813,Deltagere!$B$4:$D$1003,2,FALSE))","v":""},1,null,{"$f":"IF(E813=\"\",\"\",VLOOKUP(E813,Deltagere!$B$4:$D$1003,2,FALSE))","v":""}]
[null,null,{"$f":"IF(B814=\"\",\"\",VLOOKUP(B814,Deltagere!$B$4:$D$1003,2,FALSE))","v":""},1,null,{"$f":"IF(E814=\"\",\"\",VLOOKUP(E814,Deltagere!$B$4:$D$1003,2,FALSE))","v":""}]
[null,null,{"$f":"IF(B815=\"\",\"\",VLOOKUP(B815,Deltagere!$B$4:$D$1003,2,FALSE))","v":""},1,null,{"$f":"IF(E815=\"\",\"\",VLOOKUP(E815,Deltagere!$B$4:$D$1003,2,FALSE))","v":""}]
[18,null,{"$f":"IF(B816=\"\",\"\",VLOOKUP(B816,Deltagere!$B$4:$D$1003,2,FALSE))","v":""},1,null,{"$f":"IF(E816=\"\",\"\",VLOOKUP(E816,Deltagere!$B$4:$D$1003,2,FALSE))","v":""}]
[null,null,{"$f":"IF(B817=\"\",\"\",VLOOKUP(B817,Deltagere!$B$4:$D$1003,2,FALSE))","v":""},1,null,{"$f":"IF(E817=\"\",\"\",VLOOKUP(E817,Deltagere!$B$4:$D$1003,2,FALSE))","v":""}]
[null,null,{"$f":"IF(B818=\"\",\"\",VLOOKUP(B818,Deltagere!$B$4:$D$1003,2,FALSE))","v":""},1,null,{"$f":"IF(E818=\"\",\"\",VLOOKUP(E818,Deltagere!$B$4:$D$1003,2,FALSE))","v":""}]
[]
[]
["Gul farve er dommer",null,"Runde 1",null,null,"Runde 2",null,"Se her hvilke klubber deltagerne "]
["Start ved hul nr.","Spiller nr.","Spiller navn","Hold ","Spiller nr.","Spiller navn",null,"             på holdene kommer fra."]
[null,null,{"$f":"IF(B823=\"\",\"\",VLOOKUP(B823,Deltagere!$B$4:$D$1003,2,FALSE))","v":""},1,null,{"$f":"IF(E823=\"\",\"\",VLOOKUP(E823,Deltagere!$B$4:$D$1003,2,FALSE))","v":""},null,"Nr.     1 - 50   er Frederikssund"]
[1,null,{"$f":"IF(B824=\"\",\"\",VLOOKUP(B824,Deltagere!$B$4:$D$1003,2,FALSE))","v":""},1,null,{"$f":"IF(E824=\"\",\"\",VLOOKUP(E824,Deltagere!$B$4:$D$1003,2,FALSE))","v":""},null,"Nr.   51 - 100 er Meløse"]
[null,null,{"$f":"IF(B825=\"\",\"\",VLOOKUP(B825,Deltagere!$B$4:$D$1003,2,FALSE))","v":""},1,null,{"$f":"IF(E825=\"\",\"\",VLOOKUP(E825,Deltagere!$B$4:$D$1003,2,FALSE))","v":""},null,"Nr. 101 - 150 er Hornsherred"]
[null,null,{"$f":"IF(B826=\"\",\"\",VLOOKUP(B826,Deltagere!$B$4:$D$1003,2,FALSE))","v":""},1,null,{"$f":"IF(E826=\"\",\"\",VLOOKUP(E826,Deltagere!$B$4:$D$1003,2,FALSE))","v":""},null,"Nr. 151 - 200 er Ølstykke"]
[null,null,{"$f":"IF(B827=\"\",\"\",VLOOKUP(B827,Deltagere!$B$4:$D$1003,2,FALSE))","v":""},1,null,{"$f":"IF(E827=\"\",\"\",VLOOKUP(E827,Deltagere!$B$4:$D$1003,2,FALSE))","v":""},null,"Nr. 201 - 300 er Ledøje/Smørum "]
[2,null,{"$f":"IF(B828=\"\",\"\",VLOOKUP(B828,Deltagere!$B$4:$D$1003,2,FALSE))","v":""},1,null,{"$f":"IF(E828=\"\",\"\",VLOOKUP(E828,Deltagere!$B$4:$D$1003,2,FALSE))","v":""},null,"Nr. 301 - 350 er BK Greve"]
[null,null,{"$f":"IF(B829=\"\",\"\",VLOOKUP(B829,Deltagere!$B$4:$D$1003,2,FALSE))","v":""},1,null,{"$f":"IF(E829=\"\",\"\",VLOOKUP(E829,Deltagere!$B$4:$D$1003,2,FALSE))","v":""},null,"Nr. 351 - 400 er Albertslund"]
[null,null,{"$f":"IF(B830=\"\",\"\",VLOOKUP(B830,Deltagere!$B$4:$D$1003,2,FALSE))","v":""},1,null,{"$f":"IF(E830=\"\",\"\",VLOOKUP(E830,Deltagere!$B$4:$D$1003,2,FALSE))","v":""},null,"Nr. 401 - 450 er Lyngby"]
[null,null,{"$f":"IF(B831=\"\",\"\",VLOOKUP(B831,Deltagere!$B$4:$D$1003,2,FALSE))","v":""},1,null,{"$f":"IF(E831=\"\",\"\",VLOOKUP(E831,Deltagere!$B$4:$D$1003,2,FALSE))","v":""},null,"Nr. 451 - 500 er Krolffolket"]
[3,null,{"$f":"IF(B832=\"\",\"\",VLOOKUP(B832,Deltagere!$B$4:$D$1003,2,FALSE))","v":""},1,null,{"$f":"IF(E832=\"\",\"\",VLOOKUP(E832,Deltagere!$B$4:$D$1003,2,FALSE))","v":""},null,"Nr. 501 - 550 er Tapeten"]
[null,null,{"$f":"IF(B833=\"\",\"\",VLOOKUP(B833,Deltagere!$B$4:$D$1003,2,FALSE))","v":""},1,null,{"$f":"IF(E833=\"\",\"\",VLOOKUP(E833,Deltagere!$B$4:$D$1003,2,FALSE))","v":""},null,"Nr. 551 - 600 er Vesterbro"]
[null,null,{"$f":"IF(B834=\"\",\"\",VLOOKUP(B834,Deltagere!$B$4:$D$1003,2,FALSE))","v":""},1,null,{"$f":"IF(E834=\"\",\"\",VLOOKUP(E834,Deltagere!$B$4:$D$1003,2,FALSE))","v":""},null,"Nr. 601 - 650 er Vikingerne"]
[null,null,{"$f":"IF(B835=\"\",\"\",VLOOKUP(B835,Deltagere!$B$4:$D$1003,2,FALSE))","v":""},1,null,{"$f":"IF(E835=\"\",\"\",VLOOKUP(E835,Deltagere!$B$4:$D$1003,2,FALSE))","v":""}]
[4,null,{"$f":"IF(B836=\"\",\"\",VLOOKUP(B836,Deltagere!$B$4:$D$1003,2,FALSE))","v":""},1,null,{"$f":"IF(E836=\"\",\"\",VLOOKUP(E836,Deltagere!$B$4:$D$1003,2,FALSE))","v":""}]
[null,null,{"$f":"IF(B837=\"\",\"\",VLOOKUP(B837,Deltagere!$B$4:$D$1003,2,FALSE))","v":""},1,null,{"$f":"IF(E837=\"\",\"\",VLOOKUP(E837,Deltagere!$B$4:$D$1003,2,FALSE))","v":""}]
[null,null,{"$f":"IF(B838=\"\",\"\",VLOOKUP(B838,Deltagere!$B$4:$D$1003,2,FALSE))","v":""},1,null,{"$f":"IF(E838=\"\",\"\",VLOOKUP(E838,Deltagere!$B$4:$D$1003,2,FALSE))","v":""}]
[null,null,{"$f":"IF(B839=\"\",\"\",VLOOKUP(B839,Deltagere!$B$4:$D$1003,2,FALSE))","v":""},1,null,{"$f":"IF(E839=\"\",\"\",VLOOKUP(E839,Deltagere!$B$4:$D$1003,2,FALSE))","v":""}]
[6,null,{"$f":"IF(B840=\"\",\"\",VLOOKUP(B840,Deltagere!$B$4:$D$1003,2,FALSE))","v":""},1,null,{"$f":"IF(E840=\"\",\"\",VLOOKUP(E840,Deltagere!$B$4:$D$1003,2,FALSE))","v":""}]
[null,null,{"$f":"IF(B841=\"\",\"\",VLOOKUP(B841,Deltagere!$B$4:$D$1003,2,FALSE))","v":""},1,null,{"$f":"IF(E841=\"\",\"\",VLOOKUP(E841,Deltagere!$B$4:$D$1003,2,FALSE))","v":""}]
[null,null,{"$f":"IF(B842=\"\",\"\",VLOOKUP(B842,Deltagere!$B$4:$D$1003,2,FALSE))","v":""},1,null,{"$f":"IF(E842=\"\",\"\",VLOOKUP(E842,Deltagere!$B$4:$D$1003,2,FALSE))","v":""}]
[null,null,{"$f":"IF(B843=\"\",\"\",VLOOKUP(B843,Deltagere!$B$4:$D$1003,2,FALSE))","v":""},1,null,{"$f":"IF(E843=\"\",\"\",VLOOKUP(E843,Deltagere!$B$4:$D$1003,2,FALSE))","v":""}]
[7,null,{"$f":"IF(B844=\"\",\"\",VLOOKUP(B844,Deltagere!$B$4:$D$1003,2,FALSE))","v":""},1,null,{"$f":"IF(E844=\"\",\"\",VLOOKUP(E844,Deltagere!$B$4:$D$1003,2,FALSE))","v":""}]
[null,null,{"$f":"IF(B845=\"\",\"\",VLOOKUP(B845,Deltagere!$B$4:$D$1003,2,FALSE))","v":""},1,null,{"$f":"IF(E845=\"\",\"\",VLOOKUP(E845,Deltagere!$B$4:$D$1003,2,FALSE))","v":""}]
[null,null,{"$f":"IF(B846=\"\",\"\",VLOOKUP(B846,Deltagere!$B$4:$D$1003,2,FALSE))","v":""},1,null,{"$f":"IF(E846=\"\",\"\",VLOOKUP(E846,Deltagere!$B$4:$D$1003,2,FALSE))","v":""}]
[null,null,{"$f":"IF(B847=\"\",\"\",VLOOKUP(B847,Deltagere!$B$4:$D$1003,2,FALSE))","v":""},1,null,{"$f":"IF(E847=\"\",\"\",VLOOKUP(E847,Deltagere!$B$4:$D$1003,2,FALSE))","v":""}]
[8,null,{"$f":"IF(B848=\"\",\"\",VLOOKUP(B848,Deltagere!$B$4:$D$1003,2,FALSE))","v":""},1,null,{"$f":"IF(E848=\"\",\"\",VLOOKUP(E848,Deltagere!$B$4:$D$1003,2,FALSE))","v":""}]
[null,null,{"$f":"IF(B849=\"\",\"\",VLOOKUP(B849,Deltagere!$B$4:$D$1003,2,FALSE))","v":""},1,null,{"$f":"IF(E849=\"\",\"\",VLOOKUP(E849,Deltagere!$B$4:$D$1003,2,FALSE))","v":""}]
[null,null,{"$f":"IF(B850=\"\",\"\",VLOOKUP(B850,Deltagere!$B$4:$D$1003,2,FALSE))","v":""},1,null,{"$f":"IF(E850=\"\",\"\",VLOOKUP(E850,Deltagere!$B$4:$D$1003,2,FALSE))","v":""}]
[null,null,{"$f":"IF(B851=\"\",\"\",VLOOKUP(B851,Deltagere!$B$4:$D$1003,2,FALSE))","v":""},1,null,{"$f":"IF(E851=\"\",\"\",VLOOKUP(E851,Deltagere!$B$4:$D$1003,2,FALSE))","v":""}]
[9,null,{"$f":"IF(B852=\"\",\"\",VLOOKUP(B852,Deltagere!$B$4:$D$1003,2,FALSE))","v":""},1,null,{"$f":"IF(E852=\"\",\"\",VLOOKUP(E852,Deltagere!$B$4:$D$1003,2,FALSE))","v":""}]
[null,null,{"$f":"IF(B853=\"\",\"\",VLOOKUP(B853,Deltagere!$B$4:$D$1003,2,FALSE))","v":""},1,null,{"$f":"IF(E853=\"\",\"\",VLOOKUP(E853,Deltagere!$B$4:$D$1003,2,FALSE))","v":""}]
[null,null,{"$f":"IF(B854=\"\",\"\",VLOOKUP(B854,Deltagere!$B$4:$D$1003,2,FALSE))","v":""},1,null,{"$f":"IF(E854=\"\",\"\",VLOOKUP(E854,Deltagere!$B$4:$D$1003,2,FALSE))","v":""}]
[null,null,{"$f":"IF(B855=\"\",\"\",VLOOKUP(B855,Deltagere!$B$4:$D$1003,2,FALSE))","v":""},1,null,{"$f":"IF(E855=\"\",\"\",VLOOKUP(E855,Deltagere!$B$4:$D$1003,2,FALSE))","v":""}]
[11,null,{"$f":"IF(B856=\"\",\"\",VLOOKUP(B856,Deltagere!$B$4:$D$1003,2,FALSE))","v":""},1,null,{"$f":"IF(E856=\"\",\"\",VLOOKUP(E856,Deltagere!$B$4:$D$1003,2,FALSE))","v":""}]
[null,null,{"$f":"IF(B857=\"\",\"\",VLOOKUP(B857,Deltagere!$B$4:$D$1003,2,FALSE))","v":""},1,null,{"$f":"IF(E857=\"\",\"\",VLOOKUP(E857,Deltagere!$B$4:$D$1003,2,FALSE))","v":""}]
[null,null,{"$f":"IF(B858=\"\",\"\",VLOOKUP(B858,Deltagere!$B$4:$D$1003,2,FALSE))","v":""},1,null,{"$f":"IF(E858=\"\",\"\",VLOOKUP(E858,Deltagere!$B$4:$D$1003,2,FALSE))","v":""}]
[null,null,{"$f":"IF(B859=\"\",\"\",VLOOKUP(B859,Deltagere!$B$4:$D$1003,2,FALSE))","v":""},1,null,{"$f":"IF(E859=\"\",\"\",VLOOKUP(E859,Deltagere!$B$4:$D$1003,2,FALSE))","v":""}]
[12,null,{"$f":"IF(B860=\"\",\"\",VLOOKUP(B860,Deltagere!$B$4:$D$1003,2,FALSE))","v":""},1,null,{"$f":"IF(E860=\"\",\"\",VLOOKUP(E860,Deltagere!$B$4:$D$1003,2,FALSE))","v":""}]
[null,null,{"$f":"IF(B861=\"\",\"\",VLOOKUP(B861,Deltagere!$B$4:$D$1003,2,FALSE))","v":""},1,null,{"$f":"IF(E861=\"\",\"\",VLOOKUP(E861,Deltagere!$B$4:$D$1003,2,FALSE))","v":""}]
[null,null,{"$f":"IF(B862=\"\",\"\",VLOOKUP(B862,Deltagere!$B$4:$D$1003,2,FALSE))","v":""},1,null,{"$f":"IF(E862=\"\",\"\",VLOOKUP(E862,Deltagere!$B$4:$D$1003,2,FALSE))","v":""}]
[null,null,{"$f":"IF(B863=\"\",\"\",VLOOKUP(B863,Deltagere!$B$4:$D$1003,2,FALSE))","v":""},1,null,{"$f":"IF(E863=\"\",\"\",VLOOKUP(E863,Deltagere!$B$4:$D$1003,2,FALSE))","v":""}]
[13,null,{"$f":"IF(B864=\"\",\"\",VLOOKUP(B864,Deltagere!$B$4:$D$1003,2,FALSE))","v":""},1,null,{"$f":"IF(E864=\"\",\"\",VLOOKUP(E864,Deltagere!$B$4:$D$1003,2,FALSE))","v":""}]
[null,null,{"$f":"IF(B865=\"\",\"\",VLOOKUP(B865,Deltagere!$B$4:$D$1003,2,FALSE))","v":""},1,null,{"$f":"IF(E865=\"\",\"\",VLOOKUP(E865,Deltagere!$B$4:$D$1003,2,FALSE))","v":""}]
[null,null,{"$f":"IF(B866=\"\",\"\",VLOOKUP(B866,Deltagere!$B$4:$D$1003,2,FALSE))","v":""},1,null,{"$f":"IF(E866=\"\",\"\",VLOOKUP(E866,Deltagere!$B$4:$D$1003,2,FALSE))","v":""}]
[null,null,{"$f":"IF(B867=\"\",\"\",VLOOKUP(B867,Deltagere!$B$4:$D$1003,2,FALSE))","v":""},1,null,{"$f":"IF(E867=\"\",\"\",VLOOKUP(E867,Deltagere!$B$4:$D$1003,2,FALSE))","v":""}]
[15,null,{"$f":"IF(B868=\"\",\"\",VLOOKUP(B868,Deltagere!$B$4:$D$1003,2,FALSE))","v":""},1,null,{"$f":"IF(E868=\"\",\"\",VLOOKUP(E868,Deltagere!$B$4:$D$1003,2,FALSE))","v":""}]
[null,null,{"$f":"IF(B869=\"\",\"\",VLOOKUP(B869,Deltagere!$B$4:$D$1003,2,FALSE))","v":""},1,null,{"$f":"IF(E869=\"\",\"\",VLOOKUP(E869,Deltagere!$B$4:$D$1003,2,FALSE))","v":""}]
[null,null,{"$f":"IF(B870=\"\",\"\",VLOOKUP(B870,Deltagere!$B$4:$D$1003,2,FALSE))","v":""},1,null,{"$f":"IF(E870=\"\",\"\",VLOOKUP(E870,Deltagere!$B$4:$D$1003,2,FALSE))","v":""}]
[null,null,{"$f":"IF(B871=\"\",\"\",VLOOKUP(B871,Deltagere!$B$4:$D$1003,2,FALSE))","v":""},1,null,{"$f":"IF(E871=\"\",\"\",VLOOKUP(E871,Deltagere!$B$4:$D$1003,2,FALSE))","v":""}]
[16,null,{"$f":"IF(B872=\"\",\"\",VLOOKUP(B872,Deltagere!$B$4:$D$1003,2,FALSE))","v":""},1,null,{"$f":"IF(E872=\"\",\"\",VLOOKUP(E872,Deltagere!$B$4:$D$1003,2,FALSE))","v":""}]
[null,null,{"$f":"IF(B873=\"\",\"\",VLOOKUP(B873,Deltagere!$B$4:$D$1003,2,FALSE))","v":""},1,null,{"$f":"IF(E873=\"\",\"\",VLOOKUP(E873,Deltagere!$B$4:$D$1003,2,FALSE))","v":""}]
[null,null,{"$f":"IF(B874=\"\",\"\",VLOOKUP(B874,Deltagere!$B$4:$D$1003,2,FALSE))","v":""},1,null,{"$f":"IF(E874=\"\",\"\",VLOOKUP(E874,Deltagere!$B$4:$D$1003,2,FALSE))","v":""}]
[null,null,{"$f":"IF(B875=\"\",\"\",VLOOKUP(B875,Deltagere!$B$4:$D$1003,2,FALSE))","v":""},1,null,{"$f":"IF(E875=\"\",\"\",VLOOKUP(E875,Deltagere!$B$4:$D$1003,2,FALSE))","v":""}]
[17,null,{"$f":"IF(B876=\"\",\"\",VLOOKUP(B876,Deltagere!$B$4:$D$1003,2,FALSE))","v":""},1,null,{"$f":"IF(E876=\"\",\"\",VLOOKUP(E876,Deltagere!$B$4:$D$1003,2,FALSE))","v":""}]
[null,null,{"$f":"IF(B877=\"\",\"\",VLOOKUP(B877,Deltagere!$B$4:$D$1003,2,FALSE))","v":""},1,null,{"$f":"IF(E877=\"\",\"\",VLOOKUP(E877,Deltagere!$B$4:$D$1003,2,FALSE))","v":""}]
[null,null,{"$f":"IF(B878=\"\",\"\",VLOOKUP(B878,Deltagere!$B$4:$D$1003,2,FALSE))","v":""},1,null,{"$f":"IF(E878=\"\",\"\",VLOOKUP(E878,Deltagere!$B$4:$D$1003,2,FALSE))","v":""}]
[null,null,{"$f":"IF(B879=\"\",\"\",VLOOKUP(B879,Deltagere!$B$4:$D$1003,2,FALSE))","v":""},1,null,{"$f":"IF(E879=\"\",\"\",VLOOKUP(E879,Deltagere!$B$4:$D$1003,2,FALSE))","v":""}]
[18,null,{"$f":"IF(B880=\"\",\"\",VLOOKUP(B880,Deltagere!$B$4:$D$1003,2,FALSE))","v":""},1,null,{"$f":"IF(E880=\"\",\"\",VLOOKUP(E880,Deltagere!$B$4:$D$1003,2,FALSE))","v":""}]
[null,null,{"$f":"IF(B881=\"\",\"\",VLOOKUP(B881,Deltagere!$B$4:$D$1003,2,FALSE))","v":""},1,null,{"$f":"IF(E881=\"\",\"\",VLOOKUP(E881,Deltagere!$B$4:$D$1003,2,FALSE))","v":""}]
[null,null,{"$f":"IF(B882=\"\",\"\",VLOOKUP(B882,Deltagere!$B$4:$D$1003,2,FALSE))","v":""},1,null,{"$f":"IF(E882=\"\",\"\",VLOOKUP(E882,Deltagere!$B$4:$D$1003,2,FALSE))","v":""}]
[]
[]
["Gul farve er dommer",null,"Runde 1",null,null,"Runde 2",null,"Se her hvilke klubber deltagerne "]
["Start ved hul nr.","Spiller nr.","Spiller navn","Hold ","Spiller nr.","Spiller navn",null,"             på holdene kommer fra."]
[null,null,{"$f":"IF(B887=\"\",\"\",VLOOKUP(B887,Deltagere!$B$4:$D$1003,2,FALSE))","v":""},1,null,{"$f":"IF(E887=\"\",\"\",VLOOKUP(E887,Deltagere!$B$4:$D$1003,2,FALSE))","v":""},null,"Nr.     1 - 50   er Frederikssund"]
[1,null,{"$f":"IF(B888=\"\",\"\",VLOOKUP(B888,Deltagere!$B$4:$D$1003,2,FALSE))","v":""},1,null,{"$f":"IF(E888=\"\",\"\",VLOOKUP(E888,Deltagere!$B$4:$D$1003,2,FALSE))","v":""},null,"Nr.   51 - 100 er Meløse"]
[null,null,{"$f":"IF(B889=\"\",\"\",VLOOKUP(B889,Deltagere!$B$4:$D$1003,2,FALSE))","v":""},1,null,{"$f":"IF(E889=\"\",\"\",VLOOKUP(E889,Deltagere!$B$4:$D$1003,2,FALSE))","v":""},null,"Nr. 101 - 150 er Hornsherred"]
[null,null,{"$f":"IF(B890=\"\",\"\",VLOOKUP(B890,Deltagere!$B$4:$D$1003,2,FALSE))","v":""},1,null,{"$f":"IF(E890=\"\",\"\",VLOOKUP(E890,Deltagere!$B$4:$D$1003,2,FALSE))","v":""},null,"Nr. 151 - 200 er Ølstykke"]
[null,null,{"$f":"IF(B891=\"\",\"\",VLOOKUP(B891,Deltagere!$B$4:$D$1003,2,FALSE))","v":""},1,null,{"$f":"IF(E891=\"\",\"\",VLOOKUP(E891,Deltagere!$B$4:$D$1003,2,FALSE))","v":""},null,"Nr. 201 - 300 er Ledøje/Smørum "]
[2,null,{"$f":"IF(B892=\"\",\"\",VLOOKUP(B892,Deltagere!$B$4:$D$1003,2,FALSE))","v":""},1,null,{"$f":"IF(E892=\"\",\"\",VLOOKUP(E892,Deltagere!$B$4:$D$1003,2,FALSE))","v":""},null,"Nr. 301 - 350 er BK Greve"]
[null,null,{"$f":"IF(B893=\"\",\"\",VLOOKUP(B893,Deltagere!$B$4:$D$1003,2,FALSE))","v":""},1,null,{"$f":"IF(E893=\"\",\"\",VLOOKUP(E893,Deltagere!$B$4:$D$1003,2,FALSE))","v":""},null,"Nr. 351 - 400 er Albertslund"]
[null,null,{"$f":"IF(B894=\"\",\"\",VLOOKUP(B894,Deltagere!$B$4:$D$1003,2,FALSE))","v":""},1,null,{"$f":"IF(E894=\"\",\"\",VLOOKUP(E894,Deltagere!$B$4:$D$1003,2,FALSE))","v":""},null,"Nr. 401 - 450 er Lyngby"]
[null,null,{"$f":"IF(B895=\"\",\"\",VLOOKUP(B895,Deltagere!$B$4:$D$1003,2,FALSE))","v":""},1,null,{"$f":"IF(E895=\"\",\"\",VLOOKUP(E895,Deltagere!$B$4:$D$1003,2,FALSE))","v":""},null,"Nr. 451 - 500 er Krolffolket"]
[3,null,{"$f":"IF(B896=\"\",\"\",VLOOKUP(B896,Deltagere!$B$4:$D$1003,2,FALSE))","v":""},1,null,{"$f":"IF(E896=\"\",\"\",VLOOKUP(E896,Deltagere!$B$4:$D$1003,2,FALSE))","v":""},null,"Nr. 501 - 550 er Tapeten"]
[null,null,{"$f":"IF(B897=\"\",\"\",VLOOKUP(B897,Deltagere!$B$4:$D$1003,2,FALSE))","v":""},1,null,{"$f":"IF(E897=\"\",\"\",VLOOKUP(E897,Deltagere!$B$4:$D$1003,2,FALSE))","v":""},null,"Nr. 551 - 600 er Vesterbro"]
[null,null,{"$f":"IF(B898=\"\",\"\",VLOOKUP(B898,Deltagere!$B$4:$D$1003,2,FALSE))","v":""},1,null,{"$f":"IF(E898=\"\",\"\",VLOOKUP(E898,Deltagere!$B$4:$D$1003,2,FALSE))","v":""},null,"Nr. 601 - 650 er Vikingerne"]
[null,null,{"$f":"IF(B899=\"\",\"\",VLOOKUP(B899,Deltagere!$B$4:$D$1003,2,FALSE))","v":""},1,null,{"$f":"IF(E899=\"\",\"\",VLOOKUP(E899,Deltagere!$B$4:$D$1003,2,FALSE))","v":""}]
[4,null,{"$f":"IF(B900=\"\",\"\",VLOOKUP(B900,Deltagere!$B$4:$D$1003,2,FALSE))","v":""},1,null,{"$f":"IF(E900=\"\",\"\",VLOOKUP(E900,Deltagere!$B$4:$D$1003,2,FALSE))","v":""}]
[null,null,{"$f":"IF(B901=\"\",\"\",VLOOKUP(B901,Deltagere!$B$4:$D$1003,2,FALSE))","v":""},1,null,{"$f":"IF(E901=\"\",\"\",VLOOKUP(E901,Deltagere!$B$4:$D$1003,2,FALSE))","v":""}]
[null,null,{"$f":"IF(B902=\"\",\"\",VLOOKUP(B902,Deltagere!$B$4:$D$1003,2,FALSE))","v":""},1,null,{"$f":"IF(E902=\"\",\"\",VLOOKUP(E902,Deltagere!$B$4:$D$1003,2,FALSE))","v":""}]
[null,null,{"$f":"IF(B903=\"\",\"\",VLOOKUP(B903,Deltagere!$B$4:$D$1003,2,FALSE))","v":""},1,null,{"$f":"IF(E903=\"\",\"\",VLOOKUP(E903,Deltagere!$B$4:$D$1003,2,FALSE))","v":""}]
[6,null,{"$f":"IF(B904=\"\",\"\",VLOOKUP(B904,Deltagere!$B$4:$D$1003,2,FALSE))","v":""},1,null,{"$f":"IF(E904=\"\",\"\",VLOOKUP(E904,Deltagere!$B$4:$D$1003,2,FALSE))","v":""}]
[null,null,{"$f":"IF(B905=\"\",\"\",VLOOKUP(B905,Deltagere!$B$4:$D$1003,2,FALSE))","v":""},1,null,{"$f":"IF(E905=\"\",\"\",VLOOKUP(E905,Deltagere!$B$4:$D$1003,2,FALSE))","v":""}]
[null,null,{"$f":"IF(B906=\"\",\"\",VLOOKUP(B906,Deltagere!$B$4:$D$1003,2,FALSE))","v":""},1,null,{"$f":"IF(E906=\"\",\"\",VLOOKUP(E906,Deltagere!$B$4:$D$1003,2,FALSE))","v":""}]
[null,null,{"$f":"IF(B907=\"\",\"\",VLOOKUP(B907,Deltagere!$B$4:$D$1003,2,FALSE))","v":""},1,null,{"$f":"IF(E907=\"\",\"\",VLOOKUP(E907,Deltagere!$B$4:$D$1003,2,FALSE))","v":""}]
[7,null,{"$f":"IF(B908=\"\",\"\",VLOOKUP(B908,Deltagere!$B$4:$D$1003,2,FALSE))","v":""},1,null,{"$f":"IF(E908=\"\",\"\",VLOOKUP(E908,Deltagere!$B$4:$D$1003,2,FALSE))","v":""}]
[null,null,{"$f":"IF(B909=\"\",\"\",VLOOKUP(B909,Deltagere!$B$4:$D$1003,2,FALSE))","v":""},1,null,{"$f":"IF(E909=\"\",\"\",VLOOKUP(E909,Deltagere!$B$4:$D$1003,2,FALSE))","v":""}]
[null,null,{"$f":"IF(B910=\"\",\"\",VLOOKUP(B910,Deltagere!$B$4:$D$1003,2,FALSE))","v":""},1,null,{"$f":"IF(E910=\"\",\"\",VLOOKUP(E910,Deltagere!$B$4:$D$1003,2,FALSE))","v":""}]
[null,null,{"$f":"IF(B911=\"\",\"\",VLOOKUP(B911,Deltagere!$B$4:$D$1003,2,FALSE))","v":""},1,null,{"$f":"IF(E911=\"\",\"\",VLOOKUP(E911,Deltagere!$B$4:$D$1003,2,FALSE))","v":""}]
[8,null,{"$f":"IF(B912=\"\",\"\",VLOOKUP(B912,Deltagere!$B$4:$D$1003,2,FALSE))","v":""},1,null,{"$f":"IF(E912=\"\",\"\",VLOOKUP(E912,Deltagere!$B$4:$D$1003,2,FALSE))","v":""}]
[null,null,{"$f":"IF(B913=\"\",\"\",VLOOKUP(B913,Deltagere!$B$4:$D$1003,2,FALSE))","v":""},1,null,{"$f":"IF(E913=\"\",\"\",VLOOKUP(E913,Deltagere!$B$4:$D$1003,2,FALSE))","v":""}]
[null,null,{"$f":"IF(B914=\"\",\"\",VLOOKUP(B914,Deltagere!$B$4:$D$1003,2,FALSE))","v":""},1,null,{"$f":"IF(E914=\"\",\"\",VLOOKUP(E914,Deltagere!$B$4:$D$1003,2,FALSE))","v":""}]
[null,null,{"$f":"IF(B915=\"\",\"\",VLOOKUP(B915,Deltagere!$B$4:$D$1003,2,FALSE))","v":""},1,null,{"$f":"IF(E915=\"\",\"\",VLOOKUP(E915,Deltagere!$B$4:$D$1003,2,FALSE))","v":""}]
[9,null,{"$f":"IF(B916=\"\",\"\",VLOOKUP(B916,Deltagere!$B$4:$D$1003,2,FALSE))","v":""},1,null,{"$f":"IF(E916=\"\",\"\",VLOOKUP(E916,Deltagere!$B$4:$D$1003,2,FALSE))","v":""}]
[null,null,{"$f":"IF(B917=\"\",\"\",VLOOKUP(B917,Deltagere!$B$4:$D$1003,2,FALSE))","v":""},1,null,{"$f":"IF(E917=\"\",\"\",VLOOKUP(E917,Deltagere!$B$4:$D$1003,2,FALSE))","v":""}]
[null,null,{"$f":"IF(B918=\"\",\"\",VLOOKUP(B918,Deltagere!$B$4:$D$1003,2,FALSE))","v":""},1,null,{"$f":"IF(E918=\"\",\"\",VLOOKUP(E918,Deltagere!$B$4:$D$1003,2,FALSE))","v":""}]
[null,null,{"$f":"IF(B919=\"\",\"\",VLOOKUP(B919,Deltagere!$B$4:$D$1003,2,FALSE))","v":""},1,null,{"$f":"IF(E919=\"\",\"\",VLOOKUP(E919,Deltagere!$B$4:$D$1003,2,FALSE))","v":""}]
[11,null,{"$f":"IF(B920=\"\",\"\",VLOOKUP(B920,Deltagere!$B$4:$D$1003,2,FALSE))","v":""},1,null,{"$f":"IF(E920=\"\",\"\",VLOOKUP(E920,Deltagere!$B$4:$D$1003,2,FALSE))","v":""}]
[null,null,{"$f":"IF(B921=\"\",\"\",VLOOKUP(B921,Deltagere!$B$4:$D$1003,2,FALSE))","v":""},1,null,{"$f":"IF(E921=\"\",\"\",VLOOKUP(E921,Deltagere!$B$4:$D$1003,2,FALSE))","v":""}]
[null,null,{"$f":"IF(B922=\"\",\"\",VLOOKUP(B922,Deltagere!$B$4:$D$1003,2,FALSE))","v":""},1,null,{"$f":"IF(E922=\"\",\"\",VLOOKUP(E922,Deltagere!$B$4:$D$1003,2,FALSE))","v":""}]
[null,null,{"$f":"IF(B923=\"\",\"\",VLOOKUP(B923,Deltagere!$B$4:$D$1003,2,FALSE))","v":""},1,null,{"$f":"IF(E923=\"\",\"\",VLOOKUP(E923,Deltagere!$B$4:$D$1003,2,FALSE))","v":""}]
[12,null,{"$f":"IF(B924=\"\",\"\",VLOOKUP(B924,Deltagere!$B$4:$D$1003,2,FALSE))","v":""},1,null,{"$f":"IF(E924=\"\",\"\",VLOOKUP(E924,Deltagere!$B$4:$D$1003,2,FALSE))","v":""}]
[null,null,{"$f":"IF(B925=\"\",\"\",VLOOKUP(B925,Deltagere!$B$4:$D$1003,2,FALSE))","v":""},1,null,{"$f":"IF(E925=\"\",\"\",VLOOKUP(E925,Deltagere!$B$4:$D$1003,2,FALSE))","v":""}]
[null,null,{"$f":"IF(B926=\"\",\"\",VLOOKUP(B926,Deltagere!$B$4:$D$1003,2,FALSE))","v":""},1,null,{"$f":"IF(E926=\"\",\"\",VLOOKUP(E926,Deltagere!$B$4:$D$1003,2,FALSE))","v":""}]
[null,null,{"$f":"IF(B927=\"\",\"\",VLOOKUP(B927,Deltagere!$B$4:$D$1003,2,FALSE))","v":""},1,null,{"$f":"IF(E927=\"\",\"\",VLOOKUP(E927,Deltagere!$B$4:$D$1003,2,FALSE))","v":""}]
[13,null,{"$f":"IF(B928=\"\",\"\",VLOOKUP(B928,Deltagere!$B$4:$D$1003,2,FALSE))","v":""},1,null,{"$f":"IF(E928=\"\",\"\",VLOOKUP(E928,Deltagere!$B$4:$D$1003,2,FALSE))","v":""}]
[null,null,{"$f":"IF(B929=\"\",\"\",VLOOKUP(B929,Deltagere!$B$4:$D$1003,2,FALSE))","v":""},1,null,{"$f":"IF(E929=\"\",\"\",VLOOKUP(E929,Deltagere!$B$4:$D$1003,2,FALSE))","v":""}]
[null,null,{"$f":"IF(B930=\"\",\"\",VLOOKUP(B930,Deltagere!$B$4:$D$1003,2,FALSE))","v":""},1,null,{"$f":"IF(E930=\"\",\"\",VLOOKUP(E930,Deltagere!$B$4:$D$1003,2,FALSE))","v":""}]
[null,null,{"$f":"IF(B931=\"\",\"\",VLOOKUP(B931,Deltagere!$B$4:$D$1003,2,FALSE))","v":""},1,null,{"$f":"IF(E931=\"\",\"\",VLOOKUP(E931,Deltagere!$B$4:$D$1003,2,FALSE))","v":""}]
[14,null,{"$f":"IF(B932=\"\",\"\",VLOOKUP(B932,Deltagere!$B$4:$D$1003,2,FALSE))","v":""},1,null,{"$f":"IF(E932=\"\",\"\",VLOOKUP(E932,Deltagere!$B$4:$D$1003,2,FALSE))","v":""}]
[null,null,{"$f":"IF(B933=\"\",\"\",VLOOKUP(B933,Deltagere!$B$4:$D$1003,2,FALSE))","v":""},1,null,{"$f":"IF(E933=\"\",\"\",VLOOKUP(E933,Deltagere!$B$4:$D$1003,2,FALSE))","v":""}]
[null,null,{"$f":"IF(B934=\"\",\"\",VLOOKUP(B934,Deltagere!$B$4:$D$1003,2,FALSE))","v":""},1,null,{"$f":"IF(E934=\"\",\"\",VLOOKUP(E934,Deltagere!$B$4:$D$1003,2,FALSE))","v":""}]
[null,null,{"$f":"IF(B935=\"\",\"\",VLOOKUP(B935,Deltagere!$B$4:$D$1003,2,FALSE))","v":""},1,null,{"$f":"IF(E935=\"\",\"\",VLOOKUP(E935,Deltagere!$B$4:$D$1003,2,FALSE))","v":""}]
[15,null,{"$f":"IF(B936=\"\",\"\",VLOOKUP(B936,Deltagere!$B$4:$D$1003,2,FALSE))","v":""},1,null,{"$f":"IF(E936=\"\",\"\",VLOOKUP(E936,Deltagere!$B$4:$D$1003,2,FALSE))","v":""}]
[null,null,{"$f":"IF(B937=\"\",\"\",VLOOKUP(B937,Deltagere!$B$4:$D$1003,2,FALSE))","v":""},1,null,{"$f":"IF(E937=\"\",\"\",VLOOKUP(E937,Deltagere!$B$4:$D$1003,2,FALSE))","v":""}]
[null,null,{"$f":"IF(B938=\"\",\"\",VLOOKUP(B938,Deltagere!$B$4:$D$1003,2,FALSE))","v":""},1,null,{"$f":"IF(E938=\"\",\"\",VLOOKUP(E938,Deltagere!$B$4:$D$1003,2,FALSE))","v":""}]
[null,null,{"$f":"IF(B939=\"\",\"\",VLOOKUP(B939,Deltagere!$B$4:$D$1003,2,FALSE))","v":""},1,null,{"$f":"IF(E939=\"\",\"\",VLOOKUP(E939,Deltagere!$B$4:$D$1003,2,FALSE))","v":""}]
[16,null,{"$f":"IF(B940=\"\",\"\",VLOOKUP(B940,Deltagere!$B$4:$D$1003,2,FALSE))","v":""},1,null,{"$f":"IF(E940=\"\",\"\",VLOOKUP(E940,Deltagere!$B$4:$D$1003,2,FALSE))","v":""}]
[null,null,{"$f":"IF(B941=\"\",\"\",VLOOKUP(B941,Deltagere!$B$4:$D$1003,2,FALSE))","v":""},1,null,{"$f":"IF(E941=\"\",\"\",VLOOKUP(E941,Deltagere!$B$4:$D$1003,2,FALSE))","v":""}]
[null,null,{"$f":"IF(B942=\"\",\"\",VLOOKUP(B942,Deltagere!$B$4:$D$1003,2,FALSE))","v":""},1,null,{"$f":"IF(E942=\"\",\"\",VLOOKUP(E942,Deltagere!$B$4:$D$1003,2,FALSE))","v":""}]
[null,null,{"$f":"IF(B943=\"\",\"\",VLOOKUP(B943,Deltagere!$B$4:$D$1003,2,FALSE))","v":""},1,null,{"$f":"IF(E943=\"\",\"\",VLOOKUP(E943,Deltagere!$B$4:$D$1003,2,FALSE))","v":""}]
[17,null,{"$f":"IF(B944=\"\",\"\",VLOOKUP(B944,Deltagere!$B$4:$D$1003,2,FALSE))","v":""},1,null,{"$f":"IF(E944=\"\",\"\",VLOOKUP(E944,Deltagere!$B$4:$D$1003,2,FALSE))","v":""}]
[null,null,{"$f":"IF(B945=\"\",\"\",VLOOKUP(B945,Deltagere!$B$4:$D$1003,2,FALSE))","v":""},1,null,{"$f":"IF(E945=\"\",\"\",VLOOKUP(E945,Deltagere!$B$4:$D$1003,2,FALSE))","v":""}]
[null,null,{"$f":"IF(B946=\"\",\"\",VLOOKUP(B946,Deltagere!$B$4:$D$1003,2,FALSE))","v":""},1,null,{"$f":"IF(E946=\"\",\"\",VLOOKUP(E946,Deltagere!$B$4:$D$1003,2,FALSE))","v":""}]
[null,null,{"$f":"IF(B947=\"\",\"\",VLOOKUP(B947,Deltagere!$B$4:$D$1003,2,FALSE))","v":""},1,null,{"$f":"IF(E947=\"\",\"\",VLOOKUP(E947,Deltagere!$B$4:$D$1003,2,FALSE))","v":""}]
[18,null,{"$f":"IF(B948=\"\",\"\",VLOOKUP(B948,Deltagere!$B$4:$D$1003,2,FALSE))","v":""},1,null,{"$f":"IF(E948=\"\",\"\",VLOOKUP(E948,Deltagere!$B$4:$D$1003,2,FALSE))","v":""}]
[null,null,{"$f":"IF(B949=\"\",\"\",VLOOKUP(B949,Deltagere!$B$4:$D$1003,2,FALSE))","v":""},1,null,{"$f":"IF(E949=\"\",\"\",VLOOKUP(E949,Deltagere!$B$4:$D$1003,2,FALSE))","v":""}]
[null,null,{"$f":"IF(B950=\"\",\"\",VLOOKUP(B950,Deltagere!$B$4:$D$1003,2,FALSE))","v":""},1,null,{"$f":"IF(E950=\"\",\"\",VLOOKUP(E950,Deltagere!$B$4:$D$1003,2,FALSE))","v":""}]
[]
[]
["Gul farve er dommer",null,"Runde 1",null,null,"Runde 2",null,"Se her hvilke klubber deltagerne "]
["Start ved hul nr.","Spiller nr.","Spiller navn","Hold ","Spiller nr.","Spiller navn",null,"             på holdene kommer fra."]
[null,null,{"$f":"IF(B955=\"\",\"\",VLOOKUP(B955,Deltagere!$B$4:$D$1003,2,FALSE))","v":""},1,null,{"$f":"IF(E955=\"\",\"\",VLOOKUP(E955,Deltagere!$B$4:$D$1003,2,FALSE))","v":""},null,"Nr.     1 - 50   er Frederikssund"]
[1,null,{"$f":"IF(B956=\"\",\"\",VLOOKUP(B956,Deltagere!$B$4:$D$1003,2,FALSE))","v":""},1,null,{"$f":"IF(E956=\"\",\"\",VLOOKUP(E956,Deltagere!$B$4:$D$1003,2,FALSE))","v":""},null,"Nr.   51 - 100 er Meløse"]
[null,null,{"$f":"IF(B957=\"\",\"\",VLOOKUP(B957,Deltagere!$B$4:$D$1003,2,FALSE))","v":""},1,null,{"$f":"IF(E957=\"\",\"\",VLOOKUP(E957,Deltagere!$B$4:$D$1003,2,FALSE))","v":""},null,"Nr. 101 - 150 er Hornsherred"]
[null,null,{"$f":"IF(B958=\"\",\"\",VLOOKUP(B958,Deltagere!$B$4:$D$1003,2,FALSE))","v":""},1,null,{"$f":"IF(E958=\"\",\"\",VLOOKUP(E958,Deltagere!$B$4:$D$1003,2,FALSE))","v":""},null,"Nr. 151 - 200 er Ølstykke"]
[null,null,{"$f":"IF(B959=\"\",\"\",VLOOKUP(B959,Deltagere!$B$4:$D$1003,2,FALSE))","v":""},1,null,{"$f":"IF(E959=\"\",\"\",VLOOKUP(E959,Deltagere!$B$4:$D$1003,2,FALSE))","v":""},null,"Nr. 201 - 300 er Ledøje/Smørum "]
[2,null,{"$f":"IF(B960=\"\",\"\",VLOOKUP(B960,Deltagere!$B$4:$D$1003,2,FALSE))","v":""},1,null,{"$f":"IF(E960=\"\",\"\",VLOOKUP(E960,Deltagere!$B$4:$D$1003,2,FALSE))","v":""},null,"Nr. 301 - 350 er BK Greve"]
[null,null,{"$f":"IF(B961=\"\",\"\",VLOOKUP(B961,Deltagere!$B$4:$D$1003,2,FALSE))","v":""},1,null,{"$f":"IF(E961=\"\",\"\",VLOOKUP(E961,Deltagere!$B$4:$D$1003,2,FALSE))","v":""},null,"Nr. 351 - 400 er Albertslund"]
[null,null,{"$f":"IF(B962=\"\",\"\",VLOOKUP(B962,Deltagere!$B$4:$D$1003,2,FALSE))","v":""},1,null,{"$f":"IF(E962=\"\",\"\",VLOOKUP(E962,Deltagere!$B$4:$D$1003,2,FALSE))","v":""},null,"Nr. 401 - 450 er Lyngby"]
[null,null,{"$f":"IF(B963=\"\",\"\",VLOOKUP(B963,Deltagere!$B$4:$D$1003,2,FALSE))","v":""},1,null,{"$f":"IF(E963=\"\",\"\",VLOOKUP(E963,Deltagere!$B$4:$D$1003,2,FALSE))","v":""},null,"Nr. 451 - 500 er Krolffolket"]
[3,null,{"$f":"IF(B964=\"\",\"\",VLOOKUP(B964,Deltagere!$B$4:$D$1003,2,FALSE))","v":""},1,null,{"$f":"IF(E964=\"\",\"\",VLOOKUP(E964,Deltagere!$B$4:$D$1003,2,FALSE))","v":""},null,"Nr. 501 - 550 er Tapeten"]
[null,null,{"$f":"IF(B965=\"\",\"\",VLOOKUP(B965,Deltagere!$B$4:$D$1003,2,FALSE))","v":""},1,null,{"$f":"IF(E965=\"\",\"\",VLOOKUP(E965,Deltagere!$B$4:$D$1003,2,FALSE))","v":""},null,"Nr. 551 - 600 er Vesterbro"]
[null,null,{"$f":"IF(B966=\"\",\"\",VLOOKUP(B966,Deltagere!$B$4:$D$1003,2,FALSE))","v":""},1,null,{"$f":"IF(E966=\"\",\"\",VLOOKUP(E966,Deltagere!$B$4:$D$1003,2,FALSE))","v":""},null,"Nr. 601 - 650 er Vikingerne"]
[null,null,{"$f":"IF(B967=\"\",\"\",VLOOKUP(B967,Deltagere!$B$4:$D$1003,2,FALSE))","v":""},1,null,{"$f":"IF(E967=\"\",\"\",VLOOKUP(E967,Deltagere!$B$4:$D$1003,2,FALSE))","v":""}]
[4,null,{"$f":"IF(B968=\"\",\"\",VLOOKUP(B968,Deltagere!$B$4:$D$1003,2,FALSE))","v":""},1,null,{"$f":"IF(E968=\"\",\"\",VLOOKUP(E968,Deltagere!$B$4:$D$1003,2,FALSE))","v":""}]
[null,null,{"$f":"IF(B969=\"\",\"\",VLOOKUP(B969,Deltagere!$B$4:$D$1003,2,FALSE))","v":""},1,null,{"$f":"IF(E969=\"\",\"\",VLOOKUP(E969,Deltagere!$B$4:$D$1003,2,FALSE))","v":""}]
[null,null,{"$f":"IF(B970=\"\",\"\",VLOOKUP(B970,Deltagere!$B$4:$D$1003,2,FALSE))","v":""},1,null,{"$f":"IF(E970=\"\",\"\",VLOOKUP(E970,Deltagere!$B$4:$D$1003,2,FALSE))","v":""}]
[null,null,{"$f":"IF(B971=\"\",\"\",VLOOKUP(B971,Deltagere!$B$4:$D$1003,2,FALSE))","v":""},1,null,{"$f":"IF(E971=\"\",\"\",VLOOKUP(E971,Deltagere!$B$4:$D$1003,2,FALSE))","v":""}]
[5,null,{"$f":"IF(B972=\"\",\"\",VLOOKUP(B972,Deltagere!$B$4:$D$1003,2,FALSE))","v":""},1,null,{"$f":"IF(E972=\"\",\"\",VLOOKUP(E972,Deltagere!$B$4:$D$1003,2,FALSE))","v":""}]
[null,null,{"$f":"IF(B973=\"\",\"\",VLOOKUP(B973,Deltagere!$B$4:$D$1003,2,FALSE))","v":""},1,null,{"$f":"IF(E973=\"\",\"\",VLOOKUP(E973,Deltagere!$B$4:$D$1003,2,FALSE))","v":""}]
[null,null,{"$f":"IF(B974=\"\",\"\",VLOOKUP(B974,Deltagere!$B$4:$D$1003,2,FALSE))","v":""},1,null,{"$f":"IF(E974=\"\",\"\",VLOOKUP(E974,Deltagere!$B$4:$D$1003,2,FALSE))","v":""}]
[null,null,{"$f":"IF(B975=\"\",\"\",VLOOKUP(B975,Deltagere!$B$4:$D$1003,2,FALSE))","v":""},1,null,{"$f":"IF(E975=\"\",\"\",VLOOKUP(E975,Deltagere!$B$4:$D$1003,2,FALSE))","v":""}]
[6,null,{"$f":"IF(B976=\"\",\"\",VLOOKUP(B976,Deltagere!$B$4:$D$1003,2,FALSE))","v":""},1,null,{"$f":"IF(E976=\"\",\"\",VLOOKUP(E976,Deltagere!$B$4:$D$1003,2,FALSE))","v":""}]
[null,null,{"$f":"IF(B977=\"\",\"\",VLOOKUP(B977,Deltagere!$B$4:$D$1003,2,FALSE))","v":""},1,null,{"$f":"IF(E977=\"\",\"\",VLOOKUP(E977,Deltagere!$B$4:$D$1003,2,FALSE))","v":""}]
[null,null,{"$f":"IF(B978=\"\",\"\",VLOOKUP(B978,Deltagere!$B$4:$D$1003,2,FALSE))","v":""},1,null,{"$f":"IF(E978=\"\",\"\",VLOOKUP(E978,Deltagere!$B$4:$D$1003,2,FALSE))","v":""}]
[null,null,{"$f":"IF(B979=\"\",\"\",VLOOKUP(B979,Deltagere!$B$4:$D$1003,2,FALSE))","v":""},1,null,{"$f":"IF(E979=\"\",\"\",VLOOKUP(E979,Deltagere!$B$4:$D$1003,2,FALSE))","v":""}]
[7,null,{"$f":"IF(B980=\"\",\"\",VLOOKUP(B980,Deltagere!$B$4:$D$1003,2,FALSE))","v":""},1,null,{"$f":"IF(E980=\"\",\"\",VLOOKUP(E980,Deltagere!$B$4:$D$1003,2,FALSE))","v":""}]
[null,null,{"$f":"IF(B981=\"\",\"\",VLOOKUP(B981,Deltagere!$B$4:$D$1003,2,FALSE))","v":""},1,null,{"$f":"IF(E981=\"\",\"\",VLOOKUP(E981,Deltagere!$B$4:$D$1003,2,FALSE))","v":""}]
[null,null,{"$f":"IF(B982=\"\",\"\",VLOOKUP(B982,Deltagere!$B$4:$D$1003,2,FALSE))","v":""},1,null,{"$f":"IF(E982=\"\",\"\",VLOOKUP(E982,Deltagere!$B$4:$D$1003,2,FALSE))","v":""}]
[null,null,{"$f":"IF(B983=\"\",\"\",VLOOKUP(B983,Deltagere!$B$4:$D$1003,2,FALSE))","v":""},1,null,{"$f":"IF(E983=\"\",\"\",VLOOKUP(E983,Deltagere!$B$4:$D$1003,2,FALSE))","v":""}]
[8,null,{"$f":"IF(B984=\"\",\"\",VLOOKUP(B984,Deltagere!$B$4:$D$1003,2,FALSE))","v":""},1,null,{"$f":"IF(E984=\"\",\"\",VLOOKUP(E984,Deltagere!$B$4:$D$1003,2,FALSE))","v":""}]
[null,null,{"$f":"IF(B985=\"\",\"\",VLOOKUP(B985,Deltagere!$B$4:$D$1003,2,FALSE))","v":""},1,null,{"$f":"IF(E985=\"\",\"\",VLOOKUP(E985,Deltagere!$B$4:$D$1003,2,FALSE))","v":""}]
[null,null,{"$f":"IF(B986=\"\",\"\",VLOOKUP(B986,Deltagere!$B$4:$D$1003,2,FALSE))","v":""},1,null,{"$f":"IF(E986=\"\",\"\",VLOOKUP(E986,Deltagere!$B$4:$D$1003,2,FALSE))","v":""}]
[null,null,{"$f":"IF(B987=\"\",\"\",VLOOKUP(B987,Deltagere!$B$4:$D$1003,2,FALSE))","v":""},1,null,{"$f":"IF(E987=\"\",\"\",VLOOKUP(E987,Deltagere!$B$4:$D$1003,2,FALSE))","v":""}]
[9,null,{"$f":"IF(B988=\"\",\"\",VLOOKUP(B988,Deltagere!$B$4:$D$1003,2,FALSE))","v":""},1,null,{"$f":"IF(E988=\"\",\"\",VLOOKUP(E988,Deltagere!$B$4:$D$1003,2,FALSE))","v":""}]
[null,null,{"$f":"IF(B989=\"\",\"\",VLOOKUP(B989,Deltagere!$B$4:$D$1003,2,FALSE))","v":""},1,null,{"$f":"IF(E989=\"\",\"\",VLOOKUP(E989,Deltagere!$B$4:$D$1003,2,FALSE))","v":""}]
[null,null,{"$f":"IF(B990=\"\",\"\",VLOOKUP(B990,Deltagere!$B$4:$D$1003,2,FALSE))","v":""},1,null,{"$f":"IF(E990=\"\",\"\",VLOOKUP(E990,Deltagere!$B$4:$D$1003,2,FALSE))","v":""}]
[null,null,{"$f":"IF(B991=\"\",\"\",VLOOKUP(B991,Deltagere!$B$4:$D$1003,2,FALSE))","v":""},1,null,{"$f":"IF(E991=\"\",\"\",VLOOKUP(E991,Deltagere!$B$4:$D$1003,2,FALSE))","v":""}]
[11,null,{"$f":"IF(B992=\"\",\"\",VLOOKUP(B992,Deltagere!$B$4:$D$1003,2,FALSE))","v":""},1,null,{"$f":"IF(E992=\"\",\"\",VLOOKUP(E992,Deltagere!$B$4:$D$1003,2,FALSE))","v":""}]
[null,null,{"$f":"IF(B993=\"\",\"\",VLOOKUP(B993,Deltagere!$B$4:$D$1003,2,FALSE))","v":""},1,null,{"$f":"IF(E993=\"\",\"\",VLOOKUP(E993,Deltagere!$B$4:$D$1003,2,FALSE))","v":""}]
[null,null,{"$f":"IF(B994=\"\",\"\",VLOOKUP(B994,Deltagere!$B$4:$D$1003,2,FALSE))","v":""},1,null,{"$f":"IF(E994=\"\",\"\",VLOOKUP(E994,Deltagere!$B$4:$D$1003,2,FALSE))","v":""}]
[null,null,{"$f":"IF(B995=\"\",\"\",VLOOKUP(B995,Deltagere!$B$4:$D$1003,2,FALSE))","v":""},1,null,{"$f":"IF(E995=\"\",\"\",VLOOKUP(E995,Deltagere!$B$4:$D$1003,2,FALSE))","v":""}]
[12,null,{"$f":"IF(B996=\"\",\"\",VLOOKUP(B996,Deltagere!$B$4:$D$1003,2,FALSE))","v":""},1,null,{"$f":"IF(E996=\"\",\"\",VLOOKUP(E996,Deltagere!$B$4:$D$1003,2,FALSE))","v":""}]
[null,null,{"$f":"IF(B997=\"\",\"\",VLOOKUP(B997,Deltagere!$B$4:$D$1003,2,FALSE))","v":""},1,null,{"$f":"IF(E997=\"\",\"\",VLOOKUP(E997,Deltagere!$B$4:$D$1003,2,FALSE))","v":""}]
[null,null,{"$f":"IF(B998=\"\",\"\",VLOOKUP(B998,Deltagere!$B$4:$D$1003,2,FALSE))","v":""},1,null,{"$f":"IF(E998=\"\",\"\",VLOOKUP(E998,Deltagere!$B$4:$D$1003,2,FALSE))","v":""}]
[null,null,{"$f":"IF(B999=\"\",\"\",VLOOKUP(B999,Deltagere!$B$4:$D$1003,2,FALSE))","v":""},1,null,{"$f":"IF(E999=\"\",\"\",VLOOKUP(E999,Deltagere!$B$4:$D$1003,2,FALSE))","v":""}]
[13,null,{"$f":"IF(B1000=\"\",\"\",VLOOKUP(B1000,Deltagere!$B$4:$D$1003,2,FALSE))","v":""},1,null,{"$f":"IF(E1000=\"\",\"\",VLOOKUP(E1000,Deltagere!$B$4:$D$1003,2,FALSE))","v":""}]
[null,null,{"$f":"IF(B1001=\"\",\"\",VLOOKUP(B1001,Deltagere!$B$4:$D$1003,2,FALSE))","v":""},1,null,{"$f":"IF(E1001=\"\",\"\",VLOOKUP(E1001,Deltagere!$B$4:$D$1003,2,FALSE))","v":""}]
[null,null,{"$f":"IF(B1002=\"\",\"\",VLOOKUP(B1002,Deltagere!$B$4:$D$1003,2,FALSE))","v":""},1,null,{"$f":"IF(E1002=\"\",\"\",VLOOKUP(E1002,Deltagere!$B$4:$D$1003,2,FALSE))","v":""}]
[null,null,{"$f":"IF(B1003=\"\",\"\",VLOOKUP(B1003,Deltagere!$B$4:$D$1003,2,FALSE))","v":""},1,null,{"$f":"IF(E1003=\"\",\"\",VLOOKUP(E1003,Deltagere!$B$4:$D$1003,2,FALSE))","v":""}]
[14,null,{"$f":"IF(B1004=\"\",\"\",VLOOKUP(B1004,Deltagere!$B$4:$D$1003,2,FALSE))","v":""},1,null,{"$f":"IF(E1004=\"\",\"\",VLOOKUP(E1004,Deltagere!$B$4:$D$1003,2,FALSE))","v":""}]
[null,null,{"$f":"IF(B1005=\"\",\"\",VLOOKUP(B1005,Deltagere!$B$4:$D$1003,2,FALSE))","v":""},1,null,{"$f":"IF(E1005=\"\",\"\",VLOOKUP(E1005,Deltagere!$B$4:$D$1003,2,FALSE))","v":""}]
[null,null,{"$f":"IF(B1006=\"\",\"\",VLOOKUP(B1006,Deltagere!$B$4:$D$1003,2,FALSE))","v":""},1,null,{"$f":"IF(E1006=\"\",\"\",VLOOKUP(E1006,Deltagere!$B$4:$D$1003,2,FALSE))","v":""}]
[null,null,{"$f":"IF(B1007=\"\",\"\",VLOOKUP(B1007,Deltagere!$B$4:$D$1003,2,FALSE))","v":""},1,null,{"$f":"IF(E1007=\"\",\"\",VLOOKUP(E1007,Deltagere!$B$4:$D$1003,2,FALSE))","v":""}]
[15,null,{"$f":"IF(B1008=\"\",\"\",VLOOKUP(B1008,Deltagere!$B$4:$D$1003,2,FALSE))","v":""},1,null,{"$f":"IF(E1008=\"\",\"\",VLOOKUP(E1008,Deltagere!$B$4:$D$1003,2,FALSE))","v":""}]
[null,null,{"$f":"IF(B1009=\"\",\"\",VLOOKUP(B1009,Deltagere!$B$4:$D$1003,2,FALSE))","v":""},1,null,{"$f":"IF(E1009=\"\",\"\",VLOOKUP(E1009,Deltagere!$B$4:$D$1003,2,FALSE))","v":""}]
[null,null,{"$f":"IF(B1010=\"\",\"\",VLOOKUP(B1010,Deltagere!$B$4:$D$1003,2,FALSE))","v":""},1,null,{"$f":"IF(E1010=\"\",\"\",VLOOKUP(E1010,Deltagere!$B$4:$D$1003,2,FALSE))","v":""}]
[null,null,{"$f":"IF(B1011=\"\",\"\",VLOOKUP(B1011,Deltagere!$B$4:$D$1003,2,FALSE))","v":""},1,null,{"$f":"IF(E1011=\"\",\"\",VLOOKUP(E1011,Deltagere!$B$4:$D$1003,2,FALSE))","v":""}]
[16,null,{"$f":"IF(B1012=\"\",\"\",VLOOKUP(B1012,Deltagere!$B$4:$D$1003,2,FALSE))","v":""},1,null,{"$f":"IF(E1012=\"\",\"\",VLOOKUP(E1012,Deltagere!$B$4:$D$1003,2,FALSE))","v":""}]
[null,null,{"$f":"IF(B1013=\"\",\"\",VLOOKUP(B1013,Deltagere!$B$4:$D$1003,2,FALSE))","v":""},1,null,{"$f":"IF(E1013=\"\",\"\",VLOOKUP(E1013,Deltagere!$B$4:$D$1003,2,FALSE))","v":""}]
[null,null,{"$f":"IF(B1014=\"\",\"\",VLOOKUP(B1014,Deltagere!$B$4:$D$1003,2,FALSE))","v":""},1,null,{"$f":"IF(E1014=\"\",\"\",VLOOKUP(E1014,Deltagere!$B$4:$D$1003,2,FALSE))","v":""}]
[null,null,{"$f":"IF(B1015=\"\",\"\",VLOOKUP(B1015,Deltagere!$B$4:$D$1003,2,FALSE))","v":""},1,null,{"$f":"IF(E1015=\"\",\"\",VLOOKUP(E1015,Deltagere!$B$4:$D$1003,2,FALSE))","v":""}]
[17,null,{"$f":"IF(B1016=\"\",\"\",VLOOKUP(B1016,Deltagere!$B$4:$D$1003,2,FALSE))","v":""},1,null,{"$f":"IF(E1016=\"\",\"\",VLOOKUP(E1016,Deltagere!$B$4:$D$1003,2,FALSE))","v":""}]
[null,null,{"$f":"IF(B1017=\"\",\"\",VLOOKUP(B1017,Deltagere!$B$4:$D$1003,2,FALSE))","v":""},1,null,{"$f":"IF(E1017=\"\",\"\",VLOOKUP(E1017,Deltagere!$B$4:$D$1003,2,FALSE))","v":""}]
[null,null,{"$f":"IF(B1018=\"\",\"\",VLOOKUP(B1018,Deltagere!$B$4:$D$1003,2,FALSE))","v":""},1,null,{"$f":"IF(E1018=\"\",\"\",VLOOKUP(E1018,Deltagere!$B$4:$D$1003,2,FALSE))","v":""}]
[null,null,{"$f":"IF(B1019=\"\",\"\",VLOOKUP(B1019,Deltagere!$B$4:$D$1003,2,FALSE))","v":""},1,null,{"$f":"IF(E1019=\"\",\"\",VLOOKUP(E1019,Deltagere!$B$4:$D$1003,2,FALSE))","v":""}]
[18,null,{"$f":"IF(B1020=\"\",\"\",VLOOKUP(B1020,Deltagere!$B$4:$D$1003,2,FALSE))","v":""},1,null,{"$f":"IF(E1020=\"\",\"\",VLOOKUP(E1020,Deltagere!$B$4:$D$1003,2,FALSE))","v":""}]
[null,null,{"$f":"IF(B1021=\"\",\"\",VLOOKUP(B1021,Deltagere!$B$4:$D$1003,2,FALSE))","v":""},1,null,{"$f":"IF(E1021=\"\",\"\",VLOOKUP(E1021,Deltagere!$B$4:$D$1003,2,FALSE))","v":""}]
[null,null,{"$f":"IF(B1022=\"\",\"\",VLOOKUP(B1022,Deltagere!$B$4:$D$1003,2,FALSE))","v":""},1,null,{"$f":"IF(E1022=\"\",\"\",VLOOKUP(E1022,Deltagere!$B$4:$D$1003,2,FALSE))","v":""}]
[]
[]
["Gul farve er dommer",null,"Runde 1",null,null,"Runde 2",null,"Se her hvilke klubber deltagerne "]
["Start ved hul nr.","Spiller nr.","Spiller navn","Hold ","Spiller nr.","Spiller navn",null,"             på holdene kommer fra."]
[null,null,{"$f":"IF(B1027=\"\",\"\",VLOOKUP(B1027,Deltagere!$B$4:$D$1003,2,FALSE))","v":""},1,null,{"$f":"IF(E1027=\"\",\"\",VLOOKUP(E1027,Deltagere!$B$4:$D$1003,2,FALSE))","v":""},null,"Nr.     1 - 50   er Frederikssund"]
[1,null,{"$f":"IF(B1028=\"\",\"\",VLOOKUP(B1028,Deltagere!$B$4:$D$1003,2,FALSE))","v":""},1,null,{"$f":"IF(E1028=\"\",\"\",VLOOKUP(E1028,Deltagere!$B$4:$D$1003,2,FALSE))","v":""},null,"Nr.   51 - 100 er Meløse"]
[null,null,{"$f":"IF(B1029=\"\",\"\",VLOOKUP(B1029,Deltagere!$B$4:$D$1003,2,FALSE))","v":""},1,null,{"$f":"IF(E1029=\"\",\"\",VLOOKUP(E1029,Deltagere!$B$4:$D$1003,2,FALSE))","v":""},null,"Nr. 101 - 150 er Hornsherred"]
[null,null,{"$f":"IF(B1030=\"\",\"\",VLOOKUP(B1030,Deltagere!$B$4:$D$1003,2,FALSE))","v":""},1,null,{"$f":"IF(E1030=\"\",\"\",VLOOKUP(E1030,Deltagere!$B$4:$D$1003,2,FALSE))","v":""},null,"Nr. 151 - 200 er Ølstykke"]
[null,null,{"$f":"IF(B1031=\"\",\"\",VLOOKUP(B1031,Deltagere!$B$4:$D$1003,2,FALSE))","v":""},1,null,{"$f":"IF(E1031=\"\",\"\",VLOOKUP(E1031,Deltagere!$B$4:$D$1003,2,FALSE))","v":""},null,"Nr. 201 - 300 er Ledøje/Smørum "]
[2,null,{"$f":"IF(B1032=\"\",\"\",VLOOKUP(B1032,Deltagere!$B$4:$D$1003,2,FALSE))","v":""},1,null,{"$f":"IF(E1032=\"\",\"\",VLOOKUP(E1032,Deltagere!$B$4:$D$1003,2,FALSE))","v":""},null,"Nr. 301 - 350 er BK Greve"]
[null,null,{"$f":"IF(B1033=\"\",\"\",VLOOKUP(B1033,Deltagere!$B$4:$D$1003,2,FALSE))","v":""},1,null,{"$f":"IF(E1033=\"\",\"\",VLOOKUP(E1033,Deltagere!$B$4:$D$1003,2,FALSE))","v":""},null,"Nr. 351 - 400 er Albertslund"]
[null,null,{"$f":"IF(B1034=\"\",\"\",VLOOKUP(B1034,Deltagere!$B$4:$D$1003,2,FALSE))","v":""},1,null,{"$f":"IF(E1034=\"\",\"\",VLOOKUP(E1034,Deltagere!$B$4:$D$1003,2,FALSE))","v":""},null,"Nr. 401 - 450 er Lyngby"]
[null,null,{"$f":"IF(B1035=\"\",\"\",VLOOKUP(B1035,Deltagere!$B$4:$D$1003,2,FALSE))","v":""},1,null,{"$f":"IF(E1035=\"\",\"\",VLOOKUP(E1035,Deltagere!$B$4:$D$1003,2,FALSE))","v":""},null,"Nr. 451 - 500 er Krolffolket"]
[3,null,{"$f":"IF(B1036=\"\",\"\",VLOOKUP(B1036,Deltagere!$B$4:$D$1003,2,FALSE))","v":""},1,null,{"$f":"IF(E1036=\"\",\"\",VLOOKUP(E1036,Deltagere!$B$4:$D$1003,2,FALSE))","v":""},null,"Nr. 501 - 550 er Tapeten"]
[null,null,{"$f":"IF(B1037=\"\",\"\",VLOOKUP(B1037,Deltagere!$B$4:$D$1003,2,FALSE))","v":""},1,null,{"$f":"IF(E1037=\"\",\"\",VLOOKUP(E1037,Deltagere!$B$4:$D$1003,2,FALSE))","v":""},null,"Nr. 551 - 600 er Vesterbro"]
[null,null,{"$f":"IF(B1038=\"\",\"\",VLOOKUP(B1038,Deltagere!$B$4:$D$1003,2,FALSE))","v":""},1,null,{"$f":"IF(E1038=\"\",\"\",VLOOKUP(E1038,Deltagere!$B$4:$D$1003,2,FALSE))","v":""},null,"Nr. 601 - 650 er Vikingerne"]
[null,null,{"$f":"IF(B1039=\"\",\"\",VLOOKUP(B1039,Deltagere!$B$4:$D$1003,2,FALSE))","v":""},1,null,{"$f":"IF(E1039=\"\",\"\",VLOOKUP(E1039,Deltagere!$B$4:$D$1003,2,FALSE))","v":""}]
[4,null,{"$f":"IF(B1040=\"\",\"\",VLOOKUP(B1040,Deltagere!$B$4:$D$1003,2,FALSE))","v":""},1,null,{"$f":"IF(E1040=\"\",\"\",VLOOKUP(E1040,Deltagere!$B$4:$D$1003,2,FALSE))","v":""}]
[null,null,{"$f":"IF(B1041=\"\",\"\",VLOOKUP(B1041,Deltagere!$B$4:$D$1003,2,FALSE))","v":""},1,null,{"$f":"IF(E1041=\"\",\"\",VLOOKUP(E1041,Deltagere!$B$4:$D$1003,2,FALSE))","v":""}]
[null,null,{"$f":"IF(B1042=\"\",\"\",VLOOKUP(B1042,Deltagere!$B$4:$D$1003,2,FALSE))","v":""},1,null,{"$f":"IF(E1042=\"\",\"\",VLOOKUP(E1042,Deltagere!$B$4:$D$1003,2,FALSE))","v":""}]
[null,null,{"$f":"IF(B1043=\"\",\"\",VLOOKUP(B1043,Deltagere!$B$4:$D$1003,2,FALSE))","v":""},1,null,{"$f":"IF(E1043=\"\",\"\",VLOOKUP(E1043,Deltagere!$B$4:$D$1003,2,FALSE))","v":""}]
[5,null,{"$f":"IF(B1044=\"\",\"\",VLOOKUP(B1044,Deltagere!$B$4:$D$1003,2,FALSE))","v":""},1,null,{"$f":"IF(E1044=\"\",\"\",VLOOKUP(E1044,Deltagere!$B$4:$D$1003,2,FALSE))","v":""}]
[null,null,{"$f":"IF(B1045=\"\",\"\",VLOOKUP(B1045,Deltagere!$B$4:$D$1003,2,FALSE))","v":""},1,null,{"$f":"IF(E1045=\"\",\"\",VLOOKUP(E1045,Deltagere!$B$4:$D$1003,2,FALSE))","v":""}]
[null,null,{"$f":"IF(B1046=\"\",\"\",VLOOKUP(B1046,Deltagere!$B$4:$D$1003,2,FALSE))","v":""},1,null,{"$f":"IF(E1046=\"\",\"\",VLOOKUP(E1046,Deltagere!$B$4:$D$1003,2,FALSE))","v":""}]
[null,null,{"$f":"IF(B1047=\"\",\"\",VLOOKUP(B1047,Deltagere!$B$4:$D$1003,2,FALSE))","v":""},1,null,{"$f":"IF(E1047=\"\",\"\",VLOOKUP(E1047,Deltagere!$B$4:$D$1003,2,FALSE))","v":""}]
[6,null,{"$f":"IF(B1048=\"\",\"\",VLOOKUP(B1048,Deltagere!$B$4:$D$1003,2,FALSE))","v":""},1,null,{"$f":"IF(E1048=\"\",\"\",VLOOKUP(E1048,Deltagere!$B$4:$D$1003,2,FALSE))","v":""}]
[null,null,{"$f":"IF(B1049=\"\",\"\",VLOOKUP(B1049,Deltagere!$B$4:$D$1003,2,FALSE))","v":""},1,null,{"$f":"IF(E1049=\"\",\"\",VLOOKUP(E1049,Deltagere!$B$4:$D$1003,2,FALSE))","v":""}]
[null,null,{"$f":"IF(B1050=\"\",\"\",VLOOKUP(B1050,Deltagere!$B$4:$D$1003,2,FALSE))","v":""},1,null,{"$f":"IF(E1050=\"\",\"\",VLOOKUP(E1050,Deltagere!$B$4:$D$1003,2,FALSE))","v":""}]
[null,null,{"$f":"IF(B1051=\"\",\"\",VLOOKUP(B1051,Deltagere!$B$4:$D$1003,2,FALSE))","v":""},1,null,{"$f":"IF(E1051=\"\",\"\",VLOOKUP(E1051,Deltagere!$B$4:$D$1003,2,FALSE))","v":""}]
[7,null,{"$f":"IF(B1052=\"\",\"\",VLOOKUP(B1052,Deltagere!$B$4:$D$1003,2,FALSE))","v":""},1,null,{"$f":"IF(E1052=\"\",\"\",VLOOKUP(E1052,Deltagere!$B$4:$D$1003,2,FALSE))","v":""}]
[null,null,{"$f":"IF(B1053=\"\",\"\",VLOOKUP(B1053,Deltagere!$B$4:$D$1003,2,FALSE))","v":""},1,null,{"$f":"IF(E1053=\"\",\"\",VLOOKUP(E1053,Deltagere!$B$4:$D$1003,2,FALSE))","v":""}]
[null,null,{"$f":"IF(B1054=\"\",\"\",VLOOKUP(B1054,Deltagere!$B$4:$D$1003,2,FALSE))","v":""},1,null,{"$f":"IF(E1054=\"\",\"\",VLOOKUP(E1054,Deltagere!$B$4:$D$1003,2,FALSE))","v":""}]
[null,null,{"$f":"IF(B1055=\"\",\"\",VLOOKUP(B1055,Deltagere!$B$4:$D$1003,2,FALSE))","v":""},1,null,{"$f":"IF(E1055=\"\",\"\",VLOOKUP(E1055,Deltagere!$B$4:$D$1003,2,FALSE))","v":""}]
[8,null,{"$f":"IF(B1056=\"\",\"\",VLOOKUP(B1056,Deltagere!$B$4:$D$1003,2,FALSE))","v":""},1,null,{"$f":"IF(E1056=\"\",\"\",VLOOKUP(E1056,Deltagere!$B$4:$D$1003,2,FALSE))","v":""}]
[null,null,{"$f":"IF(B1057=\"\",\"\",VLOOKUP(B1057,Deltagere!$B$4:$D$1003,2,FALSE))","v":""},1,null,{"$f":"IF(E1057=\"\",\"\",VLOOKUP(E1057,Deltagere!$B$4:$D$1003,2,FALSE))","v":""}]
[null,null,{"$f":"IF(B1058=\"\",\"\",VLOOKUP(B1058,Deltagere!$B$4:$D$1003,2,FALSE))","v":""},1,null,{"$f":"IF(E1058=\"\",\"\",VLOOKUP(E1058,Deltagere!$B$4:$D$1003,2,FALSE))","v":""}]
[null,null,{"$f":"IF(B1059=\"\",\"\",VLOOKUP(B1059,Deltagere!$B$4:$D$1003,2,FALSE))","v":""},1,null,{"$f":"IF(E1059=\"\",\"\",VLOOKUP(E1059,Deltagere!$B$4:$D$1003,2,FALSE))","v":""}]
[9,null,{"$f":"IF(B1060=\"\",\"\",VLOOKUP(B1060,Deltagere!$B$4:$D$1003,2,FALSE))","v":""},1,null,{"$f":"IF(E1060=\"\",\"\",VLOOKUP(E1060,Deltagere!$B$4:$D$1003,2,FALSE))","v":""}]
[null,null,{"$f":"IF(B1061=\"\",\"\",VLOOKUP(B1061,Deltagere!$B$4:$D$1003,2,FALSE))","v":""},1,null,{"$f":"IF(E1061=\"\",\"\",VLOOKUP(E1061,Deltagere!$B$4:$D$1003,2,FALSE))","v":""}]
[null,null,{"$f":"IF(B1062=\"\",\"\",VLOOKUP(B1062,Deltagere!$B$4:$D$1003,2,FALSE))","v":""},1,null,{"$f":"IF(E1062=\"\",\"\",VLOOKUP(E1062,Deltagere!$B$4:$D$1003,2,FALSE))","v":""}]
[null,null,{"$f":"IF(B1063=\"\",\"\",VLOOKUP(B1063,Deltagere!$B$4:$D$1003,2,FALSE))","v":""},1,null,{"$f":"IF(E1063=\"\",\"\",VLOOKUP(E1063,Deltagere!$B$4:$D$1003,2,FALSE))","v":""}]
[10,null,{"$f":"IF(B1064=\"\",\"\",VLOOKUP(B1064,Deltagere!$B$4:$D$1003,2,FALSE))","v":""},1,null,{"$f":"IF(E1064=\"\",\"\",VLOOKUP(E1064,Deltagere!$B$4:$D$1003,2,FALSE))","v":""}]
[null,null,{"$f":"IF(B1065=\"\",\"\",VLOOKUP(B1065,Deltagere!$B$4:$D$1003,2,FALSE))","v":""},1,null,{"$f":"IF(E1065=\"\",\"\",VLOOKUP(E1065,Deltagere!$B$4:$D$1003,2,FALSE))","v":""}]
[null,null,{"$f":"IF(B1066=\"\",\"\",VLOOKUP(B1066,Deltagere!$B$4:$D$1003,2,FALSE))","v":""},1,null,{"$f":"IF(E1066=\"\",\"\",VLOOKUP(E1066,Deltagere!$B$4:$D$1003,2,FALSE))","v":""}]
[null,null,{"$f":"IF(B1067=\"\",\"\",VLOOKUP(B1067,Deltagere!$B$4:$D$1003,2,FALSE))","v":""},1,null,{"$f":"IF(E1067=\"\",\"\",VLOOKUP(E1067,Deltagere!$B$4:$D$1003,2,FALSE))","v":""}]
[11,null,{"$f":"IF(B1068=\"\",\"\",VLOOKUP(B1068,Deltagere!$B$4:$D$1003,2,FALSE))","v":""},1,null,{"$f":"IF(E1068=\"\",\"\",VLOOKUP(E1068,Deltagere!$B$4:$D$1003,2,FALSE))","v":""}]
[null,null,{"$f":"IF(B1069=\"\",\"\",VLOOKUP(B1069,Deltagere!$B$4:$D$1003,2,FALSE))","v":""},1,null,{"$f":"IF(E1069=\"\",\"\",VLOOKUP(E1069,Deltagere!$B$4:$D$1003,2,FALSE))","v":""}]
[null,null,{"$f":"IF(B1070=\"\",\"\",VLOOKUP(B1070,Deltagere!$B$4:$D$1003,2,FALSE))","v":""},1,null,{"$f":"IF(E1070=\"\",\"\",VLOOKUP(E1070,Deltagere!$B$4:$D$1003,2,FALSE))","v":""}]
[null,null,{"$f":"IF(B1071=\"\",\"\",VLOOKUP(B1071,Deltagere!$B$4:$D$1003,2,FALSE))","v":""},1,null,{"$f":"IF(E1071=\"\",\"\",VLOOKUP(E1071,Deltagere!$B$4:$D$1003,2,FALSE))","v":""}]
[12,null,{"$f":"IF(B1072=\"\",\"\",VLOOKUP(B1072,Deltagere!$B$4:$D$1003,2,FALSE))","v":""},1,null,{"$f":"IF(E1072=\"\",\"\",VLOOKUP(E1072,Deltagere!$B$4:$D$1003,2,FALSE))","v":""}]
[null,null,{"$f":"IF(B1073=\"\",\"\",VLOOKUP(B1073,Deltagere!$B$4:$D$1003,2,FALSE))","v":""},1,null,{"$f":"IF(E1073=\"\",\"\",VLOOKUP(E1073,Deltagere!$B$4:$D$1003,2,FALSE))","v":""}]
[null,null,{"$f":"IF(B1074=\"\",\"\",VLOOKUP(B1074,Deltagere!$B$4:$D$1003,2,FALSE))","v":""},1,null,{"$f":"IF(E1074=\"\",\"\",VLOOKUP(E1074,Deltagere!$B$4:$D$1003,2,FALSE))","v":""}]
[null,null,{"$f":"IF(B1075=\"\",\"\",VLOOKUP(B1075,Deltagere!$B$4:$D$1003,2,FALSE))","v":""},1,null,{"$f":"IF(E1075=\"\",\"\",VLOOKUP(E1075,Deltagere!$B$4:$D$1003,2,FALSE))","v":""}]
[13,null,{"$f":"IF(B1076=\"\",\"\",VLOOKUP(B1076,Deltagere!$B$4:$D$1003,2,FALSE))","v":""},1,null,{"$f":"IF(E1076=\"\",\"\",VLOOKUP(E1076,Deltagere!$B$4:$D$1003,2,FALSE))","v":""}]
[null,null,{"$f":"IF(B1077=\"\",\"\",VLOOKUP(B1077,Deltagere!$B$4:$D$1003,2,FALSE))","v":""},1,null,{"$f":"IF(E1077=\"\",\"\",VLOOKUP(E1077,Deltagere!$B$4:$D$1003,2,FALSE))","v":""}]
[null,null,{"$f":"IF(B1078=\"\",\"\",VLOOKUP(B1078,Deltagere!$B$4:$D$1003,2,FALSE))","v":""},1,null,{"$f":"IF(E1078=\"\",\"\",VLOOKUP(E1078,Deltagere!$B$4:$D$1003,2,FALSE))","v":""}]
[null,null,{"$f":"IF(B1079=\"\",\"\",VLOOKUP(B1079,Deltagere!$B$4:$D$1003,2,FALSE))","v":""},1,null,{"$f":"IF(E1079=\"\",\"\",VLOOKUP(E1079,Deltagere!$B$4:$D$1003,2,FALSE))","v":""}]
[14,null,{"$f":"IF(B1080=\"\",\"\",VLOOKUP(B1080,Deltagere!$B$4:$D$1003,2,FALSE))","v":""},1,null,{"$f":"IF(E1080=\"\",\"\",VLOOKUP(E1080,Deltagere!$B$4:$D$1003,2,FALSE))","v":""}]
[null,null,{"$f":"IF(B1081=\"\",\"\",VLOOKUP(B1081,Deltagere!$B$4:$D$1003,2,FALSE))","v":""},1,null,{"$f":"IF(E1081=\"\",\"\",VLOOKUP(E1081,Deltagere!$B$4:$D$1003,2,FALSE))","v":""}]
[null,null,{"$f":"IF(B1082=\"\",\"\",VLOOKUP(B1082,Deltagere!$B$4:$D$1003,2,FALSE))","v":""},1,null,{"$f":"IF(E1082=\"\",\"\",VLOOKUP(E1082,Deltagere!$B$4:$D$1003,2,FALSE))","v":""}]
[null,null,{"$f":"IF(B1083=\"\",\"\",VLOOKUP(B1083,Deltagere!$B$4:$D$1003,2,FALSE))","v":""},1,null,{"$f":"IF(E1083=\"\",\"\",VLOOKUP(E1083,Deltagere!$B$4:$D$1003,2,FALSE))","v":""}]
[15,null,{"$f":"IF(B1084=\"\",\"\",VLOOKUP(B1084,Deltagere!$B$4:$D$1003,2,FALSE))","v":""},1,null,{"$f":"IF(E1084=\"\",\"\",VLOOKUP(E1084,Deltagere!$B$4:$D$1003,2,FALSE))","v":""}]
[null,null,{"$f":"IF(B1085=\"\",\"\",VLOOKUP(B1085,Deltagere!$B$4:$D$1003,2,FALSE))","v":""},1,null,{"$f":"IF(E1085=\"\",\"\",VLOOKUP(E1085,Deltagere!$B$4:$D$1003,2,FALSE))","v":""}]
[null,null,{"$f":"IF(B1086=\"\",\"\",VLOOKUP(B1086,Deltagere!$B$4:$D$1003,2,FALSE))","v":""},1,null,{"$f":"IF(E1086=\"\",\"\",VLOOKUP(E1086,Deltagere!$B$4:$D$1003,2,FALSE))","v":""}]
[null,null,{"$f":"IF(B1087=\"\",\"\",VLOOKUP(B1087,Deltagere!$B$4:$D$1003,2,FALSE))","v":""},1,null,{"$f":"IF(E1087=\"\",\"\",VLOOKUP(E1087,Deltagere!$B$4:$D$1003,2,FALSE))","v":""}]
[16,null,{"$f":"IF(B1088=\"\",\"\",VLOOKUP(B1088,Deltagere!$B$4:$D$1003,2,FALSE))","v":""},1,null,{"$f":"IF(E1088=\"\",\"\",VLOOKUP(E1088,Deltagere!$B$4:$D$1003,2,FALSE))","v":""}]
[null,null,{"$f":"IF(B1089=\"\",\"\",VLOOKUP(B1089,Deltagere!$B$4:$D$1003,2,FALSE))","v":""},1,null,{"$f":"IF(E1089=\"\",\"\",VLOOKUP(E1089,Deltagere!$B$4:$D$1003,2,FALSE))","v":""}]
[null,null,{"$f":"IF(B1090=\"\",\"\",VLOOKUP(B1090,Deltagere!$B$4:$D$1003,2,FALSE))","v":""},1,null,{"$f":"IF(E1090=\"\",\"\",VLOOKUP(E1090,Deltagere!$B$4:$D$1003,2,FALSE))","v":""}]
[null,null,{"$f":"IF(B1091=\"\",\"\",VLOOKUP(B1091,Deltagere!$B$4:$D$1003,2,FALSE))","v":""},1,null,{"$f":"IF(E1091=\"\",\"\",VLOOKUP(E1091,Deltagere!$B$4:$D$1003,2,FALSE))","v":""}]
[17,null,{"$f":"IF(B1092=\"\",\"\",VLOOKUP(B1092,Deltagere!$B$4:$D$1003,2,FALSE))","v":""},1,null,{"$f":"IF(E1092=\"\",\"\",VLOOKUP(E1092,Deltagere!$B$4:$D$1003,2,FALSE))","v":""}]
[null,null,{"$f":"IF(B1093=\"\",\"\",VLOOKUP(B1093,Deltagere!$B$4:$D$1003,2,FALSE))","v":""},1,null,{"$f":"IF(E1093=\"\",\"\",VLOOKUP(E1093,Deltagere!$B$4:$D$1003,2,FALSE))","v":""}]
[null,null,{"$f":"IF(B1094=\"\",\"\",VLOOKUP(B1094,Deltagere!$B$4:$D$1003,2,FALSE))","v":""},1,null,{"$f":"IF(E1094=\"\",\"\",VLOOKUP(E1094,Deltagere!$B$4:$D$1003,2,FALSE))","v":""}]
[null,null,{"$f":"IF(B1095=\"\",\"\",VLOOKUP(B1095,Deltagere!$B$4:$D$1003,2,FALSE))","v":""},1,null,{"$f":"IF(E1095=\"\",\"\",VLOOKUP(E1095,Deltagere!$B$4:$D$1003,2,FALSE))","v":""}]
[18,null,{"$f":"IF(B1096=\"\",\"\",VLOOKUP(B1096,Deltagere!$B$4:$D$1003,2,FALSE))","v":""},1,null,{"$f":"IF(E1096=\"\",\"\",VLOOKUP(E1096,Deltagere!$B$4:$D$1003,2,FALSE))","v":""}]
[null,null,{"$f":"IF(B1097=\"\",\"\",VLOOKUP(B1097,Deltagere!$B$4:$D$1003,2,FALSE))","v":""},1,null,{"$f":"IF(E1097=\"\",\"\",VLOOKUP(E1097,Deltagere!$B$4:$D$1003,2,FALSE))","v":""}]
[null,null,{"$f":"IF(B1098=\"\",\"\",VLOOKUP(B1098,Deltagere!$B$4:$D$1003,2,FALSE))","v":""},1,null,{"$f":"IF(E1098=\"\",\"\",VLOOKUP(E1098,Deltagere!$B$4:$D$1003,2,FALSE))","v":""}]

{"sheet":"Indtast Hold og Resultat","index":5,"n_rows":21287,"n_cols":56,"rows_kept":21287,"cut":false,"hidden":false,"merged":[]}
[null,null,null,null,null,null,null,{"$f":"IF('Holdsammensætning  '!B4=\"\",\"\",'Holdsammensætning  '!B4)","v":""},null,null,null,"Senest opdateret den:",null,null,null,{"$f":"Deltagere!C2","v":"2023-07-13"}]
[null,null,null,null,null,null,null,null,null,"Kontrol af deltagere og klubbernes hold",null,null,null,null,null,null,null,null,null,null,null,null,null,null,null,null,null,null,null,null,null,null,null,null,null,null,null,null,null,null,null,"Resultat hold"]
[null,null,null,null,null,null,null,null,null,{"$f":"IF(Kontrol!O6=1,\"Indtastning er OK\",\"Indtastning mangler, eller der er fejl\")","v":"Indtastning er OK"}]
[null,null,"           Spillende hold",null,null,null,null,null,null,"Klubbernes hold",null,null,null,null,null,null,null,{"$f":"'Holdsammensætning  '!J3","v":18},null,null,null,null,null,null,null,null,null,null,null,null,null,null,null,null,null,null,null,"Overført fra klubhold",null,"Mindste ",null,null,null,"Overføres til resultatark"]
[null,"Hold 1","Start ved hul nr.",1,"Runde ",null,"Nr.","Hold - Spiller"]
[null,"Nummer","Navn","Klub",1,null,51,{"$f":"IF(G6=\"\",\"\",VLOOKUP(G6,Deltagere!$I$4:$J$1003,2,FALSE))","v":"Meløse 1"},"M/K","Runde 1","Runde 2","I alt","M","K",null,"Total","Antal hold",null,null,"Hold 2 starter her",null,null,null,null,null,null,null,null,null,null,null,null,null,null,null,null,1,{"$f":"P9+0.1","v":382.1},{"$f":"H6","v":"Meløse 1"},{"$f":"SMALL($AL$6:$AL$23,1)","v":376.14},{"$f":"VLOOKUP(AN6,$AL$6:$AO$23,2,FALSE)","v":"BK 1"},{"$f":"AN6","v":376.14},"BK 1",{"$f":"HLOOKUP(AQ6,$AL$43:$BD$47,2,FALSE)","v":"Svend Faigh"},{"$f":"HLOOKUP(AQ6,$AL$43:$BD$47,3,FALSE)","v":"Mogens Kortegaard"},{"$f":"HLOOKUP(AQ6,$AL$43:$BD$47,4,FALSE)","v":"Jørgen Hugo Larsen"},{"$f":"HLOOKUP(AQ6,$AL$43:$BD$47,5,FALSE)","v":"Lone Nielsen"}]
[null,{"$f":"IF(C7=\"\",\"\",VLOOKUP(C7,Deltagere!$C$4:$I$1003,7,FALSE))","v":308},{"$f":"IF('Holdsammensætning  '!C8=\"\",\"\",'Holdsammensætning  '!C8)","v":"Conny Schackinger"},{"$f":"IF(C7=\"\",\"\",VLOOKUP(C7,Deltagere!$C$4:$I$1003,2,FALSE))","v":"BK"},54,null,55,{"$f":"IF(G7=\"\",\"\",VLOOKUP(G7,Deltagere!$B$4:$I$1003,2,FALSE))","v":"Peter Knudsen"},{"$f":"IF(G7=\"\",\"\",VLOOKUP(G7,Deltagere!$B$4:$I$1003,5,FALSE))","v":"M"},{"$f":"IF(G7=\"\",\"\",VLOOKUP(G7,$B$7:$E$129,4,FALSE))","v":45},{"$f":"IF(G7=\"\",\"\",VLOOKUP(G7,$B$133:$F$255,4,FALSE))","v":45},{"$f":"IF(G7=\"\",500,SUM(J7:K7))","v":90},{"$f":"IF(I7=\"M\",L7,\"\")","v":90},{"$f":"IF(I7=\"K\",L7,\"\")","v":""},null,{"$f":"H6","v":"Meløse 1"},null,null,null,null,null,null,null,null,null,null,null,null,null,null,null,null,null,null,null,null,2,{"$f":"P16+0.11","v":399.11},{"$f":"H13","v":"Meløse 2"},{"$f":"SMALL($AL$6:$AL$23,2)","v":378.2},{"$f":"VLOOKUP(AN7,$AL$6:$AO$23,2,FALSE)","v":"Krolffolket 3"},378.2,"Krolffolket 3",{"$f":"HLOOKUP(AQ7,$AL$43:$BD$47,2,FALSE)","v":"Ingrid Jensen"},{"$f":"HLOOKUP(AQ7,$AL$43:$BD$47,3,FALSE)","v":"Liselotte Storgaard"},{"$f":"HLOOKUP(AQ7,$AL$43:$BD$47,4,FALSE)","v":"Christian Blid"},{"$f":"HLOOKUP(AQ7,$AL$43:$BD$47,5,FALSE)","v":"Jørgen Hansen"}]
[null,{"$f":"IF(C8=\"\",\"\",VLOOKUP(C8,Deltagere!$C$4:$I$1003,7,FALSE))","v":482},{"$f":"IF('Holdsammensætning  '!C9=\"\",\"\",'Holdsammensætning  '!C9)","v":"Jim Jørgensen"},{"$f":"IF(C8=\"\",\"\",VLOOKUP(C8,Deltagere!$C$4:$I$1003,2,FALSE))","v":"Krolffolket"},50,null,56,{"$f":"IF(G8=\"\",\"\",VLOOKUP(G8,Deltagere!$B$4:$I$1003,2,FALSE))","v":"Mogens Bodilsen"},{"$f":"IF(G8=\"\",\"\",VLOOKUP(G8,Deltagere!$B$4:$I$1003,5,FALSE))","v":"M"},{"$f":"IF(G8=\"\",\"\",VLOOKUP(G8,$B$7:$E$129,4,FALSE))","v":54},{"$f":"IF(G8=\"\",\"\",VLOOKUP(G8,$B$133:$F$255,4,FALSE))","v":53},{"$f":"IF(G8=\"\",500,SUM(J8:K8))","v":107},{"$f":"IF(I8=\"M\",L8,\"\")","v":107},{"$f":"IF(I8=\"K\",L8,\"\")","v":""},null,null,null,2,9,null,null,null,null,null,null,null,null,null,null,null,null,null,null,null,null,null,3,{"$f":"P23+0.12","v":420.12},{"$f":"H20","v":"Meløse 3"},{"$f":"SMALL($AL$6:$AL$23,3)","v":382.1},"Meløse 1",382.1,"Meløse 1","Peter Knudsen","Mogens Bodilsen","Villy Jensen","Peter Aare"]
[null,{"$f":"IF(C9=\"\",\"\",VLOOKUP(C9,Deltagere!$C$4:$I$1003,7,FALSE))","v":454},{"$f":"IF('Holdsammensætning  '!C10=\"\",\"\",'Holdsammensætning  '!C10)","v":"Erik Wagner"},{"$f":"IF(C9=\"\",\"\",VLOOKUP(C9,Deltagere!$C$4:$I$1003,2,FALSE))","v":"Krolffolket"},52,null,64,{"$f":"IF(G9=\"\",\"\",VLOOKUP(G9,Deltagere!$B$4:$I$1003,2,FALSE))","v":"Villy Jensen"},{"$f":"IF(G9=\"\",\"\",VLOOKUP(G9,Deltagere!$B$4:$I$1003,5,FALSE))","v":"M"},{"$f":"IF(G9=\"\",\"\",VLOOKUP(G9,$B$7:$E$129,4,FALSE))","v":48},{"$f":"IF(G9=\"\",\"\",VLOOKUP(G9,$B$133:$F$255,4,FALSE))","v":51},{"$f":"IF(G9=\"\",500,SUM(J9:K9))","v":99},{"$f":"IF(I9=\"M\",L9,\"\")","v":99},{"$f":"IF(I9=\"K\",L9,\"\")","v":""},null,{"$f":"SUM(L7:L10)","v":382},null,3,9,16,null,null,null,null,null,null,null,null,null,null,null,null,null,null,null,null,4,{"$f":"P30+0.13","v":418.13},{"$f":"H27","v":"Meløse 4"},{"$f":"SMALL($AL$6:$AL$23,4)","v":386.19},"Krolffolket 2",386.19,"Krolffolket 2","Michael Jørgensen","Alice Rask","Kjeld Hansen","Bjørn Krogh"]
[null,{"$f":"IF(C10=\"\",\"\",VLOOKUP(C10,Deltagere!$C$4:$I$1003,7,FALSE))","v":57},{"$f":"IF('Holdsammensætning  '!C11=\"\",\"\",'Holdsammensætning  '!C11)","v":"Niels Aare Jensen"},{"$f":"IF(C10=\"\",\"\",VLOOKUP(C10,Deltagere!$C$4:$I$1003,2,FALSE))","v":"Meløse"},53,null,75,{"$f":"IF(G10=\"\",\"\",VLOOKUP(G10,Deltagere!$B$4:$I$1003,2,FALSE))","v":"Peter Aare"},{"$f":"IF(G10=\"\",\"\",VLOOKUP(G10,Deltagere!$B$4:$I$1003,5,FALSE))","v":"M"},{"$f":"IF(G10=\"\",\"\",VLOOKUP(G10,$B$7:$E$129,4,FALSE))","v":42},{"$f":"IF(G10=\"\",\"\",VLOOKUP(G10,$B$133:$F$255,4,FALSE))","v":44},{"$f":"IF(G10=\"\",500,SUM(J10:K10))","v":86},{"$f":"IF(I10=\"M\",L10,\"\")","v":86},{"$f":"IF(I10=\"K\",L10,\"\")","v":""},null,null,null,4,9,13,16,null,null,null,null,null,null,null,null,null,null,null,null,null,null,null,5,{"$f":"P37+0.14","v":376.14},{"$f":"H34","v":"BK 1"},{"$f":"SMALL($AL$6:$AL$23,5)","v":389.18},"Krolffolket 1",389.18,"Krolffolket 1","Hanne Hansen","Lone Hansen","Jim Jørgensen","Allan Pedersen"]
[null,null,null,null,null,null,null,null,null,null,null,null,null,null,null,null,null,5,9,11,13,16,null,null,null,null,null,null,null,null,null,null,null,null,null,null,6,{"$f":"P44+0.15","v":419.15},{"$f":"H41","v":"BK 2"},{"$f":"SMALL($AL$6:$AL$23,6)","v":396.21},"Krolffolket 4",396.21,"Krolffolket 4","Ivan Szumlanski","Allan Larsen","Finn Jørgensen","Peter Christensen"]
[null,"Hold 2","Start ved hul nr.",{"$f":"IF($R$4=\"\",\"\",VLOOKUP($R$4,$R$8:$AI$24,2,FALSE))","v":2},"Runde ",null,"Nr.","Hold - Spiller",null,null,null,null,null,null,null,null,null,6,6,9,11,13,16,null,null,null,null,null,null,null,null,null,null,null,null,null,7,{"$f":"P51+0.16","v":453.16},{"$f":"H48","v":"BK 3"},{"$f":"SMALL($AL$6:$AL$23,7)","v":397.27},"Vikingerne 1",397.27,"Vikingerne 1","Anders Jørgensen","Kian Andersen","Adam Kristoffersen","Søren Skourup"]
[null,"Nummer","Navn","Klub",1,null,52,{"$f":"IF(G13=\"\",\"\",VLOOKUP(G13,Deltagere!$I$4:$J$1003,2,FALSE))","v":"Meløse 2"},"M/K","Runde 1","Runde 2","I alt","M","K",null,"Total",null,7,4,6,9,11,13,16,null,null,null,null,null,null,null,null,null,null,null,null,8,{"$f":"P58+0.17","v":500.17},{"$f":"H55","v":"BK 4"},{"$f":"SMALL($AL$6:$AL$23,8)","v":399.11},"Meløse 2",399.11,"Meløse 2","Annie Jensen","Tage Jensen","Lise Qvist Bebe","Connie Bregnvig"]
[null,{"$f":"IF(C14=\"\",\"\",VLOOKUP(C14,Deltagere!$C$4:$I$1003,7,FALSE))","v":301},{"$f":"IF('Holdsammensætning  '!C12=\"\",\"\",'Holdsammensætning  '!C12)","v":"Svend Faigh"},{"$f":"IF(C14=\"\",\"\",VLOOKUP(C14,Deltagere!$C$4:$I$1003,2,FALSE))","v":"BK"},44,null,61,{"$f":"IF(G14=\"\",\"\",VLOOKUP(G14,Deltagere!$B$4:$I$1003,2,FALSE))","v":"Annie Jensen"},{"$f":"IF(G14=\"\",\"\",VLOOKUP(G14,Deltagere!$B$4:$I$1003,5,FALSE))","v":"K"},{"$f":"IF(G14=\"\",\"\",VLOOKUP(G14,$B$7:$E$129,4,FALSE))","v":46},{"$f":"IF(G14=\"\",\"\",VLOOKUP(G14,$B$133:$F$255,4,FALSE))","v":52},{"$f":"IF(G14=\"\",500,SUM(J14:K14))","v":98},{"$f":"IF(I14=\"M\",L14,\"\")","v":""},{"$f":"IF(I14=\"K\",L14,\"\")","v":98},null,{"$f":"H13","v":"Meløse 2"},null,8,4,6,9,11,13,16,18,null,null,null,null,null,null,null,null,null,null,null,9,{"$f":"P65+0.18","v":389.18},{"$f":"H62","v":"Krolffolket 1"},{"$f":"SMALL($AL$6:$AL$23,9)","v":404.23},"Krolffolket 6",404.23,"Krolffolket 6","Helga Andersen","Jette S. Olsen","Ole Nilaus Nielsen","Susanne Blok"]
[null,{"$f":"IF(C15=\"\",\"\",VLOOKUP(C15,Deltagere!$C$4:$I$1003,7,FALSE))","v":481},{"$f":"IF('Holdsammensætning  '!C13=\"\",\"\",'Holdsammensætning  '!C13)","v":"Alice Rask"},{"$f":"IF(C15=\"\",\"\",VLOOKUP(C15,Deltagere!$C$4:$I$1003,2,FALSE))","v":"Krolffolket"},45,null,51,{"$f":"IF(G15=\"\",\"\",VLOOKUP(G15,Deltagere!$B$4:$I$1003,2,FALSE))","v":"Tage Jensen"},{"$f":"IF(G15=\"\",\"\",VLOOKUP(G15,Deltagere!$B$4:$I$1003,5,FALSE))","v":"M"},{"$f":"IF(G15=\"\",\"\",VLOOKUP(G15,$B$7:$E$129,4,FALSE))","v":50},{"$f":"IF(G15=\"\",\"\",VLOOKUP(G15,$B$133:$F$255,4,FALSE))","v":50},{"$f":"IF(G15=\"\",500,SUM(J15:K15))","v":100},{"$f":"IF(I15=\"M\",L15,\"\")","v":100},{"$f":"IF(I15=\"K\",L15,\"\")","v":""},null,null,null,9,2,4,6,9,11,13,16,18,null,null,null,null,null,null,null,null,null,null,10,{"$f":"P72+0.19","v":386.19},{"$f":"H69","v":"Krolffolket 2"},{"$f":"SMALL($AL$6:$AL$23,10)","v":408.22},"Krolffolket 5",408.22,"Krolffolket 5","Lisser Kristensen","Ole Christensen","Vibeke Jørgensen","Gytha Szumlanski"]
[null,{"$f":"IF(C16=\"\",\"\",VLOOKUP(C16,Deltagere!$C$4:$I$1003,7,FALSE))","v":457},{"$f":"IF('Holdsammensætning  '!C14=\"\",\"\",'Holdsammensætning  '!C14)","v":"Lisser Kristensen"},{"$f":"IF(C16=\"\",\"\",VLOOKUP(C16,Deltagere!$C$4:$I$1003,2,FALSE))","v":"Krolffolket"},52,null,74,{"$f":"IF(G16=\"\",\"\",VLOOKUP(G16,Deltagere!$B$4:$I$1003,2,FALSE))","v":"Lise Qvist Bebe"},{"$f":"IF(G16=\"\",\"\",VLOOKUP(G16,Deltagere!$B$4:$I$1003,5,FALSE))","v":"K"},{"$f":"IF(G16=\"\",\"\",VLOOKUP(G16,$B$7:$E$129,4,FALSE))","v":51},{"$f":"IF(G16=\"\",\"\",VLOOKUP(G16,$B$133:$F$255,4,FALSE))","v":50},{"$f":"IF(G16=\"\",500,SUM(J16:K16))","v":101},{"$f":"IF(I16=\"M\",L16,\"\")","v":""},{"$f":"IF(I16=\"K\",L16,\"\")","v":101},null,{"$f":"SUM(L14:L17)","v":399},null,10,2,4,6,9,11,13,15,16,18,null,null,null,null,null,null,null,null,null,11,{"$f":"P79+0.2","v":378.2},{"$f":"H76","v":"Krolffolket 3"},{"$f":"SMALL($AL$6:$AL$23,11)","v":415.24},"Krolffolket 7",415.24,"Krolffolket 7","Ida Olsen","Erik Wagner","Lissi Lindberg","Lone S. Nielsen"]
[null,{"$f":"IF(C17=\"\",\"\",VLOOKUP(C17,Deltagere!$C$4:$I$1003,7,FALSE))","v":56},{"$f":"IF('Holdsammensætning  '!C15=\"\",\"\",'Holdsammensætning  '!C15)","v":"Mogens Bodilsen"},{"$f":"IF(C17=\"\",\"\",VLOOKUP(C17,Deltagere!$C$4:$I$1003,2,FALSE))","v":"Meløse"},54,null,76,{"$f":"IF(G17=\"\",\"\",VLOOKUP(G17,Deltagere!$B$4:$I$1003,2,FALSE))","v":"Connie Bregnvig"},{"$f":"IF(G17=\"\",\"\",VLOOKUP(G17,Deltagere!$B$4:$I$1003,5,FALSE))","v":"K"},{"$f":"IF(G17=\"\",\"\",VLOOKUP(G17,$B$7:$E$129,4,FALSE))","v":53},{"$f":"IF(G17=\"\",\"\",VLOOKUP(G17,$B$133:$F$255,4,FALSE))","v":47},{"$f":"IF(G17=\"\",500,SUM(J17:K17))","v":100},{"$f":"IF(I17=\"M\",L17,\"\")","v":""},{"$f":"IF(I17=\"K\",L17,\"\")","v":100},null,null,null,11,2,4,6,8,9,11,13,15,16,18,null,null,null,null,null,null,null,null,12,{"$f":"P86+0.21","v":396.21},{"$f":"H83","v":"Krolffolket 4"},{"$f":"SMALL($AL$6:$AL$23,12)","v":418.13},"Meløse 4",418.13,"Meløse 4","Anne Marie Laustsen","Søren Helbo","Jørgen Hvilsom","Lennert Sørensen"]
[null,null,null,null,null,null,null,null,null,null,null,null,null,null,null,null,null,12,2,4,6,8,9,11,13,15,16,17,18,null,null,null,null,null,null,null,13,{"$f":"P93+0.22","v":408.22},{"$f":"H90","v":"Krolffolket 5"},{"$f":"SMALL($AL$6:$AL$23,13)","v":419.15},"BK 2",419.15,"BK 2","Åge  Zcharau","Conny Schackinger","Annie Damsgaard","Preben Madsen"]
[null,"Hold 3","Start ved hul nr.",{"$f":"IF($R$4=\"\",\"\",VLOOKUP($R$4,$R$8:$AI$24,3,FALSE))","v":3},"Runde ",null,"Nr.","Hold - Spiller",null,null,null,null,null,null,null,null,null,13,2,4,6,7,8,9,11,13,15,16,17,18,null,null,null,null,null,null,14,{"$f":"P100+0.23","v":404.23},{"$f":"H97","v":"Krolffolket 6"},{"$f":"SMALL($AL$6:$AL$23,14)","v":420.12},"Meløse 3",420.12,"Meløse 3","Anna Grethe Christensen","Niels Aare Jensen","Petra Knudsen","Preben Ludore"]
[null,"Nummer","Navn","Klub",1,null,53,{"$f":"IF(G20=\"\",\"\",VLOOKUP(G20,Deltagere!$I$4:$J$1003,2,FALSE))","v":"Meløse 3"},"M/K","Runde 1","Runde 2","I alt","M","K",null,"Total",null,14,2,4,6,7,8,9,11,12,13,15,16,17,18,null,null,null,null,null,15,{"$f":"P107+0.24","v":415.24},{"$f":"H104","v":"Krolffolket 7"},{"$f":"SMALL($AL$6:$AL$23,15)","v":426.25},"Krolffolket 8",426.25,"Krolffolket 8","Inge Sørensen","Lena Kirkegaard","Majbritt Nielsen","Benthe Dahl"]
[null,{"$f":"IF(C21=\"\",\"\",VLOOKUP(C21,Deltagere!$C$4:$I$1003,7,FALSE))","v":328},{"$f":"IF('Holdsammensætning  '!C16=\"\",\"\",'Holdsammensætning  '!C16)","v":"Annie Damsgaard"},{"$f":"IF(C21=\"\",\"\",VLOOKUP(C21,Deltagere!$C$4:$I$1003,2,FALSE))","v":"BK"},51,null,60,{"$f":"IF(G21=\"\",\"\",VLOOKUP(G21,Deltagere!$B$4:$I$1003,2,FALSE))","v":"Anna Grethe Christensen"},{"$f":"IF(G21=\"\",\"\",VLOOKUP(G21,Deltagere!$B$4:$I$1003,5,FALSE))","v":"K"},{"$f":"IF(G21=\"\",\"\",VLOOKUP(G21,$B$7:$E$129,4,FALSE))","v":60},{"$f":"IF(G21=\"\",\"\",VLOOKUP(G21,$B$133:$F$255,4,FALSE))","v":58},{"$f":"IF(G21=\"\",500,SUM(J21:K21))","v":118},{"$f":"IF(I21=\"M\",L21,\"\")","v":""},{"$f":"IF(I21=\"K\",L21,\"\")","v":118},null,{"$f":"H20","v":"Meløse 3"},null,15,2,3,4,6,7,8,9,11,12,13,15,16,17,18,null,null,null,null,16,{"$f":"P114+0.25","v":426.25},{"$f":"H111","v":"Krolffolket 8"},{"$f":"SMALL($AL$6:$AL$23,16)","v":453.16},"BK 3",453.16,"BK 3","Peter Sølsten","Margit Larsen","Per Aune","Tove Perlt"]
[null,{"$f":"IF(C22=\"\",\"\",VLOOKUP(C22,Deltagere!$C$4:$I$1003,7,FALSE))","v":479},{"$f":"IF('Holdsammensætning  '!C17=\"\",\"\",'Holdsammensætning  '!C17)","v":"Bjørn Krogh"},{"$f":"IF(C22=\"\",\"\",VLOOKUP(C22,Deltagere!$C$4:$I$1003,2,FALSE))","v":"Krolffolket"},49,null,57,{"$f":"IF(G22=\"\",\"\",VLOOKUP(G22,Deltagere!$B$4:$I$1003,2,FALSE))","v":"Niels Aare Jensen"},{"$f":"IF(G22=\"\",\"\",VLOOKUP(G22,Deltagere!$B$4:$I$1003,5,FALSE))","v":"M"},{"$f":"IF(G22=\"\",\"\",VLOOKUP(G22,$B$7:$E$129,4,FALSE))","v":53},{"$f":"IF(G22=\"\",\"\",VLOOKUP(G22,$B$133:$F$255,4,FALSE))","v":50},{"$f":"IF(G22=\"\",500,SUM(J22:K22))","v":103},{"$f":"IF(I22=\"M\",L22,\"\")","v":103},{"$f":"IF(I22=\"K\",L22,\"\")","v":""},null,null,null,16,2,3,4,6,7,8,9,11,12,13,14,15,16,17,18,null,null,null,17,{"$f":"P121+0.26","v":1222.26},{"$f":"H118","v":"Blandet 1"},{"$f":"SMALL($AL$6:$AL$23,17)","v":500.17},"BK 4",{"$f":"AN22","v":500.17},{"$f":"AO22","v":"BK 4"},"Annette Traulsen","Anette Nielsen","Lis Rasmussen","Annette Lykke Madsen"]
[null,{"$f":"IF(C23=\"\",\"\",VLOOKUP(C23,Deltagere!$C$4:$I$1003,7,FALSE))","v":451},{"$f":"IF('Holdsammensætning  '!C18=\"\",\"\",'Holdsammensætning  '!C18)","v":"Steen Lergard"},{"$f":"IF(C23=\"\",\"\",VLOOKUP(C23,Deltagere!$C$4:$I$1003,2,FALSE))","v":"Krolffolket"},59,null,73,{"$f":"IF(G23=\"\",\"\",VLOOKUP(G23,Deltagere!$B$4:$I$1003,2,FALSE))","v":"Petra Knudsen"},{"$f":"IF(G23=\"\",\"\",VLOOKUP(G23,Deltagere!$B$4:$I$1003,5,FALSE))","v":"K"},{"$f":"IF(G23=\"\",\"\",VLOOKUP(G23,$B$7:$E$129,4,FALSE))","v":49},{"$f":"IF(G23=\"\",\"\",VLOOKUP(G23,$B$133:$F$255,4,FALSE))","v":53},{"$f":"IF(G23=\"\",500,SUM(J23:K23))","v":102},{"$f":"IF(I23=\"M\",L23,\"\")","v":""},{"$f":"IF(I23=\"K\",L23,\"\")","v":102},null,{"$f":"SUM(L21:L24)","v":420}," ",17,2,3,4,5,6,7,8,9,11,12,13,14,15,16,17,18,null,null,18,{"$f":"P128+0.27","v":397.27},{"$f":"H125","v":"Vikingerne 1"},{"$f":"SMALL($AL$6:$AL$23,18)","v":1222.26},"Blandet 1",{"$f":"AN23","v":1222.26},{"$f":"AO23","v":"Blandet 1"},"Steen Lergard","Sarah Christiansen","",""]
[null,{"$f":"IF(C24=\"\",\"\",VLOOKUP(C24,Deltagere!$C$4:$I$1003,7,FALSE))","v":60},{"$f":"IF('Holdsammensætning  '!C19=\"\",\"\",'Holdsammensætning  '!C19)","v":"Anna Grethe Christensen"},{"$f":"IF(C24=\"\",\"\",VLOOKUP(C24,Deltagere!$C$4:$I$1003,2,FALSE))","v":"Meløse"},60,null,77,{"$f":"IF(G24=\"\",\"\",VLOOKUP(G24,Deltagere!$B$4:$I$1003,2,FALSE))","v":"Preben Ludore"},{"$f":"IF(G24=\"\",\"\",VLOOKUP(G24,Deltagere!$B$4:$I$1003,5,FALSE))","v":"M"},{"$f":"IF(G24=\"\",\"\",VLOOKUP(G24,$B$7:$E$129,4,FALSE))","v":49},{"$f":"IF(G24=\"\",\"\",VLOOKUP(G24,$B$133:$F$255,4,FALSE))","v":48},{"$f":"IF(G24=\"\",500,SUM(J24:K24))","v":97},{"$f":"IF(I24=\"M\",L24,\"\")","v":97},{"$f":"IF(I24=\"K\",L24,\"\")","v":""},null,null,null,18,2,3,4,5,6,7,8,9,10,11,12,13,14,15,16,17,18]
[]
[null,"Hold 4","Start ved hul nr.",{"$f":"IF($R$4=\"\",\"\",VLOOKUP($R$4,$R$8:$AI$24,4,FALSE))","v":4},"Runde ",null,"Nr.","Hold - Spiller",null,null,null,null,null,null,null,null,null,"Hold 1 starter altid ved hul nummer 1"]
[null,"Nummer","Navn","Klub",1,null,54,{"$f":"IF(G27=\"\",\"\",VLOOKUP(G27,Deltagere!$I$4:$J$1003,2,FALSE))","v":"Meløse 4"},"M/K","Runde 1","Runde 2","I alt","M","K",null,"Total"]
[null,{"$f":"IF(C28=\"\",\"\",VLOOKUP(C28,Deltagere!$C$4:$I$1003,7,FALSE))","v":316},{"$f":"IF('Holdsammensætning  '!C20=\"\",\"\",'Holdsammensætning  '!C20)","v":"Preben Madsen"},{"$f":"IF(C28=\"\",\"\",VLOOKUP(C28,Deltagere!$C$4:$I$1003,2,FALSE))","v":"BK"},49,null,65,{"$f":"IF(G28=\"\",\"\",VLOOKUP(G28,Deltagere!$B$4:$I$1003,2,FALSE))","v":"Anne Marie Laustsen"},{"$f":"IF(G28=\"\",\"\",VLOOKUP(G28,Deltagere!$B$4:$I$1003,5,FALSE))","v":"K"},{"$f":"IF(G28=\"\",\"\",VLOOKUP(G28,$B$7:$E$129,4,FALSE))","v":64},{"$f":"IF(G28=\"\",\"\",VLOOKUP(G28,$B$133:$F$255,4,FALSE))","v":53},{"$f":"IF(G28=\"\",500,SUM(J28:K28))","v":117},{"$f":"IF(I28=\"M\",L28,\"\")","v":""},{"$f":"IF(I28=\"K\",L28,\"\")","v":117},null,{"$f":"H27","v":"Meløse 4"}]
[null,{"$f":"IF(C29=\"\",\"\",VLOOKUP(C29,Deltagere!$C$4:$I$1003,7,FALSE))","v":478},{"$f":"IF('Holdsammensætning  '!C21=\"\",\"\",'Holdsammensætning  '!C21)","v":"Allan Larsen"},{"$f":"IF(C29=\"\",\"\",VLOOKUP(C29,Deltagere!$C$4:$I$1003,2,FALSE))","v":"Krolffolket"},46,null,54,{"$f":"IF(G29=\"\",\"\",VLOOKUP(G29,Deltagere!$B$4:$I$1003,2,FALSE))","v":"Søren Helbo"},{"$f":"IF(G29=\"\",\"\",VLOOKUP(G29,Deltagere!$B$4:$I$1003,5,FALSE))","v":"M"},{"$f":"IF(G29=\"\",\"\",VLOOKUP(G29,$B$7:$E$129,4,FALSE))","v":57},{"$f":"IF(G29=\"\",\"\",VLOOKUP(G29,$B$133:$F$255,4,FALSE))","v":45},{"$f":"IF(G29=\"\",500,SUM(J29:K29))","v":102},{"$f":"IF(I29=\"M\",L29,\"\")","v":102},{"$f":"IF(I29=\"K\",L29,\"\")","v":""}]
[null,{"$f":"IF(C30=\"\",\"\",VLOOKUP(C30,Deltagere!$C$4:$I$1003,7,FALSE))","v":608},{"$f":"IF('Holdsammensætning  '!C22=\"\",\"\",'Holdsammensætning  '!C22)","v":"Søren Skourup"},{"$f":"IF(C30=\"\",\"\",VLOOKUP(C30,Deltagere!$C$4:$I$1003,2,FALSE))","v":"IF Vikingerne"},54,null,62,{"$f":"IF(G30=\"\",\"\",VLOOKUP(G30,Deltagere!$B$4:$I$1003,2,FALSE))","v":"Jørgen Hvilsom"},{"$f":"IF(G30=\"\",\"\",VLOOKUP(G30,Deltagere!$B$4:$I$1003,5,FALSE))","v":"M"},{"$f":"IF(G30=\"\",\"\",VLOOKUP(G30,$B$7:$E$129,4,FALSE))","v":55},{"$f":"IF(G30=\"\",\"\",VLOOKUP(G30,$B$133:$F$255,4,FALSE))","v":46},{"$f":"IF(G30=\"\",500,SUM(J30:K30))","v":101},{"$f":"IF(I30=\"M\",L30,\"\")","v":101},{"$f":"IF(I30=\"K\",L30,\"\")","v":""},null,{"$f":"SUM(L28:L31)","v":418}]
[null,{"$f":"IF(C31=\"\",\"\",VLOOKUP(C31,Deltagere!$C$4:$I$1003,7,FALSE))","v":62},{"$f":"IF('Holdsammensætning  '!C23=\"\",\"\",'Holdsammensætning  '!C23)","v":"Jørgen Hvilsom"},{"$f":"IF(C31=\"\",\"\",VLOOKUP(C31,Deltagere!$C$4:$I$1003,2,FALSE))","v":"Meløse"},55,null,63,{"$f":"IF(G31=\"\",\"\",VLOOKUP(G31,Deltagere!$B$4:$I$1003,2,FALSE))","v":"Lennert Sørensen"},{"$f":"IF(G31=\"\",\"\",VLOOKUP(G31,Deltagere!$B$4:$I$1003,5,FALSE))","v":"M"},{"$f":"IF(G31=\"\",\"\",VLOOKUP(G31,$B$7:$E$129,4,FALSE))","v":51},{"$f":"IF(G31=\"\",\"\",VLOOKUP(G31,$B$133:$F$255,4,FALSE))","v":47},{"$f":"IF(G31=\"\",500,SUM(J31:K31))","v":98},{"$f":"IF(I31=\"M\",L31,\"\")","v":98},{"$f":"IF(I31=\"K\",L31,\"\")","v":""}]
[]
[null,"Hold 5","Start ved hul nr.",{"$f":"IF($R$4=\"\",\"\",VLOOKUP($R$4,$R$8:$AI$24,5,FALSE))","v":5},"Runde ",null,"Nr.","Hold - Spiller"]
[null,"Nummer","Navn","Klub",1,null,301,{"$f":"IF(G34=\"\",\"\",VLOOKUP(G34,Deltagere!$I$4:$J$1003,2,FALSE))","v":"BK 1"},"M/K","Runde 1","Runde 2","I alt","M","K",null,"Total"]
[null,{"$f":"IF(C35=\"\",\"\",VLOOKUP(C35,Deltagere!$C$4:$I$1003,7,FALSE))","v":305},{"$f":"IF('Holdsammensætning  '!C24=\"\",\"\",'Holdsammensætning  '!C24)","v":"Annette Lykke Madsen"},{"$f":"IF(C35=\"\",\"\",VLOOKUP(C35,Deltagere!$C$4:$I$1003,2,FALSE))","v":"BK"},59,null,301,{"$f":"IF(G35=\"\",\"\",VLOOKUP(G35,Deltagere!$B$4:$I$1003,2,FALSE))","v":"Svend Faigh"},{"$f":"IF(G35=\"\",\"\",VLOOKUP(G35,Deltagere!$B$4:$I$1003,5,FALSE))","v":"M"},{"$f":"IF(G35=\"\",\"\",VLOOKUP(G35,$B$7:$E$129,4,FALSE))","v":44},{"$f":"IF(G35=\"\",\"\",VLOOKUP(G35,$B$133:$F$255,4,FALSE))","v":42},{"$f":"IF(G35=\"\",500,SUM(J35:K35))","v":86},{"$f":"IF(I35=\"M\",L35,\"\")","v":86},{"$f":"IF(I35=\"K\",L35,\"\")","v":""},null,{"$f":"H34","v":"BK 1"}]
[null,{"$f":"IF(C36=\"\",\"\",VLOOKUP(C36,Deltagere!$C$4:$I$1003,7,FALSE))","v":477},{"$f":"IF('Holdsammensætning  '!C25=\"\",\"\",'Holdsammensætning  '!C25)","v":"Inge Sørensen"},{"$f":"IF(C36=\"\",\"\",VLOOKUP(C36,Deltagere!$C$4:$I$1003,2,FALSE))","v":"Krolffolket"},54,null,327,{"$f":"IF(G36=\"\",\"\",VLOOKUP(G36,Deltagere!$B$4:$I$1003,2,FALSE))","v":"Mogens Kortegaard"},{"$f":"IF(G36=\"\",\"\",VLOOKUP(G36,Deltagere!$B$4:$I$1003,5,FALSE))","v":"M"},{"$f":"IF(G36=\"\",\"\",VLOOKUP(G36,$B$7:$E$129,4,FALSE))","v":45},{"$f":"IF(G36=\"\",\"\",VLOOKUP(G36,$B$133:$F$255,4,FALSE))","v":48},{"$f":"IF(G36=\"\",500,SUM(J36:K36))","v":93},{"$f":"IF(I36=\"M\",L36,\"\")","v":93},{"$f":"IF(I36=\"K\",L36,\"\")","v":""}]
[null,{"$f":"IF(C37=\"\",\"\",VLOOKUP(C37,Deltagere!$C$4:$I$1003,7,FALSE))","v":474},{"$f":"IF('Holdsammensætning  '!C26=\"\",\"\",'Holdsammensætning  '!C26)","v":"Liselotte Storgaard"},{"$f":"IF(C37=\"\",\"\",VLOOKUP(C37,Deltagere!$C$4:$I$1003,2,FALSE))","v":"Krolffolket"},50,null,302,{"$f":"IF(G37=\"\",\"\",VLOOKUP(G37,Deltagere!$B$4:$I$1003,2,FALSE))","v":"Jørgen Hugo Larsen"},{"$f":"IF(G37=\"\",\"\",VLOOKUP(G37,Deltagere!$B$4:$I$1003,5,FALSE))","v":"M"},{"$f":"IF(G37=\"\",\"\",VLOOKUP(G37,$B$7:$E$129,4,FALSE))","v":53},{"$f":"IF(G37=\"\",\"\",VLOOKUP(G37,$B$133:$F$255,4,FALSE))","v":44},{"$f":"IF(G37=\"\",500,SUM(J37:K37))","v":97},{"$f":"IF(I37=\"M\",L37,\"\")","v":97},{"$f":"IF(I37=\"K\",L37,\"\")","v":""},null,{"$f":"SUM(L35:L38)","v":376}]
[null,{"$f":"IF(C38=\"\",\"\",VLOOKUP(C38,Deltagere!$C$4:$I$1003,7,FALSE))","v":64},{"$f":"IF('Holdsammensætning  '!C27=\"\",\"\",'Holdsammensætning  '!C27)","v":"Villy Jensen"},{"$f":"IF(C38=\"\",\"\",VLOOKUP(C38,Deltagere!$C$4:$I$1003,2,FALSE))","v":"Meløse"},48,null,303,{"$f":"IF(G38=\"\",\"\",VLOOKUP(G38,Deltagere!$B$4:$I$1003,2,FALSE))","v":"Lone Nielsen"},{"$f":"IF(G38=\"\",\"\",VLOOKUP(G38,Deltagere!$B$4:$I$1003,5,FALSE))","v":"K"},{"$f":"IF(G38=\"\",\"\",VLOOKUP(G38,$B$7:$E$129,4,FALSE))","v":54},{"$f":"IF(G38=\"\",\"\",VLOOKUP(G38,$B$133:$F$255,4,FALSE))","v":46},{"$f":"IF(G38=\"\",500,SUM(J38:K38))","v":100},{"$f":"IF(I38=\"M\",L38,\"\")","v":""},{"$f":"IF(I38=\"K\",L38,\"\")","v":100}]
[]
[null,"Hold 6","Start ved hul nr.",{"$f":"IF($R$4=\"\",\"\",VLOOKUP($R$4,$R$8:$AI$24,6,FALSE))","v":6},"Runde ",null,"Nr.","Hold - Spiller"]
[null,"Nummer","Navn","Klub",1,null,302,{"$f":"IF(G41=\"\",\"\",VLOOKUP(G41,Deltagere!$I$4:$J$1003,2,FALSE))","v":"BK 2"},"M/K","Runde 1","Runde 2","I alt","M","K",null,"Total"]
[null,{"$f":"IF(C42=\"\",\"\",VLOOKUP(C42,Deltagere!$C$4:$I$1003,7,FALSE))","v":327},{"$f":"IF('Holdsammensætning  '!C28=\"\",\"\",'Holdsammensætning  '!C28)","v":"Mogens Kortegaard"},{"$f":"IF(C42=\"\",\"\",VLOOKUP(C42,Deltagere!$C$4:$I$1003,2,FALSE))","v":"BK"},45,null,307,{"$f":"IF(G42=\"\",\"\",VLOOKUP(G42,Deltagere!$B$4:$I$1003,2,FALSE))","v":"Åge  Zcharau"},{"$f":"IF(G42=\"\",\"\",VLOOKUP(G42,Deltagere!$B$4:$I$1003,5,FALSE))","v":"M"},{"$f":"IF(G42=\"\",\"\",VLOOKUP(G42,$B$7:$E$129,4,FALSE))","v":53},{"$f":"IF(G42=\"\",\"\",VLOOKUP(G42,$B$133:$F$255,4,FALSE))","v":52},{"$f":"IF(G42=\"\",500,SUM(J42:K42))","v":105},{"$f":"IF(I42=\"M\",L42,\"\")","v":105},{"$f":"IF(I42=\"K\",L42,\"\")","v":""},null,{"$f":"H41","v":"BK 2"}]
[null,{"$f":"IF(C43=\"\",\"\",VLOOKUP(C43,Deltagere!$C$4:$I$1003,7,FALSE))","v":476},{"$f":"IF('Holdsammensætning  '!C29=\"\",\"\",'Holdsammensætning  '!C29)","v":"Christian Blid"},{"$f":"IF(C43=\"\",\"\",VLOOKUP(C43,Deltagere!$C$4:$I$1003,2,FALSE))","v":"Krolffolket"},48,null,308,{"$f":"IF(G43=\"\",\"\",VLOOKUP(G43,Deltagere!$B$4:$I$1003,2,FALSE))","v":"Conny Schackinger"},{"$f":"IF(G43=\"\",\"\",VLOOKUP(G43,Deltagere!$B$4:$I$1003,5,FALSE))","v":"K"},{"$f":"IF(G43=\"\",\"\",VLOOKUP(G43,$B$7:$E$129,4,FALSE))","v":54},{"$f":"IF(G43=\"\",\"\",VLOOKUP(G43,$B$133:$F$255,4,FALSE))","v":58},{"$f":"IF(G43=\"\",500,SUM(J43:K43))","v":112},{"$f":"IF(I43=\"M\",L43,\"\")","v":""},{"$f":"IF(I43=\"K\",L43,\"\")","v":112},null,null,null,null,null,null,null,null,null,null,null,null,null,null,null,null,null,null,null,null,null,null,null,null,{"$f":"H6","v":"Meløse 1"},{"$f":"H13","v":"Meløse 2"},{"$f":"H20","v":"Meløse 3"},{"$f":"H27","v":"Meløse 4"},{"$f":"H34","v":"BK 1"},{"$f":"H41","v":"BK 2"},{"$f":"H48","v":"BK 3"},{"$f":"H55","v":"BK 4"},{"$f":"H62","v":"Krolffolket 1"},{"$f":"H69","v":"Krolffolket 2"},{"$f":"H76","v":"Krolffolket 3"},{"$f":"H83","v":"Krolffolket 4"},{"$f":"H90","v":"Krolffolket 5"},{"$f":"H97","v":"Krolffolket 6"},{"$f":"H104","v":"Krolffolket 7"},{"$f":"H111","v":"Krolffolket 8"},{"$f":"H118","v":"Blandet 1"},{"$f":"H125","v":"Vikingerne 1"}]
[null,{"$f":"IF(C44=\"\",\"\",VLOOKUP(C44,Deltagere!$C$4:$I$1003,7,FALSE))","v":77},{"$f":"IF('Holdsammensætning  '!C30=\"\",\"\",'Holdsammensætning  '!C30)","v":"Preben Ludore"},{"$f":"IF(C44=\"\",\"\",VLOOKUP(C44,Deltagere!$C$4:$I$1003,2,FALSE))","v":"Meløse"},49,null,328,{"$f":"IF(G44=\"\",\"\",VLOOKUP(G44,Deltagere!$B$4:$I$1003,2,FALSE))","v":"Annie Damsgaard"},{"$f":"IF(G44=\"\",\"\",VLOOKUP(G44,Deltagere!$B$4:$I$1003,5,FALSE))","v":"K"},{"$f":"IF(G44=\"\",\"\",VLOOKUP(G44,$B$7:$E$129,4,FALSE))","v":51},{"$f":"IF(G44=\"\",\"\",VLOOKUP(G44,$B$133:$F$255,4,FALSE))","v":50},{"$f":"IF(G44=\"\",500,SUM(J44:K44))","v":101},{"$f":"IF(I44=\"M\",L44,\"\")","v":""},{"$f":"IF(I44=\"K\",L44,\"\")","v":101},null,{"$f":"SUM(L42:L45)","v":419},null,null,null,null,null,null,null,null,null,null,null,null,null,null,null,null,null,null,null,null,null,null,{"$f":"H7","v":"Peter Knudsen"},{"$f":"H14","v":"Annie Jensen"},{"$f":"H21","v":"Anna Grethe Christensen"},{"$f":"H28","v":"Anne Marie Laustsen"},{"$f":"H35","v":"Svend Faigh"},{"$f":"H42","v":"Åge  Zcharau"},{"$f":"H49","v":"Peter Sølsten"},{"$f":"H56","v":"Annette Traulsen"},{"$f":"H63","v":"Hanne Hansen"},{"$f":"H70","v":"Michael Jørgensen"},{"$f":"H77","v":"Ingrid Jensen"},{"$f":"H84","v":"Ivan Szumlanski"},{"$f":"H91","v":"Lisser Kristensen"},{"$f":"H98","v":"Helga Andersen"},{"$f":"H105","v":"Ida Olsen"},{"$f":"H112","v":"Inge Sørensen"},{"$f":"H119","v":"Steen Lergard"},{"$f":"H126","v":"Anders Jørgensen"}]
[null,{"$f":"IF(C45=\"\",\"\",VLOOKUP(C45,Deltagere!$C$4:$I$1003,7,FALSE))","v":73},{"$f":"IF('Holdsammensætning  '!C31=\"\",\"\",'Holdsammensætning  '!C31)","v":"Petra Knudsen"},{"$f":"IF(C45=\"\",\"\",VLOOKUP(C45,Deltagere!$C$4:$I$1003,2,FALSE))","v":"Meløse"},49,null,316,{"$f":"IF(G45=\"\",\"\",VLOOKUP(G45,Deltagere!$B$4:$I$1003,2,FALSE))","v":"Preben Madsen"},{"$f":"IF(G45=\"\",\"\",VLOOKUP(G45,Deltagere!$B$4:$I$1003,5,FALSE))","v":"M"},{"$f":"IF(G45=\"\",\"\",VLOOKUP(G45,$B$7:$E$129,4,FALSE))","v":49},{"$f":"IF(G45=\"\",\"\",VLOOKUP(G45,$B$133:$F$255,4,FALSE))","v":52},{"$f":"IF(G45=\"\",500,SUM(J45:K45))","v":101},{"$f":"IF(I45=\"M\",L45,\"\")","v":101},{"$f":"IF(I45=\"K\",L45,\"\")","v":""},null,null,null,null,null,null,null,null,null,null,null,null,null,null,null,null,null,null,null,null,null,null,null,null,{"$f":"H8","v":"Mogens Bodilsen"},{"$f":"H15","v":"Tage Jensen"},{"$f":"H22","v":"Niels Aare Jensen"},{"$f":"H29","v":"Søren Helbo"},{"$f":"H36","v":"Mogens Kortegaard"},{"$f":"H43","v":"Conny Schackinger"},{"$f":"H50","v":"Margit Larsen"},{"$f":"H57","v":"Anette Nielsen"},{"$f":"H64","v":"Lone Hansen"},{"$f":"H71","v":"Alice Rask"},{"$f":"H78","v":"Liselotte Storgaard"},{"$f":"H85","v":"Allan Larsen"},{"$f":"H92","v":"Ole Christensen"},{"$f":"H99","v":"Jette S. Olsen"},{"$f":"H106","v":"Erik Wagner"},{"$f":"H113","v":"Lena Kirkegaard"},{"$f":"H120","v":"Sarah Christiansen"},{"$f":"H127","v":"Kian Andersen"}]
[null,null,null,null,null,null,null,null,null,null,null,null,null,null,null,null,null,null,null,null,null,null,null,null,null,null,null,null,null,null,null,null,null,null,null,null,null,null,{"$f":"H9","v":"Villy Jensen"},{"$f":"H16","v":"Lise Qvist Bebe"},{"$f":"H23","v":"Petra Knudsen"},{"$f":"H30","v":"Jørgen Hvilsom"},{"$f":"H37","v":"Jørgen Hugo Larsen"},{"$f":"H44","v":"Annie Damsgaard"},{"$f":"H51","v":"Per Aune"},{"$f":"H58","v":"Lis Rasmussen"},{"$f":"H65","v":"Jim Jørgensen"},{"$f":"H72","v":"Kjeld Hansen"},{"$f":"H79","v":"Christian Blid"},{"$f":"H86","v":"Finn Jørgensen"},{"$f":"H93","v":"Vibeke Jørgensen"},{"$f":"H100","v":"Ole Nilaus Nielsen"},{"$f":"H107","v":"Lissi Lindberg"},{"$f":"H114","v":"Majbritt Nielsen"},{"$f":"H121","v":""},{"$f":"H128","v":"Adam Kristoffersen"}]
[null,"Hold 7","Start ved hul nr.",{"$f":"IF($R$4=\"\",\"\",VLOOKUP($R$4,$R$8:$AI$24,7,FALSE))","v":7},"Runde ",null,"Nr.","Hold - Spiller",null,null,null,null,null,null,null,null,null,null,null,null,null,null,null,null,null,null,null,null,null,null,null,null,null,null,null,null,null,null,{"$f":"H10","v":"Peter Aare"},{"$f":"H17","v":"Connie Bregnvig"},{"$f":"H24","v":"Preben Ludore"},{"$f":"H31","v":"Lennert Sørensen"},{"$f":"H38","v":"Lone Nielsen"},{"$f":"H45","v":"Preben Madsen"},{"$f":"H52","v":"Tove Perlt"},{"$f":"H59","v":"Annette Lykke Madsen"},{"$f":"H66","v":"Allan Pedersen"},{"$f":"H73","v":"Bjørn Krogh"},{"$f":"H80","v":"Jørgen Hansen"},{"$f":"H87","v":"Peter Christensen"},{"$f":"H94","v":"Gytha Szumlanski"},{"$f":"H101","v":"Susanne Blok"},{"$f":"H108","v":"Lone S. Nielsen"},{"$f":"H115","v":"Benthe Dahl"},{"$f":"H122","v":""},{"$f":"H129","v":"Søren Skourup"}]
[null,"Nummer","Navn","Klub",1,null,303,{"$f":"IF(G48=\"\",\"\",VLOOKUP(G48,Deltagere!$I$4:$J$1003,2,FALSE))","v":"BK 3"},"M/K","Runde 1","Runde 2","I alt","M","K",null,"Total"]
[null,{"$f":"IF(C49=\"\",\"\",VLOOKUP(C49,Deltagere!$C$4:$I$1003,7,FALSE))","v":303},{"$f":"IF('Holdsammensætning  '!C32=\"\",\"\",'Holdsammensætning  '!C32)","v":"Lone Nielsen"},{"$f":"IF(C49=\"\",\"\",VLOOKUP(C49,Deltagere!$C$4:$I$1003,2,FALSE))","v":"BK"},54,null,318,{"$f":"IF(G49=\"\",\"\",VLOOKUP(G49,Deltagere!$B$4:$I$1003,2,FALSE))","v":"Peter Sølsten"},{"$f":"IF(G49=\"\",\"\",VLOOKUP(G49,Deltagere!$B$4:$I$1003,5,FALSE))","v":"M"},{"$f":"IF(G49=\"\",\"\",VLOOKUP(G49,$B$7:$E$129,4,FALSE))","v":60},{"$f":"IF(G49=\"\",\"\",VLOOKUP(G49,$B$133:$F$255,4,FALSE))","v":52},{"$f":"IF(G49=\"\",500,SUM(J49:K49))","v":112},{"$f":"IF(I49=\"M\",L49,\"\")","v":112},{"$f":"IF(I49=\"K\",L49,\"\")","v":""},null,{"$f":"H48","v":"BK 3"}]
[null,{"$f":"IF(C50=\"\",\"\",VLOOKUP(C50,Deltagere!$C$4:$I$1003,7,FALSE))","v":470},{"$f":"IF('Holdsammensætning  '!C33=\"\",\"\",'Holdsammensætning  '!C33)","v":"Ingrid Jensen"},{"$f":"IF(C50=\"\",\"\",VLOOKUP(C50,Deltagere!$C$4:$I$1003,2,FALSE))","v":"Krolffolket"},48,null,320,{"$f":"IF(G50=\"\",\"\",VLOOKUP(G50,Deltagere!$B$4:$I$1003,2,FALSE))","v":"Margit Larsen"},{"$f":"IF(G50=\"\",\"\",VLOOKUP(G50,Deltagere!$B$4:$I$1003,5,FALSE))","v":"K"},{"$f":"IF(G50=\"\",\"\",VLOOKUP(G50,$B$7:$E$129,4,FALSE))","v":62},{"$f":"IF(G50=\"\",\"\",VLOOKUP(G50,$B$133:$F$255,4,FALSE))","v":61},{"$f":"IF(G50=\"\",500,SUM(J50:K50))","v":123},{"$f":"IF(I50=\"M\",L50,\"\")","v":""},{"$f":"IF(I50=\"K\",L50,\"\")","v":123}]
[null,{"$f":"IF(C51=\"\",\"\",VLOOKUP(C51,Deltagere!$C$4:$I$1003,7,FALSE))","v":472},{"$f":"IF('Holdsammensætning  '!C34=\"\",\"\",'Holdsammensætning  '!C34)","v":"Allan Pedersen"},{"$f":"IF(C51=\"\",\"\",VLOOKUP(C51,Deltagere!$C$4:$I$1003,2,FALSE))","v":"Krolffolket"},48,null,311,{"$f":"IF(G51=\"\",\"\",VLOOKUP(G51,Deltagere!$B$4:$I$1003,2,FALSE))","v":"Per Aune"},{"$f":"IF(G51=\"\",\"\",VLOOKUP(G51,Deltagere!$B$4:$I$1003,5,FALSE))","v":"M"},{"$f":"IF(G51=\"\",\"\",VLOOKUP(G51,$B$7:$E$129,4,FALSE))","v":56},{"$f":"IF(G51=\"\",\"\",VLOOKUP(G51,$B$133:$F$255,4,FALSE))","v":61},{"$f":"IF(G51=\"\",500,SUM(J51:K51))","v":117},{"$f":"IF(I51=\"M\",L51,\"\")","v":117},{"$f":"IF(I51=\"K\",L51,\"\")","v":""},null,{"$f":"SUM(L49:L52)","v":453}]
[null,{"$f":"IF(C52=\"\",\"\",VLOOKUP(C52,Deltagere!$C$4:$I$1003,7,FALSE))","v":76},{"$f":"IF('Holdsammensætning  '!C35=\"\",\"\",'Holdsammensætning  '!C35)","v":"Connie Bregnvig"},{"$f":"IF(C52=\"\",\"\",VLOOKUP(C52,Deltagere!$C$4:$I$1003,2,FALSE))","v":"Meløse"},53,null,315,{"$f":"IF(G52=\"\",\"\",VLOOKUP(G52,Deltagere!$B$4:$I$1003,2,FALSE))","v":"Tove Perlt"},{"$f":"IF(G52=\"\",\"\",VLOOKUP(G52,Deltagere!$B$4:$I$1003,5,FALSE))","v":"K"},{"$f":"IF(G52=\"\",\"\",VLOOKUP(G52,$B$7:$E$129,4,FALSE))","v":51},{"$f":"IF(G52=\"\",\"\",VLOOKUP(G52,$B$133:$F$255,4,FALSE))","v":50},{"$f":"IF(G52=\"\",500,SUM(J52:K52))","v":101},{"$f":"IF(I52=\"M\",L52,\"\")","v":""},{"$f":"IF(I52=\"K\",L52,\"\")","v":101},null,null,null,null,null,null,null,null,null,null,null,null,null,null,null,null,null,null,null,null,null,null,null,null,null,null,null,"Resultat alle"]
[]
[null,"Hold 8","Start ved hul nr.",{"$f":"IF($R$4=\"\",\"\",VLOOKUP($R$4,$R$8:$AI$24,8,FALSE))","v":8},"Runde ",null,"Nr.","Hold - Spiller",null,null,null,null,null,null,null,null,null,null,null,null,null,null,null,null,null,null,null,null,null,null,null,null,null,null,null,null,null,null,null,null,null,null,"Overføres til resultatark"]
[null,"Nummer","Navn","Klub",1,null,304,{"$f":"IF(G55=\"\",\"\",VLOOKUP(G55,Deltagere!$I$4:$J$1003,2,FALSE))","v":"BK 4"},"M/K","Runde 1","Runde 2","I alt","M","K",null,"Total",null,null,null,null,null,null,null,null,null,null,null,null,null,null,null,null,null,null,null,null,null,"Overført fra alle spillere",null,"Mindste",null,null,null,null,"Overføres til slag"]
[null,{"$f":"IF(C56=\"\",\"\",VLOOKUP(C56,Deltagere!$C$4:$I$1003,7,FALSE))","v":51},{"$f":"IF('Holdsammensætning  '!C36=\"\",\"\",'Holdsammensætning  '!C36)","v":"Tage Jensen"},{"$f":"IF(C56=\"\",\"\",VLOOKUP(C56,Deltagere!$C$4:$I$1003,2,FALSE))","v":"Meløse"},50,null,310,{"$f":"IF(G56=\"\",\"\",VLOOKUP(G56,Deltagere!$B$4:$I$1003,2,FALSE))","v":"Annette Traulsen"},{"$f":"IF(G56=\"\",\"\",VLOOKUP(G56,Deltagere!$B$4:$I$1003,5,FALSE))","v":"K"},{"$f":"IF(G56=\"\",\"\",VLOOKUP(G56,$B$7:$E$129,4,FALSE))","v":64},{"$f":"IF(G56=\"\",\"\",VLOOKUP(G56,$B$133:$F$255,4,FALSE))","v":53},{"$f":"IF(G56=\"\",500,SUM(J56:K56))","v":117},{"$f":"IF(I56=\"M\",L56,\"\")","v":""},{"$f":"IF(I56=\"K\",L56,\"\")","v":117},null,{"$f":"H55","v":"BK 4"},null,null,null,null,null,null,null,null,null,null,null,null,null,null,null,null,null,null,null,null,null,null,null,null,null,"Slag","Navn","Klub","AP - decimaler"]
[null,{"$f":"IF(C57=\"\",\"\",VLOOKUP(C57,Deltagere!$C$4:$I$1003,7,FALSE))","v":468},{"$f":"IF('Holdsammensætning  '!C37=\"\",\"\",'Holdsammensætning  '!C37)","v":"Kjeld Hansen"},{"$f":"IF(C57=\"\",\"\",VLOOKUP(C57,Deltagere!$C$4:$I$1003,2,FALSE))","v":"Krolffolket"},53,null,322,{"$f":"IF(G57=\"\",\"\",VLOOKUP(G57,Deltagere!$B$4:$I$1003,2,FALSE))","v":"Anette Nielsen"},{"$f":"IF(G57=\"\",\"\",VLOOKUP(G57,Deltagere!$B$4:$I$1003,5,FALSE))","v":"K"},{"$f":"IF(G57=\"\",\"\",VLOOKUP(G57,$B$7:$E$129,4,FALSE))","v":67},{"$f":"IF(G57=\"\",\"\",VLOOKUP(G57,$B$133:$F$255,4,FALSE))","v":65},{"$f":"IF(G57=\"\",500,SUM(J57:K57))","v":132},{"$f":"IF(I57=\"M\",L57,\"\")","v":""},{"$f":"IF(I57=\"K\",L57,\"\")","v":132},null,null,null,null,null,null,null,null,null,null,null,null,null,null,null,null,null,null,null,null,null,null,1,{"$f":"L7+0.011","v":90.010999999999996},{"$f":"H7","v":"Peter Knudsen"},{"$f":"SMALL($AL$57:$AM$128,1)","v":86.013999999999996},{"$f":"VLOOKUP(AN57,$AL$17:$AO$128,2,FALSE)","v":"Peter Aare"},{"$f":"IF(AN57>500,\"\",AN57)","v":86.013999999999996},{"$f":"AO57","v":"Peter Aare"},{"$f":"IF(AQ57=\"\",\"\",VLOOKUP(AQ57,Deltagere!$C$4:$I$1003,2,FALSE))","v":"Meløse"},{"$f":"IF(AP57=\"\",\"\",INT(AP57))","v":86}]
[null,{"$f":"IF(C58=\"\",\"\",VLOOKUP(C58,Deltagere!$C$4:$I$1003,7,FALSE))","v":480},{"$f":"IF('Holdsammensætning  '!C38=\"\",\"\",'Holdsammensætning  '!C38)","v":"Lissi Lindberg"},{"$f":"IF(C58=\"\",\"\",VLOOKUP(C58,Deltagere!$C$4:$I$1003,2,FALSE))","v":"Krolffolket"},53,null,317,{"$f":"IF(G58=\"\",\"\",VLOOKUP(G58,Deltagere!$B$4:$I$1003,2,FALSE))","v":"Lis Rasmussen"},{"$f":"IF(G58=\"\",\"\",VLOOKUP(G58,Deltagere!$B$4:$I$1003,5,FALSE))","v":"K"},{"$f":"IF(G58=\"\",\"\",VLOOKUP(G58,$B$7:$E$129,4,FALSE))","v":66},{"$f":"IF(G58=\"\",\"\",VLOOKUP(G58,$B$133:$F$255,4,FALSE))","v":66},{"$f":"IF(G58=\"\",500,SUM(J58:K58))","v":132},{"$f":"IF(I58=\"M\",L58,\"\")","v":""},{"$f":"IF(I58=\"K\",L58,\"\")","v":132},null,{"$f":"SUM(L56:L59)","v":500},null,null,null,null,null,null,null,null,null,null,null,null,null,null,null,null,null,null,null,null,2,{"$f":"L8+0.012","v":107.012},{"$f":"H8","v":"Mogens Bodilsen"},{"$f":"SMALL($AL$57:$AM$128,2)","v":86.027000000000001},{"$f":"VLOOKUP(AN58,$AL$17:$AO$128,2,FALSE)","v":"Svend Faigh"},{"$f":"IF(AN58>500,\"\",AN58)","v":86.027000000000001},{"$f":"AO58","v":"Svend Faigh"},{"$f":"IF(AQ58=\"\",\"\",VLOOKUP(AQ58,Deltagere!$C$4:$I$1003,2,FALSE))","v":"BK"},{"$f":"IF(AP58=\"\",\"\",INT(AP58))","v":86}]
[null,{"$f":"IF(C59=\"\",\"\",VLOOKUP(C59,Deltagere!$C$4:$I$1003,7,FALSE))","v":302},{"$f":"IF('Holdsammensætning  '!C39=\"\",\"\",'Holdsammensætning  '!C39)","v":"Jørgen Hugo Larsen"},{"$f":"IF(C59=\"\",\"\",VLOOKUP(C59,Deltagere!$C$4:$I$1003,2,FALSE))","v":"BK"},53,null,305,{"$f":"IF(G59=\"\",\"\",VLOOKUP(G59,Deltagere!$B$4:$I$1003,2,FALSE))","v":"Annette Lykke Madsen"},{"$f":"IF(G59=\"\",\"\",VLOOKUP(G59,Deltagere!$B$4:$I$1003,5,FALSE))","v":"K"},{"$f":"IF(G59=\"\",\"\",VLOOKUP(G59,$B$7:$E$129,4,FALSE))","v":59},{"$f":"IF(G59=\"\",\"\",VLOOKUP(G59,$B$133:$F$255,4,FALSE))","v":60},{"$f":"IF(G59=\"\",500,SUM(J59:K59))","v":119},{"$f":"IF(I59=\"M\",L59,\"\")","v":""},{"$f":"IF(I59=\"K\",L59,\"\")","v":119},null,null,null,null,null,null,null,null,null,null,null,null,null,null,null,null,null,null,null,null,null,null,3,{"$f":"L9+0.013","v":99.013000000000005},{"$f":"H9","v":"Villy Jensen"},{"$f":"SMALL($AL$57:$AM$128,3)","v":90.010999999999996},"Peter Knudsen",90.010999999999996,"Peter Knudsen",{"$f":"IF(AQ59=\"\",\"\",VLOOKUP(AQ59,Deltagere!$C$4:$I$1003,2,FALSE))","v":"Meløse"},90]
[null,null,null,null,null,null,null,null,null,null,null,null,null,null,null,null,null,null,null,null,null,null,null,null,null,null,null,null,null,null,null,null,null,null,null,null,4,{"$f":"L10+0.014","v":86.013999999999996},{"$f":"H10","v":"Peter Aare"},{"$f":"SMALL($AL$57:$AM$128,4)","v":91.054000000000002},"Jørgen Hansen",91.054000000000002,"Jørgen Hansen",{"$f":"IF(AQ60=\"\",\"\",VLOOKUP(AQ60,Deltagere!$C$4:$I$1003,2,FALSE))","v":"Krolffolket"},91]
[null,"Hold 9","Start ved hul nr.",{"$f":"IF($R$4=\"\",\"\",VLOOKUP($R$4,$R$8:$AI$24,9,FALSE))","v":9},"Runde ",null,"Nr.","Hold - Spiller",null,null,null,null,null,null,null,null,null,null,null,null,null,null,null,null,null,null,null,null,null,null,null,null,null,null,null,null,5,{"$f":"L14+0.015","v":98.015000000000001},{"$f":"H14","v":"Annie Jensen"},{"$f":"SMALL($AL$57:$AM$128,5)","v":92.051000000000002},"Ingrid Jensen",92.051000000000002,"Ingrid Jensen",{"$f":"IF(AQ61=\"\",\"\",VLOOKUP(AQ61,Deltagere!$C$4:$I$1003,2,FALSE))","v":"Krolffolket"},92]
[null,"Nummer","Navn","Klub",1,null,451,{"$f":"IF(G62=\"\",\"\",VLOOKUP(G62,Deltagere!$I$4:$J$1003,2,FALSE))","v":"Krolffolket 1"},"M/K","Runde 1","Runde 2","I alt","M","K",null,"Total",null,null,null,null,null,null,null,null,null,null,null,null,null,null,null,null,null,null,null,null,6,{"$f":"L15+0.016","v":100.01600000000001},{"$f":"H15","v":"Tage Jensen"},{"$f":"SMALL($AL$57:$AM$128,6)","v":92.055999999999997},"Allan Larsen",92.055999999999997,"Allan Larsen",{"$f":"IF(AQ62=\"\",\"\",VLOOKUP(AQ62,Deltagere!$C$4:$I$1003,2,FALSE))","v":"Krolffolket"},92]
[null,{"$f":"IF(C63=\"\",\"\",VLOOKUP(C63,Deltagere!$C$4:$I$1003,7,FALSE))","v":54},{"$f":"IF('Holdsammensætning  '!C40=\"\",\"\",'Holdsammensætning  '!C40)","v":"Søren Helbo"},{"$f":"IF(C63=\"\",\"\",VLOOKUP(C63,Deltagere!$C$4:$I$1003,2,FALSE))","v":"Meløse"},57,null,461,{"$f":"IF(G63=\"\",\"\",VLOOKUP(G63,Deltagere!$B$4:$I$1003,2,FALSE))","v":"Hanne Hansen"},{"$f":"IF(G63=\"\",\"\",VLOOKUP(G63,Deltagere!$B$4:$I$1003,5,FALSE))","v":"K"},{"$f":"IF(G63=\"\",\"\",VLOOKUP(G63,$B$7:$E$129,4,FALSE))","v":50},{"$f":"IF(G63=\"\",\"\",VLOOKUP(G63,$B$133:$F$255,4,FALSE))","v":46},{"$f":"IF(G63=\"\",500,SUM(J63:K63))","v":96},{"$f":"IF(I63=\"M\",L63,\"\")","v":""},{"$f":"IF(I63=\"K\",L63,\"\")","v":96},null,{"$f":"H62","v":"Krolffolket 1"},null,null,null,null,null,null,null,null,null,null,null,null,null,null,null,null,null,null,null,null,7,{"$f":"L16+0.017","v":101.017},{"$f":"H16","v":"Lise Qvist Bebe"},{"$f":"SMALL($AL$57:$AM$128,7)","v":93.028000000000006},"Mogens Kortegaard",93.028000000000006,"Mogens Kortegaard",{"$f":"IF(AQ63=\"\",\"\",VLOOKUP(AQ63,Deltagere!$C$4:$I$1003,2,FALSE))","v":"BK"},93]
[null,{"$f":"IF(C64=\"\",\"\",VLOOKUP(C64,Deltagere!$C$4:$I$1003,7,FALSE))","v":466},{"$f":"IF('Holdsammensætning  '!C41=\"\",\"\",'Holdsammensætning  '!C41)","v":"Finn Jørgensen"},{"$f":"IF(C64=\"\",\"\",VLOOKUP(C64,Deltagere!$C$4:$I$1003,2,FALSE))","v":"Krolffolket"},55,null,453,{"$f":"IF(G64=\"\",\"\",VLOOKUP(G64,Deltagere!$B$4:$I$1003,2,FALSE))","v":"Lone Hansen"},{"$f":"IF(G64=\"\",\"\",VLOOKUP(G64,Deltagere!$B$4:$I$1003,5,FALSE))","v":"K"},{"$f":"IF(G64=\"\",\"\",VLOOKUP(G64,$B$7:$E$129,4,FALSE))","v":49},{"$f":"IF(G64=\"\",\"\",VLOOKUP(G64,$B$133:$F$255,4,FALSE))","v":45},{"$f":"IF(G64=\"\",500,SUM(J64:K64))","v":94},{"$f":"IF(I64=\"M\",L64,\"\")","v":""},{"$f":"IF(I64=\"K\",L64,\"\")","v":94},null,null,null,null,null,null,null,null,null,null,null,null,null,null,null,null,null,null,null,null,null,null,8,{"$f":"L17+0.018","v":100.018},{"$f":"H17","v":"Connie Bregnvig"},{"$f":"SMALL($AL$57:$AM$128,8)","v":94.043999999999997},"Lone Hansen",94.043999999999997,"Lone Hansen",{"$f":"IF(AQ64=\"\",\"\",VLOOKUP(AQ64,Deltagere!$C$4:$I$1003,2,FALSE))","v":"Krolffolket"},94]
[null,{"$f":"IF(C65=\"\",\"\",VLOOKUP(C65,Deltagere!$C$4:$I$1003,7,FALSE))","v":485},{"$f":"IF('Holdsammensætning  '!C42=\"\",\"\",'Holdsammensætning  '!C42)","v":"Ole Nilaus Nielsen"},{"$f":"IF(C65=\"\",\"\",VLOOKUP(C65,Deltagere!$C$4:$I$1003,2,FALSE))","v":"Krolffolket"},52,null,482,{"$f":"IF(G65=\"\",\"\",VLOOKUP(G65,Deltagere!$B$4:$I$1003,2,FALSE))","v":"Jim Jørgensen"},{"$f":"IF(G65=\"\",\"\",VLOOKUP(G65,Deltagere!$B$4:$I$1003,5,FALSE))","v":"M"},{"$f":"IF(G65=\"\",\"\",VLOOKUP(G65,$B$7:$E$129,4,FALSE))","v":50},{"$f":"IF(G65=\"\",\"\",VLOOKUP(G65,$B$133:$F$255,4,FALSE))","v":50},{"$f":"IF(G65=\"\",500,SUM(J65:K65))","v":100},{"$f":"IF(I65=\"M\",L65,\"\")","v":100},{"$f":"IF(I65=\"K\",L65,\"\")","v":""},null,{"$f":"SUM(L63:L66)","v":389},null,null,null,null,null,null,null,null,null,null,null,null,null,null,null,null,null,null,null,null,9,{"$f":"L21+0.019","v":118.01900000000001},{"$f":"H21","v":"Anna Grethe Christensen"},{"$f":"SMALL($AL$57:$AM$128,9)","v":94.046999999999997},"Michael Jørgensen",94.046999999999997,"Michael Jørgensen",{"$f":"IF(AQ65=\"\",\"\",VLOOKUP(AQ65,Deltagere!$C$4:$I$1003,2,FALSE))","v":"Krolffolket"},94]
[null,{"$f":"IF(C66=\"\",\"\",VLOOKUP(C66,Deltagere!$C$4:$I$1003,7,FALSE))","v":307},{"$f":"IF('Holdsammensætning  '!C43=\"\",\"\",'Holdsammensætning  '!C43)","v":"Åge  Zcharau"},{"$f":"IF(C66=\"\",\"\",VLOOKUP(C66,Deltagere!$C$4:$I$1003,2,FALSE))","v":"BK"},53,null,472,{"$f":"IF(G66=\"\",\"\",VLOOKUP(G66,Deltagere!$B$4:$I$1003,2,FALSE))","v":"Allan Pedersen"},{"$f":"IF(G66=\"\",\"\",VLOOKUP(G66,Deltagere!$B$4:$I$1003,5,FALSE))","v":"M"},{"$f":"IF(G66=\"\",\"\",VLOOKUP(G66,$B$7:$E$129,4,FALSE))","v":48},{"$f":"IF(G66=\"\",\"\",VLOOKUP(G66,$B$133:$F$255,4,FALSE))","v":51},{"$f":"IF(G66=\"\",500,SUM(J66:K66))","v":99},{"$f":"IF(I66=\"M\",L66,\"\")","v":99},{"$f":"IF(I66=\"K\",L66,\"\")","v":""},null,null,null,null,null,null,null,null,null,null,null,null,null,null,null,null,null,null,null,null,null,null,10,{"$f":"L22+0.02","v":103.02},{"$f":"H22","v":"Niels Aare Jensen"},{"$f":"SMALL($AL$57:$AM$128,10)","v":94.058000000000007},"Peter Christensen",94.058000000000007,"Peter Christensen",{"$f":"IF(AQ66=\"\",\"\",VLOOKUP(AQ66,Deltagere!$C$4:$I$1003,2,FALSE))","v":"Krolffolket"},94]
[null,null,null,null,null,null,null,null,null,null,null,null,null,null,null,null,null,null,null,null,null,null,null,null,null,null,null,null,null,null,null,null,null,null,null,null,11,{"$f":"L23+0.021","v":102.021},{"$f":"H23","v":"Petra Knudsen"},{"$f":"SMALL($AL$57:$AM$128,11)","v":95.081000000000003},"Adam Kristoffersen",95.081000000000003,"Adam Kristoffersen",{"$f":"IF(AQ67=\"\",\"\",VLOOKUP(AQ67,Deltagere!$C$4:$I$1003,2,FALSE))","v":"IF Vikingerne"},95]
[null,"Hold 10","Start ved hul nr.",{"$f":"IF($R$4=\"\",\"\",VLOOKUP($R$4,$R$8:$AI$24,10,FALSE))","v":10},"Runde ",null,"Nr.","Hold - Spiller",null,null,null,null,null,null,null,null,null,null,null,null,null,null,null,null,null,null,null,null,null,null,null,null,null,null,null,null,12,{"$f":"L24+0.022","v":97.022000000000006},{"$f":"H24","v":"Preben Ludore"},{"$f":"SMALL($AL$57:$AM$128,12)","v":96.043000000000006},"Hanne Hansen",96.043000000000006,"Hanne Hansen",{"$f":"IF(AQ68=\"\",\"\",VLOOKUP(AQ68,Deltagere!$C$4:$I$1003,2,FALSE))","v":"Krolffolket"},96]
[null,"Nummer","Navn","Klub",1,null,452,{"$f":"IF(G69=\"\",\"\",VLOOKUP(G69,Deltagere!$I$4:$J$1003,2,FALSE))","v":"Krolffolket 2"},"M/K","Runde 1","Runde 2","I alt","M","K",null,"Total",null,null,null,null,null,null,null,null,null,null,null,null,null,null,null,null,null,null,null,null,13,{"$f":"L28+0.023","v":117.023},{"$f":"H28","v":"Anne Marie Laustsen"},{"$f":"SMALL($AL$57:$AM$128,13)","v":96.066000000000003},"Susanne Blok",96.066000000000003,"Susanne Blok",{"$f":"IF(AQ69=\"\",\"\",VLOOKUP(AQ69,Deltagere!$C$4:$I$1003,2,FALSE))","v":"Krolffolket"},96]
[null,{"$f":"IF(C70=\"\",\"\",VLOOKUP(C70,Deltagere!$C$4:$I$1003,7,FALSE))","v":55},{"$f":"IF('Holdsammensætning  '!C44=\"\",\"\",'Holdsammensætning  '!C44)","v":"Peter Knudsen"},{"$f":"IF(C70=\"\",\"\",VLOOKUP(C70,Deltagere!$C$4:$I$1003,2,FALSE))","v":"Meløse"},45,null,459,{"$f":"IF(G70=\"\",\"\",VLOOKUP(G70,Deltagere!$B$4:$I$1003,2,FALSE))","v":"Michael Jørgensen"},{"$f":"IF(G70=\"\",\"\",VLOOKUP(G70,Deltagere!$B$4:$I$1003,5,FALSE))","v":"M"},{"$f":"IF(G70=\"\",\"\",VLOOKUP(G70,$B$7:$E$129,4,FALSE))","v":50},{"$f":"IF(G70=\"\",\"\",VLOOKUP(G70,$B$133:$F$255,4,FALSE))","v":44},{"$f":"IF(G70=\"\",500,SUM(J70:K70))","v":94},{"$f":"IF(I70=\"M\",L70,\"\")","v":94},{"$f":"IF(I70=\"K\",L70,\"\")","v":""},null,{"$f":"H69","v":"Krolffolket 2"},null,null,null,null,null,null,null,null,null,null,null,null,null,null,null,null,null,null,null,null,14,{"$f":"L29+0.024","v":102.024},{"$f":"H29","v":"Søren Helbo"},{"$f":"SMALL($AL$57:$AM$128,14)","v":96.078999999999994},"Anders Jørgensen",96.078999999999994,"Anders Jørgensen",{"$f":"IF(AQ70=\"\",\"\",VLOOKUP(AQ70,Deltagere!$C$4:$I$1003,2,FALSE))","v":"IF Vikingerne"},96]
[null,{"$f":"IF(C71=\"\",\"\",VLOOKUP(C71,Deltagere!$C$4:$I$1003,7,FALSE))","v":464},{"$f":"IF('Holdsammensætning  '!C45=\"\",\"\",'Holdsammensætning  '!C45)","v":"Gytha Szumlanski"},{"$f":"IF(C71=\"\",\"\",VLOOKUP(C71,Deltagere!$C$4:$I$1003,2,FALSE))","v":"Krolffolket"},53,null,481,{"$f":"IF(G71=\"\",\"\",VLOOKUP(G71,Deltagere!$B$4:$I$1003,2,FALSE))","v":"Alice Rask"},{"$f":"IF(G71=\"\",\"\",VLOOKUP(G71,Deltagere!$B$4:$I$1003,5,FALSE))","v":"K"},{"$f":"IF(G71=\"\",\"\",VLOOKUP(G71,$B$7:$E$129,4,FALSE))","v":45},{"$f":"IF(G71=\"\",\"\",VLOOKUP(G71,$B$133:$F$255,4,FALSE))","v":53},{"$f":"IF(G71=\"\",500,SUM(J71:K71))","v":98},{"$f":"IF(I71=\"M\",L71,\"\")","v":""},{"$f":"IF(I71=\"K\",L71,\"\")","v":98},null,null,null,null,null,null,null,null,null,null,null,null,null,null,null,null,null,null,null,null,null,null,15,{"$f":"L30+0.025","v":101.02500000000001},{"$f":"H30","v":"Jørgen Hvilsom"},{"$f":"SMALL($AL$57:$AM$128,15)","v":97.022000000000006},"Preben Ludore",97.022000000000006,"Preben Ludore",{"$f":"IF(AQ71=\"\",\"\",VLOOKUP(AQ71,Deltagere!$C$4:$I$1003,2,FALSE))","v":"Meløse"},97]
[null,{"$f":"IF(C72=\"\",\"\",VLOOKUP(C72,Deltagere!$C$4:$I$1003,7,FALSE))","v":486},{"$f":"IF('Holdsammensætning  '!C46=\"\",\"\",'Holdsammensætning  '!C46)","v":"Benthe Dahl"},{"$f":"IF(C72=\"\",\"\",VLOOKUP(C72,Deltagere!$C$4:$I$1003,2,FALSE))","v":"Krolffolket"},57,null,468,{"$f":"IF(G72=\"\",\"\",VLOOKUP(G72,Deltagere!$B$4:$I$1003,2,FALSE))","v":"Kjeld Hansen"},{"$f":"IF(G72=\"\",\"\",VLOOKUP(G72,Deltagere!$B$4:$I$1003,5,FALSE))","v":"M"},{"$f":"IF(G72=\"\",\"\",VLOOKUP(G72,$B$7:$E$129,4,FALSE))","v":53},{"$f":"IF(G72=\"\",\"\",VLOOKUP(G72,$B$133:$F$255,4,FALSE))","v":44},{"$f":"IF(G72=\"\",500,SUM(J72:K72))","v":97},{"$f":"IF(I72=\"M\",L72,\"\")","v":97},{"$f":"IF(I72=\"K\",L72,\"\")","v":""},null,{"$f":"SUM(L70:L73)","v":386},null,null,null,null,null,null,null,null,null,null,null,null,null,null,null,null,null,null,null,null,16,{"$f":"L31+0.026","v":98.025999999999996},{"$f":"H31","v":"Lennert Sørensen"},{"$f":"SMALL($AL$57:$AM$128,16)","v":97.028999999999996},"Jørgen Hugo Larsen",97.028999999999996,"Jørgen Hugo Larsen",{"$f":"IF(AQ72=\"\",\"\",VLOOKUP(AQ72,Deltagere!$C$4:$I$1003,2,FALSE))","v":"BK"},97]
[null,{"$f":"IF(C73=\"\",\"\",VLOOKUP(C73,Deltagere!$C$4:$I$1003,7,FALSE))","v":310},{"$f":"IF('Holdsammensætning  '!C47=\"\",\"\",'Holdsammensætning  '!C47)","v":"Annette Traulsen"},{"$f":"IF(C73=\"\",\"\",VLOOKUP(C73,Deltagere!$C$4:$I$1003,2,FALSE))","v":"BK"},64,null,479,{"$f":"IF(G73=\"\",\"\",VLOOKUP(G73,Deltagere!$B$4:$I$1003,2,FALSE))","v":"Bjørn Krogh"},{"$f":"IF(G73=\"\",\"\",VLOOKUP(G73,Deltagere!$B$4:$I$1003,5,FALSE))","v":"M"},{"$f":"IF(G73=\"\",\"\",VLOOKUP(G73,$B$7:$E$129,4,FALSE))","v":49},{"$f":"IF(G73=\"\",\"\",VLOOKUP(G73,$B$133:$F$255,4,FALSE))","v":48},{"$f":"IF(G73=\"\",500,SUM(J73:K73))","v":97},{"$f":"IF(I73=\"M\",L73,\"\")","v":97},{"$f":"IF(I73=\"K\",L73,\"\")","v":""},null,null,null,null,null,null,null,null,null,null,null,null,null,null,null,null,null,null,null,null,null,null,17,{"$f":"L35+0.027","v":86.027000000000001},{"$f":"H35","v":"Svend Faigh"},{"$f":"SMALL($AL$57:$AM$128,17)","v":97.049000000000007},"Kjeld Hansen",97.049000000000007,"Kjeld Hansen",{"$f":"IF(AQ73=\"\",\"\",VLOOKUP(AQ73,Deltagere!$C$4:$I$1003,2,FALSE))","v":"Krolffolket"},97]
[null,null,null,null,null,null,null,null,null,null,null,null,null,null,null,null,null,null,null,null,null,null,null,null,null,null,null,null,null,null,null,null,null,null,null,null,18,{"$f":"L36+0.028","v":93.028000000000006},{"$f":"H36","v":"Mogens Kortegaard"},{"$f":"SMALL($AL$57:$AM$128,18)","v":97.05},"Bjørn Krogh",97.05,"Bjørn Krogh",{"$f":"IF(AQ74=\"\",\"\",VLOOKUP(AQ74,Deltagere!$C$4:$I$1003,2,FALSE))","v":"Krolffolket"},97]
[null,"Hold 11","Start ved hul nr.",{"$f":"IF($R$4=\"\",\"\",VLOOKUP($R$4,$R$8:$AI$24,11,FALSE))","v":11},"Runde ",null,"Nr.","Hold - Spiller",null,null,null,null,null,null,null,null,null,null,null,null,null,null,null,null,null,null,null,null,null,null,null,null,null,null,null,null,19,{"$f":"L37+0.029","v":97.028999999999996},{"$f":"H37","v":"Jørgen Hugo Larsen"},{"$f":"SMALL($AL$57:$AM$128,19)","v":97.052000000000007},"Liselotte Storgaard",97.052000000000007,"Liselotte Storgaard",{"$f":"IF(AQ75=\"\",\"\",VLOOKUP(AQ75,Deltagere!$C$4:$I$1003,2,FALSE))","v":"Krolffolket"},97]
[null,"Nummer","Navn","Klub",1,null,453,{"$f":"IF(G76=\"\",\"\",VLOOKUP(G76,Deltagere!$I$4:$J$1003,2,FALSE))","v":"Krolffolket 3"},"M/K","Runde 1","Runde 2","I alt","M","K",null,"Total",null,null,null,null,null,null,null,null,null,null,null,null,null,null,null,null,null,null,null,null,20,{"$f":"L38+0.03","v":100.03},{"$f":"H38","v":"Lone Nielsen"},{"$f":"SMALL($AL$57:$AM$128,20)","v":97.061000000000007},"Vibeke Jørgensen",97.061000000000007,"Vibeke Jørgensen",{"$f":"IF(AQ76=\"\",\"\",VLOOKUP(AQ76,Deltagere!$C$4:$I$1003,2,FALSE))","v":"Krolffolket"},97]
[null,{"$f":"IF(C77=\"\",\"\",VLOOKUP(C77,Deltagere!$C$4:$I$1003,7,FALSE))","v":487},{"$f":"IF('Holdsammensætning  '!C48=\"\",\"\",'Holdsammensætning  '!C48)","v":"Susanne Blok"},{"$f":"IF(C77=\"\",\"\",VLOOKUP(C77,Deltagere!$C$4:$I$1003,2,FALSE))","v":"Krolffolket"},47,null,470,{"$f":"IF(G77=\"\",\"\",VLOOKUP(G77,Deltagere!$B$4:$I$1003,2,FALSE))","v":"Ingrid Jensen"},{"$f":"IF(G77=\"\",\"\",VLOOKUP(G77,Deltagere!$B$4:$I$1003,5,FALSE))","v":"K"},{"$f":"IF(G77=\"\",\"\",VLOOKUP(G77,$B$7:$E$129,4,FALSE))","v":48},{"$f":"IF(G77=\"\",\"\",VLOOKUP(G77,$B$133:$F$255,4,FALSE))","v":44},{"$f":"IF(G77=\"\",500,SUM(J77:K77))","v":92},{"$f":"IF(I77=\"M\",L77,\"\")","v":""},{"$f":"IF(I77=\"K\",L77,\"\")","v":92},null,{"$f":"H76","v":"Krolffolket 3"},null,null,null,null,null,null,null,null,null,null,null,null,null,null,null,null,null,null,null,null,21,{"$f":"L42+0.031","v":105.03100000000001},{"$f":"H42","v":"Åge  Zcharau"},{"$f":"SMALL($AL$57:$AM$128,21)","v":97.07},"Lone S. Nielsen",97.07,"Lone S. Nielsen",{"$f":"IF(AQ77=\"\",\"\",VLOOKUP(AQ77,Deltagere!$C$4:$I$1003,2,FALSE))","v":"Krolffolket"},97]
[null,{"$f":"IF(C78=\"\",\"\",VLOOKUP(C78,Deltagere!$C$4:$I$1003,7,FALSE))","v":463},{"$f":"IF('Holdsammensætning  '!C49=\"\",\"\",'Holdsammensætning  '!C49)","v":"Ivan Szumlanski"},{"$f":"IF(C78=\"\",\"\",VLOOKUP(C78,Deltagere!$C$4:$I$1003,2,FALSE))","v":"Krolffolket"},56,null,474,{"$f":"IF(G78=\"\",\"\",VLOOKUP(G78,Deltagere!$B$4:$I$1003,2,FALSE))","v":"Liselotte Storgaard"},{"$f":"IF(G78=\"\",\"\",VLOOKUP(G78,Deltagere!$B$4:$I$1003,5,FALSE))","v":"K"},{"$f":"IF(G78=\"\",\"\",VLOOKUP(G78,$B$7:$E$129,4,FALSE))","v":50},{"$f":"IF(G78=\"\",\"\",VLOOKUP(G78,$B$133:$F$255,4,FALSE))","v":47},{"$f":"IF(G78=\"\",500,SUM(J78:K78))","v":97},{"$f":"IF(I78=\"M\",L78,\"\")","v":""},{"$f":"IF(I78=\"K\",L78,\"\")","v":97},null,null,null,null,null,null,null,null,null,null,null,null,null,null,null,null,null,null,null,null,null,null,22,{"$f":"L43+0.032","v":112.032},{"$f":"H43","v":"Conny Schackinger"},{"$f":"SMALL($AL$57:$AM$128,22)","v":97.072999999999993},"Majbritt Nielsen",97.072999999999993,"Majbritt Nielsen",{"$f":"IF(AQ78=\"\",\"\",VLOOKUP(AQ78,Deltagere!$C$4:$I$1003,2,FALSE))","v":"Krolffolket"},97]
[null,{"$f":"IF(C79=\"\",\"\",VLOOKUP(C79,Deltagere!$C$4:$I$1003,7,FALSE))","v":467},{"$f":"IF('Holdsammensætning  '!C50=\"\",\"\",'Holdsammensætning  '!C50)","v":"Lena Kirkegaard"},{"$f":"IF(C79=\"\",\"\",VLOOKUP(C79,Deltagere!$C$4:$I$1003,2,FALSE))","v":"Krolffolket"},59,null,476,{"$f":"IF(G79=\"\",\"\",VLOOKUP(G79,Deltagere!$B$4:$I$1003,2,FALSE))","v":"Christian Blid"},{"$f":"IF(G79=\"\",\"\",VLOOKUP(G79,Deltagere!$B$4:$I$1003,5,FALSE))","v":"M"},{"$f":"IF(G79=\"\",\"\",VLOOKUP(G79,$B$7:$E$129,4,FALSE))","v":48},{"$f":"IF(G79=\"\",\"\",VLOOKUP(G79,$B$133:$F$255,4,FALSE))","v":50},{"$f":"IF(G79=\"\",500,SUM(J79:K79))","v":98},{"$f":"IF(I79=\"M\",L79,\"\")","v":98},{"$f":"IF(I79=\"K\",L79,\"\")","v":""},null,{"$f":"SUM(L77:L80)","v":378},null,null,null,null,null,null,null,null,null,null,null,null,null,null,null,null,null,null,null,null,23,{"$f":"L44+0.033","v":101.033},{"$f":"H44","v":"Annie Damsgaard"},{"$f":"SMALL($AL$57:$AM$128,23)","v":98.015000000000001},"Annie Jensen",98.015000000000001,"Annie Jensen",{"$f":"IF(AQ79=\"\",\"\",VLOOKUP(AQ79,Deltagere!$C$4:$I$1003,2,FALSE))","v":"Meløse"},98]
[null,{"$f":"IF(C80=\"\",\"\",VLOOKUP(C80,Deltagere!$C$4:$I$1003,7,FALSE))","v":315},{"$f":"IF('Holdsammensætning  '!C51=\"\",\"\",'Holdsammensætning  '!C51)","v":"Tove Perlt"},{"$f":"IF(C80=\"\",\"\",VLOOKUP(C80,Deltagere!$C$4:$I$1003,2,FALSE))","v":"BK"},51,null,458,{"$f":"IF(G80=\"\",\"\",VLOOKUP(G80,Deltagere!$B$4:$I$1003,2,FALSE))","v":"Jørgen Hansen"},{"$f":"IF(G80=\"\",\"\",VLOOKUP(G80,Deltagere!$B$4:$I$1003,5,FALSE))","v":"M"},{"$f":"IF(G80=\"\",\"\",VLOOKUP(G80,$B$7:$E$129,4,FALSE))","v":50},{"$f":"IF(G80=\"\",\"\",VLOOKUP(G80,$B$133:$F$255,4,FALSE))","v":41},{"$f":"IF(G80=\"\",500,SUM(J80:K80))","v":91},{"$f":"IF(I80=\"M\",L80,\"\")","v":91},{"$f":"IF(I80=\"K\",L80,\"\")","v":""},null,null,null,null,null,null,null,null,null,null,null,null,null,null,null,null,null,null,null,null,null,null,24,{"$f":"L45+0.034","v":101.03400000000001},{"$f":"H45","v":"Preben Madsen"},{"$f":"SMALL($AL$57:$AM$128,24)","v":98.025999999999996},"Lennert Sørensen",98.025999999999996,"Lennert Sørensen",{"$f":"IF(AQ80=\"\",\"\",VLOOKUP(AQ80,Deltagere!$C$4:$I$1003,2,FALSE))","v":"Meløse"},98]
[null,null,null,null,null,null,null,null,null,null,null,null,null,null,null,null,null,null,null,null,null,null,null,null,null,null,null,null,null,null,null,null,null,null,null,null,25,{"$f":"L49+0.035","v":112.035},{"$f":"H49","v":"Peter Sølsten"},{"$f":"SMALL($AL$57:$AM$128,25)","v":98.048000000000002},"Alice Rask",98.048000000000002,"Alice Rask",{"$f":"IF(AQ81=\"\",\"\",VLOOKUP(AQ81,Deltagere!$C$4:$I$1003,2,FALSE))","v":"Krolffolket"},98]
[null,"Hold 12","Start ved hul nr.",{"$f":"IF($R$4=\"\",\"\",VLOOKUP($R$4,$R$8:$AI$24,12,FALSE))","v":12},"Runde ",null,"Nr.","Hold - Spiller",null,null,null,null,null,null,null,null,null,null,null,null,null,null,null,null,null,null,null,null,null,null,null,null,null,null,null,null,26,{"$f":"L50+0.036","v":123.036},{"$f":"H50","v":"Margit Larsen"},{"$f":"SMALL($AL$57:$AM$128,26)","v":98.052999999999997},"Christian Blid",98.052999999999997,"Christian Blid",{"$f":"IF(AQ82=\"\",\"\",VLOOKUP(AQ82,Deltagere!$C$4:$I$1003,2,FALSE))","v":"Krolffolket"},98]
[null,"Nummer","Navn","Klub",1,null,454,{"$f":"IF(G83=\"\",\"\",VLOOKUP(G83,Deltagere!$I$4:$J$1003,2,FALSE))","v":"Krolffolket 4"},"M/K","Runde 1","Runde 2","I alt","M","K",null,"Total",null,null,null,null,null,null,null,null,null,null,null,null,null,null,null,null,null,null,null,null,27,{"$f":"L51+0.037","v":117.03700000000001},{"$f":"H51","v":"Per Aune"},{"$f":"SMALL($AL$57:$AM$128,27)","v":98.063000000000002},"Helga Andersen",98.063000000000002,"Helga Andersen",{"$f":"IF(AQ83=\"\",\"\",VLOOKUP(AQ83,Deltagere!$C$4:$I$1003,2,FALSE))","v":"Krolffolket"},98]
[null,{"$f":"IF(C84=\"\",\"\",VLOOKUP(C84,Deltagere!$C$4:$I$1003,7,FALSE))","v":61},{"$f":"IF('Holdsammensætning  '!C52=\"\",\"\",'Holdsammensætning  '!C52)","v":"Annie Jensen"},{"$f":"IF(C84=\"\",\"\",VLOOKUP(C84,Deltagere!$C$4:$I$1003,2,FALSE))","v":"Meløse"},46,null,463,{"$f":"IF(G84=\"\",\"\",VLOOKUP(G84,Deltagere!$B$4:$I$1003,2,FALSE))","v":"Ivan Szumlanski"},{"$f":"IF(G84=\"\",\"\",VLOOKUP(G84,Deltagere!$B$4:$I$1003,5,FALSE))","v":"M"},{"$f":"IF(G84=\"\",\"\",VLOOKUP(G84,$B$7:$E$129,4,FALSE))","v":56},{"$f":"IF(G84=\"\",\"\",VLOOKUP(G84,$B$133:$F$255,4,FALSE))","v":49},{"$f":"IF(G84=\"\",500,SUM(J84:K84))","v":105},{"$f":"IF(I84=\"m\",L84,\"\")","v":105},{"$f":"IF(I84=\"K\",L84,\"\")","v":""},null,{"$f":"H83","v":"Krolffolket 4"},null,null,null,null,null,null,null,null,null,null,null,null,null,null,null,null,null,null,null,null,28,{"$f":"L52+0.038","v":101.038},{"$f":"H52","v":"Tove Perlt"},{"$f":"SMALL($AL$57:$AM$128,28)","v":99.013000000000005},"Villy Jensen",99.013000000000005,"Villy Jensen",{"$f":"IF(AQ84=\"\",\"\",VLOOKUP(AQ84,Deltagere!$C$4:$I$1003,2,FALSE))","v":"Meløse"},99]
[null,{"$f":"IF(C85=\"\",\"\",VLOOKUP(C85,Deltagere!$C$4:$I$1003,7,FALSE))","v":461},{"$f":"IF('Holdsammensætning  '!C53=\"\",\"\",'Holdsammensætning  '!C53)","v":"Hanne Hansen"},{"$f":"IF(C85=\"\",\"\",VLOOKUP(C85,Deltagere!$C$4:$I$1003,2,FALSE))","v":"Krolffolket"},50,null,478,{"$f":"IF(G85=\"\",\"\",VLOOKUP(G85,Deltagere!$B$4:$I$1003,2,FALSE))","v":"Allan Larsen"},{"$f":"IF(G85=\"\",\"\",VLOOKUP(G85,Deltagere!$B$4:$I$1003,5,FALSE))","v":"M"},{"$f":"IF(G85=\"\",\"\",VLOOKUP(G85,$B$7:$E$129,4,FALSE))","v":46},{"$f":"IF(G85=\"\",\"\",VLOOKUP(G85,$B$133:$F$255,4,FALSE))","v":46},{"$f":"IF(G85=\"\",500,SUM(J85:K85))","v":92},{"$f":"IF(I85=\"m\",L85,\"\")","v":92},{"$f":"IF(I85=\"K\",L85,\"\")","v":""},null,null,null,null,null,null,null,null,null,null,null,null,null,null,null,null,null,null,null,null,null,null,29,{"$f":"L56+0.039","v":117.039},{"$f":"H56","v":"Annette Traulsen"},{"$f":"SMALL($AL$57:$AM$128,29)","v":99.046000000000006},"Allan Pedersen",99.046000000000006,"Allan Pedersen",{"$f":"IF(AQ85=\"\",\"\",VLOOKUP(AQ85,Deltagere!$C$4:$I$1003,2,FALSE))","v":"Krolffolket"},99]
[null,{"$f":"IF(C86=\"\",\"\",VLOOKUP(C86,Deltagere!$C$4:$I$1003,7,FALSE))","v":488},{"$f":"IF('Holdsammensætning  '!C54=\"\",\"\",'Holdsammensætning  '!C54)","v":"Vibeke Jørgensen"},{"$f":"IF(C86=\"\",\"\",VLOOKUP(C86,Deltagere!$C$4:$I$1003,2,FALSE))","v":"Krolffolket"},52,null,466,{"$f":"IF(G86=\"\",\"\",VLOOKUP(G86,Deltagere!$B$4:$I$1003,2,FALSE))","v":"Finn Jørgensen"},{"$f":"IF(G86=\"\",\"\",VLOOKUP(G86,Deltagere!$B$4:$I$1003,5,FALSE))","v":"M"},{"$f":"IF(G86=\"\",\"\",VLOOKUP(G86,$B$7:$E$129,4,FALSE))","v":55},{"$f":"IF(G86=\"\",\"\",VLOOKUP(G86,$B$133:$F$255,4,FALSE))","v":50},{"$f":"IF(G86=\"\",500,SUM(J86:K86))","v":105},{"$f":"IF(I86=\"m\",L86,\"\")","v":105},{"$f":"IF(I86=\"K\",L86,\"\")","v":""},null,{"$f":"SUM(L84:L87)","v":396},null,null,null,null,null,null,null,null,null,null,null,null,null,null,null,null,null,null,null,null,30,{"$f":"L57+0.04","v":132.04},{"$f":"H57","v":"Anette Nielsen"},{"$f":"SMALL($AL$57:$AM$128,30)","v":100.01600000000001},"Tage Jensen",100.01600000000001,"Tage Jensen",{"$f":"IF(AQ86=\"\",\"\",VLOOKUP(AQ86,Deltagere!$C$4:$I$1003,2,FALSE))","v":"Meløse"},100]
[null,{"$f":"IF(C87=\"\",\"\",VLOOKUP(C87,Deltagere!$C$4:$I$1003,7,FALSE))","v":612},{"$f":"IF('Holdsammensætning  '!C55=\"\",\"\",'Holdsammensætning  '!C55)","v":"Adam Kristoffersen"},{"$f":"IF(C87=\"\",\"\",VLOOKUP(C87,Deltagere!$C$4:$I$1003,2,FALSE))","v":"IF Vikingerne"},47,null,498,{"$f":"IF(G87=\"\",\"\",VLOOKUP(G87,Deltagere!$B$4:$I$1003,2,FALSE))","v":"Peter Christensen"},{"$f":"IF(G87=\"\",\"\",VLOOKUP(G87,Deltagere!$B$4:$I$1003,5,FALSE))","v":"M"},{"$f":"IF(G87=\"\",\"\",VLOOKUP(G87,$B$7:$E$129,4,FALSE))","v":48},{"$f":"IF(G87=\"\",\"\",VLOOKUP(G87,$B$133:$F$255,4,FALSE))","v":46},{"$f":"IF(G87=\"\",500,SUM(J87:K87))","v":94},{"$f":"IF(I87=\"m\",L87,\"\")","v":94},{"$f":"IF(I87=\"K\",L87,\"\")","v":""},null,null,null,null,null,null,null,null,null,null,null,null,null,null,null,null,null,null,null,null,null,null,31,{"$f":"L58+0.041","v":132.041},{"$f":"H58","v":"Lis Rasmussen"},{"$f":"SMALL($AL$57:$AM$128,31)","v":100.018},"Connie Bregnvig",100.018,"Connie Bregnvig",{"$f":"IF(AQ87=\"\",\"\",VLOOKUP(AQ87,Deltagere!$C$4:$I$1003,2,FALSE))","v":"Meløse"},100]
[null,null,null,null,null,null,null,null,null,null,null,null,null,null,null,null,null,null,null,null,null,null,null,null,null,null,null,null,null,null,null,null,null,null,null,null,32,{"$f":"L59+0.042","v":119.042},{"$f":"H59","v":"Annette Lykke Madsen"},{"$f":"SMALL($AL$57:$AM$128,32)","v":100.03},"Lone Nielsen",100.03,"Lone Nielsen",{"$f":"IF(AQ88=\"\",\"\",VLOOKUP(AQ88,Deltagere!$C$4:$I$1003,2,FALSE))","v":"BK"},100]
[null,"Hold 13","Start ved hul nr.",{"$f":"IF($R$4=\"\",\"\",VLOOKUP($R$4,$R$8:$AI$24,13,FALSE))","v":13},"Runde ",null,"Nr.","Hold - Spiller",null,null,null,null,null,null,null,null,null,null,null,null,null,null,null,null,null,null,null,null,null,null,null,null,null,null,null,null,33,{"$f":"L63+0.043","v":96.043000000000006},{"$f":"H63","v":"Hanne Hansen"},{"$f":"SMALL($AL$57:$AM$128,33)","v":100.045},"Jim Jørgensen",100.045,"Jim Jørgensen",{"$f":"IF(AQ89=\"\",\"\",VLOOKUP(AQ89,Deltagere!$C$4:$I$1003,2,FALSE))","v":"Krolffolket"},100]
[null,"Nummer","Navn","Klub",1,null,455,{"$f":"IF(G90=\"\",\"\",VLOOKUP(G90,Deltagere!$I$4:$J$1003,2,FALSE))","v":"Krolffolket 5"},"M/K","Runde 1","Runde 2","I alt","M","K",null,"Total",null,null,null,null,null,null,null,null,null,null,null,null,null,null,null,null,null,null,null,null,34,{"$f":"L64+0.044","v":94.043999999999997},{"$f":"H64","v":"Lone Hansen"},{"$f":"SMALL($AL$57:$AM$128,34)","v":101.017},"Lise Qvist Bebe",101.017,"Lise Qvist Bebe",{"$f":"IF(AQ90=\"\",\"\",VLOOKUP(AQ90,Deltagere!$C$4:$I$1003,2,FALSE))","v":"Meløse"},101]
[null,{"$f":"IF(C91=\"\",\"\",VLOOKUP(C91,Deltagere!$C$4:$I$1003,7,FALSE))","v":63},{"$f":"IF('Holdsammensætning  '!C56=\"\",\"\",'Holdsammensætning  '!C56)","v":"Lennert Sørensen"},{"$f":"IF(C91=\"\",\"\",VLOOKUP(C91,Deltagere!$C$4:$I$1003,2,FALSE))","v":"Meløse"},51,null,457,{"$f":"IF(G91=\"\",\"\",VLOOKUP(G91,Deltagere!$B$4:$I$1003,2,FALSE))","v":"Lisser Kristensen"},{"$f":"IF(G91=\"\",\"\",VLOOKUP(G91,Deltagere!$B$4:$I$1003,5,FALSE))","v":"K"},{"$f":"IF(G91=\"\",\"\",VLOOKUP(G91,$B$7:$E$129,4,FALSE))","v":52},{"$f":"IF(G91=\"\",\"\",VLOOKUP(G91,$B$133:$F$255,4,FALSE))","v":51},{"$f":"IF(G91=\"\",500,SUM(J91:K91))","v":103},{"$f":"IF(I91=\"M\",L91,\"\")","v":""},{"$f":"IF(I91=\"K\",L91,\"\")","v":103},null,{"$f":"H90","v":"Krolffolket 5"},null,null,null,null,null,null,null,null,null,null,null,null,null,null,null,null,null,null,null,null,35,{"$f":"L65+0.045","v":100.045},{"$f":"H65","v":"Jim Jørgensen"},{"$f":"SMALL($AL$57:$AM$128,35)","v":101.02500000000001},"Jørgen Hvilsom",101.02500000000001,"Jørgen Hvilsom",{"$f":"IF(AQ91=\"\",\"\",VLOOKUP(AQ91,Deltagere!$C$4:$I$1003,2,FALSE))","v":"Meløse"},101]
[null,{"$f":"IF(C92=\"\",\"\",VLOOKUP(C92,Deltagere!$C$4:$I$1003,7,FALSE))","v":459},{"$f":"IF('Holdsammensætning  '!C57=\"\",\"\",'Holdsammensætning  '!C57)","v":"Michael Jørgensen"},{"$f":"IF(C92=\"\",\"\",VLOOKUP(C92,Deltagere!$C$4:$I$1003,2,FALSE))","v":"Krolffolket"},50,null,495,{"$f":"IF(G92=\"\",\"\",VLOOKUP(G92,Deltagere!$B$4:$I$1003,2,FALSE))","v":"Ole Christensen"},{"$f":"IF(G92=\"\",\"\",VLOOKUP(G92,Deltagere!$B$4:$I$1003,5,FALSE))","v":"M"},{"$f":"IF(G92=\"\",\"\",VLOOKUP(G92,$B$7:$E$129,4,FALSE))","v":54},{"$f":"IF(G92=\"\",\"\",VLOOKUP(G92,$B$133:$F$255,4,FALSE))","v":50},{"$f":"IF(G92=\"\",500,SUM(J92:K92))","v":104},{"$f":"IF(I92=\"M\",L92,\"\")","v":104},{"$f":"IF(I92=\"K\",L92,\"\")","v":""},null,null,null,null,null,null,null,null,null,null,null,null,null,null,null,null,null,null,null,null,null,null,36,{"$f":"L66+0.046","v":99.046000000000006},{"$f":"H66","v":"Allan Pedersen"},{"$f":"SMALL($AL$57:$AM$128,36)","v":101.033},"Annie Damsgaard",101.033,"Annie Damsgaard",{"$f":"IF(AQ92=\"\",\"\",VLOOKUP(AQ92,Deltagere!$C$4:$I$1003,2,FALSE))","v":"BK"},101]
[null,{"$f":"IF(C93=\"\",\"\",VLOOKUP(C93,Deltagere!$C$4:$I$1003,7,FALSE))","v":494},{"$f":"IF('Holdsammensætning  '!C58=\"\",\"\",'Holdsammensætning  '!C58)","v":"Ida Olsen"},{"$f":"IF(C93=\"\",\"\",VLOOKUP(C93,Deltagere!$C$4:$I$1003,2,FALSE))","v":"Krolffolket"},48,null,488,{"$f":"IF(G93=\"\",\"\",VLOOKUP(G93,Deltagere!$B$4:$I$1003,2,FALSE))","v":"Vibeke Jørgensen"},{"$f":"IF(G93=\"\",\"\",VLOOKUP(G93,Deltagere!$B$4:$I$1003,5,FALSE))","v":"K"},{"$f":"IF(G93=\"\",\"\",VLOOKUP(G93,$B$7:$E$129,4,FALSE))","v":52},{"$f":"IF(G93=\"\",\"\",VLOOKUP(G93,$B$133:$F$255,4,FALSE))","v":45},{"$f":"IF(G93=\"\",500,SUM(J93:K93))","v":97},{"$f":"IF(I93=\"M\",L93,\"\")","v":""},{"$f":"IF(I93=\"K\",L93,\"\")","v":97},null,{"$f":"SUM(L91:L94)","v":408},null,null,null,null,null,null,null,null,null,null,null,null,null,null,null,null,null,null,null,null,37,{"$f":"L70+0.047","v":94.046999999999997},{"$f":"H70","v":"Michael Jørgensen"},{"$f":"SMALL($AL$57:$AM$128,37)","v":101.03400000000001},"Preben Madsen",101.03400000000001,"Preben Madsen",{"$f":"IF(AQ93=\"\",\"\",VLOOKUP(AQ93,Deltagere!$C$4:$I$1003,2,FALSE))","v":"BK"},101]
[null,{"$f":"IF(C94=\"\",\"\",VLOOKUP(C94,Deltagere!$C$4:$I$1003,7,FALSE))","v":318},{"$f":"IF('Holdsammensætning  '!C59=\"\",\"\",'Holdsammensætning  '!C59)","v":"Peter Sølsten"},{"$f":"IF(C94=\"\",\"\",VLOOKUP(C94,Deltagere!$C$4:$I$1003,2,FALSE))","v":"BK"},60,null,464,{"$f":"IF(G94=\"\",\"\",VLOOKUP(G94,Deltagere!$B$4:$I$1003,2,FALSE))","v":"Gytha Szumlanski"},{"$f":"IF(G94=\"\",\"\",VLOOKUP(G94,Deltagere!$B$4:$I$1003,5,FALSE))","v":"K"},{"$f":"IF(G94=\"\",\"\",VLOOKUP(G94,$B$7:$E$129,4,FALSE))","v":53},{"$f":"IF(G94=\"\",\"\",VLOOKUP(G94,$B$133:$F$255,4,FALSE))","v":51},{"$f":"IF(G94=\"\",500,SUM(J94:K94))","v":104},{"$f":"IF(I94=\"M\",L94,\"\")","v":""},{"$f":"IF(I94=\"K\",L94,\"\")","v":104},null,null,null,null,null,null,null,null,null,null,null,null,null,null,null,null,null,null,null,null,null,null,38,{"$f":"L71+0.048","v":98.048000000000002},{"$f":"H71","v":"Alice Rask"},{"$f":"SMALL($AL$57:$AM$128,38)","v":101.038},"Tove Perlt",101.038,"Tove Perlt",{"$f":"IF(AQ94=\"\",\"\",VLOOKUP(AQ94,Deltagere!$C$4:$I$1003,2,FALSE))","v":"BK"},101]
[null,null,null,null,null,null,null,null,null,null,null,null,null,null,null,null,null,null,null,null,null,null,null,null,null,null,null,null,null,null,null,null,null,null,null,null,39,{"$f":"L72+0.049","v":97.049000000000007},{"$f":"H72","v":"Kjeld Hansen"},{"$f":"SMALL($AL$57:$AM$128,39)","v":101.06699999999999},"Ida Olsen",101.06699999999999,"Ida Olsen",{"$f":"IF(AQ95=\"\",\"\",VLOOKUP(AQ95,Deltagere!$C$4:$I$1003,2,FALSE))","v":"Krolffolket"},101]
[null,"Hold 14","Start ved hul nr.",{"$f":"IF($R$4=\"\",\"\",VLOOKUP($R$4,$R$8:$AI$24,14,FALSE))","v":14},"Runde ",null,"Nr.","Hold - Spiller",null,null,null,null,null,null,null,null,null,null,null,null,null,null,null,null,null,null,null,null,null,null,null,null,null,null,null,null,40,{"$f":"L73+0.05","v":97.05},{"$f":"H73","v":"Bjørn Krogh"},{"$f":"SMALL($AL$57:$AM$128,40)","v":102.021},"Petra Knudsen",102.021,"Petra Knudsen",{"$f":"IF(AQ96=\"\",\"\",VLOOKUP(AQ96,Deltagere!$C$4:$I$1003,2,FALSE))","v":"Meløse"},102]
[null,"Nummer","Navn","Klub",1,null,456,{"$f":"IF(G97=\"\",\"\",VLOOKUP(G97,Deltagere!$I$4:$J$1003,2,FALSE))","v":"Krolffolket 6"},"M/K","Runde 1","Runde 2","I alt","M","K",null,"Total",null,null,null,null,null,null,null,null,null,null,null,null,null,null,null,null,null,null,null,null,41,{"$f":"L77+0.051","v":92.051000000000002},{"$f":"H77","v":"Ingrid Jensen"},{"$f":"SMALL($AL$57:$AM$128,41)","v":102.024},"Søren Helbo",102.024,"Søren Helbo",{"$f":"IF(AQ97=\"\",\"\",VLOOKUP(AQ97,Deltagere!$C$4:$I$1003,2,FALSE))","v":"Meløse"},102]
[null,{"$f":"IF(C98=\"\",\"\",VLOOKUP(C98,Deltagere!$C$4:$I$1003,7,FALSE))","v":65},{"$f":"IF('Holdsammensætning  '!C60=\"\",\"\",'Holdsammensætning  '!C60)","v":"Anne Marie Laustsen"},{"$f":"IF(C98=\"\",\"\",VLOOKUP(C98,Deltagere!$C$4:$I$1003,2,FALSE))","v":"Meløse"},64,null,452,{"$f":"IF(G98=\"\",\"\",VLOOKUP(G98,Deltagere!$B$4:$I$1003,2,FALSE))","v":"Helga Andersen"},{"$f":"IF(G98=\"\",\"\",VLOOKUP(G98,Deltagere!$B$4:$I$1003,5,FALSE))","v":"K"},{"$f":"IF(G98=\"\",\"\",VLOOKUP(G98,$B$7:$E$129,4,FALSE))","v":51},{"$f":"IF(G98=\"\",\"\",VLOOKUP(G98,$B$133:$F$255,4,FALSE))","v":47},{"$f":"IF(G98=\"\",500,SUM(J98:K98))","v":98},{"$f":"IF(I98=\"M\",L98,\"\")","v":""},{"$f":"IF(I98=\"K\",L98,\"\")","v":98},null,{"$f":"H97","v":"Krolffolket 6"},null,null,null,null,null,null,null,null,null,null,null,null,null,null,null,null,null,null,null,null,42,{"$f":"L78+0.052","v":97.052000000000007},{"$f":"H78","v":"Liselotte Storgaard"},{"$f":"SMALL($AL$57:$AM$128,42)","v":102.06399999999999},"Jette S. Olsen",102.06399999999999,"Jette S. Olsen",{"$f":"IF(AQ98=\"\",\"\",VLOOKUP(AQ98,Deltagere!$C$4:$I$1003,2,FALSE))","v":"Krolffolket"},102]
[null,{"$f":"IF(C99=\"\",\"\",VLOOKUP(C99,Deltagere!$C$4:$I$1003,7,FALSE))","v":458},{"$f":"IF('Holdsammensætning  '!C61=\"\",\"\",'Holdsammensætning  '!C61)","v":"Jørgen Hansen"},{"$f":"IF(C99=\"\",\"\",VLOOKUP(C99,Deltagere!$C$4:$I$1003,2,FALSE))","v":"Krolffolket"},50,null,455,{"$f":"IF(G99=\"\",\"\",VLOOKUP(G99,Deltagere!$B$4:$I$1003,2,FALSE))","v":"Jette S. Olsen"},{"$f":"IF(G99=\"\",\"\",VLOOKUP(G99,Deltagere!$B$4:$I$1003,5,FALSE))","v":"K"},{"$f":"IF(G99=\"\",\"\",VLOOKUP(G99,$B$7:$E$129,4,FALSE))","v":54},{"$f":"IF(G99=\"\",\"\",VLOOKUP(G99,$B$133:$F$255,4,FALSE))","v":48},{"$f":"IF(G99=\"\",500,SUM(J99:K99))","v":102},{"$f":"IF(I99=\"M\",L99,\"\")","v":""},{"$f":"IF(I99=\"K\",L99,\"\")","v":102},null,null,null,null,null,null,null,null,null,null,null,null,null,null,null,null,null,null,null,null,null,null,43,{"$f":"L79+0.053","v":98.052999999999997},{"$f":"H79","v":"Christian Blid"},{"$f":"SMALL($AL$57:$AM$128,43)","v":102.08199999999999},"Søren Skourup",102.08199999999999,"Søren Skourup",{"$f":"IF(AQ99=\"\",\"\",VLOOKUP(AQ99,Deltagere!$C$4:$I$1003,2,FALSE))","v":"IF Vikingerne"},102]
[null,{"$f":"IF(C100=\"\",\"\",VLOOKUP(C100,Deltagere!$C$4:$I$1003,7,FALSE))","v":495},{"$f":"IF('Holdsammensætning  '!C62=\"\",\"\",'Holdsammensætning  '!C62)","v":"Ole Christensen"},{"$f":"IF(C100=\"\",\"\",VLOOKUP(C100,Deltagere!$C$4:$I$1003,2,FALSE))","v":"Krolffolket"},54,null,485,{"$f":"IF(G100=\"\",\"\",VLOOKUP(G100,Deltagere!$B$4:$I$1003,2,FALSE))","v":"Ole Nilaus Nielsen"},{"$f":"IF(G100=\"\",\"\",VLOOKUP(G100,Deltagere!$B$4:$I$1003,5,FALSE))","v":"M"},{"$f":"IF(G100=\"\",\"\",VLOOKUP(G100,$B$7:$E$129,4,FALSE))","v":52},{"$f":"IF(G100=\"\",\"\",VLOOKUP(G100,$B$133:$F$255,4,FALSE))","v":56},{"$f":"IF(G100=\"\",500,SUM(J100:K100))","v":108},{"$f":"IF(I100=\"M\",L100,\"\")","v":108},{"$f":"IF(I100=\"K\",L100,\"\")","v":""},null,{"$f":"SUM(L98:L101)","v":404},null,null,null,null,null,null,null,null,null,null,null,null,null,null,null,null,null,null,null,null,44,{"$f":"L80+0.054","v":91.054000000000002},{"$f":"H80","v":"Jørgen Hansen"},{"$f":"SMALL($AL$57:$AM$128,44)","v":103.02},"Niels Aare Jensen",103.02,"Niels Aare Jensen",{"$f":"IF(AQ100=\"\",\"\",VLOOKUP(AQ100,Deltagere!$C$4:$I$1003,2,FALSE))","v":"Meløse"},103]
[null,{"$f":"IF(C101=\"\",\"\",VLOOKUP(C101,Deltagere!$C$4:$I$1003,7,FALSE))","v":610},{"$f":"IF('Holdsammensætning  '!C63=\"\",\"\",'Holdsammensætning  '!C63)","v":"Sarah Christiansen"},{"$f":"IF(C101=\"\",\"\",VLOOKUP(C101,Deltagere!$C$4:$I$1003,2,FALSE))","v":"IF Vikingerne"},53,null,487,{"$f":"IF(G101=\"\",\"\",VLOOKUP(G101,Deltagere!$B$4:$I$1003,2,FALSE))","v":"Susanne Blok"},{"$f":"IF(G101=\"\",\"\",VLOOKUP(G101,Deltagere!$B$4:$I$1003,5,FALSE))","v":"K"},{"$f":"IF(G101=\"\",\"\",VLOOKUP(G101,$B$7:$E$129,4,FALSE))","v":47},{"$f":"IF(G101=\"\",\"\",VLOOKUP(G101,$B$133:$F$255,4,FALSE))","v":49},{"$f":"IF(G101=\"\",500,SUM(J101:K101))","v":96},{"$f":"IF(I101=\"M\",L101,\"\")","v":""},{"$f":"IF(I101=\"K\",L101,\"\")","v":96},null,null,null,null,null,null,null,null,null,null,null,null,null,null,null,null,null,null,null,null,null,null,45,{"$f":"L84+0.055","v":105.05500000000001},{"$f":"H84","v":"Ivan Szumlanski"},{"$f":"SMALL($AL$57:$AM$128,45)","v":103.059},"Lisser Kristensen",103.059,"Lisser Kristensen",{"$f":"IF(AQ101=\"\",\"\",VLOOKUP(AQ101,Deltagere!$C$4:$I$1003,2,FALSE))","v":"Krolffolket"},103]
[null,null,null,null,null,null,null,null,null,null,null,null,null,null,null,null,null,null,null,null,null,null,null,null,null,null,null,null,null,null,null,null,null,null,null,null,46,{"$f":"L85+0.056","v":92.055999999999997},{"$f":"H85","v":"Allan Larsen"},{"$f":"SMALL($AL$57:$AM$128,46)","v":104.06},"Ole Christensen",104.06,"Ole Christensen",{"$f":"IF(AQ102=\"\",\"\",VLOOKUP(AQ102,Deltagere!$C$4:$I$1003,2,FALSE))","v":"Krolffolket"},104]
[null,"Hold 15","Start ved hul nr.",{"$f":"IF($R$4=\"\",\"\",VLOOKUP($R$4,$R$8:$AI$24,15,FALSE))","v":15},"Runde ",null,"Nr.","Hold - Spiller",null,null,null,null,null,null,null,null,null,null,null,null,null,null,null,null,null,null,null,null,null,null,null,null,null,null,null,null,47,{"$f":"L86+0.057","v":105.057},{"$f":"H86","v":"Finn Jørgensen"},{"$f":"SMALL($AL$57:$AM$128,47)","v":104.062},"Gytha Szumlanski",104.062,"Gytha Szumlanski",{"$f":"IF(AQ103=\"\",\"\",VLOOKUP(AQ103,Deltagere!$C$4:$I$1003,2,FALSE))","v":"Krolffolket"},104]
[null,"Nummer","Navn","Klub",1,null,457,{"$f":"IF(G104=\"\",\"\",VLOOKUP(G104,Deltagere!$I$4:$J$1003,2,FALSE))","v":"Krolffolket 7"},"M/K","Runde 1","Runde 2","I alt","M","K",null,"Total",null,null,null,null,null,null,null,null,null,null,null,null,null,null,null,null,null,null,null,null,48,{"$f":"L87+0.058","v":94.058000000000007},{"$f":"H87","v":"Peter Christensen"},{"$f":"SMALL($AL$57:$AM$128,48)","v":104.08},"Kian Andersen",104.08,"Kian Andersen",{"$f":"IF(AQ104=\"\",\"\",VLOOKUP(AQ104,Deltagere!$C$4:$I$1003,2,FALSE))","v":"IF Vikingerne"},104]
[null,{"$f":"IF(C105=\"\",\"\",VLOOKUP(C105,Deltagere!$C$4:$I$1003,7,FALSE))","v":74},{"$f":"IF('Holdsammensætning  '!C64=\"\",\"\",'Holdsammensætning  '!C64)","v":"Lise Qvist Bebe"},{"$f":"IF(C105=\"\",\"\",VLOOKUP(C105,Deltagere!$C$4:$I$1003,2,FALSE))","v":"Meløse"},51,null,494,{"$f":"IF(G105=\"\",\"\",VLOOKUP(G105,Deltagere!$B$4:$I$1003,2,FALSE))","v":"Ida Olsen"},{"$f":"IF(G105=\"\",\"\",VLOOKUP(G105,Deltagere!$B$4:$I$1003,5,FALSE))","v":"K"},{"$f":"IF(G105=\"\",\"\",VLOOKUP(G105,$B$7:$E$129,4,FALSE))","v":48},{"$f":"IF(G105=\"\",\"\",VLOOKUP(G105,$B$133:$F$255,4,FALSE))","v":53},{"$f":"IF(G105=\"\",500,SUM(J105:K105))","v":101},{"$f":"IF(I105=\"M\",L105,\"\")","v":""},{"$f":"IF(I105=\"K\",L105,\"\")","v":101},null,{"$f":"H104","v":"Krolffolket 7"},null,null,null,null,null,null,null,null,null,null,null,null,null,null,null,null,null,null,null,null,49,{"$f":"L91+0.059","v":103.059},{"$f":"H91","v":"Lisser Kristensen"},{"$f":"SMALL($AL$57:$AM$128,49)","v":105.03100000000001},"Åge  Zcharau",105.03100000000001,"Åge  Zcharau",{"$f":"IF(AQ105=\"\",\"\",VLOOKUP(AQ105,Deltagere!$C$4:$I$1003,2,FALSE))","v":"BK"},105]
[null,{"$f":"IF(C106=\"\",\"\",VLOOKUP(C106,Deltagere!$C$4:$I$1003,7,FALSE))","v":322},{"$f":"IF('Holdsammensætning  '!C65=\"\",\"\",'Holdsammensætning  '!C65)","v":"Anette Nielsen"},{"$f":"IF(C106=\"\",\"\",VLOOKUP(C106,Deltagere!$C$4:$I$1003,2,FALSE))","v":"BK"},67,null,454,{"$f":"IF(G106=\"\",\"\",VLOOKUP(G106,Deltagere!$B$4:$I$1003,2,FALSE))","v":"Erik Wagner"},{"$f":"IF(G106=\"\",\"\",VLOOKUP(G106,Deltagere!$B$4:$I$1003,5,FALSE))","v":"M"},{"$f":"IF(G106=\"\",\"\",VLOOKUP(G106,$B$7:$E$129,4,FALSE))","v":52},{"$f":"IF(G106=\"\",\"\",VLOOKUP(G106,$B$133:$F$255,4,FALSE))","v":56},{"$f":"IF(G106=\"\",500,SUM(J106:K106))","v":108},{"$f":"IF(I106=\"M\",L106,\"\")","v":108},{"$f":"IF(I106=\"K\",L106,\"\")","v":""},null,null,null,null,null,null,null,null,null,null,null,null,null,null,null,null,null,null,null,null,null,null,50,{"$f":"L92+0.06","v":104.06},{"$f":"H92","v":"Ole Christensen"},{"$f":"SMALL($AL$57:$AM$128,50)","v":105.05500000000001},"Ivan Szumlanski",105.05500000000001,"Ivan Szumlanski",{"$f":"IF(AQ106=\"\",\"\",VLOOKUP(AQ106,Deltagere!$C$4:$I$1003,2,FALSE))","v":"Krolffolket"},105]
[null,{"$f":"IF(C107=\"\",\"\",VLOOKUP(C107,Deltagere!$C$4:$I$1003,7,FALSE))","v":498},{"$f":"IF('Holdsammensætning  '!C66=\"\",\"\",'Holdsammensætning  '!C66)","v":"Peter Christensen"},{"$f":"IF(C107=\"\",\"\",VLOOKUP(C107,Deltagere!$C$4:$I$1003,2,FALSE))","v":"Krolffolket"},48,null,480,{"$f":"IF(G107=\"\",\"\",VLOOKUP(G107,Deltagere!$B$4:$I$1003,2,FALSE))","v":"Lissi Lindberg"},{"$f":"IF(G107=\"\",\"\",VLOOKUP(G107,Deltagere!$B$4:$I$1003,5,FALSE))","v":"K"},{"$f":"IF(G107=\"\",\"\",VLOOKUP(G107,$B$7:$E$129,4,FALSE))","v":53},{"$f":"IF(G107=\"\",\"\",VLOOKUP(G107,$B$133:$F$255,4,FALSE))","v":56},{"$f":"IF(G107=\"\",500,SUM(J107:K107))","v":109},{"$f":"IF(I107=\"M\",L107,\"\")","v":""},{"$f":"IF(I107=\"K\",L107,\"\")","v":109},null,{"$f":"SUM(L105:L108)","v":415},null,null,null,null,null,null,null,null,null,null,null,null,null,null,null,null,null,null,null,null,51,{"$f":"L93+0.061","v":97.061000000000007},{"$f":"H93","v":"Vibeke Jørgensen"},{"$f":"SMALL($AL$57:$AM$128,51)","v":105.057},"Finn Jørgensen",105.057,"Finn Jørgensen",{"$f":"IF(AQ107=\"\",\"\",VLOOKUP(AQ107,Deltagere!$C$4:$I$1003,2,FALSE))","v":"Krolffolket"},105]
[null,{"$f":"IF(C108=\"\",\"\",VLOOKUP(C108,Deltagere!$C$4:$I$1003,7,FALSE))","v":""},{"$f":"IF('Holdsammensætning  '!C67=\"\",\"\",'Holdsammensætning  '!C67)","v":""},{"$f":"IF(C108=\"\",\"\",VLOOKUP(C108,Deltagere!$C$4:$I$1003,2,FALSE))","v":""},null,null,483,{"$f":"IF(G108=\"\",\"\",VLOOKUP(G108,Deltagere!$B$4:$I$1003,2,FALSE))","v":"Lone S. Nielsen"},{"$f":"IF(G108=\"\",\"\",VLOOKUP(G108,Deltagere!$B$4:$I$1003,5,FALSE))","v":"K"},{"$f":"IF(G108=\"\",\"\",VLOOKUP(G108,$B$7:$E$129,4,FALSE))","v":45},{"$f":"IF(G108=\"\",\"\",VLOOKUP(G108,$B$133:$F$255,4,FALSE))","v":52},{"$f":"IF(G108=\"\",500,SUM(J108:K108))","v":97},{"$f":"IF(I108=\"M\",L108,\"\")","v":""},{"$f":"IF(I108=\"K\",L108,\"\")","v":97},null,null,null,null,null,null,null,null,null,null,null,null,null,null,null,null,null,null,null,null,null,null,52,{"$f":"L94+0.062","v":104.062},{"$f":"H94","v":"Gytha Szumlanski"},{"$f":"SMALL($AL$57:$AM$128,52)","v":107.012},"Mogens Bodilsen",107.012,"Mogens Bodilsen",{"$f":"IF(AQ108=\"\",\"\",VLOOKUP(AQ108,Deltagere!$C$4:$I$1003,2,FALSE))","v":"Meløse"},107]
[null,null,null,null,null,null,null,null,null,null,null,null,null,null,null,null,null,null,null,null,null,null,null,null,null,null,null,null,null,null,null,null,null,null,null,null,53,{"$f":"L98+0.063","v":98.063000000000002},{"$f":"H98","v":"Helga Andersen"},{"$f":"SMALL($AL$57:$AM$128,53)","v":107.07599999999999},"Sarah Christiansen",107.07599999999999,"Sarah Christiansen",{"$f":"IF(AQ109=\"\",\"\",VLOOKUP(AQ109,Deltagere!$C$4:$I$1003,2,FALSE))","v":"IF Vikingerne"},107]
[null,"Hold 16","Start ved hul nr.",{"$f":"IF($R$4=\"\",\"\",VLOOKUP($R$4,$R$8:$AI$24,16,FALSE))","v":16},"Runde ",null,"Nr.","Hold - Spiller",null,null,null,null,null,null,null,null,null,null,null,null,null,null,null,null,null,null,null,null,null,null,null,null,null,null,null,null,54,{"$f":"L99+0.064","v":102.06399999999999},{"$f":"H99","v":"Jette S. Olsen"},{"$f":"SMALL($AL$57:$AM$128,54)","v":108.065},"Ole Nilaus Nielsen",108.065,"Ole Nilaus Nielsen",{"$f":"IF(AQ110=\"\",\"\",VLOOKUP(AQ110,Deltagere!$C$4:$I$1003,2,FALSE))","v":"Krolffolket"},108]
[null,"Nummer","Navn","Klub",1,null,458,{"$f":"IF(G111=\"\",\"\",VLOOKUP(G111,Deltagere!$I$4:$J$1003,2,FALSE))","v":"Krolffolket 8"},"M/K","Runde 1","Runde 2","I alt","M","K",null,"Total",null,null,null,null,null,null,null,null,null,null,null,null,null,null,null,null,null,null,null,null,55,{"$f":"L100+0.065","v":108.065},{"$f":"H100","v":"Ole Nilaus Nielsen"},{"$f":"SMALL($AL$57:$AM$128,55)","v":108.068},"Erik Wagner",108.068,"Erik Wagner",{"$f":"IF(AQ111=\"\",\"\",VLOOKUP(AQ111,Deltagere!$C$4:$I$1003,2,FALSE))","v":"Krolffolket"},108]
[null,{"$f":"IF(C112=\"\",\"\",VLOOKUP(C112,Deltagere!$C$4:$I$1003,7,FALSE))","v":484},{"$f":"IF('Holdsammensætning  '!C68=\"\",\"\",'Holdsammensætning  '!C68)","v":"Majbritt Nielsen"},{"$f":"IF(C112=\"\",\"\",VLOOKUP(C112,Deltagere!$C$4:$I$1003,2,FALSE))","v":"Krolffolket"},45,null,477,{"$f":"IF(G112=\"\",\"\",VLOOKUP(G112,Deltagere!$B$4:$I$1003,2,FALSE))","v":"Inge Sørensen"},{"$f":"IF(G112=\"\",\"\",VLOOKUP(G112,Deltagere!$B$4:$I$1003,5,FALSE))","v":"K"},{"$f":"IF(G112=\"\",\"\",VLOOKUP(G112,$B$7:$E$129,4,FALSE))","v":54},{"$f":"IF(G112=\"\",\"\",VLOOKUP(G112,$B$133:$F$255,4,FALSE))","v":54},{"$f":"IF(G112=\"\",500,SUM(J112:K112))","v":108},{"$f":"IF(I112=\"M\",L112,\"\")","v":""},{"$f":"IF(I112=\"K\",L112,\"\")","v":108},null,{"$f":"H111","v":"Krolffolket 8"},null,null,null,null,null,null,null,null,null,null,null,null,null,null,null,null,null,null,null,null,56,{"$f":"L101+0.066","v":96.066000000000003},{"$f":"H101","v":"Susanne Blok"},{"$f":"SMALL($AL$57:$AM$128,56)","v":108.071},"Inge Sørensen",108.071,"Inge Sørensen",{"$f":"IF(AQ112=\"\",\"\",VLOOKUP(AQ112,Deltagere!$C$4:$I$1003,2,FALSE))","v":"Krolffolket"},108]
[null,{"$f":"IF(C113=\"\",\"\",VLOOKUP(C113,Deltagere!$C$4:$I$1003,7,FALSE))","v":455},{"$f":"IF('Holdsammensætning  '!C69=\"\",\"\",'Holdsammensætning  '!C69)","v":"Jette S. Olsen"},{"$f":"IF(C113=\"\",\"\",VLOOKUP(C113,Deltagere!$C$4:$I$1003,2,FALSE))","v":"Krolffolket"},54,null,467,{"$f":"IF(G113=\"\",\"\",VLOOKUP(G113,Deltagere!$B$4:$I$1003,2,FALSE))","v":"Lena Kirkegaard"},{"$f":"IF(G113=\"\",\"\",VLOOKUP(G113,Deltagere!$B$4:$I$1003,5,FALSE))","v":"K"},{"$f":"IF(G113=\"\",\"\",VLOOKUP(G113,$B$7:$E$129,4,FALSE))","v":59},{"$f":"IF(G113=\"\",\"\",VLOOKUP(G113,$B$133:$F$255,4,FALSE))","v":51},{"$f":"IF(G113=\"\",500,SUM(J113:K113))","v":110},{"$f":"IF(I113=\"M\",L113,\"\")","v":""},{"$f":"IF(I113=\"K\",L113,\"\")","v":110},null,null,null,null,null,null,null,null,null,null,null,null,null,null,null,null,null,null,null,null,null,null,57,{"$f":"L105+0.067","v":101.06699999999999},{"$f":"H105","v":"Ida Olsen"},{"$f":"SMALL($AL$57:$AM$128,57)","v":109.069},"Lissi Lindberg",109.069,"Lissi Lindberg",{"$f":"IF(AQ113=\"\",\"\",VLOOKUP(AQ113,Deltagere!$C$4:$I$1003,2,FALSE))","v":"Krolffolket"},109]
[null,{"$f":"IF(C114=\"\",\"\",VLOOKUP(C114,Deltagere!$C$4:$I$1003,7,FALSE))","v":601},{"$f":"IF('Holdsammensætning  '!C70=\"\",\"\",'Holdsammensætning  '!C70)","v":"Anders Jørgensen"},{"$f":"IF(C114=\"\",\"\",VLOOKUP(C114,Deltagere!$C$4:$I$1003,2,FALSE))","v":"IF Vikingerne"},49,null,484,{"$f":"IF(G114=\"\",\"\",VLOOKUP(G114,Deltagere!$B$4:$I$1003,2,FALSE))","v":"Majbritt Nielsen"},{"$f":"IF(G114=\"\",\"\",VLOOKUP(G114,Deltagere!$B$4:$I$1003,5,FALSE))","v":"K"},{"$f":"IF(G114=\"\",\"\",VLOOKUP(G114,$B$7:$E$129,4,FALSE))","v":45},{"$f":"IF(G114=\"\",\"\",VLOOKUP(G114,$B$133:$F$255,4,FALSE))","v":52},{"$f":"IF(G114=\"\",500,SUM(J114:K114))","v":97},{"$f":"IF(I114=\"M\",L114,\"\")","v":""},{"$f":"IF(I114=\"K\",L114,\"\")","v":97},null,{"$f":"SUM(L112:L115)","v":426},null,null,null,null,null,null,null,null,null,null,null,null,null,null,null,null,null,null,null,null,58,{"$f":"L106+0.068","v":108.068},{"$f":"H106","v":"Erik Wagner"},{"$f":"SMALL($AL$57:$AM$128,58)","v":110.072},"Lena Kirkegaard",110.072,"Lena Kirkegaard",{"$f":"IF(AQ114=\"\",\"\",VLOOKUP(AQ114,Deltagere!$C$4:$I$1003,2,FALSE))","v":"Krolffolket"},110]
[null,{"$f":"IF(C115=\"\",\"\",VLOOKUP(C115,Deltagere!$C$4:$I$1003,7,FALSE))","v":320},{"$f":"IF('Holdsammensætning  '!C71=\"\",\"\",'Holdsammensætning  '!C71)","v":"Margit Larsen"},{"$f":"IF(C115=\"\",\"\",VLOOKUP(C115,Deltagere!$C$4:$I$1003,2,FALSE))","v":"BK"},62,null,486,{"$f":"IF(G115=\"\",\"\",VLOOKUP(G115,Deltagere!$B$4:$I$1003,2,FALSE))","v":"Benthe Dahl"},{"$f":"IF(G115=\"\",\"\",VLOOKUP(G115,Deltagere!$B$4:$I$1003,5,FALSE))","v":"K"},{"$f":"IF(G115=\"\",\"\",VLOOKUP(G115,$B$7:$E$129,4,FALSE))","v":57},{"$f":"IF(G115=\"\",\"\",VLOOKUP(G115,$B$133:$F$255,4,FALSE))","v":54},{"$f":"IF(G115=\"\",500,SUM(J115:K115))","v":111},{"$f":"IF(I115=\"M\",L115,\"\")","v":""},{"$f":"IF(I115=\"K\",L115,\"\")","v":111},null,null,null,null,null,null,null,null,null,null,null,null,null,null,null,null,null,null,null,null,null,null,59,{"$f":"L107+0.069","v":109.069},{"$f":"H107","v":"Lissi Lindberg"},{"$f":"SMALL($AL$57:$AM$128,59)","v":111.074},"Benthe Dahl",111.074,"Benthe Dahl",{"$f":"IF(AQ115=\"\",\"\",VLOOKUP(AQ115,Deltagere!$C$4:$I$1003,2,FALSE))","v":"Krolffolket"},111]
[null,null,null,null,null,null,null,null,null,null,null,null,null,null,null,null,null,null,null,null,null,null,null,null,null,null,null,null,null,null,null,null,null,null,null,null,60,{"$f":"L108+0.07","v":97.07},{"$f":"H108","v":"Lone S. Nielsen"},{"$f":"SMALL($AL$57:$AM$128,60)","v":112.032},"Conny Schackinger",112.032,"Conny Schackinger",{"$f":"IF(AQ116=\"\",\"\",VLOOKUP(AQ116,Deltagere!$C$4:$I$1003,2,FALSE))","v":"BK"},112]
[null,"Hold 17","Start ved hul nr.",{"$f":"IF($R$4=\"\",\"\",VLOOKUP($R$4,$R$8:$AI$24,17,FALSE))","v":17},"Runde ",null,"Nr.","Hold - Spiller",null,null,null,null,null,null,null,null,null,null,null,null,null,null,null,null,null,null,null,null,null,null,null,null,null,null,null,null,61,{"$f":"L112+0.071","v":108.071},{"$f":"H112","v":"Inge Sørensen"},{"$f":"SMALL($AL$57:$AM$128,61)","v":112.035},"Peter Sølsten",112.035,"Peter Sølsten",{"$f":"IF(AQ117=\"\",\"\",VLOOKUP(AQ117,Deltagere!$C$4:$I$1003,2,FALSE))","v":"BK"},112]
[null,"Nummer","Navn","Klub",1,null,951,{"$f":"IF(G118=\"\",\"\",VLOOKUP(G118,Deltagere!$I$4:$J$1003,2,FALSE))","v":"Blandet 1"},"M/K","Runde 1","Runde 2","I alt","M","K",null,"Total",null,null,null,null,null,null,null,null,null,null,null,null,null,null,null,null,null,null,null,null,62,{"$f":"L113+0.072","v":110.072},{"$f":"H113","v":"Lena Kirkegaard"},{"$f":"SMALL($AL$57:$AM$128,62)","v":115.075},"Steen Lergard",115.075,"Steen Lergard",{"$f":"IF(AQ118=\"\",\"\",VLOOKUP(AQ118,Deltagere!$C$4:$I$1003,2,FALSE))","v":"Krolffolket"},115]
[null,{"$f":"IF(C119=\"\",\"\",VLOOKUP(C119,Deltagere!$C$4:$I$1003,7,FALSE))","v":75},{"$f":"IF('Holdsammensætning  '!C72=\"\",\"\",'Holdsammensætning  '!C72)","v":"Peter Aare"},{"$f":"IF(C119=\"\",\"\",VLOOKUP(C119,Deltagere!$C$4:$I$1003,2,FALSE))","v":"Meløse"},42,null,451,{"$f":"IF(G119=\"\",\"\",VLOOKUP(G119,Deltagere!$B$4:$I$1003,2,FALSE))","v":"Steen Lergard"},{"$f":"IF(G119=\"\",\"\",VLOOKUP(G119,Deltagere!$B$4:$I$1003,5,FALSE))","v":"M"},{"$f":"IF(G119=\"\",\"\",VLOOKUP(G119,$B$7:$E$129,4,FALSE))","v":59},{"$f":"IF(G119=\"\",\"\",VLOOKUP(G119,$B$133:$F$255,4,FALSE))","v":56},{"$f":"IF(G119=\"\",500,SUM(J119:K119))","v":115},{"$f":"IF(I119=\"M\",L119,\"\")","v":115},{"$f":"IF(I119=\"K\",L119,\"\")","v":""},null,{"$f":"H118","v":"Blandet 1"},null,null,null,null,null,null,null,null,null,null,null,null,null,null,null,null,null,null,null,null,63,{"$f":"L114+0.073","v":97.072999999999993},{"$f":"H114","v":"Majbritt Nielsen"},{"$f":"SMALL($AL$57:$AM$128,63)","v":117.023},"Anne Marie Laustsen",117.023,"Anne Marie Laustsen",{"$f":"IF(AQ119=\"\",\"\",VLOOKUP(AQ119,Deltagere!$C$4:$I$1003,2,FALSE))","v":"Meløse"},117]
[null,{"$f":"IF(C120=\"\",\"\",VLOOKUP(C120,Deltagere!$C$4:$I$1003,7,FALSE))","v":453},{"$f":"IF('Holdsammensætning  '!C73=\"\",\"\",'Holdsammensætning  '!C73)","v":"Lone Hansen"},{"$f":"IF(C120=\"\",\"\",VLOOKUP(C120,Deltagere!$C$4:$I$1003,2,FALSE))","v":"Krolffolket"},49,null,610,{"$f":"IF(G120=\"\",\"\",VLOOKUP(G120,Deltagere!$B$4:$I$1003,2,FALSE))","v":"Sarah Christiansen"},{"$f":"IF(G120=\"\",\"\",VLOOKUP(G120,Deltagere!$B$4:$I$1003,5,FALSE))","v":"K"},{"$f":"IF(G120=\"\",\"\",VLOOKUP(G120,$B$7:$E$129,4,FALSE))","v":53},{"$f":"IF(G120=\"\",\"\",VLOOKUP(G120,$B$133:$F$255,4,FALSE))","v":54},{"$f":"IF(G120=\"\",500,SUM(J120:K120))","v":107},{"$f":"IF(I120=\"M\",L120,\"\")","v":""},{"$f":"IF(I120=\"K\",L120,\"\")","v":107},null,null,null,null,null,null,null,null,null,null,null,null,null,null,null,null,null,null,null,null,null,null,64,{"$f":"L115+0.074","v":111.074},{"$f":"H115","v":"Benthe Dahl"},{"$f":"SMALL($AL$57:$AM$128,64)","v":117.03700000000001},"Per Aune",117.03700000000001,"Per Aune",{"$f":"IF(AQ120=\"\",\"\",VLOOKUP(AQ120,Deltagere!$C$4:$I$1003,2,FALSE))","v":"BK"},117]
[null,{"$f":"IF(C121=\"\",\"\",VLOOKUP(C121,Deltagere!$C$4:$I$1003,7,FALSE))","v":317},{"$f":"IF('Holdsammensætning  '!C74=\"\",\"\",'Holdsammensætning  '!C74)","v":"Lis Rasmussen"},{"$f":"IF(C121=\"\",\"\",VLOOKUP(C121,Deltagere!$C$4:$I$1003,2,FALSE))","v":"BK"},66,null,null,{"$f":"IF(G121=\"\",\"\",VLOOKUP(G121,Deltagere!$B$4:$I$1003,2,FALSE))","v":""},{"$f":"IF(G121=\"\",\"\",VLOOKUP(G121,Deltagere!$B$4:$I$1003,5,FALSE))","v":""},{"$f":"IF(G121=\"\",\"\",VLOOKUP(G121,$B$7:$E$129,4,FALSE))","v":""},{"$f":"IF(G121=\"\",\"\",VLOOKUP(G121,$B$133:$F$255,4,FALSE))","v":""},{"$f":"IF(G121=\"\",500,SUM(J121:K121))","v":500},{"$f":"IF(I121=\"M\",L121,\"\")","v":""},{"$f":"IF(I121=\"K\",L121,\"\")","v":""},null,{"$f":"SUM(L119:L122)","v":1222},null,null,null,null,null,null,null,null,null,null,null,null,null,null,null,null,null,null,null,null,65,{"$f":"L119+0.075","v":115.075},{"$f":"H119","v":"Steen Lergard"},{"$f":"SMALL($AL$57:$AM$128,65)","v":117.039},"Annette Traulsen",117.039,"Annette Traulsen",{"$f":"IF(AQ121=\"\",\"\",VLOOKUP(AQ121,Deltagere!$C$4:$I$1003,2,FALSE))","v":"BK"},117]
[null,{"$f":"IF(C122=\"\",\"\",VLOOKUP(C122,Deltagere!$C$4:$I$1003,7,FALSE))","v":""},{"$f":"IF('Holdsammensætning  '!C75=\"\",\"\",'Holdsammensætning  '!C75)","v":""},{"$f":"IF(C122=\"\",\"\",VLOOKUP(C122,Deltagere!$C$4:$I$1003,2,FALSE))","v":""},null,null,null,{"$f":"IF(G122=\"\",\"\",VLOOKUP(G122,Deltagere!$B$4:$I$1003,2,FALSE))","v":""},{"$f":"IF(G122=\"\",\"\",VLOOKUP(G122,Deltagere!$B$4:$I$1003,5,FALSE))","v":""},{"$f":"IF(G122=\"\",\"\",VLOOKUP(G122,$B$7:$E$129,4,FALSE))","v":""},{"$f":"IF(G122=\"\",\"\",VLOOKUP(G122,$B$133:$F$255,4,FALSE))","v":""},{"$f":"IF(G122=\"\",500,SUM(J122:K122))","v":500},{"$f":"IF(I122=\"M\",L122,\"\")","v":""},{"$f":"IF(I122=\"K\",L122,\"\")","v":""},null,null,null,null,null,null,null,null,null,null,null,null,null,null,null,null,null,null,null,null,null,null,66,{"$f":"L120+0.076","v":107.07599999999999},{"$f":"H120","v":"Sarah Christiansen"},{"$f":"SMALL($AL$57:$AM$128,66)","v":118.01900000000001},{"$f":"VLOOKUP(AN122,$AL$17:$AO$128,2,FALSE)","v":"Anna Grethe Christensen"},{"$f":"IF(AN122>500,\"\",AN122)","v":118.01900000000001},{"$f":"AO122","v":"Anna Grethe Christensen"},{"$f":"IF(AQ122=\"\",\"\",VLOOKUP(AQ122,Deltagere!$C$4:$I$1003,2,FALSE))","v":"Meløse"},{"$f":"IF(AP122=\"\",\"\",INT(AP122))","v":118}]
[null,null,null,null,null,null,null,null,null,null,null,null,null,null,null,null,null,null,null,null,null,null,null,null,null,null,null,null,null,null,null,null,null,null,null,null,67,{"$f":"L121+0.077","v":500.077},{"$f":"H121","v":""},{"$f":"SMALL($AL$57:$AM$128,67)","v":119.042},"Annette Lykke Madsen",119.042,"Annette Lykke Madsen",{"$f":"IF(AQ123=\"\",\"\",VLOOKUP(AQ123,Deltagere!$C$4:$I$1003,2,FALSE))","v":"BK"},119]
[null,"Hold 18","Start ved hul nr.",{"$f":"IF($R$4=\"\",\"\",VLOOKUP($R$4,$R$8:$AI$24,18,FALSE))","v":18},"Runde ",null,"Nr.","Hold - Spiller",null,null,null,null,null,null,null,null,null,null,null,null,null,null,null,null,null,null,null,null,null,null,null,null,null,null,null,null,68,{"$f":"L122+0.078","v":500.07799999999997},{"$f":"H122","v":""},{"$f":"SMALL($AL$57:$AM$128,68)","v":123.036},"Margit Larsen",123.036,"Margit Larsen",{"$f":"IF(AQ124=\"\",\"\",VLOOKUP(AQ124,Deltagere!$C$4:$I$1003,2,FALSE))","v":"BK"},123]
[null,"Nummer","Navn","Klub",1,null,601,{"$f":"IF(G125=\"\",\"\",VLOOKUP(G125,Deltagere!$I$4:$J$1003,2,FALSE))","v":"Vikingerne 1"},"M/K","Runde 1","Runde 2","I alt","M","K",null,"Total",null,null,null,null,null,null,null,null,null,null,null,null,null,null,null,null,null,null,null,null,69,{"$f":"L126+0.079","v":96.078999999999994},{"$f":"H126","v":"Anders Jørgensen"},{"$f":"SMALL($AL$57:$AM$128,69)","v":132.04},"Anette Nielsen",132.04,"Anette Nielsen",{"$f":"IF(AQ125=\"\",\"\",VLOOKUP(AQ125,Deltagere!$C$4:$I$1003,2,FALSE))","v":"BK"},132]
[null,{"$f":"IF(C126=\"\",\"\",VLOOKUP(C126,Deltagere!$C$4:$I$1003,7,FALSE))","v":483},{"$f":"IF('Holdsammensætning  '!C76=\"\",\"\",'Holdsammensætning  '!C76)","v":"Lone S. Nielsen"},{"$f":"IF(C126=\"\",\"\",VLOOKUP(C126,Deltagere!$C$4:$I$1003,2,FALSE))","v":"Krolffolket"},45,null,601,{"$f":"IF(G126=\"\",\"\",VLOOKUP(G126,Deltagere!$B$4:$I$1003,2,FALSE))","v":"Anders Jørgensen"},{"$f":"IF(G126=\"\",\"\",VLOOKUP(G126,Deltagere!$B$4:$I$1003,5,FALSE))","v":"M"},{"$f":"IF(G126=\"\",\"\",VLOOKUP(G126,$B$7:$E$129,4,FALSE))","v":49},{"$f":"IF(G126=\"\",\"\",VLOOKUP(G126,$B$133:$F$255,4,FALSE))","v":47},{"$f":"IF(G126=\"\",500,SUM(J126:K126))","v":96},{"$f":"IF(I126=\"M\",L126,\"\")","v":96},{"$f":"IF(I126=\"K\",L126,\"\")","v":""},null,{"$f":"H125","v":"Vikingerne 1"},null,null,null,null,null,null,null,null,null,null,null,null,null,null,null,null,null,null,null,null,70,{"$f":"L127+0.08","v":104.08},{"$f":"H127","v":"Kian Andersen"},{"$f":"SMALL($AL$57:$AM$128,70)","v":132.041},"Lis Rasmussen",132.041,"Lis Rasmussen",{"$f":"IF(AQ126=\"\",\"\",VLOOKUP(AQ126,Deltagere!$C$4:$I$1003,2,FALSE))","v":"BK"},132]
[null,{"$f":"IF(C127=\"\",\"\",VLOOKUP(C127,Deltagere!$C$4:$I$1003,7,FALSE))","v":452},{"$f":"IF('Holdsammensætning  '!C77=\"\",\"\",'Holdsammensætning  '!C77)","v":"Helga Andersen"},{"$f":"IF(C127=\"\",\"\",VLOOKUP(C127,Deltagere!$C$4:$I$1003,2,FALSE))","v":"Krolffolket"},51,null,602,{"$f":"IF(G127=\"\",\"\",VLOOKUP(G127,Deltagere!$B$4:$I$1003,2,FALSE))","v":"Kian Andersen"},{"$f":"IF(G127=\"\",\"\",VLOOKUP(G127,Deltagere!$B$4:$I$1003,5,FALSE))","v":"M"},{"$f":"IF(G127=\"\",\"\",VLOOKUP(G127,$B$7:$E$129,4,FALSE))","v":50},{"$f":"IF(G127=\"\",\"\",VLOOKUP(G127,$B$133:$F$255,4,FALSE))","v":54},{"$f":"IF(G127=\"\",500,SUM(J127:K127))","v":104},{"$f":"IF(I127=\"M\",L127,\"\")","v":104},{"$f":"IF(I127=\"K\",L127,\"\")","v":""},null,null,null,null,null,null,null,null,null,null,null,null,null,null,null,null,null,null,null,null,null,null,71,{"$f":"L128+0.081","v":95.081000000000003},{"$f":"H128","v":"Adam Kristoffersen"},{"$f":"SMALL($AL$57:$AM$128,71)","v":500.077},"","","",{"$f":"IF(AQ127=\"\",\"\",VLOOKUP(AQ127,Deltagere!$C$4:$I$1003,2,FALSE))","v":""},""]
[null,{"$f":"IF(C128=\"\",\"\",VLOOKUP(C128,Deltagere!$C$4:$I$1003,7,FALSE))","v":602},{"$f":"IF('Holdsammensætning  '!C78=\"\",\"\",'Holdsammensætning  '!C78)","v":"Kian Andersen"},{"$f":"IF(C128=\"\",\"\",VLOOKUP(C128,Deltagere!$C$4:$I$1003,2,FALSE))","v":"IF Vikingerne"},50,null,612,{"$f":"IF(G128=\"\",\"\",VLOOKUP(G128,Deltagere!$B$4:$I$1003,2,FALSE))","v":"Adam Kristoffersen"},{"$f":"IF(G128=\"\",\"\",VLOOKUP(G128,Deltagere!$B$4:$I$1003,5,FALSE))","v":"M"},{"$f":"IF(G128=\"\",\"\",VLOOKUP(G128,$B$7:$E$129,4,FALSE))","v":47},{"$f":"IF(G128=\"\",\"\",VLOOKUP(G128,$B$133:$F$255,4,FALSE))","v":48},{"$f":"IF(G128=\"\",500,SUM(J128:K128))","v":95},{"$f":"IF(I128=\"M\",L128,\"\")","v":95},{"$f":"IF(I128=\"K\",L128,\"\")","v":""},null,{"$f":"SUM(L126:L129)","v":397},null,null,null,null,null,null,null,null,null,null,null,null,null,null,null,null,null,null,null,null,72,{"$f":"L129+0.082","v":102.08199999999999},{"$f":"H129","v":"Søren Skourup"},{"$f":"SMALL($AL$57:$AM$128,72)","v":500.07799999999997},"","","",{"$f":"IF(AQ128=\"\",\"\",VLOOKUP(AQ128,Deltagere!$C$4:$I$1003,2,FALSE))","v":""},""]
[null,{"$f":"IF(C129=\"\",\"\",VLOOKUP(C129,Deltagere!$C$4:$I$1003,7,FALSE))","v":311},{"$f":"IF('Holdsammensætning  '!C79=\"\",\"\",'Holdsammensætning  '!C79)","v":"Per Aune"},{"$f":"IF(C129=\"\",\"\",VLOOKUP(C129,Deltagere!$C$4:$I$1003,2,FALSE))","v":"BK"},56,null,608,{"$f":"IF(G129=\"\",\"\",VLOOKUP(G129,Deltagere!$B$4:$I$1003,2,FALSE))","v":"Søren Skourup"},{"$f":"IF(G129=\"\",\"\",VLOOKUP(G129,Deltagere!$B$4:$I$1003,5,FALSE))","v":"M"},{"$f":"IF(G129=\"\",\"\",VLOOKUP(G129,$B$7:$E$129,4,FALSE))","v":54},{"$f":"IF(G129=\"\",\"\",VLOOKUP(G129,$B$133:$F$255,4,FALSE))","v":48},{"$f":"IF(G129=\"\",500,SUM(J129:K129))","v":102},{"$f":"IF(I129=\"M\",L129,\"\")","v":102},{"$f":"IF(I129=\"K\",L129,\"\")","v":""}]
[]
[null,"Hold 1","Start ved hul nr.",1,"Runde "]
[null,"Nummer","Navn","Klub",2]
[null,{"$f":"IF(C133=\"\",\"\",VLOOKUP(C133,Deltagere!$C$4:$I$1003,7,FALSE))","v":452},{"$f":"IF('Holdsammensætning  '!F8=\"\",\"\",'Holdsammensætning  '!F8)","v":"Helga Andersen"},{"$f":"IF(C133=\"\",\"\",VLOOKUP(C133,Deltagere!$C$4:$I$1003,2,FALSE))","v":"Krolffolket"},47]
[null,{"$f":"IF(C134=\"\",\"\",VLOOKUP(C134,Deltagere!$C$4:$I$1003,7,FALSE))","v":75},{"$f":"IF('Holdsammensætning  '!F9=\"\",\"\",'Holdsammensætning  '!F9)","v":"Peter Aare"},{"$f":"IF(C134=\"\",\"\",VLOOKUP(C134,Deltagere!$C$4:$I$1003,2,FALSE))","v":"Meløse"},44]
[null,{"$f":"IF(C135=\"\",\"\",VLOOKUP(C135,Deltagere!$C$4:$I$1003,7,FALSE))","v":311},{"$f":"IF('Holdsammensætning  '!F10=\"\",\"\",'Holdsammensætning  '!F10)","v":"Per Aune"},{"$f":"IF(C135=\"\",\"\",VLOOKUP(C135,Deltagere!$C$4:$I$1003,2,FALSE))","v":"BK"},61]
[null,{"$f":"IF(C136=\"\",\"\",VLOOKUP(C136,Deltagere!$C$4:$I$1003,7,FALSE))","v":""},{"$f":"IF('Holdsammensætning  '!F11=\"\",\"\",'Holdsammensætning  '!F11)","v":""},{"$f":"IF(C136=\"\",\"\",VLOOKUP(C136,Deltagere!$C$4:$I$1003,2,FALSE))","v":""}]
[]
[null,"Hold 2","Start ved hul nr.",{"$f":"IF($R$4=\"\",\"\",VLOOKUP($R$4,$R$8:$AC$24,2,FALSE))","v":2},"Runde "]
[null,"Nummer","Navn","Klub",2]
[null,{"$f":"IF(C140=\"\",\"\",VLOOKUP(C140,Deltagere!$C$4:$I$1003,7,FALSE))","v":453},{"$f":"IF('Holdsammensætning  '!F12 =\"\",\"\",'Holdsammensætning  '!F12)","v":"Lone Hansen"},{"$f":"IF(C140=\"\",\"\",VLOOKUP(C140,Deltagere!$C$4:$I$1003,2,FALSE))","v":"Krolffolket"},45]
[null,{"$f":"IF(C141=\"\",\"\",VLOOKUP(C141,Deltagere!$C$4:$I$1003,7,FALSE))","v":74},{"$f":"IF('Holdsammensætning  '!F13 =\"\",\"\",'Holdsammensætning  '!F13)","v":"Lise Qvist Bebe"},{"$f":"IF(C141=\"\",\"\",VLOOKUP(C141,Deltagere!$C$4:$I$1003,2,FALSE))","v":"Meløse"},50]
[null,{"$f":"IF(C142=\"\",\"\",VLOOKUP(C142,Deltagere!$C$4:$I$1003,7,FALSE))","v":485},{"$f":"IF('Holdsammensætning  '!F14 =\"\",\"\",'Holdsammensætning  '!F14)","v":"Ole Nilaus Nielsen"},{"$f":"IF(C142=\"\",\"\",VLOOKUP(C142,Deltagere!$C$4:$I$1003,2,FALSE))","v":"Krolffolket"},56]
[null,{"$f":"IF(C143=\"\",\"\",VLOOKUP(C143,Deltagere!$C$4:$I$1003,7,FALSE))","v":307},{"$f":"IF('Holdsammensætning  '!F15 =\"\",\"\",'Holdsammensætning  '!F15)","v":"Åge  Zcharau"},{"$f":"IF(C143=\"\",\"\",VLOOKUP(C143,Deltagere!$C$4:$I$1003,2,FALSE))","v":"BK"},52]
[null,null,null,null,null,null,null,null,null,null,null,null,null,null,null,null,null,null,null,null,null,null,null,null,null,null,null,null,null,null,null,null,null,null,null,null,null,"Slag","Bedste mand","Mindste",null,null,"Bedste mand"]
[null,"Hold 3","Start ved hul nr.",{"$f":"IF($R$4=\"\",\"\",VLOOKUP($R$4,$R$8:$AI$24,3,FALSE))","v":3},"Runde "]
[null,"Nummer","Navn","Klub",2,null,null,null,null,null,null,null,null,null,null,null,null,null,null,null,null,null,null,null,null,null,null,null,null,null,null,null,null,null,null,null,1,{"$f":"IF(M7=\"\",500,M7+0.011)","v":90.010999999999996},{"$f":"'Indtast Hold og Resultat'!H7","v":"Peter Knudsen"},{"$f":"SMALL($AL$146:$AL$217,1)","v":86.013999999999996},{"$f":"VLOOKUP(AN146,$AL$146:$AO$217,2,FALSE)","v":"Peter Aare"},{"$f":"IF(AN146=500,\"\",AN146)","v":86.013999999999996},{"$f":"IF(AP146=\"\",\"\",AO146)","v":"Peter Aare"},{"$f":"IF(AQ146=\"\",\"\",VLOOKUP(AQ146,Deltagere!$C$4:$I$1003,2,FALSE))","v":"Meløse"}]
[null,{"$f":"IF(C147=\"\",\"\",VLOOKUP(C147,Deltagere!$C$4:$I$1003,7,FALSE))","v":455},{"$f":"IF('Holdsammensætning  '!F16 =\"\",\"\",'Holdsammensætning  '!F16)","v":"Jette S. Olsen"},{"$f":"IF(C147=\"\",\"\",VLOOKUP(C147,Deltagere!$C$4:$I$1003,2,FALSE))","v":"Krolffolket"},48,null,null,null,null,null,null,null,null,null,null,null,null,null,null,null,null,null,null,null,null,null,null,null,null,null,null,null,null,null,null,null,2,{"$f":"IF(M8=\"\",500,M8+0.012)","v":107.012},{"$f":"'Indtast Hold og Resultat'!H8","v":"Mogens Bodilsen"},{"$f":"SMALL($AL$146:$AL$217,2)","v":86.027000000000001},{"$f":"VLOOKUP(AN147,$AL$146:$AO$217,2,FALSE)","v":"Svend Faigh"},86.027000000000001,{"$f":"IF(AP147=\"\",\"\",AO147)","v":"Svend Faigh"},{"$f":"IF(AQ147=\"\",\"\",VLOOKUP(AQ147,Deltagere!$C$4:$I$1003,2,FALSE))","v":"BK"}]
[null,{"$f":"IF(C148=\"\",\"\",VLOOKUP(C148,Deltagere!$C$4:$I$1003,7,FALSE))","v":65},{"$f":"IF('Holdsammensætning  '!F17 =\"\",\"\",'Holdsammensætning  '!F17)","v":"Anne Marie Laustsen"},{"$f":"IF(C148=\"\",\"\",VLOOKUP(C148,Deltagere!$C$4:$I$1003,2,FALSE))","v":"Meløse"},53,null,null,null,null,null,null,null,null,null,null,null,null,null,null,null,null,null,null,null,null,null,null,null,null,null,null,null,null,null,null,null,3,{"$f":"IF(M9=\"\",500,M9+0.013)","v":99.013000000000005},{"$f":"'Indtast Hold og Resultat'!H9","v":"Villy Jensen"},{"$f":"SMALL($AL$146:$AL$217,3)","v":90.010999999999996},"Peter Knudsen",90.010999999999996,"Peter Knudsen",{"$f":"IF(AQ148=\"\",\"\",VLOOKUP(AQ148,Deltagere!$C$4:$I$1003,2,FALSE))","v":"Meløse"}]
[null,{"$f":"IF(C149=\"\",\"\",VLOOKUP(C149,Deltagere!$C$4:$I$1003,7,FALSE))","v":495},{"$f":"IF('Holdsammensætning  '!F18 =\"\",\"\",'Holdsammensætning  '!F18)","v":"Ole Christensen"},{"$f":"IF(C149=\"\",\"\",VLOOKUP(C149,Deltagere!$C$4:$I$1003,2,FALSE))","v":"Krolffolket"},50,null,null,null,null,null,null,null,null,null,null,null,null,null,null,null,null,null,null,null,null,null,null,null,null,null,null,null,null,null,null,null,4,{"$f":"IF(M10=\"\",500,M10+0.014)","v":86.013999999999996},{"$f":"'Indtast Hold og Resultat'!H10","v":"Peter Aare"},{"$f":"SMALL($AL$146:$AL$217,4)","v":91.054000000000002},"Jørgen Hansen",91.054000000000002,"Jørgen Hansen",{"$f":"IF(AQ149=\"\",\"\",VLOOKUP(AQ149,Deltagere!$C$4:$I$1003,2,FALSE))","v":"Krolffolket"}]
[null,{"$f":"IF(C150=\"\",\"\",VLOOKUP(C150,Deltagere!$C$4:$I$1003,7,FALSE))","v":310},{"$f":"IF('Holdsammensætning  '!F19 =\"\",\"\",'Holdsammensætning  '!F19)","v":"Annette Traulsen"},{"$f":"IF(C150=\"\",\"\",VLOOKUP(C150,Deltagere!$C$4:$I$1003,2,FALSE))","v":"BK"},53,null,null,null,null,null,null,null,null,null,null,null,null,null,null,null,null,null,null,null,null,null,null,null,null,null,null,null,null,null,null,null,5,{"$f":"IF(M14=\"\",500,M14+0.015)","v":500},{"$f":"'Indtast Hold og Resultat'!H14","v":"Annie Jensen"},{"$f":"SMALL($AL$146:$AL$217,5)","v":92.055999999999997},"Allan Larsen",92.055999999999997,"Allan Larsen",{"$f":"IF(AQ150=\"\",\"\",VLOOKUP(AQ150,Deltagere!$C$4:$I$1003,2,FALSE))","v":"Krolffolket"}]
[null,null,null,null,null,null,null,null,null,null,null,null,null,null,null,null,null,null,null,null,null,null,null,null,null,null,null,null,null,null,null,null,null,null,null,null,6,{"$f":"IF(M15=\"\",500,M15+0.016)","v":100.01600000000001},{"$f":"'Indtast Hold og Resultat'!H15","v":"Tage Jensen"},{"$f":"SMALL($AL$146:$AL$217,6)","v":93.028000000000006},"Mogens Kortegaard",93.028000000000006,"Mogens Kortegaard",{"$f":"IF(AQ151=\"\",\"\",VLOOKUP(AQ151,Deltagere!$C$4:$I$1003,2,FALSE))","v":"BK"}]
[null,"Hold 4","Start ved hul nr.",{"$f":"IF($R$4=\"\",\"\",VLOOKUP($R$4,$R$8:$AI$24,4,FALSE))","v":4},"Runde ",null,null,null,null,null,null,null,null,null,null,null,null,null,null,null,null,null,null,null,null,null,null,null,null,null,null,null,null,null,null,null,7,{"$f":"IF(M16=\"\",500,M16+0.017)","v":500},{"$f":"'Indtast Hold og Resultat'!H16","v":"Lise Qvist Bebe"},{"$f":"SMALL($AL$146:$AL$217,7)","v":94.046999999999997},"Michael Jørgensen",94.046999999999997,"Michael Jørgensen",{"$f":"IF(AQ152=\"\",\"\",VLOOKUP(AQ152,Deltagere!$C$4:$I$1003,2,FALSE))","v":"Krolffolket"}]
[null,"Nummer","Navn","Klub",2,null,null,null,null,null,null,null,null,null,null,null,null,null,null,null,null,null,null,null,null,null,null,null,null,null,null,null,null,null,null,null,8,{"$f":"IF(M17=\"\",500,M17+0.018)","v":500},{"$f":"'Indtast Hold og Resultat'!H17","v":"Connie Bregnvig"},{"$f":"SMALL($AL$146:$AL$217,8)","v":94.058000000000007},"Peter Christensen",94.058000000000007,"Peter Christensen",{"$f":"IF(AQ153=\"\",\"\",VLOOKUP(AQ153,Deltagere!$C$4:$I$1003,2,FALSE))","v":"Krolffolket"}]
[null,{"$f":"IF(C154=\"\",\"\",VLOOKUP(C154,Deltagere!$C$4:$I$1003,7,FALSE))","v":494},{"$f":"IF('Holdsammensætning  '!F20 =\"\",\"\",'Holdsammensætning  '!F20)","v":"Ida Olsen"},{"$f":"IF(C154=\"\",\"\",VLOOKUP(C154,Deltagere!$C$4:$I$1003,2,FALSE))","v":"Krolffolket"},53,null,null,null,null,null,null,null,null,null,null,null,null,null,null,null,null,null,null,null,null,null,null,null,null,null,null,null,null,null,null,null,9,{"$f":"IF(M21=\"\",500,M21+0.019)","v":500},{"$f":"'Indtast Hold og Resultat'!H21","v":"Anna Grethe Christensen"},{"$f":"SMALL($AL$146:$AL$217,9)","v":95.081000000000003},"Adam Kristoffersen",95.081000000000003,"Adam Kristoffersen",{"$f":"IF(AQ154=\"\",\"\",VLOOKUP(AQ154,Deltagere!$C$4:$I$1003,2,FALSE))","v":"IF Vikingerne"}]
[null,{"$f":"IF(C155=\"\",\"\",VLOOKUP(C155,Deltagere!$C$4:$I$1003,7,FALSE))","v":63},{"$f":"IF('Holdsammensætning  '!F21 =\"\",\"\",'Holdsammensætning  '!F21)","v":"Lennert Sørensen"},{"$f":"IF(C155=\"\",\"\",VLOOKUP(C155,Deltagere!$C$4:$I$1003,2,FALSE))","v":"Meløse"},47,null,null,null,null,null,null,null,null,null,null,null,null,null,null,null,null,null,null,null,null,null,null,null,null,null,null,null,null,null,null,null,10,{"$f":"IF(M22=\"\",500,M22+0.02)","v":103.02},{"$f":"'Indtast Hold og Resultat'!H22","v":"Niels Aare Jensen"},{"$f":"SMALL($AL$146:$AL$217,10)","v":96.078999999999994},"Anders Jørgensen",96.078999999999994,"Anders Jørgensen",{"$f":"IF(AQ155=\"\",\"\",VLOOKUP(AQ155,Deltagere!$C$4:$I$1003,2,FALSE))","v":"IF Vikingerne"}]
[null,{"$f":"IF(C156=\"\",\"\",VLOOKUP(C156,Deltagere!$C$4:$I$1003,7,FALSE))","v":315},{"$f":"IF('Holdsammensætning  '!F22 =\"\",\"\",'Holdsammensætning  '!F22)","v":"Tove Perlt"},{"$f":"IF(C156=\"\",\"\",VLOOKUP(C156,Deltagere!$C$4:$I$1003,2,FALSE))","v":"BK"},50,null,null,null,null,null,null,null,null,null,null,null,null,null,null,null,null,null,null,null,null,null,null,null,null,null,null,null,null,null,null,null,11,{"$f":"IF(M23=\"\",500,M23+0.021)","v":500},{"$f":"'Indtast Hold og Resultat'!H23","v":"Petra Knudsen"},{"$f":"SMALL($AL$146:$AL$217,11)","v":97.022000000000006},"Preben Ludore",97.022000000000006,"Preben Ludore",{"$f":"IF(AQ156=\"\",\"\",VLOOKUP(AQ156,Deltagere!$C$4:$I$1003,2,FALSE))","v":"Meløse"}]
[null,{"$f":"IF(C157=\"\",\"\",VLOOKUP(C157,Deltagere!$C$4:$I$1003,7,FALSE))","v":""},{"$f":"IF('Holdsammensætning  '!F23 =\"\",\"\",'Holdsammensætning  '!F23)","v":""},{"$f":"IF(C157=\"\",\"\",VLOOKUP(C157,Deltagere!$C$4:$I$1003,2,FALSE))","v":""},null,null,null,null,null,null,null,null,null,null,null,null,null,null,null,null,null,null,null,null,null,null,null,null,null,null,null,null,null,null,null,null,12,{"$f":"IF(M24=\"\",500,M24+0.022)","v":97.022000000000006},{"$f":"'Indtast Hold og Resultat'!H24","v":"Preben Ludore"},{"$f":"SMALL($AL$146:$AL$217,12)","v":97.028999999999996},"Jørgen Hugo Larsen",97.028999999999996,"Jørgen Hugo Larsen",{"$f":"IF(AQ157=\"\",\"\",VLOOKUP(AQ157,Deltagere!$C$4:$I$1003,2,FALSE))","v":"BK"}]
[null,null,null,null,null,null,null,null,null,null,null,null,null,null,null,null,null,null,null,null,null,null,null,null,null,null,null,null,null,null,null,null,null,null,null,null,13,{"$f":"IF(M28=\"\",500,M28+0.023)","v":500},{"$f":"'Indtast Hold og Resultat'!H28","v":"Anne Marie Laustsen"},{"$f":"SMALL($AL$146:$AL$217,13)","v":97.049000000000007},"Kjeld Hansen",97.049000000000007,"Kjeld Hansen",{"$f":"IF(AQ158=\"\",\"\",VLOOKUP(AQ158,Deltagere!$C$4:$I$1003,2,FALSE))","v":"Krolffolket"}]
[null,"Hold 5","Start ved hul nr.",{"$f":"IF($R$4=\"\",\"\",VLOOKUP($R$4,$R$8:$AI$24,5,FALSE))","v":5},"Runde ",null,null,null,null,null,null,null,null,null,null,null,null,null,null,null,null,null,null,null,null,null,null,null,null,null,null,null,null,null,null,null,14,{"$f":"IF(M29=\"\",500,M29+0.024)","v":102.024},{"$f":"'Indtast Hold og Resultat'!H29","v":"Søren Helbo"},{"$f":"SMALL($AL$146:$AL$217,14)","v":97.05},"Bjørn Krogh",97.05,"Bjørn Krogh",{"$f":"IF(AQ159=\"\",\"\",VLOOKUP(AQ159,Deltagere!$C$4:$I$1003,2,FALSE))","v":"Krolffolket"}]
[null,"Nummer","Navn","Klub",2,null,null,null,null,null,null,null,null,null,null,null,null,null,null,null,null,null,null,null,null,null,null,null,null,null,null,null,null,null,null,null,15,{"$f":"IF(M30=\"\",500,M30+0.025)","v":101.02500000000001},{"$f":"'Indtast Hold og Resultat'!H30","v":"Jørgen Hvilsom"},{"$f":"SMALL($AL$146:$AL$217,15)","v":98.025999999999996},"Lennert Sørensen",98.025999999999996,"Lennert Sørensen",{"$f":"IF(AQ160=\"\",\"\",VLOOKUP(AQ160,Deltagere!$C$4:$I$1003,2,FALSE))","v":"Meløse"}]
[null,{"$f":"IF(C161=\"\",\"\",VLOOKUP(C161,Deltagere!$C$4:$I$1003,7,FALSE))","v":458},{"$f":"IF('Holdsammensætning  '!F24 =\"\",\"\",'Holdsammensætning  '!F24)","v":"Jørgen Hansen"},{"$f":"IF(C161=\"\",\"\",VLOOKUP(C161,Deltagere!$C$4:$I$1003,2,FALSE))","v":"Krolffolket"},41,null,null,null,null,null,null,null,null,null,null,null,null,null,null,null,null,null,null,null,null,null,null,null,null,null,null,null,null,null,null,null,16,{"$f":"IF(M31=\"\",500,M31+0.026)","v":98.025999999999996},{"$f":"'Indtast Hold og Resultat'!H31","v":"Lennert Sørensen"},{"$f":"SMALL($AL$146:$AL$217,16)","v":98.052999999999997},"Christian Blid",98.052999999999997,"Christian Blid",{"$f":"IF(AQ161=\"\",\"\",VLOOKUP(AQ161,Deltagere!$C$4:$I$1003,2,FALSE))","v":"Krolffolket"}]
[null,{"$f":"IF(C162=\"\",\"\",VLOOKUP(C162,Deltagere!$C$4:$I$1003,7,FALSE))","v":61},{"$f":"IF('Holdsammensætning  '!F25 =\"\",\"\",'Holdsammensætning  '!F25)","v":"Annie Jensen"},{"$f":"IF(C162=\"\",\"\",VLOOKUP(C162,Deltagere!$C$4:$I$1003,2,FALSE))","v":"Meløse"},52,null,null,null,null,null,null,null,null,null,null,null,null,null,null,null,null,null,null,null,null,null,null,null,null,null,null,null,null,null,null,null,17,{"$f":"IF(M35=\"\",500,M35+0.027)","v":86.027000000000001},{"$f":"'Indtast Hold og Resultat'!H35","v":"Svend Faigh"},{"$f":"SMALL($AL$146:$AL$217,17)","v":99.013000000000005},"Villy Jensen",99.013000000000005,"Villy Jensen",{"$f":"IF(AQ162=\"\",\"\",VLOOKUP(AQ162,Deltagere!$C$4:$I$1003,2,FALSE))","v":"Meløse"}]
[null,{"$f":"IF(C163=\"\",\"\",VLOOKUP(C163,Deltagere!$C$4:$I$1003,7,FALSE))","v":488},{"$f":"IF('Holdsammensætning  '!F26 =\"\",\"\",'Holdsammensætning  '!F26)","v":"Vibeke Jørgensen"},{"$f":"IF(C163=\"\",\"\",VLOOKUP(C163,Deltagere!$C$4:$I$1003,2,FALSE))","v":"Krolffolket"},45,null,null,null,null,null,null,null,null,null,null,null,null,null,null,null,null,null,null,null,null,null,null,null,null,null,null,null,null,null,null,null,18,{"$f":"IF(M36=\"\",500,M36+0.028)","v":93.028000000000006},{"$f":"'Indtast Hold og Resultat'!H36","v":"Mogens Kortegaard"},{"$f":"SMALL($AL$146:$AL$217,18)","v":99.046000000000006},"Allan Pedersen",99.046000000000006,"Allan Pedersen",{"$f":"IF(AQ163=\"\",\"\",VLOOKUP(AQ163,Deltagere!$C$4:$I$1003,2,FALSE))","v":"Krolffolket"}]
[null,{"$f":"IF(C164=\"\",\"\",VLOOKUP(C164,Deltagere!$C$4:$I$1003,7,FALSE))","v":317},{"$f":"IF('Holdsammensætning  '!F27 =\"\",\"\",'Holdsammensætning  '!F27)","v":"Lis Rasmussen"},{"$f":"IF(C164=\"\",\"\",VLOOKUP(C164,Deltagere!$C$4:$I$1003,2,FALSE))","v":"BK"},66,null,null,null,null,null,null,null,null,null,null,null,null,null,null,null,null,null,null,null,null,null,null,null,null,null,null,null,null,null,null,null,19,{"$f":"IF(M37=\"\",500,M37+0.029)","v":97.028999999999996},{"$f":"'Indtast Hold og Resultat'!H37","v":"Jørgen Hugo Larsen"},{"$f":"SMALL($AL$146:$AL$217,19)","v":100.01600000000001},"Tage Jensen",100.01600000000001,"Tage Jensen",{"$f":"IF(AQ164=\"\",\"\",VLOOKUP(AQ164,Deltagere!$C$4:$I$1003,2,FALSE))","v":"Meløse"}]
[null,null,null,null,null,null,null,null,null,null,null,null,null,null,null,null,null,null,null,null,null,null,null,null,null,null,null,null,null,null,null,null,null,null,null,null,20,{"$f":"IF(M38=\"\",500,M38+0.03)","v":500},{"$f":"'Indtast Hold og Resultat'!H38","v":"Lone Nielsen"},{"$f":"SMALL($AL$146:$AL$217,20)","v":100.045},"Jim Jørgensen",100.045,"Jim Jørgensen",{"$f":"IF(AQ165=\"\",\"\",VLOOKUP(AQ165,Deltagere!$C$4:$I$1003,2,FALSE))","v":"Krolffolket"}]
[null,"Hold 6","Start ved hul nr.",{"$f":"IF($R$4=\"\",\"\",VLOOKUP($R$4,$R$8:$AI$24, 6,FALSE))","v":6},"Runde ",null,null,null,null,null,null,null,null,null,null,null,null,null,null,null,null,null,null,null,null,null,null,null,null,null,null,null,null,null,null,null,21,{"$f":"IF(M42=\"\",500,M42+0.031)","v":105.03100000000001},{"$f":"'Indtast Hold og Resultat'!H42","v":"Åge  Zcharau"},{"$f":"SMALL($AL$146:$AL$217,21)","v":101.02500000000001},"Jørgen Hvilsom",101.02500000000001,"Jørgen Hvilsom",{"$f":"IF(AQ166=\"\",\"\",VLOOKUP(AQ166,Deltagere!$C$4:$I$1003,2,FALSE))","v":"Meløse"}]
[null,"Nummer","Navn","Klub",2,null,null,null,null,null,null,null,null,null,null,null,null,null,null,null,null,null,null,null,null,null,null,null,null,null,null,null,null,null,null,null,22,{"$f":"IF(M43=\"\",500,M43+0.032)","v":500},{"$f":"'Indtast Hold og Resultat'!H43","v":"Conny Schackinger"},{"$f":"SMALL($AL$146:$AL$217,22)","v":101.03400000000001},"Preben Madsen",101.03400000000001,"Preben Madsen",{"$f":"IF(AQ167=\"\",\"\",VLOOKUP(AQ167,Deltagere!$C$4:$I$1003,2,FALSE))","v":"BK"}]
[null,{"$f":"IF(C168=\"\",\"\",VLOOKUP(C168,Deltagere!$C$4:$I$1003,7,FALSE))","v":459},{"$f":"IF('Holdsammensætning  '!F28 =\"\",\"\",'Holdsammensætning  '!F28)","v":"Michael Jørgensen"},{"$f":"IF(C168=\"\",\"\",VLOOKUP(C168,Deltagere!$C$4:$I$1003,2,FALSE))","v":"Krolffolket"},44,null,null,null,null,null,null,null,null,null,null,null,null,null,null,null,null,null,null,null,null,null,null,null,null,null,null,null,null,null,null,null,23,{"$f":"IF(M44=\"\",500,M44+0.033)","v":500},{"$f":"'Indtast Hold og Resultat'!H44","v":"Annie Damsgaard"},{"$f":"SMALL($AL$146:$AL$217,23)","v":102.024},"Søren Helbo",102.024,"Søren Helbo",{"$f":"IF(AQ168=\"\",\"\",VLOOKUP(AQ168,Deltagere!$C$4:$I$1003,2,FALSE))","v":"Meløse"}]
[null,{"$f":"IF(C169=\"\",\"\",VLOOKUP(C169,Deltagere!$C$4:$I$1003,7,FALSE))","v":62},{"$f":"IF('Holdsammensætning  '!F29 =\"\",\"\",'Holdsammensætning  '!F29)","v":"Jørgen Hvilsom"},{"$f":"IF(C169=\"\",\"\",VLOOKUP(C169,Deltagere!$C$4:$I$1003,2,FALSE))","v":"Meløse"},46,null,null,null,null,null,null,null,null,null,null,null,null,null,null,null,null,null,null,null,null,null,null,null,null,null,null,null,null,null,null,null,24,{"$f":"IF(M45=\"\",500,M45+0.034)","v":101.03400000000001},{"$f":"'Indtast Hold og Resultat'!H45","v":"Preben Madsen"},{"$f":"SMALL($AL$146:$AL$217,24)","v":102.08199999999999},"Søren Skourup",102.08199999999999,"Søren Skourup",{"$f":"IF(AQ169=\"\",\"\",VLOOKUP(AQ169,Deltagere!$C$4:$I$1003,2,FALSE))","v":"IF Vikingerne"}]
[null,{"$f":"IF(C170=\"\",\"\",VLOOKUP(C170,Deltagere!$C$4:$I$1003,7,FALSE))","v":487},{"$f":"IF('Holdsammensætning  '!F30 =\"\",\"\",'Holdsammensætning  '!F30)","v":"Susanne Blok"},{"$f":"IF(C170=\"\",\"\",VLOOKUP(C170,Deltagere!$C$4:$I$1003,2,FALSE))","v":"Krolffolket"},49,null,null,null,null,null,null,null,null,null,null,null,null,null,null,null,null,null,null,null,null,null,null,null,null,null,null,null,null,null,null,null,25,{"$f":"IF(M49=\"\",500,M49+0.035)","v":112.035},{"$f":"'Indtast Hold og Resultat'!H49","v":"Peter Sølsten"},{"$f":"SMALL($AL$146:$AL$217,25)","v":103.02},"Niels Aare Jensen",103.02,"Niels Aare Jensen",{"$f":"IF(AQ170=\"\",\"\",VLOOKUP(AQ170,Deltagere!$C$4:$I$1003,2,FALSE))","v":"Meløse"}]
[null,{"$f":"IF(C171=\"\",\"\",VLOOKUP(C171,Deltagere!$C$4:$I$1003,7,FALSE))","v":318},{"$f":"IF('Holdsammensætning  '!F31 =\"\",\"\",'Holdsammensætning  '!F31)","v":"Peter Sølsten"},{"$f":"IF(C171=\"\",\"\",VLOOKUP(C171,Deltagere!$C$4:$I$1003,2,FALSE))","v":"BK"},52,null,null,null,null,null,null,null,null,null,null,null,null,null,null,null,null,null,null,null,null,null,null,null,null,null,null,null,null,null,null,null,26,{"$f":"IF(M50=\"\",500,M50+0.036)","v":500},{"$f":"'Indtast Hold og Resultat'!H50","v":"Margit Larsen"},{"$f":"SMALL($AL$146:$AL$217,26)","v":104.06},"Ole Christensen",104.06,"Ole Christensen",{"$f":"IF(AQ171=\"\",\"\",VLOOKUP(AQ171,Deltagere!$C$4:$I$1003,2,FALSE))","v":"Krolffolket"}]
[null,null,null,null,null,null,null,null,null,null,null,null,null,null,null,null,null,null,null,null,null,null,null,null,null,null,null,null,null,null,null,null,null,null,null,null,27,{"$f":"IF(M51=\"\",500,M51+0.037)","v":117.03700000000001},{"$f":"'Indtast Hold og Resultat'!H51","v":"Per Aune"},{"$f":"SMALL($AL$146:$AL$217,27)","v":104.08},"Kian Andersen",104.08,"Kian Andersen",{"$f":"IF(AQ172=\"\",\"\",VLOOKUP(AQ172,Deltagere!$C$4:$I$1003,2,FALSE))","v":"IF Vikingerne"}]
[null,"Hold 7","Start ved hul nr.",{"$f":"IF($R$4=\"\",\"\",VLOOKUP($R$4,$R$8:$AI$24,7,FALSE))","v":7},"Runde ",null,null,null,null,null,null,null,null,null,null,null,null,null,null,null,null,null,null,null,null,null,null,null,null,null,null,null,null,null,null,null,28,{"$f":"IF(M52=\"\",500,M52+0.038)","v":500},{"$f":"'Indtast Hold og Resultat'!H52","v":"Tove Perlt"},{"$f":"SMALL($AL$146:$AL$217,28)","v":105.03100000000001},"Åge  Zcharau",105.03100000000001,"Åge  Zcharau",{"$f":"IF(AQ173=\"\",\"\",VLOOKUP(AQ173,Deltagere!$C$4:$I$1003,2,FALSE))","v":"BK"}]
[null,"Nummer","Navn","Klub",2,null,null,null,null,null,null,null,null,null,null,null,null,null,null,null,null,null,null,null,null,null,null,null,null,null,null,null,null,null,null,null,29,{"$f":"IF(M56=\"\",500,M56+0.039)","v":500},{"$f":"'Indtast Hold og Resultat'!H56","v":"Annette Traulsen"},{"$f":"SMALL($AL$146:$AL$217,29)","v":105.05500000000001},"Ivan Szumlanski",105.05500000000001,"Ivan Szumlanski",{"$f":"IF(AQ174=\"\",\"\",VLOOKUP(AQ174,Deltagere!$C$4:$I$1003,2,FALSE))","v":"Krolffolket"}]
[null,{"$f":"IF(C175=\"\",\"\",VLOOKUP(C175,Deltagere!$C$4:$I$1003,7,FALSE))","v":461},{"$f":"IF('Holdsammensætning  '!F32 =\"\",\"\",'Holdsammensætning  '!F32)","v":"Hanne Hansen"},{"$f":"IF(C175=\"\",\"\",VLOOKUP(C175,Deltagere!$C$4:$I$1003,2,FALSE))","v":"Krolffolket"},46,null,null,null,null,null,null,null,null,null,null,null,null,null,null,null,null,null,null,null,null,null,null,null,null,null,null,null,null,null,null,null,30,{"$f":"IF(M57=\"\",500,M57+0.04)","v":500},{"$f":"'Indtast Hold og Resultat'!H57","v":"Anette Nielsen"},{"$f":"SMALL($AL$146:$AL$217,30)","v":105.057},"Finn Jørgensen",105.057,"Finn Jørgensen",{"$f":"IF(AQ175=\"\",\"\",VLOOKUP(AQ175,Deltagere!$C$4:$I$1003,2,FALSE))","v":"Krolffolket"}]
[null,{"$f":"IF(C176=\"\",\"\",VLOOKUP(C176,Deltagere!$C$4:$I$1003,7,FALSE))","v":55},{"$f":"IF('Holdsammensætning  '!F33 =\"\",\"\",'Holdsammensætning  '!F33)","v":"Peter Knudsen"},{"$f":"IF(C176=\"\",\"\",VLOOKUP(C176,Deltagere!$C$4:$I$1003,2,FALSE))","v":"Meløse"},45,null,null,null,null,null,null,null,null,null,null,null,null,null,null,null,null,null,null,null,null,null,null,null,null,null,null,null,null,null,null,null,31,{"$f":"IF(M58=\"\",500,M58+0.041)","v":500},{"$f":"'Indtast Hold og Resultat'!H58","v":"Lis Rasmussen"},{"$f":"SMALL($AL$146:$AL$217,31)","v":107.012},"Mogens Bodilsen",107.012,"Mogens Bodilsen",{"$f":"IF(AQ176=\"\",\"\",VLOOKUP(AQ176,Deltagere!$C$4:$I$1003,2,FALSE))","v":"Meløse"}]
[null,{"$f":"IF(C177=\"\",\"\",VLOOKUP(C177,Deltagere!$C$4:$I$1003,7,FALSE))","v":486},{"$f":"IF('Holdsammensætning  '!F34 =\"\",\"\",'Holdsammensætning  '!F34)","v":"Benthe Dahl"},{"$f":"IF(C177=\"\",\"\",VLOOKUP(C177,Deltagere!$C$4:$I$1003,2,FALSE))","v":"Krolffolket"},54,null,null,null,null,null,null,null,null,null,null,null,null,null,null,null,null,null,null,null,null,null,null,null,null,null,null,null,null,null,null,null,32,{"$f":"IF(M59=\"\",500,M59+0.042)","v":500},{"$f":"'Indtast Hold og Resultat'!H59","v":"Annette Lykke Madsen"},{"$f":"SMALL($AL$146:$AL$217,32)","v":108.065},"Ole Nilaus Nielsen",108.065,"Ole Nilaus Nielsen",{"$f":"IF(AQ177=\"\",\"\",VLOOKUP(AQ177,Deltagere!$C$4:$I$1003,2,FALSE))","v":"Krolffolket"}]
[null,{"$f":"IF(C178=\"\",\"\",VLOOKUP(C178,Deltagere!$C$4:$I$1003,7,FALSE))","v":320},{"$f":"IF('Holdsammensætning  '!F35 =\"\",\"\",'Holdsammensætning  '!F35)","v":"Margit Larsen"},{"$f":"IF(C178=\"\",\"\",VLOOKUP(C178,Deltagere!$C$4:$I$1003,2,FALSE))","v":"BK"},61,null,null,null,null,null,null,null,null,null,null,null,null,null,null,null,null,null,null,null,null,null,null,null,null,null,null,null,null,null,null,null,33,{"$f":"IF(M63=\"\",500,M63+0.043)","v":500},{"$f":"'Indtast Hold og Resultat'!H63","v":"Hanne Hansen"},{"$f":"SMALL($AL$146:$AL$217,33)","v":108.068},"Erik Wagner",108.068,"Erik Wagner",{"$f":"IF(AQ178=\"\",\"\",VLOOKUP(AQ178,Deltagere!$C$4:$I$1003,2,FALSE))","v":"Krolffolket"}]
[null,null,null,null,null,null,null,null,null,null,null,null,null,null,null,null,null,null,null,null,null,null,null,null,null,null,null,null,null,null,null,null,null,null,null,null,34,{"$f":"IF(M64=\"\",500,M64+0.044)","v":500},{"$f":"'Indtast Hold og Resultat'!H64","v":"Lone Hansen"},{"$f":"SMALL($AL$146:$AL$217,34)","v":112.035},"Peter Sølsten",112.035,"Peter Sølsten",{"$f":"IF(AQ179=\"\",\"\",VLOOKUP(AQ179,Deltagere!$C$4:$I$1003,2,FALSE))","v":"BK"}]
[null,"Hold 8","Start ved hul nr.",{"$f":"IF($R$4=\"\",\"\",VLOOKUP($R$4,$R$8:$AI$24,8,FALSE))","v":8},"Runde ",null,null,null,null,null,null,null,null,null,null,null,null,null,null,null,null,null,null,null,null,null,null,null,null,null,null,null,null,null,null,null,35,{"$f":"IF(M65=\"\",500,M65+0.045)","v":100.045},{"$f":"'Indtast Hold og Resultat'!H65","v":"Jim Jørgensen"},{"$f":"SMALL($AL$146:$AL$217,35)","v":115.075},"Steen Lergard",115.075,"Steen Lergard",{"$f":"IF(AQ180=\"\",\"\",VLOOKUP(AQ180,Deltagere!$C$4:$I$1003,2,FALSE))","v":"Krolffolket"}]
[null,"Nummer","Navn","Klub",2,null,null,null,null,null,null,null,null,null,null,null,null,null,null,null,null,null,null,null,null,null,null,null,null,null,null,null,null,null,null,null,36,{"$f":"IF(M66=\"\",500,M66+0.046)","v":99.046000000000006},{"$f":"'Indtast Hold og Resultat'!H66","v":"Allan Pedersen"},{"$f":"SMALL($AL$146:$AL$217,36)","v":117.03700000000001},"Per Aune",117.03700000000001,"Per Aune",{"$f":"IF(AQ181=\"\",\"\",VLOOKUP(AQ181,Deltagere!$C$4:$I$1003,2,FALSE))","v":"BK"}]
[null,{"$f":"IF(C182=\"\",\"\",VLOOKUP(C182,Deltagere!$C$4:$I$1003,7,FALSE))","v":463},{"$f":"IF('Holdsammensætning  '!F36 =\"\",\"\",'Holdsammensætning  '!F36)","v":"Ivan Szumlanski"},{"$f":"IF(C182=\"\",\"\",VLOOKUP(C182,Deltagere!$C$4:$I$1003,2,FALSE))","v":"Krolffolket"},49,null,null,null,null,null,null,null,null,null,null,null,null,null,null,null,null,null,null,null,null,null,null,null,null,null,null,null,null,null,null,null,37,{"$f":"IF(M70=\"\",500,M70+0.047)","v":94.046999999999997},{"$f":"'Indtast Hold og Resultat'!H70","v":"Michael Jørgensen"},{"$f":"SMALL($AL$146:$AL$217,37)","v":500},"Annie Jensen","","",{"$f":"IF(AQ182=\"\",\"\",VLOOKUP(AQ182,Deltagere!$C$4:$I$1003,2,FALSE))","v":""}]
[null,{"$f":"IF(C183=\"\",\"\",VLOOKUP(C183,Deltagere!$C$4:$I$1003,7,FALSE))","v":54},{"$f":"IF('Holdsammensætning  '!F37 =\"\",\"\",'Holdsammensætning  '!F37)","v":"Søren Helbo"},{"$f":"IF(C183=\"\",\"\",VLOOKUP(C183,Deltagere!$C$4:$I$1003,2,FALSE))","v":"Meløse"},45,null,null,null,null,null,null,null,null,null,null,null,null,null,null,null,null,null,null,null,null,null,null,null,null,null,null,null,null,null,null,null,38,{"$f":"IF(M71=\"\",500,M71+0.048)","v":500},{"$f":"'Indtast Hold og Resultat'!H71","v":"Alice Rask"},{"$f":"SMALL($AL$146:$AL$217,38)","v":500},"Annie Jensen","","",{"$f":"IF(AQ183=\"\",\"\",VLOOKUP(AQ183,Deltagere!$C$4:$I$1003,2,FALSE))","v":""}]
[null,{"$f":"IF(C184=\"\",\"\",VLOOKUP(C184,Deltagere!$C$4:$I$1003,7,FALSE))","v":484},{"$f":"IF('Holdsammensætning  '!F38 =\"\",\"\",'Holdsammensætning  '!F38)","v":"Majbritt Nielsen"},{"$f":"IF(C184=\"\",\"\",VLOOKUP(C184,Deltagere!$C$4:$I$1003,2,FALSE))","v":"Krolffolket"},52,null,null,null,null,null,null,null,null,null,null,null,null,null,null,null,null,null,null,null,null,null,null,null,null,null,null,null,null,null,null,null,39,{"$f":"IF(M72=\"\",500,M72+0.049)","v":97.049000000000007},{"$f":"'Indtast Hold og Resultat'!H72","v":"Kjeld Hansen"},{"$f":"SMALL($AL$146:$AL$217,39)","v":500},"Annie Jensen","","",{"$f":"IF(AQ184=\"\",\"\",VLOOKUP(AQ184,Deltagere!$C$4:$I$1003,2,FALSE))","v":""}]
[null,{"$f":"IF(C185=\"\",\"\",VLOOKUP(C185,Deltagere!$C$4:$I$1003,7,FALSE))","v":322},{"$f":"IF('Holdsammensætning  '!F39 =\"\",\"\",'Holdsammensætning  '!F39)","v":"Anette Nielsen"},{"$f":"IF(C185=\"\",\"\",VLOOKUP(C185,Deltagere!$C$4:$I$1003,2,FALSE))","v":"BK"},65,null,null,null,null,null,null,null,null,null,null,null,null,null,null,null,null,null,null,null,null,null,null,null,null,null,null,null,null,null,null,null,40,{"$f":"IF(M73=\"\",500,M73+0.05)","v":97.05},{"$f":"'Indtast Hold og Resultat'!H73","v":"Bjørn Krogh"},{"$f":"SMALL($AL$146:$AL$217,40)","v":500},"Annie Jensen","","",{"$f":"IF(AQ185=\"\",\"\",VLOOKUP(AQ185,Deltagere!$C$4:$I$1003,2,FALSE))","v":""}]
[null,null,null,null,null,null,null,null,null,null,null,null,null,null,null,null,null,null,null,null,null,null,null,null,null,null,null,null,null,null,null,null,null,null,null,null,41,{"$f":"IF(M77=\"\",500,M77+0.051)","v":500},{"$f":"'Indtast Hold og Resultat'!H77","v":"Ingrid Jensen"},{"$f":"SMALL($AL$146:$AL$217,41)","v":500},"Annie Jensen","","",{"$f":"IF(AQ186=\"\",\"\",VLOOKUP(AQ186,Deltagere!$C$4:$I$1003,2,FALSE))","v":""}]
[null,"Hold 9","Start ved hul nr.",{"$f":"IF($R$4=\"\",\"\",VLOOKUP($R$4,$R$8:$AI$24,9,FALSE))","v":9},"Runde ",null,null,null,null,null,null,null,null,null,null,null,null,null,null,null,null,null,null,null,null,null,null,null,null,null,null,null,null,null,null,null,42,{"$f":"IF(M78=\"\",500,M78+0.052)","v":500},{"$f":"'Indtast Hold og Resultat'!H78","v":"Liselotte Storgaard"},{"$f":"SMALL($AL$146:$AL$217,42)","v":500},"Annie Jensen","","",{"$f":"IF(AQ187=\"\",\"\",VLOOKUP(AQ187,Deltagere!$C$4:$I$1003,2,FALSE))","v":""}]
[null,"Nummer","Navn","Klub",2,null,null,null,null,null,null,null,null,null,null,null,null,null,null,null,null,null,null,null,null,null,null,null,null,null,null,null,null,null,null,null,43,{"$f":"IF(M79=\"\",500,M79+0.053)","v":98.052999999999997},{"$f":"'Indtast Hold og Resultat'!H79","v":"Christian Blid"},{"$f":"SMALL($AL$146:$AL$217,43)","v":500},"Annie Jensen","","",{"$f":"IF(AQ188=\"\",\"\",VLOOKUP(AQ188,Deltagere!$C$4:$I$1003,2,FALSE))","v":""}]
[null,{"$f":"IF(C189=\"\",\"\",VLOOKUP(C189,Deltagere!$C$4:$I$1003,7,FALSE))","v":464},{"$f":"IF('Holdsammensætning  '!F40 =\"\",\"\",'Holdsammensætning  '!F40)","v":"Gytha Szumlanski"},{"$f":"IF(C189=\"\",\"\",VLOOKUP(C189,Deltagere!$C$4:$I$1003,2,FALSE))","v":"Krolffolket"},51,null,null,null,null,null,null,null,null,null,null,null,null,null,null,null,null,null,null,null,null,null,null,null,null,null,null,null,null,null,null,null,44,{"$f":"IF(M80=\"\",500,M80+0.054)","v":91.054000000000002},{"$f":"'Indtast Hold og Resultat'!H80","v":"Jørgen Hansen"},{"$f":"SMALL($AL$146:$AL$217,44)","v":500},"Annie Jensen","","",{"$f":"IF(AQ189=\"\",\"\",VLOOKUP(AQ189,Deltagere!$C$4:$I$1003,2,FALSE))","v":""}]
[null,{"$f":"IF(C190=\"\",\"\",VLOOKUP(C190,Deltagere!$C$4:$I$1003,7,FALSE))","v":51},{"$f":"IF('Holdsammensætning  '!F41 =\"\",\"\",'Holdsammensætning  '!F41)","v":"Tage Jensen"},{"$f":"IF(C190=\"\",\"\",VLOOKUP(C190,Deltagere!$C$4:$I$1003,2,FALSE))","v":"Meløse"},50,null,null,null,null,null,null,null,null,null,null,null,null,null,null,null,null,null,null,null,null,null,null,null,null,null,null,null,null,null,null,null,45,{"$f":"IF(M84=\"\",500,M84+0.055)","v":105.05500000000001},{"$f":"'Indtast Hold og Resultat'!H84","v":"Ivan Szumlanski"},{"$f":"SMALL($AL$146:$AL$217,45)","v":500},"Annie Jensen","","",{"$f":"IF(AQ190=\"\",\"\",VLOOKUP(AQ190,Deltagere!$C$4:$I$1003,2,FALSE))","v":""}]
[null,{"$f":"IF(C191=\"\",\"\",VLOOKUP(C191,Deltagere!$C$4:$I$1003,7,FALSE))","v":483},{"$f":"IF('Holdsammensætning  '!F42 =\"\",\"\",'Holdsammensætning  '!F42)","v":"Lone S. Nielsen"},{"$f":"IF(C191=\"\",\"\",VLOOKUP(C191,Deltagere!$C$4:$I$1003,2,FALSE))","v":"Krolffolket"},52,null,null,null,null,null,null,null,null,null,null,null,null,null,null,null,null,null,null,null,null,null,null,null,null,null,null,null,null,null,null,null,46,{"$f":"IF(M85=\"\",500,M85+0.056)","v":92.055999999999997},{"$f":"'Indtast Hold og Resultat'!H85","v":"Allan Larsen"},{"$f":"SMALL($AL$146:$AL$217,46)","v":500},"Annie Jensen","","",{"$f":"IF(AQ191=\"\",\"\",VLOOKUP(AQ191,Deltagere!$C$4:$I$1003,2,FALSE))","v":""}]
[null,{"$f":"IF(C192=\"\",\"\",VLOOKUP(C192,Deltagere!$C$4:$I$1003,7,FALSE))","v":64},{"$f":"IF('Holdsammensætning  '!F43 =\"\",\"\",'Holdsammensætning  '!F43)","v":"Villy Jensen"},{"$f":"IF(C192=\"\",\"\",VLOOKUP(C192,Deltagere!$C$4:$I$1003,2,FALSE))","v":"Meløse"},51,null,null,null,null,null,null,null,null,null,null,null,null,null,null,null,null,null,null,null,null,null,null,null,null,null,null,null,null,null,null,null,47,{"$f":"IF(M86=\"\",500,M86+0.057)","v":105.057},{"$f":"'Indtast Hold og Resultat'!H86","v":"Finn Jørgensen"},{"$f":"SMALL($AL$146:$AL$217,47)","v":500},"Annie Jensen","","",{"$f":"IF(AQ192=\"\",\"\",VLOOKUP(AQ192,Deltagere!$C$4:$I$1003,2,FALSE))","v":""}]
[null,null,null,null,null,null,null,null,null,null,null,null,null,null,null,null,null,null,null,null,null,null,null,null,null,null,null,null,null,null,null,null,null,null,null,null,48,{"$f":"IF(M87=\"\",500,M87+0.058)","v":94.058000000000007},{"$f":"'Indtast Hold og Resultat'!H87","v":"Peter Christensen"},{"$f":"SMALL($AL$146:$AL$217,48)","v":500},"Annie Jensen","","",{"$f":"IF(AQ193=\"\",\"\",VLOOKUP(AQ193,Deltagere!$C$4:$I$1003,2,FALSE))","v":""}]
[null,"Hold 10","Start ved hul nr.",{"$f":"IF($R$4=\"\",\"\",VLOOKUP($R$4,$R$8:$AI$24,10,FALSE))","v":10},"Runde ",null,null,null,null,null,null,null,null,null,null,null,null,null,null,null,null,null,null,null,null,null,null,null,null,null,null,null,null,null,null,null,49,{"$f":"IF(M91=\"\",500,M91+0.059)","v":500},{"$f":"'Indtast Hold og Resultat'!H91","v":"Lisser Kristensen"},{"$f":"SMALL($AL$146:$AL$217,49)","v":500},"Annie Jensen","","",{"$f":"IF(AQ194=\"\",\"\",VLOOKUP(AQ194,Deltagere!$C$4:$I$1003,2,FALSE))","v":""}]
[null,"Nummer","Navn","Klub",2,null,null,null,null,null,null,null,null,null,null,null,null,null,null,null,null,null,null,null,null,null,null,null,null,null,null,null,null,null,null,null,50,{"$f":"IF(M92=\"\",500,M92+0.06)","v":104.06},{"$f":"'Indtast Hold og Resultat'!H92","v":"Ole Christensen"},{"$f":"SMALL($AL$146:$AL$217,50)","v":500},"Annie Jensen","","",{"$f":"IF(AQ195=\"\",\"\",VLOOKUP(AQ195,Deltagere!$C$4:$I$1003,2,FALSE))","v":""}]
[null,{"$f":"IF(C196=\"\",\"\",VLOOKUP(C196,Deltagere!$C$4:$I$1003,7,FALSE))","v":466},{"$f":"IF('Holdsammensætning  '!F44 =\"\",\"\",'Holdsammensætning  '!F44)","v":"Finn Jørgensen"},{"$f":"IF(C196=\"\",\"\",VLOOKUP(C196,Deltagere!$C$4:$I$1003,2,FALSE))","v":"Krolffolket"},50,null,null,null,null,null,null,null,null,null,null,null,null,null,null,null,null,null,null,null,null,null,null,null,null,null,null,null,null,null,null,null,51,{"$f":"IF(M93=\"\",500,M93+0.061)","v":500},{"$f":"'Indtast Hold og Resultat'!H93","v":"Vibeke Jørgensen"},{"$f":"SMALL($AL$146:$AL$217,51)","v":500},"Annie Jensen","","",{"$f":"IF(AQ196=\"\",\"\",VLOOKUP(AQ196,Deltagere!$C$4:$I$1003,2,FALSE))","v":""}]
[null,{"$f":"IF(C197=\"\",\"\",VLOOKUP(C197,Deltagere!$C$4:$I$1003,7,FALSE))","v":301},{"$f":"IF('Holdsammensætning  '!F45 =\"\",\"\",'Holdsammensætning  '!F45)","v":"Svend Faigh"},{"$f":"IF(C197=\"\",\"\",VLOOKUP(C197,Deltagere!$C$4:$I$1003,2,FALSE))","v":"BK"},42,null,null,null,null,null,null,null,null,null,null,null,null,null,null,null,null,null,null,null,null,null,null,null,null,null,null,null,null,null,null,null,52,{"$f":"IF(M94=\"\",500,M94+0.062)","v":500},{"$f":"'Indtast Hold og Resultat'!H94","v":"Gytha Szumlanski"},{"$f":"SMALL($AL$146:$AL$217,52)","v":500},"Annie Jensen","","",{"$f":"IF(AQ197=\"\",\"\",VLOOKUP(AQ197,Deltagere!$C$4:$I$1003,2,FALSE))","v":""}]
[null,{"$f":"IF(C198=\"\",\"\",VLOOKUP(C198,Deltagere!$C$4:$I$1003,7,FALSE))","v":480},{"$f":"IF('Holdsammensætning  '!F46 =\"\",\"\",'Holdsammensætning  '!F46)","v":"Lissi Lindberg"},{"$f":"IF(C198=\"\",\"\",VLOOKUP(C198,Deltagere!$C$4:$I$1003,2,FALSE))","v":"Krolffolket"},56,null,null,null,null,null,null,null,null,null,null,null,null,null,null,null,null,null,null,null,null,null,null,null,null,null,null,null,null,null,null,null,53,{"$f":"IF(M98=\"\",500,M98+0.063)","v":500},{"$f":"'Indtast Hold og Resultat'!H98","v":"Helga Andersen"},{"$f":"SMALL($AL$146:$AL$217,53)","v":500},"Annie Jensen","","",{"$f":"IF(AQ198=\"\",\"\",VLOOKUP(AQ198,Deltagere!$C$4:$I$1003,2,FALSE))","v":""}]
[null,{"$f":"IF(C199=\"\",\"\",VLOOKUP(C199,Deltagere!$C$4:$I$1003,7,FALSE))","v":56},{"$f":"IF('Holdsammensætning  '!F47 =\"\",\"\",'Holdsammensætning  '!F47)","v":"Mogens Bodilsen"},{"$f":"IF(C199=\"\",\"\",VLOOKUP(C199,Deltagere!$C$4:$I$1003,2,FALSE))","v":"Meløse"},53,null,null,null,null,null,null,null,null,null,null,null,null,null,null,null,null,null,null,null,null,null,null,null,null,null,null,null,null,null,null,null,54,{"$f":"IF(M99=\"\",500,M99+0.064)","v":500},{"$f":"'Indtast Hold og Resultat'!H99","v":"Jette S. Olsen"},{"$f":"SMALL($AL$146:$AL$217,54)","v":500},"Annie Jensen","","",{"$f":"IF(AQ199=\"\",\"\",VLOOKUP(AQ199,Deltagere!$C$4:$I$1003,2,FALSE))","v":""}]
[null,null,null,null,null,null,null,null,null,null,null,null,null,null,null,null,null,null,null,null,null,null,null,null,null,null,null,null,null,null,null,null,null,null,null,null,55,{"$f":"IF(M100=\"\",500,M100+0.065)","v":108.065},{"$f":"'Indtast Hold og Resultat'!H100","v":"Ole Nilaus Nielsen"},{"$f":"SMALL($AL$146:$AL$217,55)","v":500},"Annie Jensen","","",{"$f":"IF(AQ200=\"\",\"\",VLOOKUP(AQ200,Deltagere!$C$4:$I$1003,2,FALSE))","v":""}]
[null,"Hold 11","Start ved hul nr.",{"$f":"IF($R$4=\"\",\"\",VLOOKUP($R$4,$R$8:$AI$24,11,FALSE))","v":11},"Runde ",null,null,null,null,null,null,null,null,null,null,null,null,null,null,null,null,null,null,null,null,null,null,null,null,null,null,null,null,null,null,null,56,{"$f":"IF(M101=\"\",500,M101+0.066)","v":500},{"$f":"'Indtast Hold og Resultat'!H101","v":"Susanne Blok"},{"$f":"SMALL($AL$146:$AL$217,56)","v":500},"Annie Jensen","","",{"$f":"IF(AQ201=\"\",\"\",VLOOKUP(AQ201,Deltagere!$C$4:$I$1003,2,FALSE))","v":""}]
[null,"Nummer","Navn","Klub",2,null,null,null,null,null,null,null,null,null,null,null,null,null,null,null,null,null,null,null,null,null,null,null,null,null,null,null,null,null,null,null,57,{"$f":"IF(M105=\"\",500,M105+0.067)","v":500},{"$f":"'Indtast Hold og Resultat'!H105","v":"Ida Olsen"},{"$f":"SMALL($AL$146:$AL$217,57)","v":500},"Annie Jensen","","",{"$f":"IF(AQ202=\"\",\"\",VLOOKUP(AQ202,Deltagere!$C$4:$I$1003,2,FALSE))","v":""}]
[null,{"$f":"IF(C203=\"\",\"\",VLOOKUP(C203,Deltagere!$C$4:$I$1003,7,FALSE))","v":468},{"$f":"IF('Holdsammensætning  '!F48 =\"\",\"\",'Holdsammensætning  '!F48)","v":"Kjeld Hansen"},{"$f":"IF(C203=\"\",\"\",VLOOKUP(C203,Deltagere!$C$4:$I$1003,2,FALSE))","v":"Krolffolket"},44,null,null,null,null,null,null,null,null,null,null,null,null,null,null,null,null,null,null,null,null,null,null,null,null,null,null,null,null,null,null,null,58,{"$f":"IF(M106=\"\",500,M106+0.068)","v":108.068},{"$f":"'Indtast Hold og Resultat'!H106","v":"Erik Wagner"},{"$f":"SMALL($AL$146:$AL$217,58)","v":500},"Annie Jensen","","",{"$f":"IF(AQ203=\"\",\"\",VLOOKUP(AQ203,Deltagere!$C$4:$I$1003,2,FALSE))","v":""}]
[null,{"$f":"IF(C204=\"\",\"\",VLOOKUP(C204,Deltagere!$C$4:$I$1003,7,FALSE))","v":303},{"$f":"IF('Holdsammensætning  '!F49 =\"\",\"\",'Holdsammensætning  '!F49)","v":"Lone Nielsen"},{"$f":"IF(C204=\"\",\"\",VLOOKUP(C204,Deltagere!$C$4:$I$1003,2,FALSE))","v":"BK"},46,null,null,null,null,null,null,null,null,null,null,null,null,null,null,null,null,null,null,null,null,null,null,null,null,null,null,null,null,null,null,null,59,{"$f":"IF(M107=\"\",500,M107+0.069)","v":500},{"$f":"'Indtast Hold og Resultat'!H107","v":"Lissi Lindberg"},{"$f":"SMALL($AL$146:$AL$217,59)","v":500},"Annie Jensen","","",{"$f":"IF(AQ204=\"\",\"\",VLOOKUP(AQ204,Deltagere!$C$4:$I$1003,2,FALSE))","v":""}]
[null,{"$f":"IF(C205=\"\",\"\",VLOOKUP(C205,Deltagere!$C$4:$I$1003,7,FALSE))","v":474},{"$f":"IF('Holdsammensætning  '!F50 =\"\",\"\",'Holdsammensætning  '!F50)","v":"Liselotte Storgaard"},{"$f":"IF(C205=\"\",\"\",VLOOKUP(C205,Deltagere!$C$4:$I$1003,2,FALSE))","v":"Krolffolket"},47,null,null,null,null,null,null,null,null,null,null,null,null,null,null,null,null,null,null,null,null,null,null,null,null,null,null,null,null,null,null,null,60,{"$f":"IF(M108=\"\",500,M108+0.07)","v":500},{"$f":"'Indtast Hold og Resultat'!H108","v":"Lone S. Nielsen"},{"$f":"SMALL($AL$146:$AL$217,60)","v":500},"Annie Jensen","","",{"$f":"IF(AQ205=\"\",\"\",VLOOKUP(AQ205,Deltagere!$C$4:$I$1003,2,FALSE))","v":""}]
[null,{"$f":"IF(C206=\"\",\"\",VLOOKUP(C206,Deltagere!$C$4:$I$1003,7,FALSE))","v":57},{"$f":"IF('Holdsammensætning  '!F51 =\"\",\"\",'Holdsammensætning  '!F51)","v":"Niels Aare Jensen"},{"$f":"IF(C206=\"\",\"\",VLOOKUP(C206,Deltagere!$C$4:$I$1003,2,FALSE))","v":"Meløse"},50,null,null,null,null,null,null,null,null,null,null,null,null,null,null,null,null,null,null,null,null,null,null,null,null,null,null,null,null,null,null,null,61,{"$f":"IF(M112=\"\",500,M112+0.071)","v":500},{"$f":"'Indtast Hold og Resultat'!H112","v":"Inge Sørensen"},{"$f":"SMALL($AL$146:$AL$217,61)","v":500},"Annie Jensen","","",{"$f":"IF(AQ206=\"\",\"\",VLOOKUP(AQ206,Deltagere!$C$4:$I$1003,2,FALSE))","v":""}]
[null,null,null,null,null,null,null,null,null,null,null,null,null,null,null,null,null,null,null,null,null,null,null,null,null,null,null,null,null,null,null,null,null,null,null,null,62,{"$f":"IF(M113=\"\",500,M113+0.072)","v":500},{"$f":"'Indtast Hold og Resultat'!H113","v":"Lena Kirkegaard"},{"$f":"SMALL($AL$146:$AL$217,62)","v":500},"Annie Jensen","","",{"$f":"IF(AQ207=\"\",\"\",VLOOKUP(AQ207,Deltagere!$C$4:$I$1003,2,FALSE))","v":""}]
[null,"Hold 12","Start ved hul nr.",{"$f":"IF($R$4=\"\",\"\",VLOOKUP($R$4,$R$8:$AI$24,12,FALSE))","v":12},"Runde ",null,null,null,null,null,null,null,null,null,null,null,null,null,null,null,null,null,null,null,null,null,null,null,null,null,null,null,null,null,null,null,63,{"$f":"IF(M114=\"\",500,M114+0.073)","v":500},{"$f":"'Indtast Hold og Resultat'!H114","v":"Majbritt Nielsen"},{"$f":"SMALL($AL$146:$AL$217,63)","v":500},"Annie Jensen","","",{"$f":"IF(AQ208=\"\",\"\",VLOOKUP(AQ208,Deltagere!$C$4:$I$1003,2,FALSE))","v":""}]
[null,"Nummer","Navn","Klub",2,null,null,null,null,null,null,null,null,null,null,null,null,null,null,null,null,null,null,null,null,null,null,null,null,null,null,null,null,null,null,null,64,{"$f":"IF(M115=\"\",500,M115+0.074)","v":500},{"$f":"'Indtast Hold og Resultat'!H115","v":"Benthe Dahl"},{"$f":"SMALL($AL$146:$AL$217,64)","v":500},"Annie Jensen","","",{"$f":"IF(AQ209=\"\",\"\",VLOOKUP(AQ209,Deltagere!$C$4:$I$1003,2,FALSE))","v":""}]
[null,{"$f":"IF(C210=\"\",\"\",VLOOKUP(C210,Deltagere!$C$4:$I$1003,7,FALSE))","v":482},{"$f":"IF('Holdsammensætning  '!F52 =\"\",\"\",'Holdsammensætning  '!F52)","v":"Jim Jørgensen"},{"$f":"IF(C210=\"\",\"\",VLOOKUP(C210,Deltagere!$C$4:$I$1003,2,FALSE))","v":"Krolffolket"},50,null,null,null,null,null,null,null,null,null,null,null,null,null,null,null,null,null,null,null,null,null,null,null,null,null,null,null,null,null,null,null,65,{"$f":"IF(M119=\"\",500,M119+0.075)","v":115.075},{"$f":"'Indtast Hold og Resultat'!H119","v":"Steen Lergard"},{"$f":"SMALL($AL$146:$AL$217,65)","v":500},"Annie Jensen",{"$f":"IF(AN210=500,\"\",AN210)","v":""},{"$f":"IF(AP210=\"\",\"\",AO210)","v":""},{"$f":"IF(AQ210=\"\",\"\",VLOOKUP(AQ210,Deltagere!$C$4:$I$1003,2,FALSE))","v":""}]
[null,{"$f":"IF(C211=\"\",\"\",VLOOKUP(C211,Deltagere!$C$4:$I$1003,7,FALSE))","v":305},{"$f":"IF('Holdsammensætning  '!F53 =\"\",\"\",'Holdsammensætning  '!F53)","v":"Annette Lykke Madsen"},{"$f":"IF(C211=\"\",\"\",VLOOKUP(C211,Deltagere!$C$4:$I$1003,2,FALSE))","v":"BK"},60,null,null,null,null,null,null,null,null,null,null,null,null,null,null,null,null,null,null,null,null,null,null,null,null,null,null,null,null,null,null,null,66,{"$f":"IF(M120=\"\",500,M120+0.076)","v":500},{"$f":"'Indtast Hold og Resultat'!H120","v":"Sarah Christiansen"},{"$f":"SMALL($AL$146:$AL$217,66)","v":500},{"$f":"VLOOKUP(AN211,$AL$146:$AO$217,2,FALSE)","v":"Annie Jensen"},"","",{"$f":"IF(AQ211=\"\",\"\",VLOOKUP(AQ211,Deltagere!$C$4:$I$1003,2,FALSE))","v":""}]
[null,{"$f":"IF(C212=\"\",\"\",VLOOKUP(C212,Deltagere!$C$4:$I$1003,7,FALSE))","v":472},{"$f":"IF('Holdsammensætning  '!F54 =\"\",\"\",'Holdsammensætning  '!F54)","v":"Allan Pedersen"},{"$f":"IF(C212=\"\",\"\",VLOOKUP(C212,Deltagere!$C$4:$I$1003,2,FALSE))","v":"Krolffolket"},51,null,null,null,null,null,null,null,null,null,null,null,null,null,null,null,null,null,null,null,null,null,null,null,null,null,null,null,null,null,null,null,67,{"$f":"IF(M121=\"\",500,M121+0.077)","v":500},{"$f":"'Indtast Hold og Resultat'!H121","v":""},{"$f":"SMALL($AL$146:$AL$217,67)","v":500},"Annie Jensen","","",{"$f":"IF(AQ212=\"\",\"\",VLOOKUP(AQ212,Deltagere!$C$4:$I$1003,2,FALSE))","v":""}]
[null,{"$f":"IF(C213=\"\",\"\",VLOOKUP(C213,Deltagere!$C$4:$I$1003,7,FALSE))","v":60},{"$f":"IF('Holdsammensætning  '!F55 =\"\",\"\",'Holdsammensætning  '!F55)","v":"Anna Grethe Christensen"},{"$f":"IF(C213=\"\",\"\",VLOOKUP(C213,Deltagere!$C$4:$I$1003,2,FALSE))","v":"Meløse"},58,null,null,null,null,null,null,null,null,null,null,null,null,null,null,null,null,null,null,null,null,null,null,null,null,null,null,null,null,null,null,null,68,{"$f":"IF(M122=\"\",500,M122+0.078)","v":500},{"$f":"'Indtast Hold og Resultat'!H122","v":""},{"$f":"SMALL($AL$146:$AL$217,68)","v":500},"Annie Jensen","","",{"$f":"IF(AQ213=\"\",\"\",VLOOKUP(AQ213,Deltagere!$C$4:$I$1003,2,FALSE))","v":""}]
[null,null,null,null,null,null,null,null,null,null,null,null,null,null,null,null,null,null,null,null,null,null,null,null,null,null,null,null,null,null,null,null,null,null,null,null,69,{"$f":"IF(M126=\"\",500,M126+0.079)","v":96.078999999999994},{"$f":"'Indtast Hold og Resultat'!H126","v":"Anders Jørgensen"},{"$f":"SMALL($AL$146:$AL$217,69)","v":500},"Annie Jensen","","",{"$f":"IF(AQ214=\"\",\"\",VLOOKUP(AQ214,Deltagere!$C$4:$I$1003,2,FALSE))","v":""}]
[null,"Hold 13","Start ved hul nr.",{"$f":"IF($R$4=\"\",\"\",VLOOKUP($R$4,$R$8:$AI$24,13,FALSE))","v":13},"Runde ",null,null,null,null,null,null,null,null,null,null,null,null,null,null,null,null,null,null,null,null,null,null,null,null,null,null,null,null,null,null,null,70,{"$f":"IF(M127=\"\",500,M127+0.08)","v":104.08},{"$f":"'Indtast Hold og Resultat'!H127","v":"Kian Andersen"},{"$f":"SMALL($AL$146:$AL$217,70)","v":500},"Annie Jensen","","",{"$f":"IF(AQ215=\"\",\"\",VLOOKUP(AQ215,Deltagere!$C$4:$I$1003,2,FALSE))","v":""}]
[null,"Nummer","Navn"," ",2,null,null,null,null,null,null,null,null,null,null,null,null,null,null,null,null,null,null,null,null,null,null,null,null,null,null,null,null,null,null,null,71,{"$f":"IF(M128=\"\",500,M128+0.081)","v":95.081000000000003},{"$f":"'Indtast Hold og Resultat'!H128","v":"Adam Kristoffersen"},{"$f":"SMALL($AL$146:$AL$217,71)","v":500},"Annie Jensen","","",{"$f":"IF(AQ216=\"\",\"\",VLOOKUP(AQ216,Deltagere!$C$4:$I$1003,2,FALSE))","v":""}]
[null,{"$f":"IF(C217=\"\",\"\",VLOOKUP(C217,Deltagere!$C$4:$I$1003,7,FALSE))","v":470},{"$f":"IF('Holdsammensætning  '!F56 =\"\",\"\",'Holdsammensætning  '!F56)","v":"Ingrid Jensen"},{"$f":"IF(C217=\"\",\"\",VLOOKUP(C217,Deltagere!$C$4:$I$1003,2,FALSE))","v":"Krolffolket"},44,null,null,null,null,null,null,null,null,null,null,null,null,null,null,null,null,null,null,null,null,null,null,null,null,null,null,null,null,null,null,null,72,{"$f":"IF(M129=\"\",500,M129+0.082)","v":102.08199999999999},{"$f":"'Indtast Hold og Resultat'!H129","v":"Søren Skourup"},{"$f":"SMALL($AL$146:$AL$217,72)","v":500},"Annie Jensen","","",{"$f":"IF(AQ217=\"\",\"\",VLOOKUP(AQ217,Deltagere!$C$4:$I$1003,2,FALSE))","v":""}]
[null,{"$f":"IF(C218=\"\",\"\",VLOOKUP(C218,Deltagere!$C$4:$I$1003,7,FALSE))","v":316},{"$f":"IF('Holdsammensætning  '!F57 =\"\",\"\",'Holdsammensætning  '!F57)","v":"Preben Madsen"},{"$f":"IF(C218=\"\",\"\",VLOOKUP(C218,Deltagere!$C$4:$I$1003,2,FALSE))","v":"BK"},52]
[null,{"$f":"IF(C219=\"\",\"\",VLOOKUP(C219,Deltagere!$C$4:$I$1003,7,FALSE))","v":467},{"$f":"IF('Holdsammensætning  '!F58 =\"\",\"\",'Holdsammensætning  '!F58)","v":"Lena Kirkegaard"},{"$f":"IF(C219=\"\",\"\",VLOOKUP(C219,Deltagere!$C$4:$I$1003,2,FALSE))","v":"Krolffolket"},51]
[null,{"$f":"IF(C220=\"\",\"\",VLOOKUP(C220,Deltagere!$C$4:$I$1003,7,FALSE))","v":77},{"$f":"IF('Holdsammensætning  '!F59 =\"\",\"\",'Holdsammensætning  '!F59)","v":"Preben Ludore"},{"$f":"IF(C220=\"\",\"\",VLOOKUP(C220,Deltagere!$C$4:$I$1003,2,FALSE))","v":"Meløse"},48]
[null,null,null,null,null,null,null,null,null,null,null,null,null,null,null,null,null,null,null,null,null,null,null,null,null,null,null,null,null,null,null,null,null,null,null,null,null,"Slag","Bedste dame","Mindste",null,null,"Bedste dame"]
[null,"Hold 14","Start ved hul nr.",{"$f":"IF($R$4=\"\",\"\",VLOOKUP($R$4,$R$8:$AI$24,14,FALSE))","v":14},"Runde "]
[null,"Nummer","Navn","Klub",2,null,null,null,null,null,null,null,null,null,null,null,null,null,null,null,null,null,null,null,null,null,null,null,null,null,null,null,null,null,null,null,1,{"$f":"IF(N7=\"\",500,N7+0.011)","v":500},{"$f":"'Indtast Hold og Resultat'!H7","v":"Peter Knudsen"},{"$f":"SMALL($AL$223:$AL$294,1)","v":92.051000000000002},{"$f":"VLOOKUP(AN223,$AL$223:$AO$294,2,FALSE)","v":"Ingrid Jensen"},{"$f":"IF(AN223=500,\"\",AN223)","v":92.051000000000002},{"$f":"IF(AP223=\"\",\"\",AO223)","v":"Ingrid Jensen"},{"$f":"IF(AQ223=\"\",\"\",VLOOKUP(AQ223,Deltagere!$C$4:$I$1003,2,FALSE))","v":"Krolffolket"}]
[null,{"$f":"IF(C224=\"\",\"\",VLOOKUP(C224,Deltagere!$C$4:$I$1003,7,FALSE))","v":476},{"$f":"IF('Holdsammensætning  '!F60 =\"\",\"\",'Holdsammensætning  '!F60)","v":"Christian Blid"},{"$f":"IF(C224=\"\",\"\",VLOOKUP(C224,Deltagere!$C$4:$I$1003,2,FALSE))","v":"Krolffolket"},50,null,null,null,null,null,null,null,null,null,null,null,null,null,null,null,null,null,null,null,null,null,null,null,null,null,null,null,null,null,null,null,2,{"$f":"IF(N8=\"\",500,N8+0.012)","v":500},{"$f":"'Indtast Hold og Resultat'!H8","v":"Mogens Bodilsen"},{"$f":"SMALL($AL$223:$AL$294,2)","v":94.043999999999997},{"$f":"VLOOKUP(AN224,$AL$223:$AO$294,2,FALSE)","v":"Lone Hansen"},{"$f":"IF(AN224=500,\"\",AN224)","v":94.043999999999997},"Lone Hansen",{"$f":"IF(AQ224=\"\",\"\",VLOOKUP(AQ224,Deltagere!$C$4:$I$1003,2,FALSE))","v":"Krolffolket"}]
[null,{"$f":"IF(C225=\"\",\"\",VLOOKUP(C225,Deltagere!$C$4:$I$1003,7,FALSE))","v":327},{"$f":"IF('Holdsammensætning  '!F61 =\"\",\"\",'Holdsammensætning  '!F61)","v":"Mogens Kortegaard"},{"$f":"IF(C225=\"\",\"\",VLOOKUP(C225,Deltagere!$C$4:$I$1003,2,FALSE))","v":"BK"},48,null,null,null,null,null,null,null,null,null,null,null,null,null,null,null,null,null,null,null,null,null,null,null,null,null,null,null,null,null,null,null,3,{"$f":"IF(N9=\"\",500,N9+0.013)","v":500},{"$f":"'Indtast Hold og Resultat'!H9","v":"Villy Jensen"},{"$f":"SMALL($AL$223:$AL$294,3)","v":96.043000000000006},"Hanne Hansen",96.043000000000006,"Hanne Hansen",{"$f":"IF(AQ225=\"\",\"\",VLOOKUP(AQ225,Deltagere!$C$4:$I$1003,2,FALSE))","v":"Krolffolket"}]
[null,{"$f":"IF(C226=\"\",\"\",VLOOKUP(C226,Deltagere!$C$4:$I$1003,7,FALSE))","v":454},{"$f":"IF('Holdsammensætning  '!F62 =\"\",\"\",'Holdsammensætning  '!F62)","v":"Erik Wagner"},{"$f":"IF(C226=\"\",\"\",VLOOKUP(C226,Deltagere!$C$4:$I$1003,2,FALSE))","v":"Krolffolket"},56,null,null,null,null,null,null,null,null,null,null,null,null,null,null,null,null,null,null,null,null,null,null,null,null,null,null,null,null,null,null,null,4,{"$f":"IF(N10=\"\",500,N10+0.014)","v":500},{"$f":"'Indtast Hold og Resultat'!H10","v":"Peter Aare"},{"$f":"SMALL($AL$223:$AL$294,4)","v":96.066000000000003},"Susanne Blok",96.066000000000003,"Susanne Blok",{"$f":"IF(AQ226=\"\",\"\",VLOOKUP(AQ226,Deltagere!$C$4:$I$1003,2,FALSE))","v":"Krolffolket"}]
[null,{"$f":"IF(C227=\"\",\"\",VLOOKUP(C227,Deltagere!$C$4:$I$1003,7,FALSE))","v":602},{"$f":"IF('Holdsammensætning  '!F63 =\"\",\"\",'Holdsammensætning  '!F63)","v":"Kian Andersen"},{"$f":"IF(C227=\"\",\"\",VLOOKUP(C227,Deltagere!$C$4:$I$1003,2,FALSE))","v":"IF Vikingerne"},54,null,null,null,null,null,null,null,null,null,null,null,null,null,null,null,null,null,null,null,null,null,null,null,null,null,null,null,null,null,null,null,5,{"$f":"IF(N14=\"\",500,N14+0.015)","v":98.015000000000001},{"$f":"'Indtast Hold og Resultat'!H14","v":"Annie Jensen"},{"$f":"SMALL($AL$223:$AL$294,5)","v":97.052000000000007},"Liselotte Storgaard",97.052000000000007,"Liselotte Storgaard",{"$f":"IF(AQ227=\"\",\"\",VLOOKUP(AQ227,Deltagere!$C$4:$I$1003,2,FALSE))","v":"Krolffolket"}]
[null,null,null,null,null,null,null,null,null,null,null,null,null,null,null,null,null,null,null,null,null,null,null,null,null,null,null,null,null,null,null,null,null,null,null,null,6,{"$f":"IF(N15=\"\",500,N15+0.016)","v":500},{"$f":"'Indtast Hold og Resultat'!H15","v":"Tage Jensen"},{"$f":"SMALL($AL$223:$AL$294,6)","v":97.061000000000007},"Vibeke Jørgensen",97.061000000000007,"Vibeke Jørgensen",{"$f":"IF(AQ228=\"\",\"\",VLOOKUP(AQ228,Deltagere!$C$4:$I$1003,2,FALSE))","v":"Krolffolket"}]
[null,"Hold 15","Start ved hul nr.",{"$f":"IF($R$4=\"\",\"\",VLOOKUP($R$4,$R$8:$AI$24,15,FALSE))","v":15},"Runde ",null,null,null,null,null,null,null,null,null,null,null,null,null,null,null,null,null,null,null,null,null,null,null,null,null,null,null,null,null,null,null,7,{"$f":"IF(N16=\"\",500,N16+0.017)","v":101.017},{"$f":"'Indtast Hold og Resultat'!H16","v":"Lise Qvist Bebe"},{"$f":"SMALL($AL$223:$AL$294,7)","v":97.07},"Lone S. Nielsen",97.07,"Lone S. Nielsen",{"$f":"IF(AQ229=\"\",\"\",VLOOKUP(AQ229,Deltagere!$C$4:$I$1003,2,FALSE))","v":"Krolffolket"}]
[null,"Nummer","Navn","Klub",2,null,null,null,null,null,null,null,null,null,null,null,null,null,null,null,null,null,null,null,null,null,null,null,null,null,null,null,null,null,null,null,8,{"$f":"IF(N17=\"\",500,N17+0.018)","v":100.018},{"$f":"'Indtast Hold og Resultat'!H17","v":"Connie Bregnvig"},{"$f":"SMALL($AL$223:$AL$294,8)","v":97.072999999999993},"Majbritt Nielsen",97.072999999999993,"Majbritt Nielsen",{"$f":"IF(AQ230=\"\",\"\",VLOOKUP(AQ230,Deltagere!$C$4:$I$1003,2,FALSE))","v":"Krolffolket"}]
[null,{"$f":"IF(C231=\"\",\"\",VLOOKUP(C231,Deltagere!$C$4:$I$1003,7,FALSE))","v":477},{"$f":"IF('Holdsammensætning  '!F64 =\"\",\"\",'Holdsammensætning  '!F64)","v":"Inge Sørensen"},{"$f":"IF(C231=\"\",\"\",VLOOKUP(C231,Deltagere!$C$4:$I$1003,2,FALSE))","v":"Krolffolket"},54,null,null,null,null,null,null,null,null,null,null,null,null,null,null,null,null,null,null,null,null,null,null,null,null,null,null,null,null,null,null,null,9,{"$f":"IF(N21=\"\",500,N21+0.019)","v":118.01900000000001},{"$f":"'Indtast Hold og Resultat'!H21","v":"Anna Grethe Christensen"},{"$f":"SMALL($AL$223:$AL$294,9)","v":98.015000000000001},"Annie Jensen",98.015000000000001,"Annie Jensen",{"$f":"IF(AQ231=\"\",\"\",VLOOKUP(AQ231,Deltagere!$C$4:$I$1003,2,FALSE))","v":"Meløse"}]
[null,{"$f":"IF(C232=\"\",\"\",VLOOKUP(C232,Deltagere!$C$4:$I$1003,7,FALSE))","v":328},{"$f":"IF('Holdsammensætning  '!F65 =\"\",\"\",'Holdsammensætning  '!F65)","v":"Annie Damsgaard"},{"$f":"IF(C232=\"\",\"\",VLOOKUP(C232,Deltagere!$C$4:$I$1003,2,FALSE))","v":"BK"},50,null,null,null,null,null,null,null,null,null,null,null,null,null,null,null,null,null,null,null,null,null,null,null,null,null,null,null,null,null,null,null,10,{"$f":"IF(N22=\"\",500,N22+0.02)","v":500},{"$f":"'Indtast Hold og Resultat'!H22","v":"Niels Aare Jensen"},{"$f":"SMALL($AL$223:$AL$294,10)","v":98.048000000000002},"Alice Rask",98.048000000000002,"Alice Rask",{"$f":"IF(AQ232=\"\",\"\",VLOOKUP(AQ232,Deltagere!$C$4:$I$1003,2,FALSE))","v":"Krolffolket"}]
[null,{"$f":"IF(C233=\"\",\"\",VLOOKUP(C233,Deltagere!$C$4:$I$1003,7,FALSE))","v":451},{"$f":"IF('Holdsammensætning  '!F66 =\"\",\"\",'Holdsammensætning  '!F66)","v":"Steen Lergard"},{"$f":"IF(C233=\"\",\"\",VLOOKUP(C233,Deltagere!$C$4:$I$1003,2,FALSE))","v":"Krolffolket"},56,null,null,null,null,null,null,null,null,null,null,null,null,null,null,null,null,null,null,null,null,null,null,null,null,null,null,null,null,null,null,null,11,{"$f":"IF(N23=\"\",500,N23+0.021)","v":102.021},{"$f":"'Indtast Hold og Resultat'!H23","v":"Petra Knudsen"},{"$f":"SMALL($AL$223:$AL$294,11)","v":98.063000000000002},"Helga Andersen",98.063000000000002,"Helga Andersen",{"$f":"IF(AQ233=\"\",\"\",VLOOKUP(AQ233,Deltagere!$C$4:$I$1003,2,FALSE))","v":"Krolffolket"}]
[null,{"$f":"IF(C234=\"\",\"\",VLOOKUP(C234,Deltagere!$C$4:$I$1003,7,FALSE))","v":608},{"$f":"IF('Holdsammensætning  '!F67 =\"\",\"\",'Holdsammensætning  '!F67)","v":"Søren Skourup"},{"$f":"IF(C234=\"\",\"\",VLOOKUP(C234,Deltagere!$C$4:$I$1003,2,FALSE))","v":"IF Vikingerne"},48,null,null,null,null,null,null,null,null,null,null,null,null,null,null,null,null,null,null,null,null,null,null,null,null,null,null,null,null,null,null,null,12,{"$f":"IF(N24=\"\",500,N24+0.022)","v":500},{"$f":"'Indtast Hold og Resultat'!H24","v":"Preben Ludore"},{"$f":"SMALL($AL$223:$AL$294,12)","v":100.018},"Connie Bregnvig",100.018,"Connie Bregnvig",{"$f":"IF(AQ234=\"\",\"\",VLOOKUP(AQ234,Deltagere!$C$4:$I$1003,2,FALSE))","v":"Meløse"}]
[null,null,null,null,null,null,null,null,null,null,null,null,null,null,null,null,null,null,null,null,null,null,null,null,null,null,null,null,null,null,null,null,null,null,null,null,13,{"$f":"IF(N28=\"\",500,N28+0.023)","v":117.023},{"$f":"'Indtast Hold og Resultat'!H28","v":"Anne Marie Laustsen"},{"$f":"SMALL($AL$223:$AL$294,13)","v":100.03},"Lone Nielsen",100.03,"Lone Nielsen",{"$f":"IF(AQ235=\"\",\"\",VLOOKUP(AQ235,Deltagere!$C$4:$I$1003,2,FALSE))","v":"BK"}]
[null,"Hold 16","Start ved hul nr.",{"$f":"IF($R$4=\"\",\"\",VLOOKUP($R$4,$R$8:$AI$24,16,FALSE))","v":16},"Runde ",null,null,null,null,null,null,null,null,null,null,null,null,null,null,null,null,null,null,null,null,null,null,null,null,null,null,null,null,null,null,null,14,{"$f":"IF(N29=\"\",500,N29+0.024)","v":500},{"$f":"'Indtast Hold og Resultat'!H29","v":"Søren Helbo"},{"$f":"SMALL($AL$223:$AL$294,14)","v":101.017},"Lise Qvist Bebe",101.017,"Lise Qvist Bebe",{"$f":"IF(AQ236=\"\",\"\",VLOOKUP(AQ236,Deltagere!$C$4:$I$1003,2,FALSE))","v":"Meløse"}]
[null,"Nummer","Navn","Klub",2,null,null,null,null,null,null,null,null,null,null,null,null,null,null,null,null,null,null,null,null,null,null,null,null,null,null,null,null,null,null,null,15,{"$f":"IF(N30=\"\",500,N30+0.025)","v":500},{"$f":"'Indtast Hold og Resultat'!H30","v":"Jørgen Hvilsom"},{"$f":"SMALL($AL$223:$AL$294,15)","v":101.033},"Annie Damsgaard",101.033,"Annie Damsgaard",{"$f":"IF(AQ237=\"\",\"\",VLOOKUP(AQ237,Deltagere!$C$4:$I$1003,2,FALSE))","v":"BK"}]
[null,{"$f":"IF(C238=\"\",\"\",VLOOKUP(C238,Deltagere!$C$4:$I$1003,7,FALSE))","v":478},{"$f":"IF('Holdsammensætning  '!F68 =\"\",\"\",'Holdsammensætning  '!F68)","v":"Allan Larsen"},{"$f":"IF(C238=\"\",\"\",VLOOKUP(C238,Deltagere!$C$4:$I$1003,2,FALSE))","v":"Krolffolket"},46,null,null,null,null,null,null,null,null,null,null,null,null,null,null,null,null,null,null,null,null,null,null,null,null,null,null,null,null,null,null,null,16,{"$f":"IF(N31=\"\",500,N31+0.026)","v":500},{"$f":"'Indtast Hold og Resultat'!H31","v":"Lennert Sørensen"},{"$f":"SMALL($AL$223:$AL$294,16)","v":101.038},"Tove Perlt",101.038,"Tove Perlt",{"$f":"IF(AQ238=\"\",\"\",VLOOKUP(AQ238,Deltagere!$C$4:$I$1003,2,FALSE))","v":"BK"}]
[null,{"$f":"IF(C239=\"\",\"\",VLOOKUP(C239,Deltagere!$C$4:$I$1003,7,FALSE))","v":601},{"$f":"IF('Holdsammensætning  '!F69 =\"\",\"\",'Holdsammensætning  '!F69)","v":"Anders Jørgensen"},{"$f":"IF(C239=\"\",\"\",VLOOKUP(C239,Deltagere!$C$4:$I$1003,2,FALSE))","v":"IF Vikingerne"},47,null,null,null,null,null,null,null,null,null,null,null,null,null,null,null,null,null,null,null,null,null,null,null,null,null,null,null,null,null,null,null,17,{"$f":"IF(N35=\"\",500,N35+0.027)","v":500},{"$f":"'Indtast Hold og Resultat'!H35","v":"Svend Faigh"},{"$f":"SMALL($AL$223:$AL$294,17)","v":101.06699999999999},"Ida Olsen",101.06699999999999,"Ida Olsen",{"$f":"IF(AQ239=\"\",\"\",VLOOKUP(AQ239,Deltagere!$C$4:$I$1003,2,FALSE))","v":"Krolffolket"}]
[null,{"$f":"IF(C240=\"\",\"\",VLOOKUP(C240,Deltagere!$C$4:$I$1003,7,FALSE))","v":457},{"$f":"IF('Holdsammensætning  '!F70 =\"\",\"\",'Holdsammensætning  '!F70)","v":"Lisser Kristensen"},{"$f":"IF(C240=\"\",\"\",VLOOKUP(C240,Deltagere!$C$4:$I$1003,2,FALSE))","v":"Krolffolket"},51,null,null,null,null,null,null,null,null,null,null,null,null,null,null,null,null,null,null,null,null,null,null,null,null,null,null,null,null,null,null,null,18,{"$f":"IF(N36=\"\",500,N36+0.028)","v":500},{"$f":"'Indtast Hold og Resultat'!H36","v":"Mogens Kortegaard"},{"$f":"SMALL($AL$223:$AL$294,18)","v":102.021},"Petra Knudsen",102.021,"Petra Knudsen",{"$f":"IF(AQ240=\"\",\"\",VLOOKUP(AQ240,Deltagere!$C$4:$I$1003,2,FALSE))","v":"Meløse"}]
[null,{"$f":"IF(C241=\"\",\"\",VLOOKUP(C241,Deltagere!$C$4:$I$1003,7,FALSE))","v":76},{"$f":"IF('Holdsammensætning  '!F71 =\"\",\"\",'Holdsammensætning  '!F71)","v":"Connie Bregnvig"},{"$f":"IF(C241=\"\",\"\",VLOOKUP(C241,Deltagere!$C$4:$I$1003,2,FALSE))","v":"Meløse"},47,null,null,null,null,null,null,null,null,null,null,null,null,null,null,null,null,null,null,null,null,null,null,null,null,null,null,null,null,null,null,null,19,{"$f":"IF(N37=\"\",500,N37+0.029)","v":500},{"$f":"'Indtast Hold og Resultat'!H37","v":"Jørgen Hugo Larsen"},{"$f":"SMALL($AL$223:$AL$294,19)","v":102.06399999999999},"Jette S. Olsen",102.06399999999999,"Jette S. Olsen",{"$f":"IF(AQ241=\"\",\"\",VLOOKUP(AQ241,Deltagere!$C$4:$I$1003,2,FALSE))","v":"Krolffolket"}]
[null,null,null,null,null,null,null,null,null,null,null,null,null,null,null,null,null,null,null,null,null,null,null,null,null,null,null,null,null,null,null,null,null,null,null,null,20,{"$f":"IF(N38=\"\",500,N38+0.03)","v":100.03},{"$f":"'Indtast Hold og Resultat'!H38","v":"Lone Nielsen"},{"$f":"SMALL($AL$223:$AL$294,20)","v":103.059},"Lisser Kristensen",103.059,"Lisser Kristensen",{"$f":"IF(AQ242=\"\",\"\",VLOOKUP(AQ242,Deltagere!$C$4:$I$1003,2,FALSE))","v":"Krolffolket"}]
[null,"Hold 17","Start ved hul nr.",{"$f":"IF($R$4=\"\",\"\",VLOOKUP($R$4,$R$8:$AI$24,17,FALSE))","v":17},"Runde ",null,null,null,null,null,null,null,null,null,null,null,null,null,null,null,null,null,null,null,null,null,null,null,null,null,null,null,null,null,null,null,21,{"$f":"IF(N42=\"\",500,N42+0.031)","v":500},{"$f":"'Indtast Hold og Resultat'!H42","v":"Åge  Zcharau"},{"$f":"SMALL($AL$223:$AL$294,21)","v":104.062},"Gytha Szumlanski",104.062,"Gytha Szumlanski",{"$f":"IF(AQ243=\"\",\"\",VLOOKUP(AQ243,Deltagere!$C$4:$I$1003,2,FALSE))","v":"Krolffolket"}]
[null,"Nummer","Navn","Klub",2,null,null,null,null,null,null,null,null,null,null,null,null,null,null,null,null,null,null,null,null,null,null,null,null,null,null,null,null,null,null,null,22,{"$f":"IF(N43=\"\",500,N43+0.032)","v":112.032},{"$f":"'Indtast Hold og Resultat'!H43","v":"Conny Schackinger"},{"$f":"SMALL($AL$223:$AL$294,22)","v":107.07599999999999},"Sarah Christiansen",107.07599999999999,"Sarah Christiansen",{"$f":"IF(AQ244=\"\",\"\",VLOOKUP(AQ244,Deltagere!$C$4:$I$1003,2,FALSE))","v":"IF Vikingerne"}]
[null,{"$f":"IF(C245=\"\",\"\",VLOOKUP(C245,Deltagere!$C$4:$I$1003,7,FALSE))","v":479},{"$f":"IF('Holdsammensætning  '!F72 =\"\",\"\",'Holdsammensætning  '!F72)","v":"Bjørn Krogh"},{"$f":"IF(C245=\"\",\"\",VLOOKUP(C245,Deltagere!$C$4:$I$1003,2,FALSE))","v":"Krolffolket"},48,null,null,null,null,null,null,null,null,null,null,null,null,null,null,null,null,null,null,null,null,null,null,null,null,null,null,null,null,null,null,null,23,{"$f":"IF(N44=\"\",500,N44+0.033)","v":101.033},{"$f":"'Indtast Hold og Resultat'!H44","v":"Annie Damsgaard"},{"$f":"SMALL($AL$223:$AL$294,23)","v":108.071},"Inge Sørensen",108.071,"Inge Sørensen",{"$f":"IF(AQ245=\"\",\"\",VLOOKUP(AQ245,Deltagere!$C$4:$I$1003,2,FALSE))","v":"Krolffolket"}]
[null,{"$f":"IF(C246=\"\",\"\",VLOOKUP(C246,Deltagere!$C$4:$I$1003,7,FALSE))","v":302},{"$f":"IF('Holdsammensætning  '!F73 =\"\",\"\",'Holdsammensætning  '!F73)","v":"Jørgen Hugo Larsen"},{"$f":"IF(C246=\"\",\"\",VLOOKUP(C246,Deltagere!$C$4:$I$1003,2,FALSE))","v":"BK"},44,null,null,null,null,null,null,null,null,null,null,null,null,null,null,null,null,null,null,null,null,null,null,null,null,null,null,null,null,null,null,null,24,{"$f":"IF(N45=\"\",500,N45+0.034)","v":500},{"$f":"'Indtast Hold og Resultat'!H45","v":"Preben Madsen"},{"$f":"SMALL($AL$223:$AL$294,24)","v":109.069},"Lissi Lindberg",109.069,"Lissi Lindberg",{"$f":"IF(AQ246=\"\",\"\",VLOOKUP(AQ246,Deltagere!$C$4:$I$1003,2,FALSE))","v":"Krolffolket"}]
[null,{"$f":"IF(C247=\"\",\"\",VLOOKUP(C247,Deltagere!$C$4:$I$1003,7,FALSE))","v":73},{"$f":"IF('Holdsammensætning  '!F74 =\"\",\"\",'Holdsammensætning  '!F74)","v":"Petra Knudsen"},{"$f":"IF(C247=\"\",\"\",VLOOKUP(C247,Deltagere!$C$4:$I$1003,2,FALSE))","v":"Meløse"},53,null,null,null,null,null,null,null,null,null,null,null,null,null,null,null,null,null,null,null,null,null,null,null,null,null,null,null,null,null,null,null,25,{"$f":"IF(N49=\"\",500,N49+0.035)","v":500},{"$f":"'Indtast Hold og Resultat'!H49","v":"Peter Sølsten"},{"$f":"SMALL($AL$223:$AL$294,25)","v":110.072},"Lena Kirkegaard",110.072,"Lena Kirkegaard",{"$f":"IF(AQ247=\"\",\"\",VLOOKUP(AQ247,Deltagere!$C$4:$I$1003,2,FALSE))","v":"Krolffolket"}]
[null,{"$f":"IF(C248=\"\",\"\",VLOOKUP(C248,Deltagere!$C$4:$I$1003,7,FALSE))","v":612},{"$f":"IF('Holdsammensætning  '!F75 =\"\",\"\",'Holdsammensætning  '!F75)","v":"Adam Kristoffersen"},{"$f":"IF(C248=\"\",\"\",VLOOKUP(C248,Deltagere!$C$4:$I$1003,2,FALSE))","v":"IF Vikingerne"},48,null,null,null,null,null,null,null,null,null,null,null,null,null,null,null,null,null,null,null,null,null,null,null,null,null,null,null,null,null,null,null,26,{"$f":"IF(N50=\"\",500,N50+0.036)","v":123.036},{"$f":"'Indtast Hold og Resultat'!H50","v":"Margit Larsen"},{"$f":"SMALL($AL$223:$AL$294,26)","v":111.074},"Benthe Dahl",111.074,"Benthe Dahl",{"$f":"IF(AQ248=\"\",\"\",VLOOKUP(AQ248,Deltagere!$C$4:$I$1003,2,FALSE))","v":"Krolffolket"}]
[null,null,null,null,null,null,null,null,null,null,null,null,null,null,null,null,null,null,null,null,null,null,null,null,null,null,null,null,null,null,null,null,null,null,null,null,27,{"$f":"IF(N51=\"\",500,N51+0.037)","v":500},{"$f":"'Indtast Hold og Resultat'!H51","v":"Per Aune"},{"$f":"SMALL($AL$223:$AL$294,27)","v":112.032},"Conny Schackinger",112.032,"Conny Schackinger",{"$f":"IF(AQ249=\"\",\"\",VLOOKUP(AQ249,Deltagere!$C$4:$I$1003,2,FALSE))","v":"BK"}]
[null,"Hold 18","Start ved hul nr.",{"$f":"IF($R$4=\"\",\"\",VLOOKUP($R$4,$R$8:$AI$24,18,FALSE))","v":18},"Runde ",null,null,null,null,null,null,null,null,null,null,null,null,null,null,null,null,null,null,null,null,null,null,null,null,null,null,null,null,null,null,null,28,{"$f":"IF(N52=\"\",500,N52+0.038)","v":101.038},{"$f":"'Indtast Hold og Resultat'!H52","v":"Tove Perlt"},{"$f":"SMALL($AL$223:$AL$294,28)","v":117.023},"Anne Marie Laustsen",117.023,"Anne Marie Laustsen",{"$f":"IF(AQ250=\"\",\"\",VLOOKUP(AQ250,Deltagere!$C$4:$I$1003,2,FALSE))","v":"Meløse"}]
[null,"Nummer","Navn","Klub",2,null,null,null,null,null,null,null,null,null,null,null,null,null,null,null,null,null,null,null,null,null,null,null,null,null,null,null,null,null,null,null,29,{"$f":"IF(N56=\"\",500,N56+0.039)","v":117.039},{"$f":"'Indtast Hold og Resultat'!H56","v":"Annette Traulsen"},{"$f":"SMALL($AL$223:$AL$294,29)","v":117.039},"Annette Traulsen",117.039,"Annette Traulsen",{"$f":"IF(AQ251=\"\",\"\",VLOOKUP(AQ251,Deltagere!$C$4:$I$1003,2,FALSE))","v":"BK"}]
[null,{"$f":"IF(C252=\"\",\"\",VLOOKUP(C252,Deltagere!$C$4:$I$1003,7,FALSE))","v":481},{"$f":"IF('Holdsammensætning  '!F76 =\"\",\"\",'Holdsammensætning  '!F76)","v":"Alice Rask"},{"$f":"IF(C252=\"\",\"\",VLOOKUP(C252,Deltagere!$C$4:$I$1003,2,FALSE))","v":"Krolffolket"},53,null,null,null,null,null,null,null,null,null,null,null,null,null,null,null,null,null,null,null,null,null,null,null,null,null,null,null,null,null,null,null,30,{"$f":"IF(N57=\"\",500,N57+0.04)","v":132.04},{"$f":"'Indtast Hold og Resultat'!H57","v":"Anette Nielsen"},{"$f":"SMALL($AL$223:$AL$294,30)","v":118.01900000000001},"Anna Grethe Christensen",118.01900000000001,"Anna Grethe Christensen",{"$f":"IF(AQ252=\"\",\"\",VLOOKUP(AQ252,Deltagere!$C$4:$I$1003,2,FALSE))","v":"Meløse"}]
[null,{"$f":"IF(C253=\"\",\"\",VLOOKUP(C253,Deltagere!$C$4:$I$1003,7,FALSE))","v":308},{"$f":"IF('Holdsammensætning  '!F77 =\"\",\"\",'Holdsammensætning  '!F77)","v":"Conny Schackinger"},{"$f":"IF(C253=\"\",\"\",VLOOKUP(C253,Deltagere!$C$4:$I$1003,2,FALSE))","v":"BK"},58,null,null,null,null,null,null,null,null,null,null,null,null,null,null,null,null,null,null,null,null,null,null,null,null,null,null,null,null,null,null,null,31,{"$f":"IF(N58=\"\",500,N58+0.041)","v":132.041},{"$f":"'Indtast Hold og Resultat'!H58","v":"Lis Rasmussen"},{"$f":"SMALL($AL$223:$AL$294,31)","v":119.042},"Annette Lykke Madsen",119.042,"Annette Lykke Madsen",{"$f":"IF(AQ253=\"\",\"\",VLOOKUP(AQ253,Deltagere!$C$4:$I$1003,2,FALSE))","v":"BK"}]
[null,{"$f":"IF(C254=\"\",\"\",VLOOKUP(C254,Deltagere!$C$4:$I$1003,7,FALSE))","v":610},{"$f":"IF('Holdsammensætning  '!F78 =\"\",\"\",'Holdsammensætning  '!F78)","v":"Sarah Christiansen"},{"$f":"IF(C254=\"\",\"\",VLOOKUP(C254,Deltagere!$C$4:$I$1003,2,FALSE))","v":"IF Vikingerne"},54,null,null,null,null,null,null,null,null,null,null,null,null,null,null,null,null,null,null,null,null,null,null,null,null,null,null,null,null,null,null,null,32,{"$f":"IF(N59=\"\",500,N59+0.042)","v":119.042},{"$f":"'Indtast Hold og Resultat'!H59","v":"Annette Lykke Madsen"},{"$f":"SMALL($AL$223:$AL$294,32)","v":123.036},"Margit Larsen",123.036,"Margit Larsen",{"$f":"IF(AQ254=\"\",\"\",VLOOKUP(AQ254,Deltagere!$C$4:$I$1003,2,FALSE))","v":"BK"}]
[null,{"$f":"IF(C255=\"\",\"\",VLOOKUP(C255,Deltagere!$C$4:$I$1003,7,FALSE))","v":498},{"$f":"IF('Holdsammensætning  '!F79 =\"\",\"\",'Holdsammensætning  '!F79)","v":"Peter Christensen"},{"$f":"IF(C255=\"\",\"\",VLOOKUP(C255,Deltagere!$C$4:$I$1003,2,FALSE))","v":"Krolffolket"},46,null,null,null,null,null,null,null,null,null,null,null,null,null,null,null,null,null,null,null,null,null,null,null,null,null,null,null,null,null,null,null,33,{"$f":"IF(N63=\"\",500,N63+0.043)","v":96.043000000000006},{"$f":"'Indtast Hold og Resultat'!H63","v":"Hanne Hansen"},{"$f":"SMALL($AL$223:$AL$294,33)","v":132.04},"Anette Nielsen",132.04,"Anette Nielsen",{"$f":"IF(AQ255=\"\",\"\",VLOOKUP(AQ255,Deltagere!$C$4:$I$1003,2,FALSE))","v":"BK"}]
[null,null,null,null,null,null,null,null,null,null,null,null,null,null,null,null,null,null,null,null,null,null,null,null,null,null,null,null,null,null,null,null,null,null,null,null,34,{"$f":"IF(N64=\"\",500,N64+0.044)","v":94.043999999999997},{"$f":"'Indtast Hold og Resultat'!H64","v":"Lone Hansen"},{"$f":"SMALL($AL$223:$AL$294,34)","v":132.041},"Lis Rasmussen",132.041,"Lis Rasmussen",{"$f":"IF(AQ256=\"\",\"\",VLOOKUP(AQ256,Deltagere!$C$4:$I$1003,2,FALSE))","v":"BK"}]
[null,null,null,null,null,null,null,null,null,null,null,null,null,null,null,null,null,null,null,null,null,null,null,null,null,null,null,null,null,null,null,null,null,null,null,null,35,{"$f":"IF(N65=\"\",500,N65+0.045)","v":500},{"$f":"'Indtast Hold og Resultat'!H65","v":"Jim Jørgensen"},{"$f":"SMALL($AL$223:$AL$294,35)","v":500},"Peter Knudsen","","",{"$f":"IF(AQ257=\"\",\"\",VLOOKUP(AQ257,Deltagere!$C$4:$I$1003,2,FALSE))","v":""}]
[null,null,null,null,null,null,null,null,null,null,null,null,null,null,null,null,null,null,null,null,null,null,null,null,null,null,null,null,null,null,null,null,null,null,null,null,36,{"$f":"IF(N66=\"\",500,N66+0.046)","v":500},{"$f":"'Indtast Hold og Resultat'!H66","v":"Allan Pedersen"},{"$f":"SMALL($AL$223:$AL$294,36)","v":500},"Peter Knudsen","","",{"$f":"IF(AQ258=\"\",\"\",VLOOKUP(AQ258,Deltagere!$C$4:$I$1003,2,FALSE))","v":""}]
[null,null,null,null,null,null,null,null,null,null,null,null,null,null,null,null,null,null,null,null,null,null,null,null,null,null,null,null,null,null,null,null,null,null,null,null,37,{"$f":"IF(N70=\"\",500,N70+0.047)","v":500},{"$f":"'Indtast Hold og Resultat'!H70","v":"Michael Jørgensen"},{"$f":"SMALL($AL$223:$AL$294,37)","v":500},"Peter Knudsen","","",{"$f":"IF(AQ259=\"\",\"\",VLOOKUP(AQ259,Deltagere!$C$4:$I$1003,2,FALSE))","v":""}]
[null,null,null,null,null,null,null,null,null,null,null,null,null,null,null,null,null,null,null,null,null,null,null,null,null,null,null,null,null,null,null,null,null,null,null,null,38,{"$f":"IF(N71=\"\",500,N71+0.048)","v":98.048000000000002},{"$f":"'Indtast Hold og Resultat'!H71","v":"Alice Rask"},{"$f":"SMALL($AL$223:$AL$294,38)","v":500},"Peter Knudsen","","",{"$f":"IF(AQ260=\"\",\"\",VLOOKUP(AQ260,Deltagere!$C$4:$I$1003,2,FALSE))","v":""}]
[null,null,null,null,null,null,null,null,null,null,null,null,null,null,null,null,null,null,null,null,null,null,null,null,null,null,null,null,null,null,null,null,null,null,null,null,39,{"$f":"IF(N72=\"\",500,N72+0.049)","v":500},{"$f":"'Indtast Hold og Resultat'!H72","v":"Kjeld Hansen"},{"$f":"SMALL($AL$223:$AL$294,39)","v":500},"Peter Knudsen","","",{"$f":"IF(AQ261=\"\",\"\",VLOOKUP(AQ261,Deltagere!$C$4:$I$1003,2,FALSE))","v":""}]
[null,null,null,null,null,null,null,null,null,null,null,null,null,null,null,null,null,null,null,null,null,null,null,null,null,null,null,null,null,null,null,null,null,null,null,null,40,{"$f":"IF(N73=\"\",500,N73+0.05)","v":500},{"$f":"'Indtast Hold og Resultat'!H73","v":"Bjørn Krogh"},{"$f":"SMALL($AL$223:$AL$294,40)","v":500},"Peter Knudsen","","",{"$f":"IF(AQ262=\"\",\"\",VLOOKUP(AQ262,Deltagere!$C$4:$I$1003,2,FALSE))","v":""}]
[null,null,null,null,null,null,null,null,null,null,null,null,null,null,null,null,null,null,null,null,null,null,null,null,null,null,null,null,null,null,null,null,null,null,null,null,41,{"$f":"IF(N77=\"\",500,N77+0.051)","v":92.051000000000002},{"$f":"'Indtast Hold og Resultat'!H77","v":"Ingrid Jensen"},{"$f":"SMALL($AL$223:$AL$294,41)","v":500},"Peter Knudsen","","",{"$f":"IF(AQ263=\"\",\"\",VLOOKUP(AQ263,Deltagere!$C$4:$I$1003,2,FALSE))","v":""}]
[null,null,null,null,null,null,null,null,null,null,null,null,null,null,null,null,null,null,null,null,null,null,null,null,null,null,null,null,null,null,null,null,null,null,null,null,42,{"$f":"IF(N78=\"\",500,N78+0.052)","v":97.052000000000007},{"$f":"'Indtast Hold og Resultat'!H78","v":"Liselotte Storgaard"},{"$f":"SMALL($AL$223:$AL$294,42)","v":500},"Peter Knudsen","","",{"$f":"IF(AQ264=\"\",\"\",VLOOKUP(AQ264,Deltagere!$C$4:$I$1003,2,FALSE))","v":""}]
[null,null,null,null,null,null,null,null,null,null,null,null,null,null,null,null,null,null,null,null,null,null,null,null,null,null,null,null,null,null,null,null,null,null,null,null,43,{"$f":"IF(N79=\"\",500,N79+0.053)","v":500},{"$f":"'Indtast Hold og Resultat'!H79","v":"Christian Blid"},{"$f":"SMALL($AL$223:$AL$294,43)","v":500},"Peter Knudsen","","",{"$f":"IF(AQ265=\"\",\"\",VLOOKUP(AQ265,Deltagere!$C$4:$I$1003,2,FALSE))","v":""}]
[null,null,null,null,null,null,null,null,null,null,null,null,null,null,null,null,null,null,null,null,null,null,null,null,null,null,null,null,null,null,null,null,null,null,null,null,44,{"$f":"IF(N80=\"\",500,N80+0.054)","v":500},{"$f":"'Indtast Hold og Resultat'!H80","v":"Jørgen Hansen"},{"$f":"SMALL($AL$223:$AL$294,44)","v":500},"Peter Knudsen","","",{"$f":"IF(AQ266=\"\",\"\",VLOOKUP(AQ266,Deltagere!$C$4:$I$1003,2,FALSE))","v":""}]
[null,null,null,null,null,null,null,null,null,null,null,null,null,null,null,null,null,null,null,null,null,null,null,null,null,null,null,null,null,null,null,null,null,null,null,null,45,{"$f":"IF(N84=\"\",500,N84+0.055)","v":500},{"$f":"'Indtast Hold og Resultat'!H84","v":"Ivan Szumlanski"},{"$f":"SMALL($AL$223:$AL$294,45)","v":500},"Peter Knudsen","","",{"$f":"IF(AQ267=\"\",\"\",VLOOKUP(AQ267,Deltagere!$C$4:$I$1003,2,FALSE))","v":""}]
[null,null,null,null,null,null,null,null,null,null,null,null,null,null,null,null,null,null,null,null,null,null,null,null,null,null,null,null,null,null,null,null,null,null,null,null,46,{"$f":"IF(N85=\"\",500,N85+0.056)","v":500},{"$f":"'Indtast Hold og Resultat'!H85","v":"Allan Larsen"},{"$f":"SMALL($AL$223:$AL$294,46)","v":500},"Peter Knudsen","","",{"$f":"IF(AQ268=\"\",\"\",VLOOKUP(AQ268,Deltagere!$C$4:$I$1003,2,FALSE))","v":""}]
[null,null,null,null,null,null,null,null,null,null,null,null,null,null,null,null,null,null,null,null,null,null,null,null,null,null,null,null,null,null,null,null,null,null,null,null,47,{"$f":"IF(N86=\"\",500,N86+0.057)","v":500},{"$f":"'Indtast Hold og Resultat'!H86","v":"Finn Jørgensen"},{"$f":"SMALL($AL$223:$AL$294,47)","v":500},"Peter Knudsen","","",{"$f":"IF(AQ269=\"\",\"\",VLOOKUP(AQ269,Deltagere!$C$4:$I$1003,2,FALSE))","v":""}]
[null,null,null,null,null,null,null,null,null,null,null,null,null,null,null,null,null,null,null,null,null,null,null,null,null,null,null,null,null,null,null,null,null,null,null,null,48,{"$f":"IF(N87=\"\",500,N87+0.058)","v":500},{"$f":"'Indtast Hold og Resultat'!H87","v":"Peter Christensen"},{"$f":"SMALL($AL$223:$AL$294,48)","v":500},"Peter Knudsen","","",{"$f":"IF(AQ270=\"\",\"\",VLOOKUP(AQ270,Deltagere!$C$4:$I$1003,2,FALSE))","v":""}]
[null,null,null,null,null,null,null,null,null,null,null,null,null,null,null,null,null,null,null,null,null,null,null,null,null,null,null,null,null,null,null,null,null,null,null,null,49,{"$f":"IF(N91=\"\",500,N91+0.059)","v":103.059},{"$f":"'Indtast Hold og Resultat'!H91","v":"Lisser Kristensen"},{"$f":"SMALL($AL$223:$AL$294,49)","v":500},"Peter Knudsen","","",{"$f":"IF(AQ271=\"\",\"\",VLOOKUP(AQ271,Deltagere!$C$4:$I$1003,2,FALSE))","v":""}]
[null,null,null,null,null,null,null,null,null,null,null,null,null,null,null,null,null,null,null,null,null,null,null,null,null,null,null,null,null,null,null,null,null,null,null,null,50,{"$f":"IF(N92=\"\",500,N92+0.06)","v":500},{"$f":"'Indtast Hold og Resultat'!H92","v":"Ole Christensen"},{"$f":"SMALL($AL$223:$AL$294,50)","v":500},"Peter Knudsen","","",{"$f":"IF(AQ272=\"\",\"\",VLOOKUP(AQ272,Deltagere!$C$4:$I$1003,2,FALSE))","v":""}]
[null,null,null,null,null,null,null,null,null,null,null,null,null,null,null,null,null,null,null,null,null,null,null,null,null,null,null,null,null,null,null,null,null,null,null,null,51,{"$f":"IF(N93=\"\",500,N93+0.061)","v":97.061000000000007},{"$f":"'Indtast Hold og Resultat'!H93","v":"Vibeke Jørgensen"},{"$f":"SMALL($AL$223:$AL$294,51)","v":500},"Peter Knudsen","","",{"$f":"IF(AQ273=\"\",\"\",VLOOKUP(AQ273,Deltagere!$C$4:$I$1003,2,FALSE))","v":""}]
[null,null,null,null,null,null,null,null,null,null,null,null,null,null,null,null,null,null,null,null,null,null,null,null,null,null,null,null,null,null,null,null,null,null,null,null,52,{"$f":"IF(N94=\"\",500,N94+0.062)","v":104.062},{"$f":"'Indtast Hold og Resultat'!H94","v":"Gytha Szumlanski"},{"$f":"SMALL($AL$223:$AL$294,52)","v":500},"Peter Knudsen","","",{"$f":"IF(AQ274=\"\",\"\",VLOOKUP(AQ274,Deltagere!$C$4:$I$1003,2,FALSE))","v":""}]
[null,null,null,null,null,null,null,null,null,null,null,null,null,null,null,null,null,null,null,null,null,null,null,null,null,null,null,null,null,null,null,null,null,null,null,null,53,{"$f":"IF(N98=\"\",500,N98+0.063)","v":98.063000000000002},{"$f":"'Indtast Hold og Resultat'!H98","v":"Helga Andersen"},{"$f":"SMALL($AL$223:$AL$294,53)","v":500},"Peter Knudsen","","",{"$f":"IF(AQ275=\"\",\"\",VLOOKUP(AQ275,Deltagere!$C$4:$I$1003,2,FALSE))","v":""}]
[null,null,null,null,null,null,null,null,null,null,null,null,null,null,null,null,null,null,null,null,null,null,null,null,null,null,null,null,null,null,null,null,null,null,null,null,54,{"$f":"IF(N99=\"\",500,N99+0.064)","v":102.06399999999999},{"$f":"'Indtast Hold og Resultat'!H99","v":"Jette S. Olsen"},{"$f":"SMALL($AL$223:$AL$294,54)","v":500},"Peter Knudsen","","",{"$f":"IF(AQ276=\"\",\"\",VLOOKUP(AQ276,Deltagere!$C$4:$I$1003,2,FALSE))","v":""}]
[null,null,null,null,null,null,null,null,null,null,null,null,null,null,null,null,null,null,null,null,null,null,null,null,null,null,null,null,null,null,null,null,null,null,null,null,55,{"$f":"IF(N100=\"\",500,N100+0.065)","v":500},{"$f":"'Indtast Hold og Resultat'!H100","v":"Ole Nilaus Nielsen"},{"$f":"SMALL($AL$223:$AL$294,55)","v":500},"Peter Knudsen","","",{"$f":"IF(AQ277=\"\",\"\",VLOOKUP(AQ277,Deltagere!$C$4:$I$1003,2,FALSE))","v":""}]
[null,null,null,null,null,null,null,null,null,null,null,null,null,null,null,null,null,null,null,null,null,null,null,null,null,null,null,null,null,null,null,null,null,null,null,null,56,{"$f":"IF(N101=\"\",500,N101+0.066)","v":96.066000000000003},{"$f":"'Indtast Hold og Resultat'!H101","v":"Susanne Blok"},{"$f":"SMALL($AL$223:$AL$294,56)","v":500},"Peter Knudsen","","",{"$f":"IF(AQ278=\"\",\"\",VLOOKUP(AQ278,Deltagere!$C$4:$I$1003,2,FALSE))","v":""}]
[null,null,null,null,null,null,null,null,null,null,null,null,null,null,null,null,null,null,null,null,null,null,null,null,null,null,null,null,null,null,null,null,null,null,null,null,57,{"$f":"IF(N105=\"\",500,N105+0.067)","v":101.06699999999999},{"$f":"'Indtast Hold og Resultat'!H105","v":"Ida Olsen"},{"$f":"SMALL($AL$223:$AL$294,57)","v":500},"Peter Knudsen","","",{"$f":"IF(AQ279=\"\",\"\",VLOOKUP(AQ279,Deltagere!$C$4:$I$1003,2,FALSE))","v":""}]
[null,null,null,null,null,null,null,null,null,null,null,null,null,null,null,null,null,null,null,null,null,null,null,null,null,null,null,null,null,null,null,null,null,null,null,null,58,{"$f":"IF(N106=\"\",500,N106+0.068)","v":500},{"$f":"'Indtast Hold og Resultat'!H106","v":"Erik Wagner"},{"$f":"SMALL($AL$223:$AL$294,58)","v":500},"Peter Knudsen","","",{"$f":"IF(AQ280=\"\",\"\",VLOOKUP(AQ280,Deltagere!$C$4:$I$1003,2,FALSE))","v":""}]
[null,null,null,null,null,null,null,null,null,null,null,null,null,null,null,null,null,null,null,null,null,null,null,null,null,null,null,null,null,null,null,null,null,null,null,null,59,{"$f":"IF(N107=\"\",500,N107+0.069)","v":109.069},{"$f":"'Indtast Hold og Resultat'!H107","v":"Lissi Lindberg"},{"$f":"SMALL($AL$223:$AL$294,59)","v":500},"Peter Knudsen","","",{"$f":"IF(AQ281=\"\",\"\",VLOOKUP(AQ281,Deltagere!$C$4:$I$1003,2,FALSE))","v":""}]
[null,null,null,null,null,null,null,null,null,null,null,null,null,null,null,null,null,null,null,null,null,null,null,null,null,null,null,null,null,null,null,null,null,null,null,null,60,{"$f":"IF(N108=\"\",500,N108+0.07)","v":97.07},{"$f":"'Indtast Hold og Resultat'!H108","v":"Lone S. Nielsen"},{"$f":"SMALL($AL$223:$AL$294,60)","v":500},"Peter Knudsen","","",{"$f":"IF(AQ282=\"\",\"\",VLOOKUP(AQ282,Deltagere!$C$4:$I$1003,2,FALSE))","v":""}]
[null,null,null,null,null,null,null,null,null,null,null,null,null,null,null,null,null,null,null,null,null,null,null,null,null,null,null,null,null,null,null,null,null,null,null,null,61,{"$f":"IF(N112=\"\",500,N112+0.071)","v":108.071},{"$f":"'Indtast Hold og Resultat'!H112","v":"Inge Sørensen"},{"$f":"SMALL($AL$223:$AL$294,61)","v":500},"Peter Knudsen","","",{"$f":"IF(AQ283=\"\",\"\",VLOOKUP(AQ283,Deltagere!$C$4:$I$1003,2,FALSE))","v":""}]
[null,null,null,null,null,null,null,null,null,null,null,null,null,null,null,null,null,null,null,null,null,null,null,null,null,null,null,null,null,null,null,null,null,null,null,null,62,{"$f":"IF(N113=\"\",500,N113+0.072)","v":110.072},{"$f":"'Indtast Hold og Resultat'!H113","v":"Lena Kirkegaard"},{"$f":"SMALL($AL$223:$AL$294,62)","v":500},"Peter Knudsen","","",{"$f":"IF(AQ284=\"\",\"\",VLOOKUP(AQ284,Deltagere!$C$4:$I$1003,2,FALSE))","v":""}]
[null,null,null,null,null,null,null,null,null,null,null,null,null,null,null,null,null,null,null,null,null,null,null,null,null,null,null,null,null,null,null,null,null,null,null,null,63,{"$f":"IF(N114=\"\",500,N114+0.073)","v":97.072999999999993},{"$f":"'Indtast Hold og Resultat'!H114","v":"Majbritt Nielsen"},{"$f":"SMALL($AL$223:$AL$294,63)","v":500},"Peter Knudsen","","",{"$f":"IF(AQ285=\"\",\"\",VLOOKUP(AQ285,Deltagere!$C$4:$I$1003,2,FALSE))","v":""}]
[null,null,null,null,null,null,null,null,null,null,null,null,null,null,null,null,null,null,null,null,null,null,null,null,null,null,null,null,null,null,null,null,null,null,null,null,64,{"$f":"IF(N115=\"\",500,N115+0.074)","v":111.074},{"$f":"'Indtast Hold og Resultat'!H115","v":"Benthe Dahl"},{"$f":"SMALL($AL$223:$AL$294,64)","v":500},"Peter Knudsen","","",{"$f":"IF(AQ286=\"\",\"\",VLOOKUP(AQ286,Deltagere!$C$4:$I$1003,2,FALSE))","v":""}]
[null,null,null,null,null,null,null,null,null,null,null,null,null,null,null,null,null,null,null,null,null,null,null,null,null,null,null,null,null,null,null,null,null,null,null,null,65,{"$f":"IF(N119=\"\",500,N119+0.075)","v":500},{"$f":"'Indtast Hold og Resultat'!H119","v":"Steen Lergard"},{"$f":"SMALL($AL$223:$AL$294,65)","v":500},"Peter Knudsen","",{"$f":"IF(AP287=\"\",\"\",AO287)","v":""},{"$f":"IF(AQ287=\"\",\"\",VLOOKUP(AQ287,Deltagere!$C$4:$I$1003,2,FALSE))","v":""}]
[null,null,null,null,null,null,null,null,null,null,null,null,null,null,null,null,null,null,null,null,null,null,null,null,null,null,null,null,null,null,null,null,null,null,null,null,66,{"$f":"IF(N120=\"\",500,N120+0.076)","v":107.07599999999999},{"$f":"'Indtast Hold og Resultat'!H120","v":"Sarah Christiansen"},{"$f":"SMALL($AL$223:$AL$294,66)","v":500},{"$f":"VLOOKUP(AN288,$AL$223:$AO$294,2,FALSE)","v":"Peter Knudsen"},{"$f":"IF(AN288=500,\"\",AN288)","v":""},"",{"$f":"IF(AQ288=\"\",\"\",VLOOKUP(AQ288,Deltagere!$C$4:$I$1003,2,FALSE))","v":""}]
[null,null,null,null,null,null,null,null,null,null,null,null,null,null,null,null,null,null,null,null,null,null,null,null,null,null,null,null,null,null,null,null,null,null,null,null,67,{"$f":"IF(N121=\"\",500,N121+0.077)","v":500},{"$f":"'Indtast Hold og Resultat'!H121","v":""},{"$f":"SMALL($AL$223:$AL$294,67)","v":500},"Peter Knudsen","","",{"$f":"IF(AQ289=\"\",\"\",VLOOKUP(AQ289,Deltagere!$C$4:$I$1003,2,FALSE))","v":""}]
[null,null,null,null,null,null,null,null,null,null,null,null,null,null,null,null,null,null,null,null,null,null,null,null,null,null,null,null,null,null,null,null,null,null,null,null,68,{"$f":"IF(N122=\"\",500,N122+0.078)","v":500},{"$f":"'Indtast Hold og Resultat'!H122","v":""},{"$f":"SMALL($AL$223:$AL$294,68)","v":500},"Peter Knudsen","","",{"$f":"IF(AQ290=\"\",\"\",VLOOKUP(AQ290,Deltagere!$C$4:$I$1003,2,FALSE))","v":""}]
[null,null,null,null,null,null,null,null,null,null,null,null,null,null,null,null,null,null,null,null,null,null,null,null,null,null,null,null,null,null,null,null,null,null,null,null,69,{"$f":"IF(N126=\"\",500,N126+0.079)","v":500},{"$f":"'Indtast Hold og Resultat'!H126","v":"Anders Jørgensen"},{"$f":"SMALL($AL$223:$AL$294,69)","v":500},"Peter Knudsen","","",{"$f":"IF(AQ291=\"\",\"\",VLOOKUP(AQ291,Deltagere!$C$4:$I$1003,2,FALSE))","v":""}]
[null,null,null,null,null,null,null,null,null,null,null,null,null,null,null,null,null,null,null,null,null,null,null,null,null,null,null,null,null,null,null,null,null,null,null,null,70,{"$f":"IF(N127=\"\",500,N127+0.08)","v":500},{"$f":"'Indtast Hold og Resultat'!H127","v":"Kian Andersen"},{"$f":"SMALL($AL$223:$AL$294,70)","v":500},"Peter Knudsen","","",{"$f":"IF(AQ292=\"\",\"\",VLOOKUP(AQ292,Deltagere!$C$4:$I$1003,2,FALSE))","v":""}]
[null,null,null,null,null,null,null,null,null,null,null,null,null,null,null,null,null,null,null,null,null,null,null,null,null,null,null,null,null,null,null,null,null,null,null,null,71,{"$f":"IF(N128=\"\",500,N128+0.081)","v":500},{"$f":"'Indtast Hold og Resultat'!H128","v":"Adam Kristoffersen"},{"$f":"SMALL($AL$223:$AL$294,71)","v":500},"Peter Knudsen","","",{"$f":"IF(AQ293=\"\",\"\",VLOOKUP(AQ293,Deltagere!$C$4:$I$1003,2,FALSE))","v":""}]
[null,null,null,null,null,null,null,null,null,null,null,null,null,null,null,null,null,null,null,null,null,null,null,null,null,null,null,null,null,null,null,null,null,null,null,null,72,{"$f":"IF(N129=\"\",500,N129+0.082)","v":500},{"$f":"'Indtast Hold og Resultat'!H129","v":"Søren Skourup"},{"$f":"SMALL($AL$223:$AL$294,72)","v":500},"Peter Knudsen","","",{"$f":"IF(AQ294=\"\",\"\",VLOOKUP(AQ294,Deltagere!$C$4:$I$1003,2,FALSE))","v":""}]
[]
[]
[]
[]
[]
[]
[]
[]
[]
[]
[]
[]
[]
[]
[]
[]
[]
[]
[]
[]
[]
[]
[]
[]
[]
[]
[]
[]
[]
[]
[]
[]
[]
[]
[]
[]
[]
[]
[]
[]
[]
[]
[]
[]
[]
[]
[]
[]
[]
[]
[]
[]
[]
[]
[]
[]
[]
[]
[]
[]
[]
[]
[]
[]
[]
[]
[]
[]
[]
[]
[]
[]
[]
[]
[]
[]
[]
[]
[]
[]
[]
[]
[]
[]
[]
[]
[]
[]
[]
[]
[]
[]
[]
[]
[]
[]
[]
[]
[]
[]
[]
[]
[]
[]
[]
[]
[]
[]
[]
[]
[]
[]
[]
[]
[]
[]
[]
[]
[]
[]
[]
[]
[]
[]
[]
[]
[]
[]
[]
[]
[]
[]
[]
[]
[]
[]
[]
[]
[]
[]
[]
[]
[]
[]
[]
[]
[]
[]
[]
[]
[]
[]
[]
[]
[]
[]
[]
[]
[]
[]
[]
[]
[]
[]
[]
[]
[]
[]
[]
[]
[]
[]
[]
[]
[]
[]
[]
[]
[]
[]
[]
[]
[]
[]
[]
[]
[]
[]
[]
[]
[]
[]
[]
[]
[]
[]
[]
[]
[]
[]
[]
[]
[]
[]
[]
[]
[]
[]
[]
[]
[]
[]
[]
[]
[]
[]
[]
[]
[]
[]
[]
[]
[]
[]
[]
[]
[]
[]
[]
[]
[]
[]
[]
[]
[]
[]
[]
[]
[]
[]
[]
[]
[]
[]
[]
[]
[]
[]
[]
[]
[]
[]
[]
[]
[]
[]
[]
[]
[]
[]
[]
[]
[]
[]
[]
[]
[]
[]
[]
[]
[]
[]
[]
[]
[]
[]
[]
[]
[]
[]
[]
[]
[]
[]
[]
[]
[]
[]
[]
[]
[]
[]
[]
[]
[]
[]
[]
[]
[]
[]
[]
[]
[]
[]
[]
[]
[]
[]
[]
[]
[]
[]
[]
[]
[]
[]
[]
[]
[]
[]
[]
[]
[]
[]
[]
[]
[]
[]
[]
[]
[]
[]
[]
[]
[]
[]
[]
[]
[]
[]
[]
[]
[]
[]
[]
[]
[]
[]
[]
[]
[]
[]
[]
[]
[]
[]
[]
[]
[]
[]
[]
[]
[]
[]
[]
[]
[]
[]
[]
[]
[]
[]
[]
[]
[]
[]
[]
[]
[]
[]
[]
[]
[]
[]
[]
[]
[]
[]
[]
[]
[]
[]
[]
[]
[]
[]
[]
[]
[]
[]
[]
[]
[]
[]
[]
[]
[]
[]
[]
[]
[]
[]
[]
[]
[]
[]
[]
[]
[]
[]
[]
[]
[]
[]
[]
[]
[]
[]
[]
[]
[]
[]
[]
[]
[]
[]
[]
[]
[]
[]
[]
[]
[]
[]
[]
[]
[]
[]
[]
[]
[]
[]
[]
[]
[]
[]
[]
[]
[]
[]
[]
[]
[]
[]
[]
[]
[]
[]
[]
[]
[]
[]
[]
[]
[]
[]
[]
[]
[]
[]
[]
[]
[]
[]
[]
[]
[]
[]
[]
[]
[]
[]
[]
[]
[]
[]
[]
[]
[]
[]
[]
[]
[]
[]
[]
[]
[]
[]
[]
[]
[]
[]
[]
[]
[]
[]
[]
[]
[]
[]
[]
[]
[]
[]
[]
[]
[]
[]
[]
[]
[]
[]
[]
[]
[]
[]
[]
[]
[]
[]
[]
[]
[]
[]
[]
[]
[]
[]
[]
[]
[]
[]
[]
[]
[]
[]
[]
[]
[]
[]
[]
[]
[]
[]
[]
[]
[]
[]
[]
[]
[]
[]
[]
[]
[]
[]
[]
[]
[]
[]
[]
[]
[]
[]
[]
[]
[]
[]
[]
[]
[]
[]
[]
[]
[]
[]
[]
[]
[]
[]
[]
[]
[]
[]
[]
[]
[]
[]
[]
[]
[]
[]
[]
[]
[]
[]
[]
[]
[]
[]
[]
[]
[]
[]
[]
[]
[]
[]
[]
[]
[]
[]
[]
[]
[]
[]
[]
[]
[]
[]
[]
[]
[]
[]
[]
[]
[]
[]
[]
[]
[]
[]
[]
[]
[]
[]
[]
[]
[]
[]
[]
[]
[]
[]
[]
[]
[]
[]
[]
[]
[]
[]
[]
[]
[]
[]
[]
[]
[]
[]
[]
[]
[]
[]
[]
[]
[]
[]
[]
[]
[]
[]
[]
[]
[]
[]
[]
[]
[]
[]
[]
[]
[]
[]
[]
[]
[]
[]
[]
[]
[]
[]
[]
[]
[]
[]
[]
[]
[]
[]
[]
[]
[]
[]
[]
[]
[]
[]
[]
[]
[]
[]
[]
[]
[]
[]
[]
[]
[]
[]
[]
[]
[]
[]
[]
[]
[]
[]
[]
[]
[]
[]
[]
[]
[]
[]
[]
[]
[]
[]
[]
[]
[]
[]
[]
[]
[]
[]
[]
[]
[]
[]
[]
[]
[]
[]
[]
[]
[]
[]
[]
[]
[]
[]
[]
[]
[]
[]
[]
[]
[]
[]
[]
[]
[]
[]
[]
[]
[]
[]
[]
[]
[]
[]
[]
[]
[]
[]
[]
[]
[]
[]
[]
[]
[]
[]
[]
[]
[]
[]
[]
[]
[]
[]
[]
[]
[]
[]
[]
[]
[]
[]
[]
[]
[]
[]
[]
[]
[]
[]
[]
[]
[]
[]
[]
[]
[]
[]
[]
[]
[]
[]
[]
[]
[]
[]
[]
[]
[]
[]
[]
[]
[]
[]
[]
[]
[]
[]
[]
[]
[]
[]
[]
[]
[]
[]
[]
[]
[]
[]
[]
[]
[]
[]
[]
[]
[]
[]
[]
[]
[]
[]
[]
[]
[]
[]
[]
[]
[]
[]
[]
[]
[]
[]
[]
[]
[]
[]
[]
[]
[]
[]
[]
[]
[]
[]
[]
[]
[]
[]
[]
[]
[]
[]
[]
[]
[]
[]
[]
[]
[]
[]
[]
[]
[]
[]
[]
[]
[]
[]
[]
[]
[]
[]
[]
[]
[]
[]
[]
[]
[]
[]
[]
[]
[]
[]
[]
[]
[]
[]
[]
[]
[]
[]
[]
[]
[]
[]
[]
[]
[]
[]
[]
[]
[]
[]
[]
[]
[]
[]
[]
[]
[]
[]
[]
[]
[]
[]
[]
[]
[]
[]
[]
[]
[]
[]
[]
[]
[]
[]
[]
[]
[]
[]
[]
[]
[]
[]
[]
[]
[]
[]
[]
[]
[]
[]
[]
[]
[]
[]
[]
[]
[]
[]
[]
[]
[]
[]
[]
[]
[]
[]
[]
[]
[]
[]
[]
[]
[]
[]
[]
[]
[]
[]
[]
[]
[]
[]
[]
[]
[]
[]
[]
[]
[]
[]
[]
[]
[]
[]
[]
[]
[]
[]
[]
[]
[]
[]
[]
[]
[]
[]
[]
[]
[]
[]
[]
[]
[]
[]
[]
[]
[]
[]
[]
[]
[]
[]
[]
[]
[]
[]
[]
[]
[]
[]
[]
[]
[]
[]
[]
[]
[]
[]
[]
[]
[]
[]
[]
[]
[]
[]
[]
[]
[]
[]
[]
[]
[]
[]
[]
[]
[]
[]
[]
[]
[]
[]
[]
[]
[]
[]
[]
[]
[]
[]
[]
[]
[]
[]
[]
[]
[]
[]
[]
[]
[]
[]
[]
[]
[]
[]
[]
[]
[]
[]
[]
[]
[]
[]
[]
[]
[]
[]
[]
[]
[]
[]
[]
[]
[]
[]
[]
[]
[]
[]
[]
[]
[]
[]
[]
[]
[]
[]
[]
[]
[]
[]
[]
[]
[]
[]
[]
[]
[]
[]
[]
[]
[]
[]
[]
[]
[]
[]
[]
[]
[]
[]
[]
[]
[]
[]
[]
[]
[]
[]
[]
[]
[]
[]
[]
[]
[]
[]
[]
[]
[]
[]
[]
[]
[]
[]
[]
[]
[]
[]
[]
[]
[]
[]
[]
[]
[]
[]
[]
[]
[]
[]
[]
[]
[]
[]
[]
[]
[]
[]
[]
[]
[]
[]
[]
[]
[]
[]
[]
[]
[]
[]
[]
[]
[]
[]
[]
[]
[]
[]
[]
[]
[]
[]
[]
[]
[]
[]
[]
[]
[]
[]
[]
[]
[]
[]
[]
[]
[]
[]
[]
[]
[]
[]
[]
[]
[]
[]
[]
[]
[]
[]
[]
[]
[]
[]
[]
[]
[]
[]
[]
[]
[]
[]
[]
[]
[]
[]
[]
[]
[]
[]
[]
[]
[]
[]
[]
[]
[]
[]
[]
[]
[]
[]
[]
[]
[]
[]
[]
[]
[]
[]
[]
[]
[]
[]
[]
[]
[]
[]
[]
[]
[]
[]
[]
[]
[]
[]
[]
[]
[]
[]
[]
[]
[]
[]
[]
[]
[]
[]
[]
[]
[]
[]
[]
[]
[]
[]
[]
[]
[]
[]
[]
[]
[]
[]
[]
[]
[]
[]
[]
[]
[]
[]
[]
[]
[]
[]
[]
[]
[]
[]
[]
[]
[]
[]
[]
[]
[]
[]
[]
[]
[]
[]
[]
[]
[]
[]
[]
[]
[]
[]
[]
[]
[]
[]
[]
[]
[]
[]
[]
[]
[]
[]
[]
[]
[]
[]
[]
[]
[]
[]
[]
[]
[]
[]
[]
[]
[]
[]
[]
[]
[]
[]
[]
[]
[]
[]
[]
[]
[]
[]
[]
[]
[]
[]
[]
[]
[]
[]
[]
[]
[]
[]
[]
[]
[]
[]
[]
[]
[]
[]
[]
[]
[]
[]
[]
[]
[]
[]
[]
[]
[]
[]
[]
[]
[]
[]
[]
[]
[]
[]
[]
[]
[]
[]
[]
[]
[]
[]
[]
[]
[]
[]
[]
[]
[]
[]
[]
[]
[]
[]
[]
[]
[]
[]
[]
[]
[]
[]
[]
[]
[]
[]
[]
[]
[]
[]
[]
[]
[]
[]
[]
[]
[]
[]
[]
[]
[]
[]
[]
[]
[]
[]
[]
[]
[]
[]
[]
[]
[]
[]
[]
[]
[]
[]
[]
[]
[]
[]
[]
[]
[]
[]
[]
[]
[]
[]
[]
[]
[]
[]
[]
[]
[]
[]
[]
[]
[]
[]
[]
[]
[]
[]
[]
[]
[]
[]
[]
[]
[]
[]
[]
[]
[]
[]
[]
[]
[]
[]
[]
[]
[]
[]
[]
[]
[]
[]
[]
[]
[]
[]
[]
[]
[]
[]
[]
[]
[]
[]
[]
[]
[]
[]
[]
[]
[]
[]
[]
[]
[]
[]
[]
[]
[]
[]
[]
[]
[]
[]
[]
[]
[]
[]
[]
[]
[]
[]
[]
[]
[]
[]
[]
[]
[]
[]
[]
[]
[]
[]
[]
[]
[]
[]
[]
[]
[]
[]
[]
[]
[]
[]
[]
[]
[]
[]
[]
[]
[]
[]
[]
[]
[]
[]
[]
[]
[]
[]
[]
[]
[]
[]
[]
[]
[]
[]
[]
[]
[]
[]
[]
[]
[]
[]
[]
[]
[]
[]
[]
[]
[]
[]
[]
[]
[]
[]
[]
[]
[]
[]
[]
[]
[]
[]
[]
[]
[]
[]
[]
[]
[]
[]
[]
[]
[]
[]
[]
[]
[]
[]
[]
[]
[]
[]
[]
[]
[]
[]
[]
[]
[]
[]
[]
[]
[]
[]
[]
[]
[]
[]
[]
[]
[]
[]
[]
[]
[]
[]
[]
[]
[]
[]
[]
[]
[]
[]
[]
[]
[]
[]
[]
[]
[]
[]
[]
[]
[]
[]
[]
[]
[]
[]
[]
[]
[]
[]
[]
[]
[]
[]
[]
[]
[]
[]
[]
[]
[]
[]
[]
[]
[]
[]
[]
[]
[]
[]
[]
[]
[]
[]
[]
[]
[]
[]
[]
[]
[]
[]
[]
[]
[]
[]
[]
[]
[]
[]
[]
[]
[]
[]
[]
[]
[]
[]
[]
[]
[]
[]
[]
[]
[]
[]
[]
[]
[]
[]
[]
[]
[]
[]
[]
[]
[]
[]
[]
[]
[]
[]
[]
[]
[]
[]
[]
[]
[]
[]
[]
[]
[]
[]
[]
[]
[]
[]
[]
[]
[]
[]
[]
[]
[]
[]
[]
[]
[]
[]
[]
[]
[]
[]
[]
[]
[]
[]
[]
[]
[]
[]
[]
[]
[]
[]
[]
[]
[]
[]
[]
[]
[]
[]
[]
[]
[]
[]
[]
[]
[]
[]
[]
[]
[]
[]
[]
[]
[]
[]
[]
[]
[]
[]
[]
[]
[]
[]
[]
[]
[]
[]
[]
[]
[]
[]
[]
[]
[]
[]
[]
[]
[]
[]
[]
[]
[]
[]
[]
[]
[]
[]
[]
[]
[]
[]
[]
[]
[]
[]
[]
[]
[]
[]
[]
[]
[]
[]
[]
[]
[]
[]
[]
[]
[]
[]
[]
[]
[]
[]
[]
[]
[]
[]
[]
[]
[]
[]
[]
[]
[]
[]
[]
[]
[]
[]
[]
[]
[]
[]
[]
[]
[]
[]
[]
[]
[]
[]
[]
[]
[]
[]
[]
[]
[]
[]
[]
[]
[]
[]
[]
[]
[]
[]
[]
[]
[]
[]
[]
[]
[]
[]
[]
[]
[]
[]
[]
[]
[]
[]
[]
[]
[]
[]
[]
[]
[]
[]
[]
[]
[]
[]
[]
[]
[]
[]
[]
[]
[]
[]
[]
[]
[]
[]
[]
[]
[]
[]
[]
[]
[]
[]
[]
[]
[]
[]
[]
[]
[]
[]
[]
[]
[]
[]
[]
[]
[]
[]
[]
[]
[]
[]
[]
[]
[]
[]
[]
[]
[]
[]
[]
[]
[]
[]
[]
[]
[]
[]
[]
[]
[]
[]
[]
[]
[]
[]
[]
[]
[]
[]
[]
[]
[]
[]
[]
[]
[]
[]
[]
[]
[]
[]
[]
[]
[]
[]
[]
[]
[]
[]
[]
[]
[]
[]
[]
[]
[]
[]
[]
[]
[]
[]
[]
[]
[]
[]
[]
[]
[]
[]
[]
[]
[]
[]
[]
[]
[]
[]
[]
[]
[]
[]
[]
[]
[]
[]
[]
[]
[]
[]
[]
[]
[]
[]
[]
[]
[]
[]
[]
[]
[]
[]
[]
[]
[]
[]
[]
[]
[]
[]
[]
[]
[]
[]
[]
[]
[]
[]
[]
[]
[]
[]
[]
[]
[]
[]
[]
[]
[]
[]
[]
[]
[]
[]
[]
[]
[]
[]
[]
[]
[]
[]
[]
[]
[]
[]
[]
[]
[]
[]
[]
[]
[]
[]
[]
[]
[]
[]
[]
[]
[]
[]
[]
[]
[]
[]
[]
[]
[]
[]
[]
[]
[]
[]
[]
[]
[]
[]
[]
[]
[]
[]
[]
[]
[]
[]
[]
[]
[]
[]
[]
[]
[]
[]
[]
[]
[]
[]
[]
[]
[]
[]
[]
[]
[]
[]
[]
[]
[]
[]
[]
[]
[]
[]
[]
[]
[]
[]
[]
[]
[]
[]
[]
[]
[]
[]
[]
[]
[]
[]
[]
[]
[]
[]
[]
[]
[]
[]
[]
[]
[]
[]
[]
[]
[]
[]
[]
[]
[]
[]
[]
[]
[]
[]
[]
[]
[]
[]
[]
[]
[]
[]
[]
[]
[]
[]
[]
[]
[]
[]
[]
[]
[]
[]
[]
[]
[]
[]
[]
[]
[]
[]
[]
[]
[]
[]
[]
[]
[]
[]
[]
[]
[]
[]
[]
[]
[]
[]
[]
[]
[]
[]
[]
[]
[]
[]
[]
[]
[]
[]
[]
[]
[]
[]
[]
[]
[]
[]
[]
[]
[]
[]
[]
[]
[]
[]
[]
[]
[]
[]
[]
[]
[]
[]
[]
[]
[]
[]
[]
[]
[]
[]
[]
[]
[]
[]
[]
[]
[]
[]
[]
[]
[]
[]
[]
[]
[]
[]
[]
[]
[]
[]
[]
[]
[]
[]
[]
[]
[]
[]
[]
[]
[]
[]
[]
[]
[]
[]
[]
[]
[]
[]
[]
[]
[]
[]
[]
[]
[]
[]
[]
[]
[]
[]
[]
[]
[]
[]
[]
[]
[]
[]
[]
[]
[]
[]
[]
[]
[]
[]
[]
[]
[]
[]
[]
[]
[]
[]
[]
[]
[]
[]
[]
[]
[]
[]
[]
[]
[]
[]
[]
[]
[]
[]
[]
[]
[]
[]
[]
[]
[]
[]
[]
[]
[]
[]
[]
[]
[]
[]
[]
[]
[]
[]
[]
[]
[]
[]
[]
[]
[]
[]
[]
[]
[]
[]
[]
[]
[]
[]
[]
[]
[]
[]
[]
[]
[]
[]
[]
[]
[]
[]
[]
[]
[]
[]
[]
[]
[]
[]
[]
[]
[]
[]
[]
[]
[]
[]
[]
[]
[]
[]
[]
[]
[]
[]
[]
[]
[]
[]
[]
[]
[]
[]
[]
[]
[]
[]
[]
[]
[]
[]
[]
[]
[]
[]
[]
[]
[]
[]
[]
[]
[]
[]
[]
[]
[]
[]
[]
[]
[]
[]
[]
[]
[]
[]
[]
[]
[]
[]
[]
[]
[]
[]
[]
[]
[]
[]
[]
[]
[]
[]
[]
[]
[]
[]
[]
[]
[]
[]
[]
[]
[]
[]
[]
[]
[]
[]
[]
[]
[]
[]
[]
[]
[]
[]
[]
[]
[]
[]
[]
[]
[]
[]
[]
[]
[]
[]
[]
[]
[]
[]
[]
[]
[]
[]
[]
[]
[]
[]
[]
[]
[]
[]
[]
[]
[]
[]
[]
[]
[]
[]
[]
[]
[]
[]
[]
[]
[]
[]
[]
[]
[]
[]
[]
[]
[]
[]
[]
[]
[]
[]
[]
[]
[]
[]
[]
[]
[]
[]
[]
[]
[]
[]
[]
[]
[]
[]
[]
[]
[]
[]
[]
[]
[]
[]
[]
[]
[]
[]
[]
[]
[]
[]
[]
[]
[]
[]
[]
[]
[]
[]
[]
[]
[]
[]
[]
[]
[]
[]
[]
[]
[]
[]
[]
[]
[]
[]
[]
[]
[]
[]
[]
[]
[]
[]
[]
[]
[]
[]
[]
[]
[]
[]
[]
[]
[]
[]
[]
[]
[]
[]
[]
[]
[]
[]
[]
[]
[]
[]
[]
[]
[]
[]
[]
[]
[]
[]
[]
[]
[]
[]
[]
[]
[]
[]
[]
[]
[]
[]
[]
[]
[]
[]
[]
[]
[]
[]
[]
[]
[]
[]
[]
[]
[]
[]
[]
[]
[]
[]
[]
[]
[]
[]
[]
[]
[]
[]
[]
[]
[]
[]
[]
[]
[]
[]
[]
[]
[]
[]
[]
[]
[]
[]
[]
[]
[]
[]
[]
[]
[]
[]
[]
[]
[]
[]
[]
[]
[]
[]
[]
[]
[]
[]
[]
[]
[]
[]
[]
[]
[]
[]
[]
[]
[]
[]
[]
[]
[]
[]
[]
[]
[]
[]
[]
[]
[]
[]
[]
[]
[]
[]
[]
[]
[]
[]
[]
[]
[]
[]
[]
[]
[]
[]
[]
[]
[]
[]
[]
[]
[]
[]
[]
[]
[]
[]
[]
[]
[]
[]
[]
[]
[]
[]
[]
[]
[]
[]
[]
[]
[]
[]
[]
[]
[]
[]
[]
[]
[]
[]
[]
[]
[]
[]
[]
[]
[]
[]
[]
[]
[]
[]
[]
[]
[]
[]
[]
[]
[]
[]
[]
[]
[]
[]
[]
[]
[]
[]
[]
[]
[]
[]
[]
[]
[]
[]
[]
[]
[]
[]
[]
[]
[]
[]
[]
[]
[]
[]
[]
[]
[]
[]
[]
[]
[]
[]
[]
[]
[]
[]
[]
[]
[]
[]
[]
[]
[]
[]
[]
[]
[]
[]
[]
[]
[]
[]
[]
[]
[]
[]
[]
[]
[]
[]
[]
[]
[]
[]
[]
[]
[]
[]
[]
[]
[]
[]
[]
[]
[]
[]
[]
[]
[]
[]
[]
[]
[]
[]
[]
[]
[]
[]
[]
[]
[]
[]
[]
[]
[]
[]
[]
[]
[]
[]
[]
[]
[]
[]
[]
[]
[]
[]
[]
[]
[]
[]
[]
[]
[]
[]
[]
[]
[]
[]
[]
[]
[]
[]
[]
[]
[]
[]
[]
[]
[]
[]
[]
[]
[]
[]
[]
[]
[]
[]
[]
[]
[]
[]
[]
[]
[]
[]
[]
[]
[]
[]
[]
[]
[]
[]
[]
[]
[]
[]
[]
[]
[]
[]
[]
[]
[]
[]
[]
[]
[]
[]
[]
[]
[]
[]
[]
[]
[]
[]
[]
[]
[]
[]
[]
[]
[]
[]
[]
[]
[]
[]
[]
[]
[]
[]
[]
[]
[]
[]
[]
[]
[]
[]
[]
[]
[]
[]
[]
[]
[]
[]
[]
[]
[]
[]
[]
[]
[]
[]
[]
[]
[]
[]
[]
[]
[]
[]
[]
[]
[]
[]
[]
[]
[]
[]
[]
[]
[]
[]
[]
[]
[]
[]
[]
[]
[]
[]
[]
[]
[]
[]
[]
[]
[]
[]
[]
[]
[]
[]
[]
[]
[]
[]
[]
[]
[]
[]
[]
[]
[]
[]
[]
[]
[]
[]
[]
[]
[]
[]
[]
[]
[]
[]
[]
[]
[]
[]
[]
[]
[]
[]
[]
[]
[]
[]
[]
[]
[]
[]
[]
[]
[]
[]
[]
[]
[]
[]
[]
[]
[]
[]
[]
[]
[]
[]
[]
[]
[]
[]
[]
[]
[]
[]
[]
[]
[]
[]
[]
[]
[]
[]
[]
[]
[]
[]
[]
[]
[]
[]
[]
[]
[]
[]
[]
[]
[]
[]
[]
[]
[]
[]
[]
[]
[]
[]
[]
[]
[]
[]
[]
[]
[]
[]
[]
[]
[]
[]
[]
[]
[]
[]
[]
[]
[]
[]
[]
[]
[]
[]
[]
[]
[]
[]
[]
[]
[]
[]
[]
[]
[]
[]
[]
[]
[]
[]
[]
[]
[]
[]
[]
[]
[]
[]
[]
[]
[]
[]
[]
[]
[]
[]
[]
[]
[]
[]
[]
[]
[]
[]
[]
[]
[]
[]
[]
[]
[]
[]
[]
[]
[]
[]
[]
[]
[]
[]
[]
[]
[]
[]
[]
[]
[]
[]
[]
[]
[]
[]
[]
[]
[]
[]
[]
[]
[]
[]
[]
[]
[]
[]
[]
[]
[]
[]
[]
[]
[]
[]
[]
[]
[]
[]
[]
[]
[]
[]
[]
[]
[]
[]
[]
[]
[]
[]
[]
[]
[]
[]
[]
[]
[]
[]
[]
[]
[]
[]
[]
[]
[]
[]
[]
[]
[]
[]
[]
[]
[]
[]
[]
[]
[]
[]
[]
[]
[]
[]
[]
[]
[]
[]
[]
[]
[]
[]
[]
[]
[]
[]
[]
[]
[]
[]
[]
[]
[]
[]
[]
[]
[]
[]
[]
[]
[]
[]
[]
[]
[]
[]
[]
[]
[]
[]
[]
[]
[]
[]
[]
[]
[]
[]
[]
[]
[]
[]
[]
[]
[]
[]
[]
[]
[]
[]
[]
[]
[]
[]
[]
[]
[]
[]
[]
[]
[]
[]
[]
[]
[]
[]
[]
[]
[]
[]
[]
[]
[]
[]
[]
[]
[]
[]
[]
[]
[]
[]
[]
[]
[]
[]
[]
[]
[]
[]
[]
[]
[]
[]
[]
[]
[]
[]
[]
[]
[]
[]
[]
[]
[]
[]
[]
[]
[]
[]
[]
[]
[]
[]
[]
[]
[]
[]
[]
[]
[]
[]
[]
[]
[]
[]
[]
[]
[]
[]
[]
[]
[]
[]
[]
[]
[]
[]
[]
[]
[]
[]
[]
[]
[]
[]
[]
[]
[]
[]
[]
[]
[]
[]
[]
[]
[]
[]
[]
[]
[]
[]
[]
[]
[]
[]
[]
[]
[]
[]
[]
[]
[]
[]
[]
[]
[]
[]
[]
[]
[]
[]
[]
[]
[]
[]
[]
[]
[]
[]
[]
[]
[]
[]
[]
[]
[]
[]
[]
[]
[]
[]
[]
[]
[]
[]
[]
[]
[]
[]
[]
[]
[]
[]
[]
[]
[]
[]
[]
[]
[]
[]
[]
[]
[]
[]
[]
[]
[]
[]
[]
[]
[]
[]
[]
[]
[]
[]
[]
[]
[]
[]
[]
[]
[]
[]
[]
[]
[]
[]
[]
[]
[]
[]
[]
[]
[]
[]
[]
[]
[]
[]
[]
[]
[]
[]
[]
[]
[]
[]
[]
[]
[]
[]
[]
[]
[]
[]
[]
[]
[]
[]
[]
[]
[]
[]
[]
[]
[]
[]
[]
[]
[]
[]
[]
[]
[]
[]
[]
[]
[]
[]
[]
[]
[]
[]
[]
[]
[]
[]
[]
[]
[]
[]
[]
[]
[]
[]
[]
[]
[]
[]
[]
[]
[]
[]
[]
[]
[]
[]
[]
[]
[]
[]
[]
[]
[]
[]
[]
[]
[]
[]
[]
[]
[]
[]
[]
[]
[]
[]
[]
[]
[]
[]
[]
[]
[]
[]
[]
[]
[]
[]
[]
[]
[]
[]
[]
[]
[]
[]
[]
[]
[]
[]
[]
[]
[]
[]
[]
[]
[]
[]
[]
[]
[]
[]
[]
[]
[]
[]
[]
[]
[]
[]
[]
[]
[]
[]
[]
[]
[]
[]
[]
[]
[]
[]
[]
[]
[]
[]
[]
[]
[]
[]
[]
[]
[]
[]
[]
[]
[]
[]
[]
[]
[]
[]
[]
[]
[]
[]
[]
[]
[]
[]
[]
[]
[]
[]
[]
[]
[]
[]
[]
[]
[]
[]
[]
[]
[]
[]
[]
[]
[]
[]
[]
[]
[]
[]
[]
[]
[]
[]
[]
[]
[]
[]
[]
[]
[]
[]
[]
[]
[]
[]
[]
[]
[]
[]
[]
[]
[]
[]
[]
[]
[]
[]
[]
[]
[]
[]
[]
[]
[]
[]
[]
[]
[]
[]
[]
[]
[]
[]
[]
[]
[]
[]
[]
[]
[]
[]
[]
[]
[]
[]
[]
[]
[]
[]
[]
[]
[]
[]
[]
[]
[]
[]
[]
[]
[]
[]
[]
[]
[]
[]
[]
[]
[]
[]
[]
[]
[]
[]
[]
[]
[]
[]
[]
[]
[]
[]
[]
[]
[]
[]
[]
[]
[]
[]
[]
[]
[]
[]
[]
[]
[]
[]
[]
[]
[]
[]
[]
[]
[]
[]
[]
[]
[]
[]
[]
[]
[]
[]
[]
[]
[]
[]
[]
[]
[]
[]
[]
[]
[]
[]
[]
[]
[]
[]
[]
[]
[]
[]
[]
[]
[]
[]
[]
[]
[]
[]
[]
[]
[]
[]
[]
[]
[]
[]
[]
[]
[]
[]
[]
[]
[]
[]
[]
[]
[]
[]
[]
[]
[]
[]
[]
[]
[]
[]
[]
[]
[]
[]
[]
[]
[]
[]
[]
[]
[]
[]
[]
[]
[]
[]
[]
[]
[]
[]
[]
[]
[]
[]
[]
[]
[]
[]
[]
[]
[]
[]
[]
[]
[]
[]
[]
[]
[]
[]
[]
[]
[]
[]
[]
[]
[]
[]
[]
[]
[]
[]
[]
[]
[]
[]
[]
[]
[]
[]
[]
[]
[]
[]
[]
[]
[]
[]
[]
[]
[]
[]
[]
[]
[]
[]
[]
[]
[]
[]
[]
[]
[]
[]
[]
[]
[]
[]
[]
[]
[]
[]
[]
[]
[]
[]
[]
[]
[]
[]
[]
[]
[]
[]
[]
[]
[]
[]
[]
[]
[]
[]
[]
[]
[]
[]
[]
[]
[]
[]
[]
[]
[]
[]
[]
[]
[]
[]
[]
[]
[]
[]
[]
[]
[]
[]
[]
[]
[]
[]
[]
[]
[]
[]
[]
[]
[]
[]
[]
[]
[]
[]
[]
[]
[]
[]
[]
[]
[]
[]
[]
[]
[]
[]
[]
[]
[]
[]
[]
[]
[]
[]
[]
[]
[]
[]
[]
[]
[]
[]
[]
[]
[]
[]
[]
[]
[]
[]
[]
[]
[]
[]
[]
[]
[]
[]
[]
[]
[]
[]
[]
[]
[]
[]
[]
[]
[]
[]
[]
[]
[]
[]
[]
[]
[]
[]
[]
[]
[]
[]
[]
[]
[]
[]
[]
[]
[]
[]
[]
[]
[]
[]
[]
[]
[]
[]
[]
[]
[]
[]
[]
[]
[]
[]
[]
[]
[]
[]
[]
[]
[]
[]
[]
[]
[]
[]
[]
[]
[]
[]
[]
[]
[]
[]
[]
[]
[]
[]
[]
[]
[]
[]
[]
[]
[]
[]
[]
[]
[]
[]
[]
[]
[]
[]
[]
[]
[]
[]
[]
[]
[]
[]
[]
[]
[]
[]
[]
[]
[]
[]
[]
[]
[]
[]
[]
[]
[]
[]
[]
[]
[]
[]
[]
[]
[]
[]
[]
[]
[]
[]
[]
[]
[]
[]
[]
[]
[]
[]
[]
[]
[]
[]
[]
[]
[]
[]
[]
[]
[]
[]
[]
[]
[]
[]
[]
[]
[]
[]
[]
[]
[]
[]
[]
[]
[]
[]
[]
[]
[]
[]
[]
[]
[]
[]
[]
[]
[]
[]
[]
[]
[]
[]
[]
[]
[]
[]
[]
[]
[]
[]
[]
[]
[]
[]
[]
[]
[]
[]
[]
[]
[]
[]
[]
[]
[]
[]
[]
[]
[]
[]
[]
[]
[]
[]
[]
[]
[]
[]
[]
[]
[]
[]
[]
[]
[]
[]
[]
[]
[]
[]
[]
[]
[]
[]
[]
[]
[]
[]
[]
[]
[]
[]
[]
[]
[]
[]
[]
[]
[]
[]
[]
[]
[]
[]
[]
[]
[]
[]
[]
[]
[]
[]
[]
[]
[]
[]
[]
[]
[]
[]
[]
[]
[]
[]
[]
[]
[]
[]
[]
[]
[]
[]
[]
[]
[]
[]
[]
[]
[]
[]
[]
[]
[]
[]
[]
[]
[]
[]
[]
[]
[]
[]
[]
[]
[]
[]
[]
[]
[]
[]
[]
[]
[]
[]
[]
[]
[]
[]
[]
[]
[]
[]
[]
[]
[]
[]
[]
[]
[]
[]
[]
[]
[]
[]
[]
[]
[]
[]
[]
[]
[]
[]
[]
[]
[]
[]
[]
[]
[]
[]
[]
[]
[]
[]
[]
[]
[]
[]
[]
[]
[]
[]
[]
[]
[]
[]
[]
[]
[]
[]
[]
[]
[]
[]
[]
[]
[]
[]
[]
[]
[]
[]
[]
[]
[]
[]
[]
[]
[]
[]
[]
[]
[]
[]
[]
[]
[]
[]
[]
[]
[]
[]
[]
[]
[]
[]
[]
[]
[]
[]
[]
[]
[]
[]
[]
[]
[]
[]
[]
[]
[]
[]
[]
[]
[]
[]
[]
[]
[]
[]
[]
[]
[]
[]
[]
[]
[]
[]
[]
[]
[]
[]
[]
[]
[]
[]
[]
[]
[]
[]
[]
[]
[]
[]
[]
[]
[]
[]
[]
[]
[]
[]
[]
[]
[]
[]
[]
[]
[]
[]
[]
[]
[]
[]
[]
[]
[]
[]
[]
[]
[]
[]
[]
[]
[]
[]
[]
[]
[]
[]
[]
[]
[]
[]
[]
[]
[]
[]
[]
[]
[]
[]
[]
[]
[]
[]
[]
[]
[]
[]
[]
[]
[]
[]
[]
[]
[]
[]
[]
[]
[]
[]
[]
[]
[]
[]
[]
[]
[]
[]
[]
[]
[]
[]
[]
[]
[]
[]
[]
[]
[]
[]
[]
[]
[]
[]
[]
[]
[]
[]
[]
[]
[]
[]
[]
[]
[]
[]
[]
[]
[]
[]
[]
[]
[]
[]
[]
[]
[]
[]
[]
[]
[]
[]
[]
[]
[]
[]
[]
[]
[]
[]
[]
[]
[]
[]
[]
[]
[]
[]
[]
[]
[]
[]
[]
[]
[]
[]
[]
[]
[]
[]
[]
[]
[]
[]
[]
[]
[]
[]
[]
[]
[]
[]
[]
[]
[]
[]
[]
[]
[]
[]
[]
[]
[]
[]
[]
[]
[]
[]
[]
[]
[]
[]
[]
[]
[]
[]
[]
[]
[]
[]
[]
[]
[]
[]
[]
[]
[]
[]
[]
[]
[]
[]
[]
[]
[]
[]
[]
[]
[]
[]
[]
[]
[]
[]
[]
[]
[]
[]
[]
[]
[]
[]
[]
[]
[]
[]
[]
[]
[]
[]
[]
[]
[]
[]
[]
[]
[]
[]
[]
[]
[]
[]
[]
[]
[]
[]
[]
[]
[]
[]
[]
[]
[]
[]
[]
[]
[]
[]
[]
[]
[]
[]
[]
[]
[]
[]
[]
[]
[]
[]
[]
[]
[]
[]
[]
[]
[]
[]
[]
[]
[]
[]
[]
[]
[]
[]
[]
[]
[]
[]
[]
[]
[]
[]
[]
[]
[]
[]
[]
[]
[]
[]
[]
[]
[]
[]
[]
[]
[]
[]
[]
[]
[]
[]
[]
[]
[]
[]
[]
[]
[]
[]
[]
[]
[]
[]
[]
[]
[]
[]
[]
[]
[]
[]
[]
[]
[]
[]
[]
[]
[]
[]
[]
[]
[]
[]
[]
[]
[]
[]
[]
[]
[]
[]
[]
[]
[]
[]
[]
[]
[]
[]
[]
[]
[]
[]
[]
[]
[]
[]
[]
[]
[]
[]
[]
[]
[]
[]
[]
[]
[]
[]
[]
[]
[]
[]
[]
[]
[]
[]
[]
[]
[]
[]
[]
[]
[]
[]
[]
[]
[]
[]
[]
[]
[]
[]
[]
[]
[]
[]
[]
[]
[]
[]
[]
[]
[]
[]
[]
[]
[]
[]
[]
[]
[]
[]
[]
[]
[]
[]
[]
[]
[]
[]
[]
[]
[]
[]
[]
[]
[]
[]
[]
[]
[]
[]
[]
[]
[]
[]
[]
[]
[]
[]
[]
[]
[]
[]
[]
[]
[]
[]
[]
[]
[]
[]
[]
[]
[]
[]
[]
[]
[]
[]
[]
[]
[]
[]
[]
[]
[]
[]
[]
[]
[]
[]
[]
[]
[]
[]
[]
[]
[]
[]
[]
[]
[]
[]
[]
[]
[]
[]
[]
[]
[]
[]
[]
[]
[]
[]
[]
[]
[]
[]
[]
[]
[]
[]
[]
[]
[]
[]
[]
[]
[]
[]
[]
[]
[]
[]
[]
[]
[]
[]
[]
[]
[]
[]
[]
[]
[]
[]
[]
[]
[]
[]
[]
[]
[]
[]
[]
[]
[]
[]
[]
[]
[]
[]
[]
[]
[]
[]
[]
[]
[]
[]
[]
[]
[]
[]
[]
[]
[]
[]
[]
[]
[]
[]
[]
[]
[]
[]
[]
[]
[]
[]
[]
[]
[]
[]
[]
[]
[]
[]
[]
[]
[]
[]
[]
[]
[]
[]
[]
[]
[]
[]
[]
[]
[]
[]
[]
[]
[]
[]
[]
[]
[]
[]
[]
[]
[]
[]
[]
[]
[]
[]
[]
[]
[]
[]
[]
[]
[]
[]
[]
[]
[]
[]
[]
[]
[]
[]
[]
[]
[]
[]
[]
[]
[]
[]
[]
[]
[]
[]
[]
[]
[]
[]
[]
[]
[]
[]
[]
[]
[]
[]
[]
[]
[]
[]
[]
[]
[]
[]
[]
[]
[]
[]
[]
[]
[]
[]
[]
[]
[]
[]
[]
[]
[]
[]
[]
[]
[]
[]
[]
[]
[]
[]
[]
[]
[]
[]
[]
[]
[]
[]
[]
[]
[]
[]
[]
[]
[]
[]
[]
[]
[]
[]
[]
[]
[]
[]
[]
[]
[]
[]
[]
[]
[]
[]
[]
[]
[]
[]
[]
[]
[]
[]
[]
[]
[]
[]
[]
[]
[]
[]
[]
[]
[]
[]
[]
[]
[]
[]
[]
[]
[]
[]
[]
[]
[]
[]
[]
[]
[]
[]
[]
[]
[]
[]
[]
[]
[]
[]
[]
[]
[]
[]
[]
[]
[]
[]
[]
[]
[]
[]
[]
[]
[]
[]
[]
[]
[]
[]
[]
[]
[]
[]
[]
[]
[]
[]
[]
[]
[]
[]
[]
[]
[]
[]
[]
[]
[]
[]
[]
[]
[]
[]
[]
[]
[]
[]
[]
[]
[]
[]
[]
[]
[]
[]
[]
[]
[]
[]
[]
[]
[]
[]
[]
[]
[]
[]
[]
[]
[]
[]
[]
[]
[]
[]
[]
[]
[]
[]
[]
[]
[]
[]
[]
[]
[]
[]
[]
[]
[]
[]
[]
[]
[]
[]
[]
[]
[]
[]
[]
[]
[]
[]
[]
[]
[]
[]
[]
[]
[]
[]
[]
[]
[]
[]
[]
[]
[]
[]
[]
[]
[]
[]
[]
[]
[]
[]
[]
[]
[]
[]
[]
[]
[]
[]
[]
[]
[]
[]
[]
[]
[]
[]
[]
[]
[]
[]
[]
[]
[]
[]
[]
[]
[]
[]
[]
[]
[]
[]
[]
[]
[]
[]
[]
[]
[]
[]
[]
[]
[]
[]
[]
[]
[]
[]
[]
[]
[]
[]
[]
[]
[]
[]
[]
[]
[]
[]
[]
[]
[]
[]
[]
[]
[]
[]
[]
[]
[]
[]
[]
[]
[]
[]
[]
[]
[]
[]
[]
[]
[]
[]
[]
[]
[]
[]
[]
[]
[]
[]
[]
[]
[]
[]
[]
[]
[]
[]
[]
[]
[]
[]
[]
[]
[]
[]
[]
[]
[]
[]
[]
[]
[]
[]
[]
[]
[]
[]
[]
[]
[]
[]
[]
[]
[]
[]
[]
[]
[]
[]
[]
[]
[]
[]
[]
[]
[]
[]
[]
[]
[]
[]
[]
[]
[]
[]
[]
[]
[]
[]
[]
[]
[]
[]
[]
[]
[]
[]
[]
[]
[]
[]
[]
[]
[]
[]
[]
[]
[]
[]
[]
[]
[]
[]
[]
[]
[]
[]
[]
[]
[]
[]
[]
[]
[]
[]
[]
[]
[]
[]
[]
[]
[]
[]
[]
[]
[]
[]
[]
[]
[]
[]
[]
[]
[]
[]
[]
[]
[]
[]
[]
[]
[]
[]
[]
[]
[]
[]
[]
[]
[]
[]
[]
[]
[]
[]
[]
[]
[]
[]
[]
[]
[]
[]
[]
[]
[]
[]
[]
[]
[]
[]
[]
[]
[]
[]
[]
[]
[]
[]
[]
[]
[]
[]
[]
[]
[]
[]
[]
[]
[]
[]
[]
[]
[]
[]
[]
[]
[]
[]
[]
[]
[]
[]
[]
[]
[]
[]
[]
[]
[]
[]
[]
[]
[]
[]
[]
[]
[]
[]
[]
[]
[]
[]
[]
[]
[]
[]
[]
[]
[]
[]
[]
[]
[]
[]
[]
[]
[]
[]
[]
[]
[]
[]
[]
[]
[]
[]
[]
[]
[]
[]
[]
[]
[]
[]
[]
[]
[]
[]
[]
[]
[]
[]
[]
[]
[]
[]
[]
[]
[]
[]
[]
[]
[]
[]
[]
[]
[]
[]
[]
[]
[]
[]
[]
[]
[]
[]
[]
[]
[]
[]
[]
[]
[]
[]
[]
[]
[]
[]
[]
[]
[]
[]
[]
[]
[]
[]
[]
[]
[]
[]
[]
[]
[]
[]
[]
[]
[]
[]
[]
[]
[]
[]
[]
[]
[]
[]
[]
[]
[]
[]
[]
[]
[]
[]
[]
[]
[]
[]
[]
[]
[]
[]
[]
[]
[]
[]
[]
[]
[]
[]
[]
[]
[]
[]
[]
[]
[]
[]
[]
[]
[]
[]
[]
[]
[]
[]
[]
[]
[]
[]
[]
[]
[]
[]
[]
[]
[]
[]
[]
[]
[]
[]
[]
[]
[]
[]
[]
[]
[]
[]
[]
[]
[]
[]
[]
[]
[]
[]
[]
[]
[]
[]
[]
[]
[]
[]
[]
[]
[]
[]
[]
[]
[]
[]
[]
[]
[]
[]
[]
[]
[]
[]
[]
[]
[]
[]
[]
[]
[]
[]
[]
[]
[]
[]
[]
[]
[]
[]
[]
[]
[]
[]
[]
[]
[]
[]
[]
[]
[]
[]
[]
[]
[]
[]
[]
[]
[]
[]
[]
[]
[]
[]
[]
[]
[]
[]
[]
[]
[]
[]
[]
[]
[]
[]
[]
[]
[]
[]
[]
[]
[]
[]
[]
[]
[]
[]
[]
[]
[]
[]
[]
[]
[]
[]
[]
[]
[]
[]
[]
[]
[]
[]
[]
[]
[]
[]
[]
[]
[]
[]
[]
[]
[]
[]
[]
[]
[]
[]
[]
[]
[]
[]
[]
[]
[]
[]
[]
[]
[]
[]
[]
[]
[]
[]
[]
[]
[]
[]
[]
[]
[]
[]
[]
[]
[]
[]
[]
[]
[]
[]
[]
[]
[]
[]
[]
[]
[]
[]
[]
[]
[]
[]
[]
[]
[]
[]
[]
[]
[]
[]
[]
[]
[]
[]
[]
[]
[]
[]
[]
[]
[]
[]
[]
[]
[]
[]
[]
[]
[]
[]
[]
[]
[]
[]
[]
[]
[]
[]
[]
[]
[]
[]
[]
[]
[]
[]
[]
[]
[]
[]
[]
[]
[]
[]
[]
[]
[]
[]
[]
[]
[]
[]
[]
[]
[]
[]
[]
[]
[]
[]
[]
[]
[]
[]
[]
[]
[]
[]
[]
[]
[]
[]
[]
[]
[]
[]
[]
[]
[]
[]
[]
[]
[]
[]
[]
[]
[]
[]
[]
[]
[]
[]
[]
[]
[]
[]
[]
[]
[]
[]
[]
[]
[]
[]
[]
[]
[]
[]
[]
[]
[]
[]
[]
[]
[]
[]
[]
[]
[]
[]
[]
[]
[]
[]
[]
[]
[]
[]
[]
[]
[]
[]
[]
[]
[]
[]
[]
[]
[]
[]
[]
[]
[]
[]
[]
[]
[]
[]
[]
[]
[]
[]
[]
[]
[]
[]
[]
[]
[]
[]
[]
[]
[]
[]
[]
[]
[]
[]
[]
[]
[]
[]
[]
[]
[]
[]
[]
[]
[]
[]
[]
[]
[]
[]
[]
[]
[]
[]
[]
[]
[]
[]
[]
[]
[]
[]
[]
[]
[]
[]
[]
[]
[]
[]
[]
[]
[]
[]
[]
[]
[]
[]
[]
[]
[]
[]
[]
[]
[]
[]
[]
[]
[]
[]
[]
[]
[]
[]
[]
[]
[]
[]
[]
[]
[]
[]
[]
[]
[]
[]
[]
[]
[]
[]
[]
[]
[]
[]
[]
[]
[]
[]
[]
[]
[]
[]
[]
[]
[]
[]
[]
[]
[]
[]
[]
[]
[]
[]
[]
[]
[]
[]
[]
[]
[]
[]
[]
[]
[]
[]
[]
[]
[]
[]
[]
[]
[]
[]
[]
[]
[]
[]
[]
[]
[]
[]
[]
[]
[]
[]
[]
[]
[]
[]
[]
[]
[]
[]
[]
[]
[]
[]
[]
[]
[]
[]
[]
[]
[]
[]
[]
[]
[]
[]
[]
[]
[]
[]
[]
[]
[]
[]
[]
[]
[]
[]
[]
[]
[]
[]
[]
[]
[]
[]
[]
[]
[]
[]
[]
[]
[]
[]
[]
[]
[]
[]
[]
[]
[]
[]
[]
[]
[]
[]
[]
[]
[]
[]
[]
[]
[]
[]
[]
[]
[]
[]
[]
[]
[]
[]
[]
[]
[]
[]
[]
[]
[]
[]
[]
[]
[]
[]
[]
[]
[]
[]
[]
[]
[]
[]
[]
[]
[]
[]
[]
[]
[]
[]
[]
[]
[]
[]
[]
[]
[]
[]
[]
[]
[]
[]
[]
[]
[]
[]
[]
[]
[]
[]
[]
[]
[]
[]
[]
[]
[]
[]
[]
[]
[]
[]
[]
[]
[]
[]
[]
[]
[]
[]
[]
[]
[]
[]
[]
[]
[]
[]
[]
[]
[]
[]
[]
[]
[]
[]
[]
[]
[]
[]
[]
[]
[]
[]
[]
[]
[]
[]
[]
[]
[]
[]
[]
[]
[]
[]
[]
[]
[]
[]
[]
[]
[]
[]
[]
[]
[]
[]
[]
[]
[]
[]
[]
[]
[]
[]
[]
[]
[]
[]
[]
[]
[]
[]
[]
[]
[]
[]
[]
[]
[]
[]
[]
[]
[]
[]
[]
[]
[]
[]
[]
[]
[]
[]
[]
[]
[]
[]
[]
[]
[]
[]
[]
[]
[]
[]
[]
[]
[]
[]
[]
[]
[]
[]
[]
[]
[]
[]
[]
[]
[]
[]
[]
[]
[]
[]
[]
[]
[]
[]
[]
[]
[]
[]
[]
[]
[]
[]
[]
[]
[]
[]
[]
[]
[]
[]
[]
[]
[]
[]
[]
[]
[]
[]
[]
[]
[]
[]
[]
[]
[]
[]
[]
[]
[]
[]
[]
[]
[]
[]
[]
[]
[]
[]
[]
[]
[]
[]
[]
[]
[]
[]
[]
[]
[]
[]
[]
[]
[]
[]
[]
[]
[]
[]
[]
[]
[]
[]
[]
[]
[]
[]
[]
[]
[]
[]
[]
[]
[]
[]
[]
[]
[]
[]
[]
[]
[]
[]
[]
[]
[]
[]
[]
[]
[]
[]
[]
[]
[]
[]
[]
[]
[]
[]
[]
[]
[]
[]
[]
[]
[]
[]
[]
[]
[]
[]
[]
[]
[]
[]
[]
[]
[]
[]
[]
[]
[]
[]
[]
[]
[]
[]
[]
[]
[]
[]
[]
[]
[]
[]
[]
[]
[]
[]
[]
[]
[]
[]
[]
[]
[]
[]
[]
[]
[]
[]
[]
[]
[]
[]
[]
[]
[]
[]
[]
[]
[]
[]
[]
[]
[]
[]
[]
[]
[]
[]
[]
[]
[]
[]
[]
[]
[]
[]
[]
[]
[]
[]
[]
[]
[]
[]
[]
[]
[]
[]
[]
[]
[]
[]
[]
[]
[]
[]
[]
[]
[]
[]
[]
[]
[]
[]
[]
[]
[]
[]
[]
[]
[]
[]
[]
[]
[]
[]
[]
[]
[]
[]
[]
[]
[]
[]
[]
[]
[]
[]
[]
[]
[]
[]
[]
[]
[]
[]
[]
[]
[]
[]
[]
[]
[]
[]
[]
[]
[]
[]
[]
[]
[]
[]
[]
[]
[]
[]
[]
[]
[]
[]
[]
[]
[]
[]
[]
[]
[]
[]
[]
[]
[]
[]
[]
[]
[]
[]
[]
[]
[]
[]
[]
[]
[]
[]
[]
[]
[]
[]
[]
[]
[]
[]
[]
[]
[]
[]
[]
[]
[]
[]
[]
[]
[]
[]
[]
[]
[]
[]
[]
[]
[]
[]
[]
[]
[]
[]
[]
[]
[]
[]
[]
[]
[]
[]
[]
[]
[]
[]
[]
[]
[]
[]
[]
[]
[]
[]
[]
[]
[]
[]
[]
[]
[]
[]
[]
[]
[]
[]
[]
[]
[]
[]
[]
[]
[]
[]
[]
[]
[]
[]
[]
[]
[]
[]
[]
[]
[]
[]
[]
[]
[]
[]
[]
[]
[]
[]
[]
[]
[]
[]
[]
[]
[]
[]
[]
[]
[]
[]
[]
[]
[]
[]
[]
[]
[]
[]
[]
[]
[]
[]
[]
[]
[]
[]
[]
[]
[]
[]
[]
[]
[]
[]
[]
[]
[]
[]
[]
[]
[]
[]
[]
[]
[]
[]
[]
[]
[]
[]
[]
[]
[]
[]
[]
[]
[]
[]
[]
[]
[]
[]
[]
[]
[]
[]
[]
[]
[]
[]
[]
[]
[]
[]
[]
[]
[]
[]
[]
[]
[]
[]
[]
[]
[]
[]
[]
[]
[]
[]
[]
[]
[]
[]
[]
[]
[]
[]
[]
[]
[]
[]
[]
[]
[]
[]
[]
[]
[]
[]
[]
[]
[]
[]
[]
[]
[]
[]
[]
[]
[]
[]
[]
[]
[]
[]
[]
[]
[]
[]
[]
[]
[]
[]
[]
[]
[]
[]
[]
[]
[]
[]
[]
[]
[]
[]
[]
[]
[]
[]
[]
[]
[]
[]
[]
[]
[]
[]
[]
[]
[]
[]
[]
[]
[]
[]
[]
[]
[]
[]
[]
[]
[]
[]
[]
[]
[]
[]
[]
[]
[]
[]
[]
[]
[]
[]
[]
[]
[]
[]
[]
[]
[]
[]
[]
[]
[]
[]
[]
[]
[]
[]
[]
[]
[]
[]
[]
[]
[]
[]
[]
[]
[]
[]
[]
[]
[]
[]
[]
[]
[]
[]
[]
[]
[]
[]
[]
[]
[]
[]
[]
[]
[]
[]
[]
[]
[]
[]
[]
[]
[]
[]
[]
[]
[]
[]
[]
[]
[]
[]
[]
[]
[]
[]
[]
[]
[]
[]
[]
[]
[]
[]
[]
[]
[]
[]
[]
[]
[]
[]
[]
[]
[]
[]
[]
[]
[]
[]
[]
[]
[]
[]
[]
[]
[]
[]
[]
[]
[]
[]
[]
[]
[]
[]
[]
[]
[]
[]
[]
[]
[]
[]
[]
[]
[]
[]
[]
[]
[]
[]
[]
[]
[]
[]
[]
[]
[]
[]
[]
[]
[]
[]
[]
[]
[]
[]
[]
[]
[]
[]
[]
[]
[]
[]
[]
[]
[]
[]
[]
[]
[]
[]
[]
[]
[]
[]
[]
[]
[]
[]
[]
[]
[]
[]
[]
[]
[]
[]
[]
[]
[]
[]
[]
[]
[]
[]
[]
[]
[]
[]
[]
[]
[]
[]
[]
[]
[]
[]
[]
[]
[]
[]
[]
[]
[]
[]
[]
[]
[]
[]
[]
[]
[]
[]
[]
[]
[]
[]
[]
[]
[]
[]
[]
[]
[]
[]
[]
[]
[]
[]
[]
[]
[]
[]
[]
[]
[]
[]
[]
[]
[]
[]
[]
[]
[]
[]
[]
[]
[]
[]
[]
[]
[]
[]
[]
[]
[]
[]
[]
[]
[]
[]
[]
[]
[]
[]
[]
[]
[]
[]
[]
[]
[]
[]
[]
[]
[]
[]
[]
[]
[]
[]
[]
[]
[]
[]
[]
[]
[]
[]
[]
[]
[]
[]
[]
[]
[]
[]
[]
[]
[]
[]
[]
[]
[]
[]
[]
[]
[]
[]
[]
[]
[]
[]
[]
[]
[]
[]
[]
[]
[]
[]
[]
[]
[]
[]
[]
[]
[]
[]
[]
[]
[]
[]
[]
[]
[]
[]
[]
[]
[]
[]
[]
[]
[]
[]
[]
[]
[]
[]
[]
[]
[]
[]
[]
[]
[]
[]
[]
[]
[]
[]
[]
[]
[]
[]
[]
[]
[]
[]
[]
[]
[]
[]
[]
[]
[]
[]
[]
[]
[]
[]
[]
[]
[]
[]
[]
[]
[]
[]
[]
[]
[]
[]
[]
[]
[]
[]
[]
[]
[]
[]
[]
[]
[]
[]
[]
[]
[]
[]
[]
[]
[]
[]
[]
[]
[]
[]
[]
[]
[]
[]
[]
[]
[]
[]
[]
[]
[]
[]
[]
[]
[]
[]
[]
[]
[]
[]
[]
[]
[]
[]
[]
[]
[]
[]
[]
[]
[]
[]
[]
[]
[]
[]
[]
[]
[]
[]
[]
[]
[]
[]
[]
[]
[]
[]
[]
[]
[]
[]
[]
[]
[]
[]
[]
[]
[]
[]
[]
[]
[]
[]
[]
[]
[]
[]
[]
[]
[]
[]
[]
[]
[]
[]
[]
[]
[]
[]
[]
[]
[]
[]
[]
[]
[]
[]
[]
[]
[]
[]
[]
[]
[]
[]
[]
[]
[]
[]
[]
[]
[]
[]
[]
[]
[]
[]
[]
[]
[]
[]
[]
[]
[]
[]
[]
[]
[]
[]
[]
[]
[]
[]
[]
[]
[]
[]
[]
[]
[]
[]
[]
[]
[]
[]
[]
[]
[]
[]
[]
[]
[]
[]
[]
[]
[]
[]
[]
[]
[]
[]
[]
[]
[]
[]
[]
[]
[]
[]
[]
[]
[]
[]
[]
[]
[]
[]
[]
[]
[]
[]
[]
[]
[]
[]
[]
[]
[]
[]
[]
[]
[]
[]
[]
[]
[]
[]
[]
[]
[]
[]
[]
[]
[]
[]
[]
[]
[]
[]
[]
[]
[]
[]
[]
[]
[]
[]
[]
[]
[]
[]
[]
[]
[]
[]
[]
[]
[]
[]
[]
[]
[]
[]
[]
[]
[]
[]
[]
[]
[]
[]
[]
[]
[]
[]
[]
[]
[]
[]
[]
[]
[]
[]
[]
[]
[]
[]
[]
[]
[]
[]
[]
[]
[]
[]
[]
[]
[]
[]
[]
[]
[]
[]
[]
[]
[]
[]
[]
[]
[]
[]
[]
[]
[]
[]
[]
[]
[]
[]
[]
[]
[]
[]
[]
[]
[]
[]
[]
[]
[]
[]
[]
[]
[]
[]
[]
[]
[]
[]
[]
[]
[]
[]
[]
[]
[]
[]
[]
[]
[]
[]
[]
[]
[]
[]
[]
[]
[]
[]
[]
[]
[]
[]
[]
[]
[]
[]
[]
[]
[]
[]
[]
[]
[]
[]
[]
[]
[]
[]
[]
[]
[]
[]
[]
[]
[]
[]
[]
[]
[]
[]
[]
[]
[]
[]
[]
[]
[]
[]
[]
[]
[]
[]
[]
[]
[]
[]
[]
[]
[]
[]
[]
[]
[]
[]
[]
[]
[]
[]
[]
[]
[]
[]
[]
[]
[]
[]
[]
[]
[]
[]
[]
[]
[]
[]
[]
[]
[]
[]
[]
[]
[]
[]
[]
[]
[]
[]
[]
[]
[]
[]
[]
[]
[]
[]
[]
[]
[]
[]
[]
[]
[]
[]
[]
[]
[]
[]
[]
[]
[]
[]
[]
[]
[]
[]
[]
[]
[]
[]
[]
[]
[]
[]
[]
[]
[]
[]
[]
[]
[]
[]
[]
[]
[]
[]
[]
[]
[]
[]
[]
[]
[]
[]
[]
[]
[]
[]
[]
[]
[]
[]
[]
[]
[]
[]
[]
[]
[]
[]
[]
[]
[]
[]
[]
[]
[]
[]
[]
[]
[]
[]
[]
[]
[]
[]
[]
[]
[]
[]
[]
[]
[]
[]
[]
[]
[]
[]
[]
[]
[]
[]
[]
[]
[]
[]
[]
[]
[]
[]
[]
[]
[]
[]
[]
[]
[]
[]
[]
[]
[]
[]
[]
[]
[]
[]
[]
[]
[]
[]
[]
[]
[]
[]
[]
[]
[]
[]
[]
[]
[]
[]
[]
[]
[]
[]
[]
[]
[]
[]
[]
[]
[]
[]
[]
[]
[]
[]
[]
[]
[]
[]
[]
[]
[]
[]
[]
[]
[]
[]
[]
[]
[]
[]
[]
[]
[]
[]
[]
[]
[]
[]
[]
[]
[]
[]
[]
[]
[]
[]
[]
[]
[]
[]
[]
[]
[]
[]
[]
[]
[]
[]
[]
[]
[]
[]
[]
[]
[]
[]
[]
[]
[]
[]
[]
[]
[]
[]
[]
[]
[]
[]
[]
[]
[]
[]
[]
[]
[]
[]
[]
[]
[]
[]
[]
[]
[]
[]
[]
[]
[]
[]
[]
[]
[]
[]
[]
[]
[]
[]
[]
[]
[]
[]
[]
[]
[]
[]
[]
[]
[]
[]
[]
[]
[]
[]
[]
[]
[]
[]
[]
[]
[]
[]
[]
[]
[]
[]
[]
[]
[]
[]
[]
[]
[]
[]
[]
[]
[]
[]
[]
[]
[]
[]
[]
[]
[]
[]
[]
[]
[]
[]
[]
[]
[]
[]
[]
[]
[]
[]
[]
[]
[]
[]
[]
[]
[]
[]
[]
[]
[]
[]
[]
[]
[]
[]
[]
[]
[]
[]
[]
[]
[]
[]
[]
[]
[]
[]
[]
[]
[]
[]
[]
[]
[]
[]
[]
[]
[]
[]
[]
[]
[]
[]
[]
[]
[]
[]
[]
[]
[]
[]
[]
[]
[]
[]
[]
[]
[]
[]
[]
[]
[]
[]
[]
[]
[]
[]
[]
[]
[]
[]
[]
[]
[]
[]
[]
[]
[]
[]
[]
[]
[]
[]
[]
[]
[]
[]
[]
[]
[]
[]
[]
[]
[]
[]
[]
[]
[]
[]
[]
[]
[]
[]
[]
[]
[]
[]
[]
[]
[]
[]
[]
[]
[]
[]
[]
[]
[]
[]
[]
[]
[]
[]
[]
[]
[]
[]
[]
[]
[]
[]
[]
[]
[]
[]
[]
[]
[]
[]
[]
[]
[]
[]
[]
[]
[]
[]
[]
[]
[]
[]
[]
[]
[]
[]
[]
[]
[]
[]
[]
[]
[]
[]
[]
[]
[]
[]
[]
[]
[]
[]
[]
[]
[]
[]
[]
[]
[]
[]
[]
[]
[]
[]
[]
[]
[]
[]
[]
[]
[]
[]
[]
[]
[]
[]
[]
[]
[]
[]
[]
[]
[]
[]
[]
[]
[]
[]
[]
[]
[]
[]
[]
[]
[]
[]
[]
[]
[]
[]
[]
[]
[]
[]
[]
[]
[]
[]
[]
[]
[]
[]
[]
[]
[]
[]
[]
[]
[]
[]
[]
[]
[]
[]
[]
[]
[]
[]
[]
[]
[]
[]
[]
[]
[]
[]
[]
[]
[]
[]
[]
[]
[]
[]
[]
[]
[]
[]
[]
[]
[]
[]
[]
[]
[]
[]
[]
[]
[]
[]
[]
[]
[]
[]
[]
[]
[]
[]
[]
[]
[]
[]
[]
[]
[]
[]
[]
[]
[]
[]
[]
[]
[]
[]
[]
[]
[]
[]
[]
[]
[]
[]
[]
[]
[]
[]
[]
[]
[]
[]
[]
[]
[]
[]
[]
[]
[]
[]
[]
[]
[]
[]
[]
[]
[]
[]
[]
[]
[]
[]
[]
[]
[]
[]
[]
[]
[]
[]
[]
[]
[]
[]
[]
[]
[]
[]
[]
[]
[]
[]
[]
[]
[]
[]
[]
[]
[]
[]
[]
[]
[]
[]
[]
[]
[]
[]
[]
[]
[]
[]
[]
[]
[]
[]
[]
[]
[]
[]
[]
[]
[]
[]
[]
[]
[]
[]
[]
[]
[]
[]
[]
[]
[]
[]
[]
[]
[]
[]
[]
[]
[]
[]
[]
[]
[]
[]
[]
[]
[]
[]
[]
[]
[]
[]
[]
[]
[]
[]
[]
[]
[]
[]
[]
[]
[]
[]
[]
[]
[]
[]
[]
[]
[]
[]
[]
[]
[]
[]
[]
[]
[]
[]
[]
[]
[]
[]
[]
[]
[]
[]
[]
[]
[]
[]
[]
[]
[]
[]
[]
[]
[]
[]
[]
[]
[]
[]
[]
[]
[]
[]
[]
[]
[]
[]
[]
[]
[]
[]
[]
[]
[]
[]
[]
[]
[]
[]
[]
[]
[]
[]
[]
[]
[]
[]
[]
[]
[]
[]
[]
[]
[]
[]
[]
[]
[]
[]
[]
[]
[]
[]
[]
[]
[]
[]
[]
[]
[]
[]
[]
[]
[]
[]
[]
[]
[]
[]
[]
[]
[]
[]
[]
[]
[]
[]
[]
[]
[]
[]
[]
[]
[]
[]
[]
[]
[]
[]
[]
[]
[]
[]
[]
[]
[]
[]
[]
[]
[]
[]
[]
[]
[]
[]
[]
[]
[]
[]
[]
[]
[]
[]
[]
[]
[]
[]
[]
[]
[]
[]
[]
[]
[]
[]
[]
[]
[]
[]
[]
[]
[]
[]
[]
[]
[]
[]
[]
[]
[]
[]
[]
[]
[]
[]
[]
[]
[]
[]
[]
[]
[]
[]
[]
[]
[]
[]
[]
[]
[]
[]
[]
[]
[]
[]
[]
[]
[]
[]
[]
[]
[]
[]
[]
[]
[]
[]
[]
[]
[]
[]
[]
[]
[]
[]
[]
[]
[]
[]
[]
[]
[]
[]
[]
[]
[]
[]
[]
[]
[]
[]
[]
[]
[]
[]
[]
[]
[]
[]
[]
[]
[]
[]
[]
[]
[]
[]
[]
[]
[]
[]
[]
[]
[]
[]
[]
[]
[]
[]
[]
[]
[]
[]
[]
[]
[]
[]
[]
[]
[]
[]
[]
[]
[]
[]
[]
[]
[]
[]
[]
[]
[]
[]
[]
[]
[]
[]
[]
[]
[]
[]
[]
[]
[]
[]
[]
[]
[]
[]
[]
[]
[]
[]
[]
[]
[]
[]
[]
[]
[]
[]
[]
[]
[]
[]
[]
[]
[]
[]
[]
[]
[]
[]
[]
[]
[]
[]
[]
[]
[]
[]
[]
[]
[]
[]
[]
[]
[]
[]
[]
[]
[]
[]
[]
[]
[]
[]
[]
[]
[]
[]
[]
[]
[]
[]
[]
[]
[]
[]
[]
[]
[]
[]
[]
[]
[]
[]
[]
[]
[]
[]
[]
[]
[]
[]
[]
[]
[]
[]
[]
[]
[]
[]
[]
[]
[]
[]
[]
[]
[]
[]
[]
[]
[]
[]
[]
[]
[]
[]
[]
[]
[]
[]
[]
[]
[]
[]
[]
[]
[]
[]
[]
[]
[]
[]
[]
[]
[]
[]
[]
[]
[]
[]
[]
[]
[]
[]
[]
[]
[]
[]
[]
[]
[]
[]
[]
[]
[]
[]
[]
[]
[]
[]
[]
[]
[]
[]
[]
[]
[]
[]
[]
[]
[]
[]
[]
[]
[]
[]
[]
[]
[]
[]
[]
[]
[]
[]
[]
[]
[]
[]
[]
[]
[]
[]
[]
[]
[]
[]
[]
[]
[]
[]
[]
[]
[]
[]
[]
[]
[]
[]
[]
[]
[]
[]
[]
[]
[]
[]
[]
[]
[]
[]
[]
[]
[]
[]
[]
[]
[]
[]
[]
[]
[]
[]
[]
[]
[]
[]
[]
[]
[]
[]
[]
[]
[]
[]
[]
[]
[]
[]
[]
[]
[]
[]
[]
[]
[]
[]
[]
[]
[]
[]
[]
[]
[]
[]
[]
[]
[]
[]
[]
[]
[]
[]
[]
[]
[]
[]
[]
[]
[]
[]
[]
[]
[]
[]
[]
[]
[]
[]
[]
[]
[]
[]
[]
[]
[]
[]
[]
[]
[]
[]
[]
[]
[]
[]
[]
[]
[]
[]
[]
[]
[]
[]
[]
[]
[]
[]
[]
[]
[]
[]
[]
[]
[]
[]
[]
[]
[]
[]
[]
[]
[]
[]
[]
[]
[]
[]
[]
[]
[]
[]
[]
[]
[]
[]
[]
[]
[]
[]
[]
[]
[]
[]
[]
[]
[]
[]
[]
[]
[]
[]
[]
[]
[]
[]
[]
[]
[]
[]
[]
[]
[]
[]
[]
[]
[]
[]
[]
[]
[]
[]
[]
[]
[]
[]
[]
[]
[]
[]
[]
[]
[]
[]
[]
[]
[]
[]
[]
[]
[]
[]
[]
[]
[]
[]
[]
[]
[]
[]
[]
[]
[]
[]
[]
[]
[]
[]
[]
[]
[]
[]
[]
[]
[]
[]
[]
[]
[]
[]
[]
[]
[]
[]
[]
[]
[]
[]
[]
[]
[]
[]
[]
[]
[]
[]
[]
[]
[]
[]
[]
[]
[]
[]
[]
[]
[]
[]
[]
[]
[]
[]
[]
[]
[]
[]
[]
[]
[]
[]
[]
[]
[]
[]
[]
[]
[]
[]
[]
[]
[]
[]
[]
[]
[]
[]
[]
[]
[]
[]
[]
[]
[]
[]
[]
[]
[]
[]
[]
[]
[]
[]
[]
[]
[]
[]
[]
[]
[]
[]
[]
[]
[]
[]
[]
[]
[]
[]
[]
[]
[]
[]
[]
[]
[]
[]
[]
[]
[]
[]
[]
[]
[]
[]
[]
[]
[]
[]
[]
[]
[]
[]
[]
[]
[]
[]
[]
[]
[]
[]
[]
[]
[]
[]
[]
[]
[]
[]
[]
[]
[]
[]
[]
[]
[]
[]
[]
[]
[]
[]
[]
[]
[]
[]
[]
[]
[]
[]
[]
[]
[]
[]
[]
[]
[]
[]
[]
[]
[]
[]
[]
[]
[]
[]
[]
[]
[]
[]
[]
[]
[]
[]
[]
[]
[]
[]
[]
[]
[]
[]
[]
[]
[]
[]
[]
[]
[]
[]
[]
[]
[]
[]
[]
[]
[]
[]
[]
[]
[]
[]
[]
[]
[]
[]
[]
[]
[]
[]
[]
[]
[]
[]
[]
[]
[]
[]
[]
[]
[]
[]
[]
[]
[]
[]
[]
[]
[]
[]
[]
[]
[]
[]
[]
[]
[]
[]
[]
[]
[]
[]
[]
[]
[]
[]
[]
[]
[]
[]
[]
[]
[]
[]
[]
[]
[]
[]
[]
[]
[]
[]
[]
[]
[]
[]
[]
[]
[]
[]
[]
[]
[]
[]
[]
[]
[]
[]
[]
[]
[]
[]
[]
[]
[]
[]
[]
[]
[]
[]
[]
[]
[]
[]
[]
[]
[]
[]
[]
[]
[]
[]
[]
[]
[]
[]
[]
[]
[]
[]
[]
[]
[]
[]
[]
[]
[]
[]
[]
[]
[]
[]
[]
[]
[]
[]
[]
[]
[]
[]
[]
[]
[]
[]
[]
[]
[]
[]
[]
[]
[]
[]
[]
[]
[]
[]
[]
[]
[]
[]
[]
[]
[]
[]
[]
[]
[]
[]
[]
[]
[]
[]
[]
[]
[]
[]
[]
[]
[]
[]
[]
[]
[]
[]
[]
[]
[]
[]
[]
[]
[]
[]
[]
[]
[]
[]
[]
[]
[]
[]
[]
[]
[]
[]
[]
[]
[]
[]
[]
[]
[]
[]
[]
[]
[]
[]
[]
[]
[]
[]
[]
[]
[]
[]
[]
[]
[]
[]
[]
[]
[]
[]
[]
[]
[]
[]
[]
[]
[]
[]
[]
[]
[]
[]
[]
[]
[]
[]
[]
[]
[]
[]
[]
[]
[]
[]
[]
[]
[]
[]
[]
[]
[]
[]
[]
[]
[]
[]
[]
[]
[]
[]
[]
[]
[]
[]
[]
[]
[]
[]
[]
[]
[]
[]
[]
[]
[]
[]
[]
[]
[]
[]
[]
[]
[]
[]
[]
[]
[]
[]
[]
[]
[]
[]
[]
[]
[]
[]
[]
[]
[]
[]
[]
[]
[]
[]
[]
[]
[]
[]
[]
[]
[]
[]
[]
[]
[]
[]
[]
[]
[]
[]
[]
[]
[]
[]
[]
[]
[]
[]
[]
[]
[]
[]
[]
[]
[]
[]
[]
[]
[]
[]
[]
[]
[]
[]
[]
[]
[]
[]
[]
[]
[]
[]
[]
[]
[]
[]
[]
[]
[]
[]
[]
[]
[]
[]
[]
[]
[]
[]
[]
[]
[]
[]
[]
[]
[]
[]
[]
[]
[]
[]
[]
[]
[]
[]
[]
[]
[]
[]
[]
[]
[]
[]
[]
[]
[]
[]
[]
[]
[]
[]
[]
[]
[]
[]
[]
[]
[]
[]
[]
[]
[]
[]
[]
[]
[]
[]
[]
[]
[]
[]
[]
[]
[]
[]
[]
[]
[]
[]
[]
[]
[]
[]
[]
[]
[]
[]
[]
[]
[]
[]
[]
[]
[]
[]
[]
[]
[]
[]
[]
[]
[]
[]
[]
[]
[]
[]
[]
[]
[]
[]
[]
[]
[]
[]
[]
[]
[]
[]
[]
[]
[]
[]
[]
[]
[]
[]
[]
[]
[]
[]
[]
[]
[]
[]
[]
[]
[]
[]
[]
[]
[]
[]
[]
[]
[]
[]
[]
[]
[]
[]
[]
[]
[]
[]
[]
[]
[]
[]
[]
[]
[]
[]
[]
[]
[]
[]
[]
[]
[]
[]
[]
[]
[]
[]
[]
[]
[]
[]
[]
[]
[]
[]
[]
[]
[]
[]
[]
[]
[]
[]
[]
[]
[]
[]
[]
[]
[]
[]
[]
[]
[]
[]
[]
[]
[]
[]
[]
[]
[]
[]
[]
[]
[]
[]
[]
[]
[]
[]
[]
[]
[]
[]
[]
[]
[]
[]
[]
[]
[]
[]
[]
[]
[]
[]
[]
[]
[]
[]
[]
[]
[]
[]
[]
[]
[]
[]
[]
[]
[]
[]
[]
[]
[]
[]
[]
[]
[]
[]
[]
[]
[]
[]
[]
[]
[]
[]
[]
[]
[]
[]
[]
[]
[]
[]
[]
[]
[]
[]
[]
[]
[]
[]
[]
[]
[]
[]
[]
[]
[]
[]
[]
[]
[]
[]
[]
[]
[]
[]
[]
[]
[]
[]
[]
[]
[]
[]
[]
[]
[]
[]
[]
[]
[]
[]
[]
[]
[]
[]
[]
[]
[]
[]
[]
[]
[]
[]
[]
[]
[]
[]
[]
[]
[]
[]
[]
[]
[]
[]
[]
[]
[]
[]
[]
[]
[]
[]
[]
[]
[]
[]
[]
[]
[]
[]
[]
[]
[]
[]
[]
[]
[]
[]
[]
[]
[]
[]
[]
[]
[]
[]
[]
[]
[]
[]
[]
[]
[]
[]
[]
[]
[]
[]
[]
[]
[]
[]
[]
[]
[]
[]
[]
[]
[]
[]
[]
[]
[]
[]
[]
[]
[]
[]
[]
[]
[]
[]
[]
[]
[]
[]
[]
[]
[]
[]
[]
[]
[]
[]
[]
[]
[]
[]
[]
[]
[]
[]
[]
[]
[]
[]
[]
[]
[]
[]
[]
[]
[]
[]
[]
[]
[]
[]
[]
[]
[]
[]
[]
[]
[]
[]
[]
[]
[]
[]
[]
[]
[]
[]
[]
[]
[]
[]
[]
[]
[]
[]
[]
[]
[]
[]
[]
[]
[]
[]
[]
[]
[]
[]
[]
[]
[]
[]
[]
[]
[]
[]
[]
[]
[]
[]
[]
[]
[]
[]
[]
[]
[]
[]
[]
[]
[]
[]
[]
[]
[]
[]
[]
[]
[]
[]
[]
[]
[]
[]
[]
[]
[]
[]
[]
[]
[]
[]
[]
[]
[]
[]
[]
[]
[]
[]
[]
[]
[]
[]
[]
[]
[]
[]
[]
[]
[]
[]
[]
[]
[]
[]
[]
[]
[]
[]
[]
[]
[]
[]
[]
[]
[]
[]
[]
[]
[]
[]
[]
[]
[]
[]
[]
[]
[]
[]
[]
[]
[]
[]
[]
[]
[]
[]
[]
[]
[]
[]
[]
[]
[]
[]
[]
[]
[]
[]
[]
[]
[]
[]
[]
[]
[]
[]
[]
[]
[]
[]
[]
[]
[]
[]
[]
[]
[]
[]
[]
[]
[]
[]
[]
[]
[]
[]
[]
[]
[]
[]
[]
[]
[]
[]
[]
[]
[]
[]
[]
[]
[]
[]
[]
[]
[]
[]
[]
[]
[]
[]
[]
[]
[]
[]
[]
[]
[]
[]
[]
[]
[]
[]
[]
[]
[]
[]
[]
[]
[]
[]
[]
[]
[]
[]
[]
[]
[]
[]
[]
[]
[]
[]
[]
[]
[]
[]
[]
[]
[]
[]
[]
[]
[]
[]
[]
[]
[]
[]
[]
[]
[]
[]
[]
[]
[]
[]
[]
[]
[]
[]
[]
[]
[]
[]
[]
[]
[]
[]
[]
[]
[]
[]
[]
[]
[]
[]
[]
[]
[]
[]
[]
[]
[]
[]
[]
[]
[]
[]
[]
[]
[]
[]
[]
[]
[]
[]
[]
[]
[]
[]
[]
[]
[]
[]
[]
[]
[]
[]
[]
[]
[]
[]
[]
[]
[]
[]
[]
[]
[]
[]
[]
[]
[]
[]
[]
[]
[]
[]
[]
[]
[]
[]
[]
[]
[]
[]
[]
[]
[]
[]
[]
[]
[]
[]
[]
[]
[]
[]
[]
[]
[]
[]
[]
[]
[]
[]
[]
[]
[]
[]
[]
[]
[]
[]
[]
[]
[]
[]
[]
[]
[]
[]
[]
[]
[]
[]
[]
[]
[]
[]
[]
[]
[]
[]
[]
[]
[]
[]
[]
[]
[]
[]
[]
[]
[]
[]
[]
[]
[]
[]
[]
[]
[]
[]
[]
[]
[]
[]
[]
[]
[]
[]
[]
[]
[]
[]
[]
[]
[]
[]
[]
[]
[]
[]
[]
[]
[]
[]
[]
[]
[]
[]
[]
[]
[]
[]
[]
[]
[]
[]
[]
[]
[]
[]
[]
[]
[]
[]
[]
[]
[]
[]
[]
[]
[]
[]
[]
[]
[]
[]
[]
[]
[]
[]
[]
[]
[]
[]
[]
[]
[]
[]
[]
[]
[]
[]
[]
[]
[]
[]
[]
[]
[]
[]
[]
[]
[]
[]
[]
[]
[]
[]
[]
[]
[]
[]
[]
[]
[]
[]
[]
[]
[]
[]
[]
[]
[]
[]
[]
[]
[]
[]
[]
[]
[]
[]
[]
[]
[]
[]
[]
[]
[]
[]
[]
[]
[]
[]
[]
[]
[]
[]
[]
[]
[]
[]
[]
[]
[]
[]
[]
[]
[]
[]
[]
[]
[]
[]
[]
[]
[]
[]
[]
[]
[]
[]
[]
[]
[]
[]
[]
[]
[]
[]
[]
[]
[]
[]
[]
[]
[]
[]
[]
[]
[]
[]
[]
[]
[]
[]
[]
[]
[]
[]
[]
[]
[]
[]
[]
[]
[]
[]
[]
[]
[]
[]
[]
[]
[]
[]
[]
[]
[]
[]
[]
[]
[]
[]
[]
[]
[]
[]
[]
[]
[]
[]
[]
[]
[]
[]
[]
[]
[]
[]
[]
[]
[]
[]
[]
[]
[]
[]
[]
[]
[]
[]
[]
[]
[]
[]
[]
[]
[]
[]
[]
[]
[]
[]
[]
[]
[]
[]
[]
[]
[]
[]
[]
[]
[]
[]
[]
[]
[]
[]
[]
[]
[]
[]
[]
[]
[]
[]
[]
[]
[]
[]
[]
[]
[]
[]
[]
[]
[]
[]
[]
[]
[]
[]
[]
[]
[]
[]
[]
[]
[]
[]
[]
[]
[]
[]
[]
[]
[]
[]
[]
[]
[]
[]
[]
[]
[]
[]
[]
[]
[]
[]
[]
[]
[]
[]
[]
[]
[]
[]
[]
[]
[]
[]
[]
[]
[]
[]
[]
[]
[]
[]
[]
[]
[]
[]
[]
[]
[]
[]
[]
[]
[]
[]
[]
[]
[]
[]
[]
[]
[]
[]
[]
[]
[]
[]
[]
[]
[]
[]
[]
[]
[]
[]
[]
[]
[]
[]
[]
[]
[]
[]
[]
[]
[]
[]
[]
[]
[]
[]
[]
[]
[]
[]
[]
[]
[]
[]
[]
[]
[]
[]
[]
[]
[]
[]
[]
[]
[]
[]
[]
[]
[]
[]
[]
[]
[]
[]
[]
[]
[]
[]
[]
[]
[]
[]
[]
[]
[]
[]
[]
[]
[]
[]
[]
[]
[]
[]
[]
[]
[]
[]
[]
[]
[]
[]
[]
[]
[]
[]
[]
[]
[]
[]
[]
[]
[]
[]
[]
[]
[]
[]
[]
[]
[]
[]
[]
[]
[]
[]
[]
[]
[]
[]
[]
[]
[]
[]
[]
[]
[]
[]
[]
[]
[]
[]
[]
[]
[]
[]
[]
[]
[]
[]
[]
[]
[]
[]
[]
[]
[]
[]
[]
[]
[]
[]
[]
[]
[]
[]
[]
[]
[]
[]
[]
[]
[]
[]
[]
[]
[]
[]
[]
[]
[]
[]
[]
[]
[]
[]
[]
[]
[]
[]
[]
[]
[]
[]
[]
[]
[]
[]
[]
[]
[]
[]
[]
[]
[]
[]
[]
[]
[]
[]
[]
[]
[]
[]
[]
[]
[]
[]
[]
[]
[]
[]
[]
[]
[]
[]
[]
[]
[]
[]
[]
[]
[]
[]
[]
[]
[]
[]
[]
[]
[]
[]
[]
[]
[]
[]
[]
[]
[]
[]
[]
[]
[]
[]
[]
[]
[]
[]
[]
[]
[]
[]
[]
[]
[]
[]
[]
[]
[]
[]
[]
[]
[]
[]
[]
[]
[]
[]
[]
[]
[]
[]
[]
[]
[]
[]
[]
[]
[]
[]
[]
[]
[]
[]
[]
[]
[]
[]
[]
[]
[]
[]
[]
[]
[]
[]
[]
[]
[]
[]
[]
[]
[]
[]
[]
[]
[]
[]
[]
[]
[]
[]
[]
[]
[]
[]
[]
[]
[]
[]
[]
[]
[]
[]
[]
[]
[]
[]
[]
[]
[]
[]
[]
[]
[]
[]
[]
[]
[]
[]
[]
[]
[]
[]
[]
[]
[]
[]
[]
[]
[]
[]
[]
[]
[]
[]
[]
[]
[]
[]
[]
[]
[]
[]
[]
[]
[]
[]
[]
[]
[]
[]
[]
[]
[]
[]
[]
[]
[]
[]
[]
[]
[]
[]
[]
[]
[]
[]
[]
[]
[]
[]
[]
[]
[]
[]
[]
[]
[]
[]
[]
[]
[]
[]
[]
[]
[]
[]
[]
[]
[]
[]
[]
[]
[]
[]
[]
[]
[]
[]
[]
[]
[]
[]
[]
[]
[]
[]
[]
[]
[]
[]
[]
[]
[]
[]
[]
[]
[]
[]
[]
[]
[]
[]
[]
[]
[]
[]
[]
[]
[]
[]
[]
[]
[]
[]
[]
[]
[]
[]
[]
[]
[]
[]
[]
[]
[]
[]
[]
[]
[]
[]
[]
[]
[]
[]
[]
[]
[]
[]
[]
[]
[]
[]
[]
[]
[]
[]
[]
[]
[]
[]
[]
[]
[]
[]
[]
[]
[]
[]
[]
[]
[]
[]
[]
[]
[]
[]
[]
[]
[]
[]
[]
[]
[]
[]
[]
[]
[]
[]
[]
[]
[]
[]
[]
[]
[]
[]
[]
[]
[]
[]
[]
[]
[]
[]
[]
[]
[]
[]
[]
[]
[]
[]
[]
[]
[]
[]
[]
[]
[]
[]
[]
[]
[]
[]
[]
[]
[]
[]
[]
[]
[]
[]
[]
[]
[]
[]
[]
[]
[]
[]
[]
[]
[]
[]
[]
[]
[]
[]
[]
[]
[]
[]
[]
[]
[]
[]
[]
[]
[]
[]
[]
[]
[]
[]
[]
[]
[]
[]
[]
[]
[]
[]
[]
[]
[]
[]
[]
[]
[]
[]
[]
[]
[]
[]
[]
[]
[]
[]
[]
[]
[]
[]
[]
[]
[]
[]
[]
[]
[]
[]
[]
[]
[]
[]
[]
[]
[]
[]
[]
[]
[]
[]
[]
[]
[]
[]
[]
[]
[]
[]
[]
[]
[]
[]
[]
[]
[]
[]
[]
[]
[]
[]
[]
[]
[]
[]
[]
[]
[]
[]
[]
[]
[]
[]
[]
[]
[]
[]
[]
[]
[]
[]
[]
[]
[]
[]
[]
[]
[]
[]
[]
[]
[]
[]
[]
[]
[]
[]
[]
[]
[]
[]
[]
[]
[]
[]
[]
[]
[]
[]
[]
[]
[]
[]
[]
[]
[]
[]
[]
[]
[]
[]
[]
[]
[]
[]
[]
[]
[]
[]
[]
[]
[]
[]
[]
[]
[]
[]
[]
[]
[]
[]
[]
[]
[]
[]
[]
[]
[]
[]
[]
[]
[]
[]
[]
[]
[]
[]
[]
[]
[]
[]
[]
[]
[]
[]
[]
[]
[]
[]
[]
[]
[]
[]
[]
[]
[]
[]
[]
[]
[]
[]
[]
[]
[]
[]
[]
[]
[]
[]
[]
[]
[]
[]
[]
[]
[]
[]
[]
[]
[]
[]
[]
[]
[]
[]
[]
[]
[]
[]
[]
[]
[]
[]
[]
[]
[]
[]
[]
[]
[]
[]
[]
[]
[]
[]
[]
[]
[]
[]
[]
[]
[]
[]
[]
[]
[]
[]
[]
[]
[]
[]
[]
[]
[]
[]
[]
[]
[]
[]
[]
[]
[]
[]
[]
[]
[]
[]
[]
[]
[]
[]
[]
[]
[]
[]
[]
[]
[]
[]
[]
[]
[]
[]
[]
[]
[]
[]
[]
[]
[]
[]
[]
[]
[]
[]
[]
[]
[]
[]
[]
[]
[]
[]
[]
[]
[]
[]
[]
[]
[]
[]
[]
[]
[]
[]
[]
[]
[]
[]
[]
[]
[]
[]
[]
[]
[]
[]
[]
[]
[]
[]
[]
[]
[]
[]
[]
[]
[]
[]
[]
[]
[]
[]
[]
[]
[]
[]
[]
[]
[]
[]
[]
[]
[]
[]
[]
[]
[]
[]
[]
[]
[]
[]
[]
[]
[]
[]
[]
[]
[]
[]
[]
[]
[]
[]
[]
[]
[]
[]
[]
[]
[]
[]
[]
[]
[]
[]
[]
[]
[]
[]
[]
[]
[]
[]
[]
[]
[]
[]
[]
[]
[]
[]
[]
[]
[]
[]
[]
[]
[]
[]
[]
[]
[]
[]
[]
[]
[]
[]
[]
[]
[]
[]
[]
[]
[]
[]
[]
[]
[]
[]
[]
[]
[]
[]
[]
[]
[]
[]
[]
[]
[]
[]
[]
[]
[]
[]
[]
[]
[]
[]
[]
[]
[]
[]
[]
[]
[]
[]
[]
[]
[]
[]
[]
[]
[]
[]
[]
[]
[]
[]
[]
[]
[]
[]
[]
[]
[]
[]
[]
[]
[]
[]
[]
[]
[]
[]
[]
[]
[]
[]
[]
[]
[]
[]
[]
[]
[]
[]
[]
[]
[]
[]
[]
[]
[]
[]
[]
[]
[]
[]
[]
[]
[]
[]
[]
[]
[]
[]
[]
[]
[]
[]
[]
[]
[]
[]
[]
[]
[]
[]
[]
[]
[]
[]
[]
[]
[]
[]
[]
[]
[]
[]
[]
[]
[]
[]
[]
[]
[]
[]
[]
[]
[]
[]
[]
[]
[]
[]
[]
[]
[]
[]
[]
[]
[]
[]
[]
[]
[]
[]
[]
[]
[]
[]
[]
[]
[]
[]
[]
[]
[]
[]
[]
[]
[]
[]
[]
[]
[]
[]
[]
[]
[]
[]
[]
[]
[]
[]
[]
[]
[]
[]
[]
[]
[]
[]
[]
[]
[]
[]
[]
[]
[]
[]
[]
[]
[]
[]
[]
[]
[]
[]
[]
[]
[]
[]
[]
[]
[]
[]
[]
[]
[]
[]
[]
[]
[]
[]
[]
[]
[]
[]
[]
[]
[]
[]
[]
[]
[]
[]
[]
[]
[]
[]
[]
[]
[]
[]
[]
[]
[]
[]
[]
[]
[]
[]
[]
[]
[]
[]
[]
[]
[]
[]
[]
[]
[]
[]
[]
[]
[]
[]
[]
[]
[]
[]
[]
[]
[]
[]
[]
[]
[]
[]
[]
[]
[]
[]
[]
[]
[]
[]
[]
[]
[]
[]
[]
[]
[]
[]
[]
[]
[]
[]
[]
[]
[]
[]
[]
[]
[]
[]
[]
[]
[]
[]
[]
[]
[]
[]
[]
[]
[]
[]
[]
[]
[]
[]
[]
[]
[]
[]
[]
[]
[]
[]
[]
[]
[]
[]
[]
[]
[]
[]
[]
[]
[]
[]
[]
[]
[]
[]
[]
[]
[]
[]
[]
[]
[]
[]
[]
[]
[]
[]
[]
[]
[]
[]
[]
[]
[]
[]
[]
[]
[]
[]
[]
[]
[]
[]
[]
[]
[]
[]
[]
[]
[]
[]
[]
[]
[]
[]
[]
[]
[]
[]
[]
[]
[]
[]
[]
[]
[]
[]
[]
[]
[]
[]
[]
[]
[]
[]
[]
[]
[]
[]
[]
[]
[]
[]
[]
[]
[]
[]
[]
[]
[]
[]
[]
[]
[]
[]
[]
[]
[]
[]
[]
[]
[]
[]
[]
[]
[]
[]
[]
[]
[]
[]
[]
[]
[]
[]
[]
[]
[]
[]
[]
[]
[]
[]
[]
[]
[]
[]
[]
[]
[]
[]
[]
[]
[]
[]
[]
[]
[]
[]
[]
[]
[]
[]
[]
[]
[]
[]
[]
[]
[]
[]
[]
[]
[]
[]
[]
[]
[]
[]
[]
[]
[]
[]
[]
[]
[]
[]
[]
[]
[]
[]
[]
[]
[]
[]
[]
[]
[]
[]
[]
[]
[]
[]
[]
[]
[]
[]
[]
[]
[]
[]
[]
[]
[]
[]
[]
[]
[]
[]
[]
[]
[]
[]
[]
[]
[]
[]
[]
[]
[]
[]
[]
[]
[]
[]
[]
[]
[]
[]
[]
[]
[]
[]
[]
[]
[]
[]
[]
[]
[]
[]
[]
[]
[]
[]
[]
[]
[]
[]
[]
[]
[]
[]
[]
[]
[]
[]
[]
[]
[]
[]
[]
[]
[]
[]
[]
[]
[]
[]
[]
[]
[]
[]
[]
[]
[]
[]
[]
[]
[]
[]
[]
[]
[]
[]
[]
[]
[]
[]
[]
[]
[]
[]
[]
[]
[]
[]
[]
[]
[]
[]
[]
[]
[]
[]
[]
[]
[]
[]
[]
[]
[]
[]
[]
[]
[]
[]
[]
[]
[]
[]
[]
[]
[]
[]
[]
[]
[]
[]
[]
[]
[]
[]
[]
[]
[]
[]
[]
[]
[]
[]
[]
[]
[]
[]
[]
[]
[]
[]
[]
[]
[]
[]
[]
[]
[]
[]
[]
[]
[]
[]
[]
[]
[]
[]
[]
[]
[]
[]
[]
[]
[]
[]
[]
[]
[]
[]
[]
[]
[]
[]
[]
[]
[]
[]
[]
[]
[]
[]
[]
[]
[]
[]
[]
[]
[]
[]
[]
[]
[]
[]
[]
[]
[]
[]
[]
[]
[]
[]
[]
[]
[]
[]
[]
[]
[]
[]
[]
[]
[]
[]
[]
[]
[]
[]
[]
[]
[]
[]
[]
[]
[]
[]
[]
[]
[]
[]
[]
[]
[]
[]
[]
[]
[]
[]
[]
[]
[]
[]
[]
[]
[]
[]
[]
[]
[]
[]
[]
[]
[]
[]
[]
[]
[]
[]
[]
[]
[]
[]
[]
[]
[]
[]
[]
[]
[]
[]
[]
[]
[]
[]
[]
[]
[]
[]
[]
[]
[]
[]
[]
[]
[]
[]
[]
[]
[]
[]
[]
[]
[]
[]
[]
[]
[]
[]
[]
[]
[]
[]
[]
[]
[]
[]
[]
[]
[]
[]
[]
[]
[]
[]
[]
[]
[]
[]
[]
[]
[]
[]
[]
[]
[]
[]
[]
[]
[]
[]
[]
[]
[]
[]
[]
[]
[]
[]
[]
[]
[]
[]
[]
[]
[]
[]
[]
[]
[]
[]
[]
[]
[]
[]
[]
[]
[]
[]
[]
[]
[]
[]
[]
[]
[]
[]
[]
[]
[]
[]
[]
[]
[]
[]
[]
[]
[]
[]
[]
[]
[]
[]
[]
[]
[]
[]
[]
[]
[]
[]
[]
[]
[]
[]
[]
[]
[]
[]
[]
[]
[]
[]
[]
[]
[]
[]
[]
[]
[]
[]
[]
[]
[]
[]
[]
[]
[]
[]
[]
[]
[]
[]
[]
[]
[]
[]
[]
[]
[]
[]
[]
[]
[]
[]
[]
[]
[]
[]
[]
[]
[]
[]
[]
[]
[]
[]
[]
[]
[]
[]
[]
[]
[]
[]
[]
[]
[]
[]
[]
[]
[]
[]
[]
[]
[]
[]
[]
[]
[]
[]
[]
[]
[]
[]
[]
[]
[]
[]
[]
[]
[]
[]
[]
[]
[]
[]
[]
[]
[]
[]
[]
[]
[]
[]
[]
[]
[]
[]
[]
[]
[]
[]
[]
[]
[]
[]
[]
[]
[]
[]
[]
[]
[]
[]
[]
[]
[]
[]
[]
[]
[]
[]
[]
[]
[]
[]
[]
[]
[]
[]
[]
[]
[]
[]
[]
[]
[]
[]
[]
[]
[]
[]
[]
[]
[]
[]
[]
[]
[]
[]
[]
[]
[]
[]
[]
[]
[]
[]
[]
[]
[]
[]
[]
[]
[]
[]
[]
[]
[]
[]
[]
[]
[]
[]
[]
[]
[]
[]
[]
[]
[]
[]
[]
[]
[]
[]
[]
[]
[]
[]
[]
[]
[]
[]
[]
[]
[]
[]
[]
[]
[]
[]
[]
[]
[]
[]
[]
[]
[]
[]
[]
[]
[]
[]
[]
[]
[]
[]
[]
[]
[]
[]
[]
[]
[]
[]
[]
[]
[]
[]
[]
[]
[]
[]
[]
[]
[]
[]
[]
[]
[]
[]
[]
[]
[]
[]
[]
[]
[]
[]
[]
[]
[]
[]
[]
[]
[]
[]
[]
[]
[]
[]
[]
[]
[]
[]
[]
[]
[]
[]
[]
[]
[]
[]
[]
[]
[]
[]
[]
[]
[]
[]
[]
[]
[]
[]
[]
[]
[]
[]
[]
[]
[]
[]
[]
[]
[]
[]
[]
[]
[]
[]
[]
[]
[]
[]
[]
[]
[]
[]
[]
[]
[]
[]
[]
[]
[]
[]
[]
[]
[]
[]
[]
[]
[]
[]
[]
[]
[]
[]
[]
[]
[]
[]
[]
[]
[]
[]
[]
[]
[]
[]
[]
[]
[]
[]
[]
[]
[]
[]
[]
[]
[]
[]
[]
[]
[]
[]
[]
[]
[]
[]
[]
[]
[]
[]
[]
[]
[]
[]
[]
[]
[]
[]
[]
[]
[]
[]
[]
[]
[]
[]
[]
[]
[]
[]
[]
[]
[]
[]
[]
[]
[]
[]
[]
[]
[]
[]
[]
[]
[]
[]
[]
[]
[]
[]
[]
[]
[]
[]
[]
[]
[]
[]
[]
[]
[]
[]
[]
[]
[]
[]
[]
[]
[]
[]
[]
[]
[]
[]
[]
[]
[]
[]
[]
[]
[]
[]
[]
[]
[]
[]
[]
[]
[]
[]
[]
[]
[]
[]
[]
[]
[]
[]
[]
[]
[]
[]
[]
[]
[]
[]
[]
[]
[]
[]
[]
[]
[]
[]
[]
[]
[]
[]
[]
[]
[]
[]
[]
[]
[]
[]
[]
[]
[]
[]
[]
[]
[]
[]
[]
[]
[]
[]
[]
[]
[]
[]
[]
[]
[]
[]
[]
[]
[]
[]
[]
[]
[]
[]
[]
[]
[]
[]
[]
[]
[]
[]
[]
[]
[]
[]
[]
[]
[]
[]
[]
[]
[]
[]
[]
[]
[]
[]
[]
[]
[]
[]
[]
[]
[]
[]
[]
[]
[]
[]
[]
[]
[]
[]
[]
[]
[]
[]
[]
[]
[]
[]
[]
[]
[]
[]
[]
[]
[]
[]
[]
[]
[]
[]
[]
[]
[]
[]
[]
[]
[]
[]
[]
[]
[]
[]
[]
[]
[]
[]
[]
[]
[]
[]
[]
[]
[]
[]
[]
[]
[]
[]
[]
[]
[]
[]
[]
[]
[]
[]
[]
[]
[]
[]
[]
[]
[]
[]
[]
[]
[]
[]
[]
[]
[]
[]
[]
[]
[]
[]
[]
[]
[]
[]
[]
[]
[]
[]
[]
[]
[]
[]
[]
[]
[]
[]
[]
[]
[]
[]
[]
[]
[]
[]
[]
[]
[]
[]
[]
[]
[]
[]
[]
[]
[]
[]
[]
[]
[]
[]
[]
[]
[]
[]
[]
[]
[]
[]
[]
[]
[]
[]
[]
[]
[]
[]
[]
[]
[]
[]
[]
[]
[]
[]
[]
[]
[]
[]
[]
[]
[]
[]
[]
[]
[]
[]
[]
[]
[]
[]
[]
[]
[]
[]
[]
[]
[]
[]
[]
[]
[]
[]
[]
[]
[]
[]
[]
[]
[]
[]
[]
[]
[]
[]
[]
[]
[]
[]
[]
[]
[]
[]
[]
[]
[]
[]
[]
[]
[]
[]
[]
[]
[]
[]
[]
[]
[]
[]
[]
[]
[]
[]
[]
[]
[]
[]
[]
[]
[]
[]
[]
[]
[]
[]
[]
[]
[]
[]
[]
[]
[]
[]
[]
[]
[]
[]
[]
[]
[]
[]
[]
[]
[]
[]
[]
[]
[]
[]
[]
[]
[]
[]
[]
[]
[]
[]
[]
[]
[]
[]
[]
[]
[]
[]
[]
[]
[]
[]
[]
[]
[]
[]
[]
[]
[]
[]
[]
[]
[]
[]
[]
[]
[]
[]
[]
[]
[]
[]
[]
[]
[]
[]
[]
[]
[]
[]
[]
[]
[]
[]
[]
[]
[]
[]
[]
[]
[]
[]
[]
[]
[]
[]
[]
[]
[]
[]
[]
[]
[]
[]
[]
[]
[]
[]
[]
[]
[]
[]
[]
[]
[]
[]
[]
[]
[]
[]
[]
[]
[]
[]
[]
[]
[]
[]
[]
[]
[]
[]
[]
[]
[]
[]
[]
[]
[]
[]
[]
[]
[]
[]
[]
[]
[]
[]
[]
[]
[]
[]
[]
[]
[]
[]
[]
[]
[]
[]
[]
[]
[]
[]
[]
[]
[]
[]
[]
[]
[]
[]
[]
[]
[]
[]
[]
[]
[]
[]
[]
[]
[]
[]
[]
[]
[]
[]
[]
[]
[]
[]
[]
[]
[]
[]
[]
[]
[]
[]
[]
[]
[]
[]
[]
[]
[]
[]
[]
[]
[]
[]
[]
[]
[]
[]
[]
[]
[]
[]
[]
[]
[]
[]
[]
[]
[]
[]
[]
[]
[]
[]
[]
[]
[]
[]
[]
[]
[]
[]
[]
[]
[]
[]
[]
[]
[]
[]
[]
[]
[]
[]
[]
[]
[]
[]
[]
[]
[]
[]
[]
[]
[]
[]
[]
[]
[]
[]
[]
[]
[]
[]
[]
[]
[]
[]
[]
[]
[]
[]
[]
[]
[]
[]
[]
[]
[]
[]
[]
[]
[]
[]
[]
[]
[]
[]
[]
[]
[]
[]
[]
[]
[]
[]
[]
[]
[]
[]
[]
[]
[]
[]
[]
[]
[]
[]
[]
[]
[]
[]
[]
[]
[]
[]
[]
[]
[]
[]
[]
[]
[]
[]
[]
[]
[]
[]
[]
[]
[]
[]
[]
[]
[]
[]
[]
[]
[]
[]
[]
[]
[]
[]
[]
[]
[]
[]
[]
[]
[]
[]
[]
[]
[]
[]
[]
[]
[]
[]
[]
[]
[]
[]
[]
[]
[]
[]
[]
[]
[]
[]
[]
[]
[]
[]
[]
[]
[]
[]
[]
[]
[]
[]
[]
[]
[]
[]
[]
[]
[]
[]
[]
[]
[]
[]
[]
[]
[]
[]
[]
[]
[]
[]
[]
[]
[]
[]
[]
[]
[]
[]
[]
[]
[]
[]
[]
[]
[]
[]
[]
[]
[]
[]
[]
[]
[]
[]
[]
[]
[]
[]
[]
[]
[]
[]
[]
[]
[]
[]
[]
[]
[]
[]
[]
[]
[]
[]
[]
[]
[]
[]
[]
[]
[]
[]
[]
[]
[]
[]
[]
[]
[]
[]
[]
[]
[]
[]
[]
[]
[]
[]
[]
[]
[]
[]
[]
[]
[]
[]
[]
[]
[]
[]
[]
[]
[]
[]
[]
[]
[]
[]
[]
[]
[]
[]
[]
[]
[]
[]
[]
[]
[]
[]
[]
[]
[]
[]
[]
[]
[]
[]
[]
[]
[]
[]
[]
[]
[]
[]
[]
[]
[]
[]
[]
[]
[]
[]
[]
[]
[]
[]
[]
[]
[]
[]
[]
[]
[]
[]
[]
[]
[]
[]
[]
[]
[]
[]
[]
[]
[]
[]
[]
[]
[]
[]
[]
[]
[]
[]
[]
[]
[]
[]
[]
[]
[]
[]
[]
[]
[]
[]
[]
[]
[]
[]
[]
[]
[]
[]
[]
[]
[]
[]
[]
[]
[]
[]
[]
[]
[]
[]
[]
[]
[]
[]
[]
[]
[]
[]
[]
[]
[]
[]
[]
[]
[]
[]
[]
[]
[]
[]
[]
[]
[]
[]
[]
[]
[]
[]
[]
[]
[]
[]
[]
[]
[]
[]
[]
[]
[]
[]
[]
[]
[]
[]
[]
[]
[]
[]
[]
[]
[]
[]
[]
[]
[]
[]
[]
[]
[]
[]
[]
[]
[]
[]
[]
[]
[]
[]
[]
[]
[]
[]
[]
[]
[]
[]
[]
[]
[]
[]
[]
[]
[]
[]
[]
[]
[]
[]
[]
[]
[]
[]
[]
[]
[]
[]
[]
[]
[]
[]
[]
[]
[]
[]
[]
[]
[]
[]
[]
[]
[]
[]
[]
[]
[]
[]
[]
[]
[]
[]
[]
[]
[]
[]
[]
[]
[]
[]
[]
[]
[]
[]
[]
[]
[]
[]
[]
[]
[]
[]
[]
[]
[]
[]
[]
[]
[]
[]
[]
[]
[]
[]
[]
[]
[]
[]
[]
[]
[]
[]
[]
[]
[]
[]
[]
[]
[]
[]
[]
[]
[]
[]
[]
[]
[]
[]
[]
[]
[]
[]
[]
[]
[]
[]
[]
[]
[]
[]
[]
[]
[]
[]
[]
[]
[]
[]
[]
[]
[]
[]
[]
[]
[]
[]
[]
[]
[]
[]
[]
[]
[]
[]
[]
[]
[]
[]
[]
[]
[]
[]
[]
[]
[]
[]
[]
[]
[]
[]
[]
[]
[]
[]
[]
[]
[]
[]
[]
[]
[]
[]
[]
[]
[]
[]
[]
[]
[]
[]
[]
[]
[]
[]
[]
[]
[]
[]
[]
[]
[]
[]
[]
[]
[]
[]
[]
[]
[]
[]
[]
[]
[]
[]
[]
[]
[]
[]
[]
[]
[]
[]
[]
[]
[]
[]
[]
[]
[]
[]
[]
[]
[]
[]
[]
[]
[]
[]
[]
[]
[]
[]
[]
[]
[]
[]
[]
[]
[]
[]
[]
[]
[]
[]
[]
[]
[]
[]
[]
[]
[]
[]
[]
[]
[]
[]
[]
[]
[]
[]
[]
[]
[]
[]
[]
[]
[]
[]
[]
[]
[]
[]
[]
[]
[]
[]
[]
[]
[]
[]
[]
[]
[]
[]
[]
[]
[]
[]
[]
[]
[]
[]
[]
[]
[]
[]
[]
[]
[]
[]
[]
[]
[]
[]
[]
[]
[]
[]
[]
[]
[]
[]
[]
[]
[]
[]
[]
[]
[]
[]
[]
[]
[]
[]
[]
[]
[]
[]
[]
[]
[]
[]
[]
[]
[]
[]
[]
[]
[]
[]
[]
[]
[]
[]
[]
[]
[]
[]
[]
[]
[]
[]
[]
[]
[]
[]
[]
[]
[]
[]
[]
[]
[]
[]
[]
[]
[]
[]
[]
[]
[]
[]
[]
[]
[]
[]
[]
[]
[]
[]
[]
[]
[]
[]
[]
[]
[]
[]
[]
[]
[]
[]
[]
[]
[]
[]
[]
[]
[]
[]
[]
[]
[]
[]
[]
[]
[]
[]
[]
[]
[]
[]
[]
[]
[]
[]
[]
[]
[]
[]
[]
[]
[]
[]
[]
[]
[]
[]
[]
[]
[]
[]
[]
[]
[]
[]
[]
[]
[]
[]
[]
[]
[]
[]
[]
[]
[]
[]
[]
[]
[]
[]
[]
[]
[]
[]
[]
[]
[]
[]
[]
[]
[]
[]
[]
[]
[]
[]
[]
[]
[]
[]
[]
[]
[]
[]
[]
[]
[]
[]
[]
[]
[]
[]
[]
[]
[]
[]
[]
[]
[]
[]
[]
[]
[]
[]
[]
[]
[]
[]
[]
[]
[]
[]
[]
[]
[]
[]
[]
[]
[]
[]
[]
[]
[]
[]
[]
[]
[]
[]
[]
[]
[]
[]
[]
[]
[]
[]
[]
[]
[]
[]
[]
[]
[]
[]
[]
[]
[]
[]
[]
[]
[]
[]
[]
[]
[]
[]
[]
[]
[]
[]
[]
[]
[]
[]
[]
[]
[]
[]
[]
[]
[]
[]
[]
[]
[]
[]
[]
[]
[]
[]
[]
[]
[]
[]
[]
[]
[]
[]
[]
[]
[]
[]
[]
[]
[]
[]
[]
[]
[]
[]
[]
[]
[]
[]
[]
[]
[]
[]
[]
[]
[]
[]
[]
[]
[]
[]
[]
[]
[]
[]
[]
[]
[]
[]
[]
[]
[]
[]
[]
[]
[]
[]
[]
[]
[]
[]
[]
[]
[]
[]
[]
[]
[]
[]
[]
[]
[]
[]
[]
[]
[]
[]
[]
[]
[]
[]
[]
[]
[]
[]
[]
[]
[]
[]
[]
[]
[]
[]
[]
[]
[]
[]
[]
[]
[]
[]
[]
[]
[]
[]
[]
[]
[]
[]
[]
[]
[]
[]
[]
[]
[]
[]
[]
[]
[]
[]
[]
[]
[]
[]
[]
[]
[]
[]
[]
[]
[]
[]
[]
[]
[]
[]
[]
[]
[]
[]
[]
[]
[]
[]
[]
[]
[]
[]
[]
[]
[]
[]
[]
[]
[]
[]
[]
[]
[]
[]
[]
[]
[]
[]
[]
[]
[]
[]
[]
[]
[]
[]
[]
[]
[]
[]
[]
[]
[]
[]
[]
[]
[]
[]
[]
[]
[]
[]
[]
[]
[]
[]
[]
[]
[]
[]
[]
[]
[]
[]
[]
[]
[]
[]
[]
[]
[]
[]
[]
[]
[]
[]
[]
[]
[]
[]
[]
[]
[]
[]
[]
[]
[]
[]
[]
[]
[]
[]
[]
[]
[]
[]
[]
[]
[]
[]
[]
[]
[]
[]
[]
[]
[]
[]
[]
[]
[]
[]
[]
[]
[]
[]
[]
[]
[]
[]
[]
[]
[]
[]
[]
[]
[]
[]
[]
[]
[]
[]
[]
[]
[]
[]
[]
[]
[]
[]
[]
[]
[]
[]
[]
[]
[]
[]
[]
[]
[]
[]
[]
[]
[]
[]
[]
[]
[]
[]
[]
[]
[]
[]
[]
[]
[]
[]
[]
[]
[]
[]
[]
[]
[]
[]
[]
[]
[]
[]
[]
[]
[]
[]
[]
[]
[]
[]
[]
[]
[]
[]
[]
[]
[]
[]
[]
[]
[]
[]
[]
[]
[]
[]
[]
[]
[]
[]
[]
[]
[]
[]
[]
[]
[]
[]
[]
[]
[]
[]
[]
[]
[]
[]
[]
[]
[]
[]
[]
[]
[]
[]
[]
[]
[]
[]
[]
[]
[]
[]
[]
[]
[]
[]
[]
[]
[]
[]
[]
[]
[]
[]
[]
[]
[]
[]
[]
[]
[]
[]
[]
[]
[]
[]
[]
[]
[]
[]
[]
[]
[]
[]
[]
[]
[]
[]
[]
[]
[]
[]
[]
[]
[]
[]
[]
[]
[]
[]
[]
[]
[]
[]
[]
[]
[]
[]
[]
[]
[]
[]
[]
[]
[]
[]
[]
[]
[]
[]
[]
[]
[]
[]
[]
[]
[]
[]
[]
[]
[]
[]
[]
[]
[]
[]
[]
[]
[]
[]
[]
[]
[]
[]
[]
[]
[]
[]
[]
[]
[]
[]
[]
[]
[]
[]
[]
[]
[]
[]
[]
[]
[]
[]
[]
[]
[]
[]
[]
[]
[]
[]
[]
[]
[]
[]
[]
[]
[]
[]
[]
[]
[]
[]
[]
[]
[]
[]
[]
[]
[]
[]
[]
[]
[]
[]
[]
[]
[]
[]
[]
[]
[]
[]
[]
[]
[]
[]
[]
[]
[]
[]
[]
[]
[]
[]
[]
[]
[]
[]
[]
[]
[]
[]
[]
[]
[]
[]
[]
[]
[]
[]
[]
[]
[]
[]
[]
[]
[]
[]
[]
[]
[]
[]
[]
[]
[]
[]
[]
[]
[]
[]
[]
[]
[]
[]
[]
[]
[]
[]
[]
[]
[]
[]
[]
[]
[]
[]
[]
[]
[]
[]
[]
[]
[]
[]
[]
[]
[]
[]
[]
[]
[]
[]
[]
[]
[]
[]
[]
[]
[]
[]
[]
[]
[]
[]
[]
[]
[]
[]
[]
[]
[]
[]
[]
[]
[]
[]
[]
[]
[]
[]
[]
[]
[]
[]
[]
[]
[]
[]
[]
[]
[]
[]
[]
[]
[]
[]
[]
[]
[]
[]
[]
[]
[]
[]
[]
[]
[]
[]
[]
[]
[]
[]
[]
[]
[]
[]
[]
[]
[]
[]
[]
[]
[]
[]
[]
[]
[]
[]
[]
[]
[]
[]
[]
[]
[]
[]
[]
[]
[]
[]
[]
[]
[]
[]
[]
[]
[]
[]
[]
[]
[]
[]
[]
[]
[]
[]
[]
[]
[]
[]
[]
[]
[]
[]
[]
[]
[]
[]
[]
[]
[]
[]
[]
[]
[]
[]
[]
[]
[]
[]
[]
[]
[]
[]
[]
[]
[]
[]
[]
[]
[]
[]
[]
[]
[]
[]
[]
[]
[]
[]
[]
[]
[]
[]
[]
[]
[]
[]
[]
[]
[]
[]
[]
[]
[]
[]
[]
[]
[]
[]
[]
[]
[]
[]
[]
[]
[]
[]
[]
[]
[]
[]
[]
[]
[]
[]
[]
[]
[]
[]
[]
[]
[]
[]
[]
[]
[]
[]
[]
[]
[]
[]
[]
[]
[]
[]
[]
[]
[]
[]
[]
[]
[]
[]
[]
[]
[]
[]
[]
[]
[]
[]
[]
[]
[]
[]
[]
[]
[]
[]
[]
[]
[]
[]
[]
[]
[]
[]
[]
[]
[]
[]
[]
[]
[]
[]
[]
[]
[]
[]
[]
[]
[]
[]
[]
[]
[]
[]
[]
[]
[]
[]
[]
[]
[]
[]
[]
[]
[]
[]
[]
[]
[]
[]
[]
[]
[]
[]
[]
[]
[]
[]
[]
[]
[]
[]
[]
[]
[]
[]
[]
[]
[]
[]
[]
[]
[]
[]
[]
[]
[]
[]
[]
[]
[]
[]
[]
[]
[]
[]
[]
[]
[]
[]
[]
[]
[]
[]
[]
[]
[]
[]
[]
[]
[]
[]
[]
[]
[]
[]
[]
[]
[]
[]
[]
[]
[]
[]
[]
[]
[]
[]
[]
[]
[]
[]
[]
[]
[]
[]
[]
[]
[]
[]
[]
[]
[]
[]
[]
[]
[]
[]
[]
[]
[]
[]
[]
[]
[]
[]
[]
[]
[]
[]
[]
[]
[]
[]
[]
[]
[]
[]
[]
[]
[]
[]
[]
[]
[]
[]
[]
[]
[]
[]
[]
[]
[]
[]
[]
[]
[]
[]
[]
[]
[]
[]
[]
[]
[]
[]
[]
[]
[]
[]
[]
[]
[]
[]
[]
[]
[]
[]
[]
[]
[]
[]
[]
[]
[]
[]
[]
[]
[]
[]
[]
[]
[]
[]
[]
[]
[]
[]
[]
[]
[]
[]
[]
[]
[]
[]
[]
[]
[]
[]
[]
[]
[]
[]
[]
[]
[]
[]
[]
[]
[]
[]
[]
[]
[]
[]
[]
[]
[]
[]
[]
[]
[]
[]
[]
[]
[]
[]
[]
[]
[]
[]
[]
[]
[]
[]
[]
[]
[]
[]
[]
[]
[]
[]
[]
[]
[]
[]
[]
[]
[]
[]
[]
[]
[]
[]
[]
[]
[]
[]
[]
[]
[]
[]
[]
[]
[]
[]
[]
[]
[]
[]
[]
[]
[]
[]
[]
[]
[]
[]
[]
[]
[]
[]
[]
[]
[]
[]
[]
[]
[]
[]
[]
[]
[]
[]
[]
[]
[]
[]
[]
[]
[]
[]
[]
[]
[]
[]
[]
[]
[]
[]
[]
[]
[]
[]
[]
[]
[]
[]
[]
[]
[]
[]
[]
[]
[]
[]
[]
[]
[]
[]
[]
[]
[]
[]
[]
[]
[]
[]
[]
[]
[]
[]
[]
[]
[]
[]
[]
[]
[]
[]
[]
[]
[]
[]
[]
[]
[]
[]
[]
[]
[]
[]
[]
[]
[]
[]
[]
[]
[]
[]
[]
[]
[]
[]
[]
[]
[]
[]
[]
[]
[]
[]
[]
[]
[]
[]
[]
[]
[]
[]
[]
[]
[]
[]
[]
[]
[]
[]
[]
[]
[]
[]
[]
[]
[]
[]
[]
[]
[]
[]
[]
[]
[]
[]
[]
[]
[]
[]
[]
[]
[]
[]
[]
[]
[]
[]
[]
[]
[]
[]
[]
[]
[]
[]
[]
[]
[]
[]
[]
[]
[]
[]
[]
[]
[]
[]
[]
[]
[]
[]
[]
[]
[]
[]
[]
[]
[]
[]
[]
[]
[]
[]
[]
[]
[]
[]
[]
[]
[]
[]
[]
[]
[]
[]
[]
[]
[]
[]
[]
[]
[]
[]
[]
[]
[]
[]
[]
[]
[]
[]
[]
[]
[]
[]
[]
[]
[]
[]
[]
[]
[]
[]
[]
[]
[]
[]
[]
[]
[]
[]
[]
[]
[]
[]
[]
[]
[]
[]
[]
[]
[]
[]
[]
[]
[]
[]
[]
[]
[]
[]
[]
[]
[]
[]
[]
[]
[]
[]
[]
[]
[]
[]
[]
[]
[]
[]
[]
[]
[]
[]
[]
[]
[]
[]
[]
[]
[]
[]
[]
[]
[]
[]
[]
[]
[]
[]
[]
[]
[]
[]
[]
[]
[]
[]
[]
[]
[]
[]
[]
[]
[]
[]
[]
[]
[]
[]
[]
[]
[]
[]
[]
[]
[]
[]
[]
[]
[]
[]
[]
[]
[]
[]
[]
[]
[]
[]
[]
[]
[]
[]
[]
[]
[]
[]
[]
[]
[]
[]
[]
[]
[]
[]
[]
[]
[]
[]
[]
[]
[]
[]
[]
[]
[]
[]
[]
[]
[]
[]
[]
[]
[]
[]
[]
[]
[]
[]
[]
[]
[]
[]
[]
[]
[]
[]
[]
[]
[]
[]
[]
[]
[]
[]
[]
[]
[]
[]
[]
[]
[]
[]
[]
[]
[]
[]
[]
[]
[]
[]
[]
[]
[]
[]
[]
[]
[]
[]
[]
[]
[]
[]
[]
[]
[]
[]
[]
[]
[]
[]
[]
[]
[]
[]
[]
[]
[]
[]
[]
[]
[]
[]
[]
[]
[]
[]
[]
[]
[]
[]
[]
[]
[]
[]
[]
[]
[]
[]
[]
[]
[]
[]
[]
[]
[]
[]
[]
[]
[]
[]
[]
[]
[]
[]
[]
[]
[]
[]
[]
[]
[]
[]
[]
[]
[]
[]
[]
[]
[]
[]
[]
[]
[]
[]
[]
[]
[]
[]
[]
[]
[]
[]
[]
[]
[]
[]
[]
[]
[]
[]
[]
[]
[]
[]
[]
[]
[]
[]
[]
[]
[]
[]
[]
[]
[]
[]
[]
[]
[]
[]
[]
[]
[]
[]
[]
[]
[]
[]
[]
[]
[]
[]
[]
[]
[]
[]
[]
[]
[]
[]
[]
[]
[]
[]
[]
[]
[]
[]
[]
[]
[]
[]
[]
[]
[]
[]
[]
[]
[]
[]
[]
[]
[]
[]
[]
[]
[]
[]
[]
[]
[]
[]
[]
[]
[]
[]
[]
[]
[]
[]
[]
[]
[]
[]
[]
[]
[]
[]
[]
[]
[]
[]
[]
[]
[]
[]
[]
[]
[]
[]
[]
[]
[]
[]
[]
[]
[]
[]
[]
[]
[]
[]
[]
[]
[]
[]
[]
[]
[]
[]
[]
[]
[]
[]
[]
[]
[]
[]
[]
[]
[]
[]
[]
[]
[]
[]
[]
[]
[]
[]
[]
[]
[]
[]
[]
[]
[]
[]
[]
[]
[]
[]
[]
[]
[]
[]
[]
[]
[]
[]
[]
[]
[]
[]
[]
[]
[]
[]
[]
[]
[]
[]
[]
[]
[]
[]
[]
[]
[]
[]
[]
[]
[]
[]
[]
[]
[]
[]
[]
[]
[]
[]
[]
[]
[]
[]
[]
[]
[]
[]
[]
[]
[]
[]
[]
[]
[]
[]
[]
[]
[]
[]
[]
[]
[]
[]
[]
[]
[]
[]
[]
[]
[]
[]
[]
[]
[]
[]
[]
[]
[]
[]
[]
[]
[]
[]
[]
[]
[]
[]
[]
[]
[]
[]
[]
[]
[]
[]
[]
[]
[]
[]
[]
[]
[]
[]
[]
[]
[]
[]
[]
[]
[]
[]
[]
[]
[]
[]
[]
[]
[]
[]
[]
[]
[]
[]
[]
[]
[]
[]
[]
[]
[]
[]
[]
[]
[]
[]
[]
[]
[]
[]
[]
[]
[]
[]
[]
[]
[]
[]
[]
[]
[]
[]
[]
[]
[]
[]
[]
[]
[]
[]
[]
[]
[]
[]
[]
[]
[]
[]
[]
[]
[]
[]
[]
[]
[]
[]
[]
[]
[]
[]
[]
[]
[]
[]
[]
[]
[]
[]
[]
[]
[]
[]
[]
[]
[]
[]
[]
[]
[]
[]
[]
[]
[]
[]
[]
[]
[]
[]
[]
[]
[]
[]
[]
[]
[]
[]
[]
[]
[]
[]
[]
[]
[]
[]
[]
[]
[]
[]
[]
[]
[]
[]
[]
[]
[]
[]
[]
[]
[]
[]
[]
[]
[]
[]
[]
[]
[]
[]
[]
[]
[]
[]
[]
[]
[]
[]
[]
[]
[]
[]
[]
[]
[]
[]
[]
[]
[]
[]
[]
[]
[]
[]
[]
[]
[]
[]
[]
[]
[]
[]
[]
[]
[]
[]
[]
[]
[]
[]
[]
[]
[]
[]
[]
[]
[]
[]
[]
[]
[]
[]
[]
[]
[]
[]
[]
[]
[]
[]
[]
[]
[]
[]
[]
[]
[]
[]
[]
[]
[]
[]
[]
[]
[]
[]
[]
[]
[]
[]
[]
[]
[]
[]
[]
[]
[]
[]
[]
[]
[]
[]
[]
[]
[]
[]
[]
[]
[]
[]
[]
[]
[]
[]
[]
[]
[]
[]
[]
[]
[]
[]
[]
[]
[]
[]
[]
[]
[]
[]
[]
[]
[]
[]
[]
[]
[]
[]
[]
[]
[]
[]
[]
[]
[]
[]
[]
[]
[]
[]
[]
[]
[]
[]
[]
[]
[]
[]
[]
[]
[]
[]
[]
[]
[]
[]
[]
[]
[]
[]
[]
[]
[]
[]
[]
[]
[]
[]
[]
[]
[]
[]
[]
[]
[]
[]
[]
[]
[]
[]
[]
[]
[]
[]
[]
[]
[]
[]
[]
[]
[]
[]
[]
[]
[]
[]
[]
[]
[]
[]
[]
[]
[]
[]
[]
[]
[]
[]
[]
[]
[]
[]
[]
[]
[]
[]
[]
[]
[]
[]
[]
[]
[]
[]
[]
[]
[]
[]
[]
[]
[]
[]
[]
[]
[]
[]
[]
[]
[]
[]
[]
[]
[]
[]
[]
[]
[]
[]
[]
[]
[]
[]
[]
[]
[]
[]
[]
[]
[]
[]
[]
[]
[]
[]
[]
[]
[]
[]
[]
[]
[]
[]
[]
[]
[]
[]
[]
[]
[]
[]
[]
[]
[]
[]
[]
[]
[]
[]
[]
[]
[]
[]
[]
[]
[]
[]
[]
[]
[]
[]
[]
[]
[]
[]
[]
[]
[]
[]
[]
[]
[]
[]
[]
[]
[]
[]
[]
[]
[]
[]
[]
[]
[]
[]
[]
[]
[]
[]
[]
[]
[]
[]
[]
[]
[]
[]
[]
[]
[]
[]
[]
[]
[]
[]
[]
[]
[]
[]
[]
[]
[]
[]
[]
[]
[]
[]
[]
[]
[]
[]
[]
[]
[]
[]
[]
[]
[]
[]
[]
[]
[]
[]
[]
[]
[]
[]
[]
[]
[]
[]
[]
[]
[]
[]
[]
[]
[]
[]
[]
[]
[]
[]
[]
[]
[]
[]
[]
[]
[]
[]
[]
[]
[]
[]
[]
[]
[]
[]
[]
[]
[]
[]
[]
[]
[]
[]
[]
[]
[]
[]
[]
[]
[]
[]
[]
[]
[]
[]
[]
[]
[]
[]
[]
[]
[]
[]
[]
[]
[]
[]
[]
[]
[]
[]
[]
[]
[]
[]
[]
[]
[]
[]
[]
[]
[]
[]
[]
[]
[]
[]
[]
[]
[]
[]
[]
[]
[]
[]
[]
[]
[]
[]
[]
[]
[]
[]
[]
[]
[]
[]
[]
[]
[]
[]
[]
[]
[]
[]
[]
[]
[]
[]
[]
[]
[]
[]
[]
[]
[]
[]
[]
[]
[]
[]
[]
[]
[]
[]
[]
[]
[]
[]
[]
[]
[]
[]
[]
[]
[]
[]
[]
[]
[]
[]
[]
[]
[]
[]
[]
[]
[]
[]
[]
[]
[]
[]
[]
[]
[]
[]
[]
[]
[]
[]
[]
[]
[]
[]
[]
[]
[]
[]
[]
[]
[]
[]
[]
[]
[]
[]
[]
[]
[]
[]
[]
[]
[]
[]
[]
[]
[]
[]
[]
[]
[]
[]
[]
[]
[]
[]
[]
[]
[]
[]
[]
[]
[]
[]
[]
[]
[]
[]
[]
[]
[]
[]
[]
[]
[]
[]
[]
[]
[]
[]
[]
[]
[]
[]
[]
[]
[]
[]
[]
[]
[]
[]
[]
[]
[]
[]
[]
[]
[]
[]
[]
[]
[]
[]
[]
[]
[]
[]
[]
[]
[]
[]
[]
[]
[]
[]
[]
[]
[]
[]
[]
[]
[]
[]
[]
[]
[]
[]
[]
[]
[]
[]
[]
[]
[]
[]
[]
[]
[]
[]
[]
[]
[]
[]
[]
[]
[]
[]
[]
[]
[]
[]
[]
[]
[]
[]
[]
[]
[]
[]
[]
[]
[]
[]
[]
[]
[]
[]
[]
[]
[]
[]
[]
[]
[]
[]
[]
[]
[]
[]
[]
[]
[]
[]
[]
[]
[]
[]
[]
[]
[]
[]
[]
[]
[]
[]
[]
[]
[]
[]
[]
[]
[]
[]
[]
[]
[]
[]
[]
[]
[]
[]
[]
[]
[]
[]
[]
[]
[]
[]
[]
[]
[]
[]
[]
[]
[]
[]
[]
[]
[]
[]
[]
[]
[]
[]
[]
[]
[]
[]
[]
[]
[]
[]
[]
[]
[]
[]
[]
[]
[]
[]
[]
[]
[]
[]
[]
[]
[]
[]
[]
[]
[]
[]
[]
[]
[]
[]
[]
[]
[]
[]
[]
[]
[]
[]
[]
[]
[]
[]
[]
[]
[]
[]
[]
[]
[]
[]
[]
[]
[]
[]
[]
[]
[]
[]
[]
[]
[]
[]
[]
[]
[]
[]
[]
[]
[]
[]
[]
[]
[]
[]
[]
[]
[]
[]
[]
[]
[]
[]
[]
[]
[]
[]
[]
[]
[]
[]
[]
[]
[]
[]
[]
[]
[]
[]
[]
[]
[]
[]
[]
[]
[]
[]
[]
[]
[]
[]
[]
[]
[]
[]
[]
[]
[]
[]
[]
[]
[]
[]
[]
[]
[]
[]
[]
[]
[]
[]
[]
[]
[]
[]
[]
[]
[]
[]
[]
[]
[]
[]
[]
[]
[]
[]
[]
[]
[]
[]
[]
[]
[]
[]
[]
[]
[]
[]
[]
[]
[]
[]
[]
[]
[]
[]
[]
[]
[]
[]
[]
[]
[]
[]
[]
[]
[]
[]
[]
[]
[]
[]
[]
[]
[]
[]
[]
[]
[]
[]
[]
[]
[]
[]
[]
[]
[]
[]
[]
[]
[]
[]
[]
[]
[]
[]
[]
[]
[]
[]
[]
[]
[]
[]
[]
[]
[]
[]
[]
[]
[]
[]
[]
[]
[]
[]
[]
[]
[]
[]
[]
[]
[]
[]
[]
[]
[]
[]
[]
[]
[]
[]
[]
[]
[]
[]
[]
[]
[]
[]
[]
[]
[]
[]
[]
[]
[]
[]
[]
[]
[]
[]
[]
[]
[]
[]
[]
[]
[]
[]
[]
[]
[]
[]
[]
[]
[]
[]
[]
[]
[]
[]
[]
[]
[]
[]
[]
[]
[]
[]
[]
[]
[]
[]
[]
[]
[]
[]
[]
[]
[]
[]
[]
[]
[]
[]
[]
[]
[]
[]
[]
[]
[]
[]
[]
[]
[]
[]
[]
[]
[]
[]
[]
[]
[]
[]
[]
[]
[]
[]
[]
[]
[]
[]
[]
[]
[]
[]
[]
[]
[]
[]
[]
[]
[]
[]
[]
[]
[]
[]
[]
[]
[]
[]
[]
[]
[]
[]
[]
[]
[]
[]
[]
[]
[]
[]
[]
[]
[]
[]
[]
[]
[]
[]
[]
[]
[]
[]
[]
[]
[]
[]
[]
[]
[]
[]
[]
[]
[]
[]
[]
[]
[]
[]
[]
[]
[]
[]
[]
[]
[]
[]
[]
[]
[]
[]
[]
[]
[]
[]
[]
[]
[]
[]
[]
[]
[]
[]
[]
[]
[]
[]
[]
[]
[]
[]
[]
[]
[]
[]
[]
[]
[]
[]
[]
[]
[]
[]
[]
[]
[]
[]
[]
[]
[]
[]
[]
[]
[]
[]
[]
[]
[]
[]
[]
[]
[]
[]
[]
[]
[]
[]
[]
[]
[]
[]
[]
[]
[]
[]
[]
[]
[]
[]
[]
[]
[]
[]
[]
[]
[]
[]
[]
[]
[]
[]
[]
[]
[]
[]
[]
[]
[]
[]
[]
[]
[]
[]
[]
[]
[]
[]
[]
[]
[]
[]
[]
[]
[]
[]
[]
[]
[]
[]
[]
[]
[]
[]
[]
[]
[]
[]
[]
[]
[]
[]
[]
[]
[]
[]
[]
[]
[]
[]
[]
[]
[]
[]
[]
[]
[]
[]
[]
[]
[]
[]
[]
[]
[]
[]
[]
[]
[]
[]
[]
[]
[]
[]
[]
[]
[]
[]
[]
[]
[]
[]
[]
[]
[]
[]
[]
[]
[]
[]
[]
[]
[]
[]
[]
[]
[]
[]
[]
[]
[]
[]
[]
[]
[]
[]
[]
[]
[]
[]
[]
[]
[]
[]
[]
[]
[]
[]
[]
[]
[]
[]
[]
[]
[]
[]
[]
[]
[]
[]
[]
[]
[]
[]
[]
[]
[]
[]
[]
[]
[]
[]
[]
[]
[]
[]
[]
[]
[]
[]
[]
[]
[]
[]
[]
[]
[]
[]
[]
[]
[]
[]
[]
[]
[]
[]
[]
[]
[]
[]
[]
[]
[]
[]
[]
[]
[]
[]
[]
[]
[]
[]
[]
[]
[]
[]
[]
[]
[]
[]
[]
[]
[]
[]
[]
[]
[]
[]
[]
[]
[]
[]
[]
[]
[]
[]
[]
[]
[]
[]
[]
[]
[]
[]
[]
[]
[]
[]
[]
[]
[]
[]
[]
[]
[]
[]
[]
[]
[]
[]
[]
[]
[]
[]
[]
[]
[]
[]
[]
[]
[]
[]
[]
[]
[]
[]
[]
[]
[]
[]
[]
[]
[]
[]
[]
[]
[]
[]
[]
[]
[]
[]
[]
[]
[]
[]
[]
[]
[]
[]
[]
[]
[]
[]
[]
[]
[]
[]
[]
[]
[]
[]
[]
[]
[]
[]
[]
[]
[]
[]
[]
[]
[]
[]
[]
[]
[]
[]
[]
[]
[]
[]
[]
[]
[]
[]
[]
[]
[]
[]
[]
[]
[]
[]
[]
[]
[]
[]
[]
[]
[]
[]
[]
[]
[]
[]
[]
[]
[]
[]
[]
[]
[]
[]
[]
[]
[]
[]
[]
[]
[]
[]
[]
[]
[]
[]
[]
[]
[]
[]
[]
[]
[]
[]
[]
[]
[]
[]
[]
[]
[]
[]
[]
[]
[]
[]
[]
[]
[]
[]
[]
[]
[]
[]
[]
[]
[]
[]
[]
[]
[]
[]
[]
[]
[]
[]
[]
[]
[]
[]
[]
[]
[]
[]
[]
[]
[]
[]
[]
[]
[]
[]
[]
[]
[]
[]
[]
[]
[]
[]
[]
[]
[]
[]
[]
[]
[]
[]
[]
[]
[]
[]
[]
[]
[]
[]
[]
[]
[]
[]
[]
[]
[]
[]
[]
[]
[]
[]
[]
[]
[]
[]
[]
[]
[]
[]
[]
[]
[]
[]
[]
[]
[]
[]
[]
[]
[]
[]
[]
[]
[]
[]
[]
[]
[]
[]
[]
[]
[]
[]
[]
[]
[]
[]
[]
[]
[]
[]
[]
[]
[]
[]
[]
[]
[]
[]
[]
[]
[]
[]
[]
[]
[]
[]
[]
[]
[]
[]
[]
[]
[]
[]
[]
[]
[]
[]
[]
[]
[]
[]
[]
[]
[]
[]
[]
[]
[]
[]
[]
[]
[]
[]
[]
[]
[]
[]
[]
[]
[]
[]
[]
[]
[]
[]
[]
[]
[]
[]
[]
[]
[]
[]
[]
[]
[]
[]
[]
[]
[]
[]
[]
[]
[]
[]
[]
[]
[]
[]
[]
[]
[]
[]
[]
[]
[]
[]
[]
[]
[]
[]
[]
[]
[]
[]
[]
[]
[]
[]
[]
[]
[]
[]
[]
[]
[]
[]
[]
[]
[]
[]
[]
[]
[]
[]
[]
[]
[]
[]
[]
[]
[]
[]
[]
[]
[]
[]
[]
[]
[]
[]
[]
[]
[]
[]
[]
[]
[]
[]
[]
[]
[]
[]
[]
[]
[]
[]
[]
[]
[]
[]
[]
[]
[]
[]
[]
[]
[]
[]
[]
[]
[]
[]
[]
[]
[]
[]
[]
[]
[]
[]
[]
[]
[]
[]
[]
[]
[]
[]
[]
[]
[]
[]
[]
[]
[]
[]
[]
[]
[]
[]
[]
[]
[]
[]
[]
[]
[]
[]
[]
[]
[]
[]
[]
[]
[]
[]
[]
[]
[]
[]
[]
[]
[]
[]
[]
[]
[]
[]
[]
[]
[]
[]
[]
[]
[]
[]
[]
[]
[]
[]
[]
[]
[]
[]
[]
[]
[]
[]
[]
[]
[]
[]
[]
[]
[]
[]
[]
[]
[]
[]
[]
[]
[]
[]
[]
[]
[]
[]
[]
[]
[]
[]
[]
[]
[]
[]
[]
[]
[]
[]
[]
[]
[]
[]
[]
[]
[]
[]
[]
[]
[]
[]
[]
[]
[]
[]
[]
[]
[]
[]
[]
[]
[]
[]
[]
[]
[]
[]
[]
[]
[]
[]
[]
[]
[]
[]
[]
[]
[]
[]
[]
[]
[]
[]
[]
[]
[]
[]
[]
[]
[]
[]
[]
[]
[]
[]
[]
[]
[]
[]
[]
[]
[]
[]
[]
[]
[]
[]
[]
[]
[]
[]
[]
[]
[]
[]
[]
[]
[]
[]
[]
[]
[]
[]
[]
[]
[]
[]
[]
[]
[]
[]
[]
[]
[]
[]
[]
[]
[]
[]
[]
[]
[]
[]
[]
[]
[]
[]
[]
[]
[]
[]
[]
[]
[]
[]
[]
[]
[]
[]
[]
[]
[]
[]
[]
[]
[]
[]
[]
[]
[]
[]
[]
[]
[]
[]
[]
[]
[]
[]
[]
[]
[]
[]
[]
[]
[]
[]
[]
[]
[]
[]
[]
[]
[]
[]
[]
[]
[]
[]
[]
[]
[]
[]
[]
[]
[]
[]
[]
[]
[]
[]
[]
[]
[]
[]
[]
[]
[]
[]
[]
[]
[]
[]
[]
[]
[]
[]
[]
[]
[]
[]
[]
[]
[]
[]
[]
[]
[]
[]
[]
[]
[]
[]
[]
[]
[]
[]
[]
[]
[]
[]
[]
[]
[]
[]
[]
[]
[]
[]
[]
[]
[]
[]
[]
[]
[]
[]
[]
[]
[]
[]
[]
[]
[]
[]
[]
[]
[]
[]
[]
[]
[]
[]
[]
[]
[]
[]
[]
[]
[]
[]
[]
[]
[]
[]
[]
[]
[]
[]
[]
[]
[]
[]
[]
[]
[]
[]
[]
[]
[]
[]
[]
[]
[]
[]
[]
[]
[]
[]
[]
[]
[]
[]
[]
[]
[]
[]
[]
[]
[]
[]
[]
[]
[]
[]
[]
[]
[]
[]
[]
[]
[]
[]
[]
[]
[]
[]
[]
[]
[]
[]
[]
[]
[]
[]
[]
[]
[]
[]
[]
[]
[]
[]
[]
[]
[]
[]
[]
[]
[]
[]
[]
[]
[]
[]
[]
[]
[]
[]
[]
[]
[]
[]
[]
[]
[]
[]
[]
[]
[]
[]
[]
[]
[]
[]
[]
[]
[]
[]
[]
[]
[]
[]
[]
[]
[]
[]
[]
[]
[]
[]
[]
[]
[]
[]
[]
[]
[]
[]
[]
[]
[]
[]
[]
[]
[]
[]
[]
[]
[]
[]
[]
[]
[]
[]
[]
[]
[]
[]
[]
[]
[]
[]
[]
[]
[]
[]
[]
[]
[]
[]
[]
[]
[]
[]
[]
[]
[]
[]
[]
[]
[]
[]
[]
[]
[]
[]
[]
[]
[]
[]
[]
[]
[]
[]
[]
[]
[]
[]
[]
[]
[]
[]
[]
[]
[]
[]
[]
[]
[]
[]
[]
[]
[]
[]
[]
[]
[]
[]
[]
[]
[]
[]
[]
[]
[]
[]
[]
[]
[]
[]
[]
[]
[]
[]
[]
[]
[]
[]
[]
[]
[]
[]
[]
[]
[]
[]
[]
[]
[]
[]
[]
[]
[]
[]
[]
[]
[]
[]
[]
[]
[]
[]
[]
[]
[]
[]
[]
[]
[]
[]
[]
[]
[]
[]
[]
[]
[]
[]
[]
[]
[]
[]
[]
[]
[]
[]
[]
[]
[]
[]
[]
[]
[]
[]
[]
[]
[]
[]
[]
[]
[]
[]
[]
[]
[]
[]
[]
[]
[]
[]
[]
[]
[]
[]
[]
[]
[]
[]
[]
[]
[]
[]
[]
[]
[]
[]
[]
[]
[]
[]
[]
[]
[]
[]
[]
[]
[]
[]
[]
[]
[]
[]
[]
[]
[]
[]
[]
[]
[]
[]
[]
[]
[]
[]
[]
[]
[]
[]
[]
[]
[]
[]
[]
[]
[]
[]
[]
[]
[]
[]
[]
[]
[]
[]
[]
[]
[]
[]
[]
[]
[]
[]
[]
[]
[]
[]
[]
[]
[]
[]
[]
[]
[]
[]
[]
[]
[]
[]
[]
[]
[]
[]
[]
[]
[]
[]
[]
[]
[]
[]
[]
[]
[]
[]
[]
[]
[]
[]
[]
[]
[]
[]
[]
[]
[]
[]
[]
[]
[]
[]
[]
[]
[]
[]
[]
[]
[]
[]
[]
[]
[]
[]
[]
[]
[]
[]
[]
[]
[]
[]
[]
[]
[]
[]
[]
[]
[]
[]
[]
[]
[]
[]
[]
[]
[]
[]
[]
[]
[]
[]
[]
[]
[]
[]
[]
[]
[]
[]
[]
[]
[]
[]
[]
[]
[]
[]
[]
[]
[]
[]
[]
[]
[]
[]
[]
[]
[]
[]
[]
[]
[]
[]
[]
[]
[]
[]
[]
[]
[]
[]
[]
[]
[]
[]
[]
[]
[]
[]
[]
[]
[]
[]
[]
[]
[]
[]
[]
[]
[]
[]
[]
[]
[]
[]
[]
[]
[]
[]
[]
[]
[]
[]
[]
[]
[]
[]
[]
[]
[]
[]
[]
[]
[]
[]
[]
[]
[]
[]
[]
[]
[]
[]
[]
[]
[]
[]
[]
[]
[]
[]
[]
[]
[]
[]
[]
[]
[]
[]
[]
[]
[]
[]
[]
[]
[]
[]
[]
[]
[]
[]
[]
[]
[]
[]
[]
[]
[]
[]
[]
[]
[]
[]
[]
[]
[]
[]
[]
[]
[]
[]
[]
[]
[]
[]
[]
[]
[]
[]
[]
[]
[]
[]
[]
[]
[]
[]
[]
[]
[]
[]
[]
[]
[]
[]
[]
[]
[]
[]
[]
[]
[]
[]
[]
[]
[]
[]
[]
[]
[]
[]
[]
[]
[]
[]
[]
[]
[]
[]
[]
[]
[]
[]
[]
[]
[]
[]
[]
[]
[]
[]
[]
[]
[]
[]
[]
[]
[]
[]
[]
[]
[]
[]
[]
[]
[]
[]
[]
[]
[]
[]
[]
[]
[]
[]
[]
[]
[]
[]
[]
[]
[]
[]
[]
[]
[]
[]
[]
[]
[]
[]
[]
[]
[]
[]
[]
[]
[]
[]
[]
[]
[]
[]
[]
[]
[]
[]
[]
[]
[]
[]
[]
[]
[]
[]
[]
[]
[]
[]
[]
[]
[]
[]
[]
[]
[]
[]
[]
[]
[]
[]
[]
[]
[]
[]
[]
[]
[]
[]
[]
[]
[]
[]
[]
[]
[]
[]
[]
[]
[]
[]
[]
[]
[]
[]
[]
[]
[]
[]
[]
[]
[]
[]
[]
[]
[]
[]
[]
[]
[]
[]
[]
[]
[]
[]
[]
[]
[]
[]
[]
[]
[]
[]
[]
[]
[]
[]
[]
[]
[]
[]
[]
[]
[]
[]
[]
[]
[]
[]
[]
[]
[]
[]
[]
[]
[]
[]
[]
[]
[]
[]
[]
[]
[]
[]
[]
[]
[]
[]
[]
[]
[]
[]
[]
[]
[]
[]
[]
[]
[]
[]
[]
[]
[]
[]
[]
[]
[]
[]
[]
[]
[]
[]
[]
[]
[]
[]
[]
[]
[]
[]
[]
[]
[]
[]
[]
[]
[]
[]
[]
[]
[]
[]
[]
[]
[]
[]
[]
[]
[]
[]
[]
[]
[]
[]
[]
[]
[]
[]
[]
[]
[]
[]
[]
[]
[]
[]
[]
[]
[]
[]
[]
[]
[]
[]
[]
[]
[]
[]
[]
[]
[]
[]
[]
[]
[]
[]
[]
[]
[]
[]
[]
[]
[]
[]
[]
[]
[]
[]
[]
[]
[]
[]
[]
[]
[]
[]
[]
[]
[]
[]
[]
[]
[]
[]
[]
[]
[]
[]
[]
[]
[]
[]
[]
[]
[]
[]
[]
[]
[]
[]
[]
[]
[]
[]
[]
[]
[]
[]
[]
[]
[]
[]
[]
[]
[]
[]
[]
[]
[]
[]
[]
[]
[]
[]
[]
[]
[]
[]
[]
[]
[]
[]
[]
[]
[]
[]
[]
[]
[]
[]
[]
[]
[]
[]
[]
[]
[]
[]
[]
[]
[]
[]
[]
[]
[]
[]
[]
[]
[]
[]
[]
[]
[]
[]
[]
[]
[]
[]
[]
[]
[]
[]
[]
[]
[]
[]
[]
[]
[]
[]
[]
[]
[]
[]
[]
[]
[]
[]
[]
[]
[]
[]
[]
[]
[]
[]
[]
[]
[]
[]
[]
[]
[]
[]
[]
[]
[]
[]
[]
[]
[]
[]
[]
[]
[]
[]
[]
[]
[]
[]
[]
[]
[]
[]
[]
[]
[]
[]
[]
[]
[]
[]
[]
[]
[]
[]
[]
[]
[]
[]
[]
[]
[]
[]
[]
[]
[]
[]
[]
[]
[]
[]
[]
[]
[]
[]
[]
[]
[]
[]
[]
[]
[]
[]
[]
[]
[]
[]
[]
[]
[]
[]
[]
[]
[]
[]
[]
[]
[]
[]
[]
[]
[]
[]
[]
[]
[]
[]
[]
[]
[]
[]
[]
[]
[]
[]
[]
[]
[]
[]
[]
[]
[]
[]
[]
[]
[]
[]
[]
[]
[]
[]
[]
[]
[]
[]
[]
[]
[]
[]
[]
[]
[]
[]
[]
[]
[]
[]
[]
[]
[]
[]
[]
[]
[]
[]
[]
[]
[]
[]
[]
[]
[]
[]
[]
[]
[]
[]
[]
[]
[]
[]
[]
[]
[]
[]
[]
[]
[]
[]
[]
[]
[]
[]
[null,null,null,null,null,null,null,null,null,null,null,null,null,null,null,null,null,null,null,null,null,null,null,null,null,null,null,null,null,null,null,null,null,null,null,null,null,null,null,null,null,null,null,null,"                 i"]

{"sheet":"Krolf slagseddel ","index":6,"n_rows":971,"n_cols":24,"rows_kept":971,"cut":false,"hidden":false,"merged":[[137,20,137,21],[82,20,82,21],[83,20,83,21],[1,20,1,21],[2,20,2,21],[28,20,28,21],[29,20,29,21],[55,20,55,21],[56,20,56,21],[109,20,109,21],[110,20,110,21],[136,20,136,21],[298,20,298,21],[299,20,299,21],[163,20,163,21],[164,20,164,21],[190,20,190,21],[191,20,191,21],[217,20,217,21],[218,20,218,21],[244,20,244,21],[245,20,245,21],[271,20,271,21],[272,20,272,21],[487,20,487,21],[488,20,488,21],[514,20,514,21],[515,20,515,21],[460,20,460,21],[461,20,461,21],[325,20,325,21],[326,20,326,21],[352,20,352,21],[353,20,353,21],[379,20,379,21],[380,20,380,21],[406,20,406,21],[407,20,407,21],[433,20,433,21],[434,20,434,21],[541,20,541,21],[730,20,730,21],[731,20,731,21],[568,20,568,21],[569,20,569,21],[595,20,595,21],[596,20,596,21],[649,20,649,21],[650,20,650,21],[676,20,676,21],[677,20,677,21],[703,20,703,21],[704,20,704,21],[622,20,622,21],[623,20,623,21],[542,20,542,21],[946,20,946,21],[947,20,947,21],[811,20,811,21],[812,20,812,21],[838,20,838,21],[839,20,839,21],[865,20,865,21],[866,20,866,21],[919,20,919,21],[920,20,920,21],[893,20,893,21],[757,20,757,21],[758,20,758,21],[784,20,784,21],[785,20,785,21],[892,20,892,21]]}
[]
[null,null,null,null,null,null,null,{"$f":"IF('Holdsammensætning  '!$B$3=\"\",\"\",'Holdsammensætning  '!$B$3)","v":"BK Greve"},null,null,null,null,null,null,null,null,null,null,null,null,null,null,null,"Start hul nr."]
[null,null,null,null,null,null,null,{"$f":"IF('Holdsammensætning  '!$B$4=\"\",\"\",'Holdsammensætning  '!$B$4)","v":""},null,null,null,null,null,null,null,null,null,null,null,null,null,null,{"$f":"IF('Holdsammensætning  '!$J$5=\"\",\"\",'Holdsammensætning  '!$J$5)","v":""},{"$f":"'Indtast Hold og Resultat'!D5","v":1}]
[null,"Navn",{"$f":"'Indtast Hold og Resultat'!C7","v":"Conny Schackinger"},null,null,null,null,null,null,{"$f":"'Indtast Hold og Resultat'!C8","v":"Jim Jørgensen"},null,null,null,null,null,null,{"$f":"'Indtast Hold og Resultat'!C9","v":"Erik Wagner"},null,null,{"$f":"'Indtast Hold og Resultat'!C10","v":"Niels Aare Jensen"},null,null,null,"  Antal "]
[null,"Klub",{"$f":"'Indtast Hold og Resultat'!D7","v":"BK"},null,null,null,null,null,null,{"$f":"'Indtast Hold og Resultat'!D8","v":"Krolffolket"},null,null,null,null,null,null,{"$f":"'Indtast Hold og Resultat'!D9","v":"Krolffolket"},null,null,{"$f":"'Indtast Hold og Resultat'!D10","v":"Meløse"},null,null,null,"Spillere"]
[null,"Kugle ",{"$f":"IF('Indtast Hold og Resultat'!B7=\"\",\"\",VLOOKUP('Indtast Hold og Resultat'!B7,Deltagere!$B$4:$E$1003,4,FALSE))","v":"Blå"},null,null,null,null,null,null,{"$f":"IF('Indtast Hold og Resultat'!B8=\"\",\"\",VLOOKUP('Indtast Hold og Resultat'!B8,Deltagere!$B$4:$E$1003,4,FALSE))","v":"Gul"},null,null,null,null,null,null,{"$f":"IF('Indtast Hold og Resultat'!B9=\"\",\"\",VLOOKUP('Indtast Hold og Resultat'!B9,Deltagere!$B$4:$E$1003,4,FALSE))","v":"Gul"},null,null,{"$f":"IF('Indtast Hold og Resultat'!B10=\"\",\"\",VLOOKUP('Indtast Hold og Resultat'!B10,Deltagere!$B$4:$E$1003,4,FALSE))","v":"Blå"},null,null,null,{"$f":"COUNT('Indtast Hold og Resultat'!B7:B10)","v":4}]
[null,{"$f":"IF(X3=\"\",\"\",IF(X3<=18,X3,\"\"))","v":1},{"$f":"IF(X6=2,\"X\",IF(X6=3,\"X\",IF(X6=4,\"X\",\"\")))","v":"X"}]
[null,{"$f":"IF(B7<18,B7+1,IF(B7=18,1,\"\"))","v":2},null,null,null,null,null,null,null,{"$f":"IF(X6=2,\"X\",IF(X6=3,\"X\",IF(X6=4,\"X\",\"\")))","v":"X"}]
[null,3,{"$f":"IF(X6=2,\"X\",\"\")","v":""},null,null,null,null,null,null,null,null,null,null,null,null,null,{"$f":"IF(X6=3,\"X\",IF(X6=4,\"X\",\"\"))","v":"X"}]
[null,4,{"$f":"IF(X6=3,\"X\",\"\")","v":""},null,null,null,null,null,null,{"$f":"IF(X6=2,\"X\",\"\")","v":""},null,null,null,null,null,null,null,null,null,{"$f":"IF(X6=4,\"X\",\"\")","v":"X"}]
[null,5,{"$f":"IF(X6=2,\"X\",IF(X6=4,\"X\",\"\"))","v":"X"},null,null,null,null,null,null,{"$f":"IF(X6=3,\"X\",\"\")","v":""}]
[null,6,null,null,null,null,null,null,null,{"$f":"IF(X6=2,\"X\",IF(X6=4,\"X\",\"\"))","v":"X"},null,null,null,null,null,null,{"$f":"IF(X6=3,\"X\",\"\")","v":""}]
[null,7,{"$f":"IF(X6=2,\"X\",IF(X6=3,\"X\",\"\"))","v":""},null,null,null,null,null,null,null,null,null,null,null,null,null,{"$f":"IF(X6=4,\"X\",\"\")","v":"X"}]
[null,8,null,null,null,null,null,null,null,{"$f":"IF(X6=2,\"X\",IF(X6=3,\"X\",\"\"))","v":""},null,null,null,null,null,null,null,null,null,{"$f":"IF(X6=4,\"X\",\"\")","v":"X"}]
[null,9,{"$f":"IF(X6=2,\"X\",IF(X6=4,\"X\",\"\"))","v":"X"},null,null,null,null,null,null,null,null,null,null,null,null,null,{"$f":"IF(X6=3,\"X\",\"\")","v":""}]
[null,10,{"$f":"IF(X6=3,\"X\",\"\")","v":""},null,null,null,null,null,null,{"$f":"IF(X6=2,\"X\",IF(X6=4,\"X\",\"\"))","v":"X"}]
[null,11,{"$f":"IF(X6=2,\"X\",\"\")","v":""},null,null,null,null,null,null,{"$f":"IF(X6=3,\"X\",\"\")","v":""},null,null,null,null,null,null,{"$f":"IF(X6=4,\"X\",\"\")","v":"X"}]
[null,12,null,null,null,null,null,null,null,{"$f":"IF(X6=2,\"X\",\"\")","v":""},null,null,null,null,null,null,{"$f":"IF(X6=3,\"X\",\"\")","v":""},null,null,{"$f":"IF(X6=4,\"X\",\"\")","v":"X"}]
[null,13,{"$f":"IF(X6=2,\"X\",IF(X6=3,\"X\",IF(X6=4,\"X\",\"\")))","v":"X"}]
[null,14,null,null,null,null,null,null,null,{"$f":"IF(X6=2,\"X\",IF(X6=3,\"X\",IF(X6=4,\"X\",\"\")))","v":"X"}]
[null,15,{"$f":"IF(X6=2,\"X\",\"\")","v":""},null,null,null,null,null,null,null,null,null,null,null,null,null,{"$f":"IF(X6=3,\"X\",IF(X6=4,\"X\",\"\"))","v":"X"},null,null,null,null,null,null,"Kontrol af "]
[null,16,{"$f":"IF(X6=3,\"X\",\"\")","v":""},null,null,null,null,null,null,{"$f":"IF(X6=2,\"X\",\"\")","v":""},null,null,null,null,null,null,null,null,null,{"$f":"IF(X6=4,\"X\",\"\")","v":"X"},null,null,null,"sammen-"]
[null,17,{"$f":"IF(X6=2,\"X\",IF(X6=4,\"X\",\"\"))","v":"X"},null,null,null,null,null,null,{"$f":"IF(X6=3,\"X\",\"\")","v":""},null,null,null,null,null,null,null,null,null,null,null,null,null,"tælling."]
[null,18,null,null,null,null,null,null,null,{"$f":"IF(X6=2,\"X\",IF(X6=4,\"X\",\"\"))","v":"X"},null,null,null,null,null,null,{"$f":"IF(X6=3,\"X\",\"\")","v":""}]
[null,"Total"]
[null,"Dommer :",null,{"$f":"C4","v":"Conny Schackinger"},null,null,null,null,null,{"$f":"IF(D26=\"\",\"\",VLOOKUP(D26,Deltagere!$C$4:$I$1003,2,FALSE))","v":"BK"},null,null,null,null,null,"Dato:",null,{"$f":"IF('Holdsammensætning  '!$J$4=\"\",\"\",'Holdsammensætning  '!$J$4)","v":"2023-08-15"},null,{"$f":"'Indtast Hold og Resultat'!B5","v":"Hold 1"},null," Runde :",null,1]
[]
[]
[null,null,null,null,null,null,null,{"$f":"IF('Holdsammensætning  '!$B$3=\"\",\"\",'Holdsammensætning  '!$B$3)","v":"BK Greve"},null,null,null,null,null,null,null,null,null,null,null,null,null,null,null,"Start hul nr."]
[null,null,null,null,null,null,null,{"$f":"IF('Holdsammensætning  '!$B$4=\"\",\"\",'Holdsammensætning  '!$B$4)","v":""},null,null,null,null,null,null,null,null,null,null,null,null,null,null,{"$f":"IF('Holdsammensætning  '!$J$5=\"\",\"\",'Holdsammensætning  '!$J$5)","v":""},{"$f":"'Indtast Hold og Resultat'!D12","v":2}]
[null,"Navn",{"$f":"'Indtast Hold og Resultat'!C14","v":"Svend Faigh"},null,null,null,null,null,null,{"$f":"'Indtast Hold og Resultat'!C15","v":"Alice Rask"},null,null,null,null,null,null,{"$f":"'Indtast Hold og Resultat'!C16","v":"Lisser Kristensen"},null,null,{"$f":"'Indtast Hold og Resultat'!C17","v":"Mogens Bodilsen"},null,null,null,"  Antal "]
[null,"Klub",{"$f":"'Indtast Hold og Resultat'!D14","v":"BK"},null,null,null,null,null,null,{"$f":"'Indtast Hold og Resultat'!D15","v":"Krolffolket"},null,null,null,null,null,null,{"$f":"'Indtast Hold og Resultat'!D16","v":"Krolffolket"},null,null,{"$f":"'Indtast Hold og Resultat'!D17","v":"Meløse"},null,null,null,"Spillere"]
[null,"Kugle ",{"$f":"IF('Indtast Hold og Resultat'!B14=\"\",\"\",VLOOKUP('Indtast Hold og Resultat'!B14,Deltagere!$B$4:$E$1003,4,FALSE))","v":"Farve"},null,null,null,null,null,null,{"$f":"IF('Indtast Hold og Resultat'!B15=\"\",\"\",VLOOKUP('Indtast Hold og Resultat'!B15,Deltagere!$B$4:$E$1003,4,FALSE))","v":"Grøn"},null,null,null,null,null,null,{"$f":"IF('Indtast Hold og Resultat'!B16=\"\",\"\",VLOOKUP('Indtast Hold og Resultat'!B16,Deltagere!$B$4:$E$1003,4,FALSE))","v":"Rød"},null,null,{"$f":"IF('Indtast Hold og Resultat'!B17=\"\",\"\",VLOOKUP('Indtast Hold og Resultat'!B17,Deltagere!$B$4:$E$1003,4,FALSE))","v":"Blå"},null,null,null,{"$f":"COUNT('Indtast Hold og Resultat'!B14:B17)","v":4}]
[null,{"$f":"IF(X30=\"\",\"\",IF(X30<=18,X30,\"\"))","v":2},{"$f":"IF(X33=2,\"X\",IF(X33=3,\"X\",IF(X33=4,\"X\",\"\")))","v":"X"}]
[null,{"$f":"IF(B34<18,B34+1,IF(B34=18,1,\"\"))","v":3},null,null,null,null,null,null,null,{"$f":"IF(X33=2,\"X\",IF(X33=3,\"X\",IF(X33=4,\"X\",\"\")))","v":"X"}]
[null,4,{"$f":"IF(X33=2,\"X\",\"\")","v":""},null,null,null,null,null,null,null,null,null,null,null,null,null,{"$f":"IF(X33=3,\"X\",IF(X33=4,\"X\",\"\"))","v":"X"}]
[null,5,{"$f":"IF(X33=3,\"X\",\"\")","v":""},null,null,null,null,null,null,{"$f":"IF(X33=2,\"X\",\"\")","v":""},null,null,null,null,null,null,null,null,null,{"$f":"IF(X33=4,\"X\",\"\")","v":"X"}]
[null,6,{"$f":"IF(X33=2,\"X\",IF(X33=4,\"X\",\"\"))","v":"X"},null,null,null,null,null,null,{"$f":"IF(X33=3,\"X\",\"\")","v":""}]
[null,7,null,null,null,null,null,null,null,{"$f":"IF(X33=2,\"X\",IF(X33=4,\"X\",\"\"))","v":"X"},null,null,null,null,null,null,{"$f":"IF(X33=3,\"X\",\"\")","v":""}]
[null,8,{"$f":"IF(X33=2,\"X\",IF(X33=3,\"X\",\"\"))","v":""},null,null,null,null,null,null,null,null,null,null,null,null,null,{"$f":"IF(X33=4,\"X\",\"\")","v":"X"}]
[null,9,null,null,null,null,null,null,null,{"$f":"IF(X33=2,\"X\",IF(X33=3,\"X\",\"\"))","v":""},null,null,null,null,null,null,null,null,null,{"$f":"IF(X33=4,\"X\",\"\")","v":"X"}]
[null,10,{"$f":"IF(X33=2,\"X\",IF(X33=4,\"X\",\"\"))","v":"X"},null,null,null,null,null,null,null,null,null,null,null,null,null,{"$f":"IF(X33=3,\"X\",\"\")","v":""}]
[null,11,{"$f":"IF(X33=3,\"X\",\"\")","v":""},null,null,null,null,null,null,{"$f":"IF(X33=2,\"X\",IF(X33=4,\"X\",\"\"))","v":"X"}]
[null,12,{"$f":"IF(X33=2,\"X\",\"\")","v":""},null,null,null,null,null,null,{"$f":"IF(X33=3,\"X\",\"\")","v":""},null,null,null,null,null,null,{"$f":"IF(X33=4,\"X\",\"\")","v":"X"}]
[null,13,null,null,null,null,null,null,null,{"$f":"IF(X33=2,\"X\",\"\")","v":""},null,null,null,null,null,null,{"$f":"IF(X33=3,\"X\",\"\")","v":""},null,null,{"$f":"IF(X33=4,\"X\",\"\")","v":"X"}]
[null,14,{"$f":"IF(X33=2,\"X\",IF(X33=3,\"X\",IF(X33=4,\"X\",\"\")))","v":"X"}]
[null,15,null,null,null,null,null,null,null,{"$f":"IF(X33=2,\"X\",IF(X33=3,\"X\",IF(X33=4,\"X\",\"\")))","v":"X"}]
[null,16,{"$f":"IF(X33=2,\"X\",\"\")","v":""},null,null,null,null,null,null,null,null,null,null,null,null,null,{"$f":"IF(X33=3,\"X\",IF(X33=4,\"X\",\"\"))","v":"X"},null,null,null,null,null,null,"Kontrol af "]
[null,17,{"$f":"IF(X33=3,\"X\",\"\")","v":""},null,null,null,null,null,null,{"$f":"IF(X33=2,\"X\",\"\")","v":""},null,null,null,null,null,null,null,null,null,{"$f":"IF(X33=4,\"X\",\"\")","v":"X"},null,null,null,"sammen-"]
[null,18,{"$f":"IF(X33=2,\"X\",IF(X33=4,\"X\",\"\"))","v":"X"},null,null,null,null,null,null,{"$f":"IF(X33=3,\"X\",\"\")","v":""},null,null,null,null,null,null,null,null,null,null,null,null,null,"tælling."]
[null,1,null,null,null,null,null,null,null,{"$f":"IF(X33=2,\"X\",IF(X33=4,\"X\",\"\"))","v":"X"},null,null,null,null,null,null,{"$f":"IF(X33=3,\"X\",\"\")","v":""}]
[null,"Total"]
[null,"Dommer :",null,{"$f":"C31","v":"Svend Faigh"},null,null,null,null,null,{"$f":"IF(D53=\"\",\"\",VLOOKUP(D53,Deltagere!$C$4:$I$1003,2,FALSE))","v":"BK"},null,null,null,null,null,"Dato:",null,{"$f":"IF('Holdsammensætning  '!$J$4=\"\",\"\",'Holdsammensætning  '!$J$4)","v":"2023-08-15"},null,{"$f":"'Indtast Hold og Resultat'!B12","v":"Hold 2"},null," Runde :",null,1]
[]
[]
[null,null,null,null,null,null,null,{"$f":"IF('Holdsammensætning  '!$B$3=\"\",\"\",'Holdsammensætning  '!$B$3)","v":"BK Greve"},null,null,null,null,null,null,null,null,null,null,null,null,null,null,null,"Start hul nr."]
[null,null,null,null,null,null,null,{"$f":"IF('Holdsammensætning  '!$B$4=\"\",\"\",'Holdsammensætning  '!$B$4)","v":""},null,null,null,null,null,null,null,null,null,null,null,null,null,null,{"$f":"IF('Holdsammensætning  '!$J$5=\"\",\"\",'Holdsammensætning  '!$J$5)","v":""},{"$f":"'Indtast Hold og Resultat'!D19","v":3}]
[null,"Navn",{"$f":"'Indtast Hold og Resultat'!C21","v":"Annie Damsgaard"},null,null,null,null,null,null,{"$f":"'Indtast Hold og Resultat'!C22","v":"Bjørn Krogh"},null,null,null,null,null,null,{"$f":"'Indtast Hold og Resultat'!C23","v":"Steen Lergard"},null,null,{"$f":"'Indtast Hold og Resultat'!C24","v":"Anna Grethe Christensen"},null,null,null,"  Antal "]
[null,"Klub",{"$f":"'Indtast Hold og Resultat'!D21","v":"BK"},null,null,null,null,null,null,{"$f":"'Indtast Hold og Resultat'!D22","v":"Krolffolket"},null,null,null,null,null,null,{"$f":"'Indtast Hold og Resultat'!D23","v":"Krolffolket"},null,null,{"$f":"'Indtast Hold og Resultat'!D24","v":"Meløse"},null,null,null,"Spillere"]
[null,"Kugle ",{"$f":"IF('Indtast Hold og Resultat'!B21=\"\",\"\",VLOOKUP('Indtast Hold og Resultat'!B21,Deltagere!$B$4:$E$1003,4,FALSE))","v":"Turkis"},null,null,null,null,null,null,{"$f":"IF('Indtast Hold og Resultat'!B22=\"\",\"\",VLOOKUP('Indtast Hold og Resultat'!B22,Deltagere!$B$4:$E$1003,4,FALSE))","v":0},null,null,null,null,null,null,{"$f":"IF('Indtast Hold og Resultat'!B23=\"\",\"\",VLOOKUP('Indtast Hold og Resultat'!B23,Deltagere!$B$4:$E$1003,4,FALSE))","v":"Farve"},null,null,{"$f":"IF('Indtast Hold og Resultat'!B24=\"\",\"\",VLOOKUP('Indtast Hold og Resultat'!B24,Deltagere!$B$4:$E$1003,4,FALSE))","v":"Lyserød"},null,null,null,{"$f":"COUNT('Indtast Hold og Resultat'!B21:B24)","v":4}]
[null,{"$f":"IF(X57=\"\",\"\",IF(X57<=18,X57,\"\"))","v":3},{"$f":"IF(X60=2,\"X\",IF(X60=3,\"X\",IF(X60=4,\"X\",\"\")))","v":"X"}]
[null,{"$f":"IF(B61<18,B61+1,IF(B61=18,1,\"\"))","v":4},null,null,null,null,null,null,null,{"$f":"IF(X60=2,\"X\",IF(X60=3,\"X\",IF(X60=4,\"X\",\"\")))","v":"X"}]
[null,5,{"$f":"IF(X60=2,\"X\",\"\")","v":""},null,null,null,null,null,null,null,null,null,null,null,null,null,{"$f":"IF(X60=3,\"X\",IF(X60=4,\"X\",\"\"))","v":"X"}]
[null,6,{"$f":"IF(X60=3,\"X\",\"\")","v":""},null,null,null,null,null,null,{"$f":"IF(X60=2,\"X\",\"\")","v":""},null,null,null,null,null,null,null,null,null,{"$f":"IF(X60=4,\"X\",\"\")","v":"X"}]
[null,7,{"$f":"IF(X60=2,\"X\",IF(X60=4,\"X\",\"\"))","v":"X"},null,null,null,null,null,null,{"$f":"IF(X60=3,\"X\",\"\")","v":""}]
[null,8,null,null,null,null,null,null,null,{"$f":"IF(X60=2,\"X\",IF(X60=4,\"X\",\"\"))","v":"X"},null,null,null,null,null,null,{"$f":"IF(X60=3,\"X\",\"\")","v":""}]
[null,9,{"$f":"IF(X60=2,\"X\",IF(X60=3,\"X\",\"\"))","v":""},null,null,null,null,null,null,null,null,null,null,null,null,null,{"$f":"IF(X60=4,\"X\",\"\")","v":"X"}]
[null,10,null,null,null,null,null,null,null,{"$f":"IF(X60=2,\"X\",IF(X60=3,\"X\",\"\"))","v":""},null,null,null,null,null,null,null,null,null,{"$f":"IF(X60=4,\"X\",\"\")","v":"X"}]
[null,11,{"$f":"IF(X60=2,\"X\",IF(X60=4,\"X\",\"\"))","v":"X"},null,null,null,null,null,null,null,null,null,null,null,null,null,{"$f":"IF(X60=3,\"X\",\"\")","v":""}]
[null,12,{"$f":"IF(X60=3,\"X\",\"\")","v":""},null,null,null,null,null,null,{"$f":"IF(X60=2,\"X\",IF(X60=4,\"X\",\"\"))","v":"X"}]
[null,13,{"$f":"IF(X60=2,\"X\",\"\")","v":""},null,null,null,null,null,null,{"$f":"IF(X60=3,\"X\",\"\")","v":""},null,null,null,null,null,null,{"$f":"IF(X60=4,\"X\",\"\")","v":"X"}]
[null,14,null,null,null,null,null,null,null,{"$f":"IF(X60=2,\"X\",\"\")","v":""},null,null,null,null,null,null,{"$f":"IF(X60=3,\"X\",\"\")","v":""},null,null,{"$f":"IF(X60=4,\"X\",\"\")","v":"X"}]
[null,15,{"$f":"IF(X60=2,\"X\",IF(X60=3,\"X\",IF(X60=4,\"X\",\"\")))","v":"X"}]
[null,16,null,null,null,null,null,null,null,{"$f":"IF(X60=2,\"X\",IF(X60=3,\"X\",IF(X60=4,\"X\",\"\")))","v":"X"}]
[null,17,{"$f":"IF(X60=2,\"X\",\"\")","v":""},null,null,null,null,null,null,null,null,null,null,null,null,null,{"$f":"IF(X60=3,\"X\",IF(X60=4,\"X\",\"\"))","v":"X"},null,null,null,null,null,null,"Kontrol af "]
[null,18,{"$f":"IF(X60=3,\"X\",\"\")","v":""},null,null,null,null,null,null,{"$f":"IF(X60=2,\"X\",\"\")","v":""},null,null,null,null,null,null,null,null,null,{"$f":"IF(X60=4,\"X\",\"\")","v":"X"},null,null,null,"sammen-"]
[null,1,{"$f":"IF(X60=2,\"X\",IF(X60=4,\"X\",\"\"))","v":"X"},null,null,null,null,null,null,{"$f":"IF(X60=3,\"X\",\"\")","v":""},null,null,null,null,null,null,null,null,null,null,null,null,null,"tælling."]
[null,2,null,null,null,null,null,null,null,{"$f":"IF(X60=2,\"X\",IF(X60=4,\"X\",\"\"))","v":"X"},null,null,null,null,null,null,{"$f":"IF(X60=3,\"X\",\"\")","v":""}]
[null,"Total"]
[null,"Dommer :",null,{"$f":"C58","v":"Annie Damsgaard"},null,null,null,null,null,{"$f":"IF(D80=\"\",\"\",VLOOKUP(D80,Deltagere!$C$4:$I$1003,2,FALSE))","v":"BK"},null,null,null,null,null,"Dato:",null,{"$f":"IF('Holdsammensætning  '!$J$4=\"\",\"\",'Holdsammensætning  '!$J$4)","v":"2023-08-15"},null,{"$f":"'Indtast Hold og Resultat'!B19","v":"Hold 3"},null," Runde :",null,1]
[]
[]
[null,null,null,null,null,null,null,{"$f":"IF('Holdsammensætning  '!$B$3=\"\",\"\",'Holdsammensætning  '!$B$3)","v":"BK Greve"},null,null,null,null,null,null,null,null,null,null,null,null,null,null,null,"Start hul nr."]
[null,null,null,null,null,null,null,{"$f":"IF('Holdsammensætning  '!$B$4=\"\",\"\",'Holdsammensætning  '!$B$4)","v":""},null,null,null,null,null,null,null,null,null,null,null,null,null,null,{"$f":"IF('Holdsammensætning  '!$J$5=\"\",\"\",'Holdsammensætning  '!$J$5)","v":""},{"$f":"'Indtast Hold og Resultat'!D26","v":4}]
[null,"Navn",{"$f":"'Indtast Hold og Resultat'!C28","v":"Preben Madsen"},null,null,null,null,null,null,{"$f":"'Indtast Hold og Resultat'!C29","v":"Allan Larsen"},null,null,null,null,null,null,{"$f":"'Indtast Hold og Resultat'!C30","v":"Søren Skourup"},null,null,{"$f":"'Indtast Hold og Resultat'!C31","v":"Jørgen Hvilsom"},null,null,null,"  Antal "]
[null,"Klub",{"$f":"'Indtast Hold og Resultat'!D28","v":"BK"},null,null,null,null,null,null,{"$f":"'Indtast Hold og Resultat'!D29","v":"Krolffolket"},null,null,null,null,null,null,{"$f":"'Indtast Hold og Resultat'!D30","v":"IF Vikingerne"},null,null,{"$f":"'Indtast Hold og Resultat'!D31","v":"Meløse"},null,null,null,"Spillere"]
[null,"Kugle ",{"$f":"IF('Indtast Hold og Resultat'!B28=\"\",\"\",VLOOKUP('Indtast Hold og Resultat'!B28,Deltagere!$B$4:$E$1003,4,FALSE))","v":"Farve"},null,null,null,null,null,null,{"$f":"IF('Indtast Hold og Resultat'!B29=\"\",\"\",VLOOKUP('Indtast Hold og Resultat'!B29,Deltagere!$B$4:$E$1003,4,FALSE))","v":"Orange"},null,null,null,null,null,null,{"$f":"IF('Indtast Hold og Resultat'!B30=\"\",\"\",VLOOKUP('Indtast Hold og Resultat'!B30,Deltagere!$B$4:$E$1003,4,FALSE))","v":"Farve"},null,null,{"$f":"IF('Indtast Hold og Resultat'!B31=\"\",\"\",VLOOKUP('Indtast Hold og Resultat'!B31,Deltagere!$B$4:$E$1003,4,FALSE))","v":"Orange"},null,null,null,{"$f":"COUNT('Indtast Hold og Resultat'!B27:B31)","v":4}]
[null,{"$f":"IF(X84=\"\",\"\",IF(X84<=18,X84,\"\"))","v":4},{"$f":"IF(X87=2,\"X\",IF(X87=3,\"X\",IF(X87=4,\"X\",\"\")))","v":"X"}]
[null,{"$f":"IF(B88<18,B88+1,IF(B88=18,1,\"\"))","v":5},null,null,null,null,null,null,null,{"$f":"IF(X87=2,\"X\",IF(X87=3,\"X\",IF(X87=4,\"X\",\"\")))","v":"X"}]
[null,6,{"$f":"IF(X87=2,\"X\",\"\")","v":""},null,null,null,null,null,null,null,null,null,null,null,null,null,{"$f":"IF(X87=3,\"X\",IF(X87=4,\"X\",\"\"))","v":"X"}]
[null,7,{"$f":"IF(X87=3,\"X\",\"\")","v":""},null,null,null,null,null,null,{"$f":"IF(X87=2,\"X\",\"\")","v":""},null,null,null,null,null,null,null,null,null,{"$f":"IF(X87=4,\"X\",\"\")","v":"X"}]
[null,8,{"$f":"IF(X87=2,\"X\",IF(X87=4,\"X\",\"\"))","v":"X"},null,null,null,null,null,null,{"$f":"IF(X87=3,\"X\",\"\")","v":""}]
[null,9,null,null,null,null,null,null,null,{"$f":"IF(X87=2,\"X\",IF(X87=4,\"X\",\"\"))","v":"X"},null,null,null,null,null,null,{"$f":"IF(X87=3,\"X\",\"\")","v":""}]
[null,10,{"$f":"IF(X87=2,\"X\",IF(X87=3,\"X\",\"\"))","v":""},null,null,null,null,null,null,null,null,null,null,null,null,null,{"$f":"IF(X87=4,\"X\",\"\")","v":"X"}]
[null,11,null,null,null,null,null,null,null,{"$f":"IF(X87=2,\"X\",IF(X87=3,\"X\",\"\"))","v":""},null,null,null,null,null,null,null,null,null,{"$f":"IF(X87=4,\"X\",\"\")","v":"X"}]
[null,12,{"$f":"IF(X87=2,\"X\",IF(X87=4,\"X\",\"\"))","v":"X"},null,null,null,null,null,null,null,null,null,null,null,null,null,{"$f":"IF(X87=3,\"X\",\"\")","v":""}]
[null,13,{"$f":"IF(X87=3,\"X\",\"\")","v":""},null,null,null,null,null,null,{"$f":"IF(X87=2,\"X\",IF(X87=4,\"X\",\"\"))","v":"X"}]
[null,14,{"$f":"IF(X87=2,\"X\",\"\")","v":""},null,null,null,null,null,null,{"$f":"IF(X87=3,\"X\",\"\")","v":""},null,null,null,null,null,null,{"$f":"IF(X87=4,\"X\",\"\")","v":"X"}]
[null,15,null,null,null,null,null,null,null,{"$f":"IF(X87=2,\"X\",\"\")","v":""},null,null,null,null,null,null,{"$f":"IF(X87=3,\"X\",\"\")","v":""},null,null,{"$f":"IF(X87=4,\"X\",\"\")","v":"X"}]
[null,16,{"$f":"IF(X87=2,\"X\",IF(X87=3,\"X\",IF(X87=4,\"X\",\"\")))","v":"X"}]
[null,17,null,null,null,null,null,null,null,{"$f":"IF(X87=2,\"X\",IF(X87=3,\"X\",IF(X87=4,\"X\",\"\")))","v":"X"}]
[null,18,{"$f":"IF(X87=2,\"X\",\"\")","v":""},null,null,null,null,null,null,null,null,null,null,null,null,null,{"$f":"IF(X87=3,\"X\",IF(X87=4,\"X\",\"\"))","v":"X"},null,null,null,null,null,null,"Kontrol af "]
[null,1,{"$f":"IF(X87=3,\"X\",\"\")","v":""},null,null,null,null,null,null,{"$f":"IF(X87=2,\"X\",\"\")","v":""},null,null,null,null,null,null,null,null,null,{"$f":"IF(X87=4,\"X\",\"\")","v":"X"},null,null,null,"sammen-"]
[null,2,{"$f":"IF(X87=2,\"X\",IF(X87=4,\"X\",\"\"))","v":"X"},null,null,null,null,null,null,{"$f":"IF(X87=3,\"X\",\"\")","v":""},null,null,null,null,null,null,null,null,null,null,null,null,null,"tælling."]
[null,3,null,null,null,null,null,null,null,{"$f":"IF(X87=2,\"X\",IF(X87=4,\"X\",\"\"))","v":"X"},null,null,null,null,null,null,{"$f":"IF(X87=3,\"X\",\"\")","v":""}]
[null,"Total"]
[null,"Dommer :",null,{"$f":"C85","v":"Preben Madsen"},null,null,null,null,null,{"$f":"IF(D107=\"\",\"\",VLOOKUP(D107,Deltagere!$C$4:$I$1003,2,FALSE))","v":"BK"},null,null,null,null,null,"Dato:",null,{"$f":"IF('Holdsammensætning  '!$J$4=\"\",\"\",'Holdsammensætning  '!$J$4)","v":"2023-08-15"},null,{"$f":"'Indtast Hold og Resultat'!B26","v":"Hold 4"},null," Runde :",null,1]
[]
[]
[null,null,null,null,null,null,null,{"$f":"IF('Holdsammensætning  '!$B$3=\"\",\"\",'Holdsammensætning  '!$B$3)","v":"BK Greve"},null,null,null,null,null,null,null,null,null,null,null,null,null,null,null,"Start hul nr."]
[null,null,null,null,null,null,null,{"$f":"IF('Holdsammensætning  '!$B$4=\"\",\"\",'Holdsammensætning  '!$B$4)","v":""},null,null,null,null,null,null,null,null,null,null,null,null,null,null,{"$f":"IF('Holdsammensætning  '!$J$5=\"\",\"\",'Holdsammensætning  '!$J$5)","v":""},{"$f":"'Indtast Hold og Resultat'!D33","v":5}]
[null,"Navn",{"$f":"'Indtast Hold og Resultat'!C35","v":"Annette Lykke Madsen"},null,null,null,null,null,null,{"$f":"'Indtast Hold og Resultat'!C36","v":"Inge Sørensen"},null,null,null,null,null,null,{"$f":"'Indtast Hold og Resultat'!C37","v":"Liselotte Storgaard"},null,null,{"$f":"'Indtast Hold og Resultat'!C38","v":"Villy Jensen"},null,null,null,"  Antal "]
[null,"Klub",{"$f":"'Indtast Hold og Resultat'!D35","v":"BK"},null,null,null,null,null,null,{"$f":"'Indtast Hold og Resultat'!D36","v":"Krolffolket"},null,null,null,null,null,null,{"$f":"'Indtast Hold og Resultat'!D37","v":"Krolffolket"},null,null,{"$f":"'Indtast Hold og Resultat'!D38","v":"Meløse"},null,null,null,"Spillere"]
[null,"Kugle ",{"$f":"IF('Indtast Hold og Resultat'!B35=\"\",\"\",VLOOKUP('Indtast Hold og Resultat'!B35,Deltagere!$B$4:$E$1003,4,FALSE))","v":"Farve"},null,null,null,null,null,null,{"$f":"IF('Indtast Hold og Resultat'!B36=\"\",\"\",VLOOKUP('Indtast Hold og Resultat'!B36,Deltagere!$B$4:$E$1003,4,FALSE))","v":"Gul"},null,null,null,null,null,null,{"$f":"IF('Indtast Hold og Resultat'!B37=\"\",\"\",VLOOKUP('Indtast Hold og Resultat'!B37,Deltagere!$B$4:$E$1003,4,FALSE))","v":"Orange"},null,null,{"$f":"IF('Indtast Hold og Resultat'!B38=\"\",\"\",VLOOKUP('Indtast Hold og Resultat'!B38,Deltagere!$B$4:$E$1003,4,FALSE))","v":"Rød"},null,null,null,{"$f":"COUNT('Indtast Hold og Resultat'!B35:B38)","v":4}]
[null,{"$f":"IF(X111=\"\",\"\",IF(X111<=18,X111,\"\"))","v":5},{"$f":"IF(X114=2,\"X\",IF(X114=3,\"X\",IF(X114=4,\"X\",\"\")))","v":"X"}]
[null,{"$f":"IF(B115<18,B115+1,IF(B115=18,1,\"\"))","v":6},null,null,null,null,null,null,null,{"$f":"IF(X114=2,\"X\",IF(X114=3,\"X\",IF(X114=4,\"X\",\"\")))","v":"X"}]
[null,7,{"$f":"IF(X114=2,\"X\",\"\")","v":""},null,null,null,null,null,null,null,null,null,null,null,null,null,{"$f":"IF(X114=3,\"X\",IF(X114=4,\"X\",\"\"))","v":"X"}]
[null,8,{"$f":"IF(X114=3,\"X\",\"\")","v":""},null,null,null,null,null,null,{"$f":"IF(X114=2,\"X\",\"\")","v":""},null,null,null,null,null,null,null,null,null,{"$f":"IF(X114=4,\"X\",\"\")","v":"X"}]
[null,9,{"$f":"IF(X114=2,\"X\",IF(X114=4,\"X\",\"\"))","v":"X"},null,null,null,null,null,null,{"$f":"IF(X114=3,\"X\",\"\")","v":""}]
[null,10,null,null,null,null,null,null,null,{"$f":"IF(X114=2,\"X\",IF(X114=4,\"X\",\"\"))","v":"X"},null,null,null,null,null,null,{"$f":"IF(X114=3,\"X\",\"\")","v":""}]
[null,11,{"$f":"IF(X114=2,\"X\",IF(X114=3,\"X\",\"\"))","v":""},null,null,null,null,null,null,null,null,null,null,null,null,null,{"$f":"IF(X114=4,\"X\",\"\")","v":"X"}]
[null,12,null,null,null,null,null,null,null,{"$f":"IF(X114=2,\"X\",IF(X114=3,\"X\",\"\"))","v":""},null,null,null,null,null,null,null,null,null,{"$f":"IF(X114=4,\"X\",\"\")","v":"X"}]
[null,13,{"$f":"IF(X114=2,\"X\",IF(X114=4,\"X\",\"\"))","v":"X"},null,null,null,null,null,null,null,null,null,null,null,null,null,{"$f":"IF(X114=3,\"X\",\"\")","v":""}]
[null,14,{"$f":"IF(X114=3,\"X\",\"\")","v":""},null,null,null,null,null,null,{"$f":"IF(X114=2,\"X\",IF(X114=4,\"X\",\"\"))","v":"X"}]
[null,15,{"$f":"IF(X114=2,\"X\",\"\")","v":""},null,null,null,null,null,null,{"$f":"IF(X114=3,\"X\",\"\")","v":""},null,null,null,null,null,null,{"$f":"IF(X114=4,\"X\",\"\")","v":"X"}]
[null,16,null,null,null,null,null,null,null,{"$f":"IF(X114=2,\"X\",\"\")","v":""},null,null,null,null,null,null,{"$f":"IF(X114=3,\"X\",\"\")","v":""},null,null,{"$f":"IF(X114=4,\"X\",\"\")","v":"X"}]
[null,17,{"$f":"IF(X114=2,\"X\",IF(X114=3,\"X\",IF(X114=4,\"X\",\"\")))","v":"X"}]
[null,18,null,null,null,null,null,null,null,{"$f":"IF(X114=2,\"X\",IF(X114=3,\"X\",IF(X114=4,\"X\",\"\")))","v":"X"}]
[null,1,{"$f":"IF(X114=2,\"X\",\"\")","v":""},null,null,null,null,null,null,null,null,null,null,null,null,null,{"$f":"IF(X114=3,\"X\",IF(X114=4,\"X\",\"\"))","v":"X"},null,null,null,null,null,null,"Kontrol af "]
[null,2,{"$f":"IF(X114=3,\"X\",\"\")","v":""},null,null,null,null,null,null,{"$f":"IF(X114=2,\"X\",\"\")","v":""},null,null,null,null,null,null,null,null,null,{"$f":"IF(X114=4,\"X\",\"\")","v":"X"},null,null,null,"sammen-"]
[null,3,{"$f":"IF(X114=2,\"X\",IF(X114=4,\"X\",\"\"))","v":"X"},null,null,null,null,null,null,{"$f":"IF(X114=3,\"X\",\"\")","v":""},null,null,null,null,null,null,null,null,null,null,null,null,null,"tælling."]
[null,4,null,null,null,null,null,null,null,{"$f":"IF(X114=2,\"X\",IF(X114=4,\"X\",\"\"))","v":"X"},null,null,null,null,null,null,{"$f":"IF(X114=3,\"X\",\"\")","v":""}]
[null,"Total"]
[null,"Dommer :",null,{"$f":"C112","v":"Annette Lykke Madsen"},null,null,null,null,null,{"$f":"IF(D134=\"\",\"\",VLOOKUP(D134,Deltagere!$C$4:$I$1003,2,FALSE))","v":"BK"},null,null,null,null,null,"Dato:",null,{"$f":"IF('Holdsammensætning  '!$J$4=\"\",\"\",'Holdsammensætning  '!$J$4)","v":"2023-08-15"},null,{"$f":"'Indtast Hold og Resultat'!B33","v":"Hold 5"},null," Runde :",null,1]
[]
[]
[null,null,null,null,null,null,null,{"$f":"IF('Holdsammensætning  '!$B$3=\"\",\"\",'Holdsammensætning  '!$B$3)","v":"BK Greve"},null,null,null,null,null,null,null,null,null,null,null,null,null,null,null,"Start hul nr."]
[null,null,null,null,null,null,null,{"$f":"IF('Holdsammensætning  '!$B$4=\"\",\"\",'Holdsammensætning  '!$B$4)","v":""},null,null,null,null,null,null,null,null,null,null,null,null,null,null,{"$f":"IF('Holdsammensætning  '!$J$5=\"\",\"\",'Holdsammensætning  '!$J$5)","v":""},{"$f":"'Indtast Hold og Resultat'!D40","v":6}]
[null,"Navn",{"$f":"'Indtast Hold og Resultat'!C42","v":"Mogens Kortegaard"},null,null,null,null,null,null,{"$f":"'Indtast Hold og Resultat'!C43","v":"Christian Blid"},null,null,null,null,null,null,{"$f":"'Indtast Hold og Resultat'!C44","v":"Preben Ludore"},null,null,{"$f":"'Indtast Hold og Resultat'!C45","v":"Petra Knudsen"},null,null,null,"  Antal "]
[null,"Klub",{"$f":"'Indtast Hold og Resultat'!D42","v":"BK"},null,null,null,null,null,null,{"$f":"'Indtast Hold og Resultat'!D43","v":"Krolffolket"},null,null,null,null,null,null,{"$f":"'Indtast Hold og Resultat'!D44","v":"Meløse"},null,null,{"$f":"'Indtast Hold og Resultat'!D45","v":"Meløse"},null,null,null,"Spillere"]
[null,"Kugle ",{"$f":"IF('Indtast Hold og Resultat'!B42=\"\",\"\",VLOOKUP('Indtast Hold og Resultat'!B42,Deltagere!$B$4:$E$1003,4,FALSE))","v":"Farve"},null,null,null,null,null,null,{"$f":"IF('Indtast Hold og Resultat'!B43=\"\",\"\",VLOOKUP('Indtast Hold og Resultat'!B43,Deltagere!$B$4:$E$1003,4,FALSE))","v":"Lys Blå"},null,null,null,null,null,null,{"$f":"IF('Indtast Hold og Resultat'!B44=\"\",\"\",VLOOKUP('Indtast Hold og Resultat'!B44,Deltagere!$B$4:$E$1003,4,FALSE))","v":"Farve"},null,null,{"$f":"IF('Indtast Hold og Resultat'!B45=\"\",\"\",VLOOKUP('Indtast Hold og Resultat'!B45,Deltagere!$B$4:$E$1003,4,FALSE))","v":"Lilla"},null,null,null,{"$f":"COUNT('Indtast Hold og Resultat'!B42:B45)","v":4}]
[null,{"$f":"IF(X138=\"\",\"\",IF(X138<=18,X138,\"\"))","v":6},{"$f":"IF(X141=2,\"X\",IF(X141=3,\"X\",IF(X141=4,\"X\",\"\")))","v":"X"}]
[null,{"$f":"IF(B142<18,B142+1,IF(B142=18,1,\"\"))","v":7},null,null,null,null,null,null,null,{"$f":"IF(X141=2,\"X\",IF(X141=3,\"X\",IF(X141=4,\"X\",\"\")))","v":"X"}]
[null,8,{"$f":"IF(X141=2,\"X\",\"\")","v":""},null,null,null,null,null,null,null,null,null,null,null,null,null,{"$f":"IF(X141=3,\"X\",IF(X141=4,\"X\",\"\"))","v":"X"}]
[null,9,{"$f":"IF(X141=3,\"X\",\"\")","v":""},null,null,null,null,null,null,{"$f":"IF(X141=2,\"X\",\"\")","v":""},null,null,null,null,null,null,null,null,null,{"$f":"IF(X141=4,\"X\",\"\")","v":"X"}]
[null,10,{"$f":"IF(X141=2,\"X\",IF(X141=4,\"X\",\"\"))","v":"X"},null,null,null,null,null,null,{"$f":"IF(X141=3,\"X\",\"\")","v":""}]
[null,11,null,null,null,null,null,null,null,{"$f":"IF(X141=2,\"X\",IF(X141=4,\"X\",\"\"))","v":"X"},null,null,null,null,null,null,{"$f":"IF(X141=3,\"X\",\"\")","v":""}]
[null,12,{"$f":"IF(X141=2,\"X\",IF(X141=3,\"X\",\"\"))","v":""},null,null,null,null,null,null,null,null,null,null,null,null,null,{"$f":"IF(X141=4,\"X\",\"\")","v":"X"}]
[null,13,null,null,null,null,null,null,null,{"$f":"IF(X141=2,\"X\",IF(X141=3,\"X\",\"\"))","v":""},null,null,null,null,null,null,null,null,null,{"$f":"IF(X141=4,\"X\",\"\")","v":"X"}]
[null,14,{"$f":"IF(X141=2,\"X\",IF(X141=4,\"X\",\"\"))","v":"X"},null,null,null,null,null,null,null,null,null,null,null,null,null,{"$f":"IF(X141=3,\"X\",\"\")","v":""}]
[null,15,{"$f":"IF(X141=3,\"X\",\"\")","v":""},null,null,null,null,null,null,{"$f":"IF(X141=2,\"X\",IF(X141=4,\"X\",\"\"))","v":"X"}]
[null,16,{"$f":"IF(X141=2,\"X\",\"\")","v":""},null,null,null,null,null,null,{"$f":"IF(X141=3,\"X\",\"\")","v":""},null,null,null,null,null,null,{"$f":"IF(X141=4,\"X\",\"\")","v":"X"}]
[null,17,null,null,null,null,null,null,null,{"$f":"IF(X141=2,\"X\",\"\")","v":""},null,null,null,null,null,null,{"$f":"IF(X141=3,\"X\",\"\")","v":""},null,null,{"$f":"IF(X141=4,\"X\",\"\")","v":"X"}]
[null,18,{"$f":"IF(X141=2,\"X\",IF(X141=3,\"X\",IF(X141=4,\"X\",\"\")))","v":"X"}]
[null,1,null,null,null,null,null,null,null,{"$f":"IF(X141=2,\"X\",IF(X141=3,\"X\",IF(X141=4,\"X\",\"\")))","v":"X"}]
[null,2,{"$f":"IF(X141=2,\"X\",\"\")","v":""},null,null,null,null,null,null,null,null,null,null,null,null,null,{"$f":"IF(X141=3,\"X\",IF(X141=4,\"X\",\"\"))","v":"X"},null,null,null,null,null,null,"Kontrol af "]
[null,3,{"$f":"IF(X141=3,\"X\",\"\")","v":""},null,null,null,null,null,null,{"$f":"IF(X141=2,\"X\",\"\")","v":""},null,null,null,null,null,null,null,null,null,{"$f":"IF(X141=4,\"X\",\"\")","v":"X"},null,null,null,"sammen-"]
[null,4,{"$f":"IF(X141=2,\"X\",IF(X141=4,\"X\",\"\"))","v":"X"},null,null,null,null,null,null,{"$f":"IF(X141=3,\"X\",\"\")","v":""},null,null,null,null,null,null,null,null,null,null,null,null,null,"tælling."]
[null,5,null,null,null,null,null,null,null,{"$f":"IF(X141=2,\"X\",IF(X141=4,\"X\",\"\"))","v":"X"},null,null,null,null,null,null,{"$f":"IF(X141=3,\"X\",\"\")","v":""}]
[null,"Total"]
[null,"Dommer :",null,{"$f":"C139","v":"Mogens Kortegaard"},null,null,null,null,null,{"$f":"IF(D161=\"\",\"\",VLOOKUP(D161,Deltagere!$C$4:$I$1003,2,FALSE))","v":"BK"},null,null,null,null,null,"Dato:",null,{"$f":"IF('Holdsammensætning  '!$J$4=\"\",\"\",'Holdsammensætning  '!$J$4)","v":"2023-08-15"},null,{"$f":"'Indtast Hold og Resultat'!B40","v":"Hold 6"},null," Runde :",null,1]
[]
[]
[null,null,null,null,null,null,null,{"$f":"IF('Holdsammensætning  '!$B$3=\"\",\"\",'Holdsammensætning  '!$B$3)","v":"BK Greve"},null,null,null,null,null,null,null,null,null,null,null,null,null,null,null,"Start hul nr."]
[null,null,null,null,null,null,null,{"$f":"IF('Holdsammensætning  '!$B$4=\"\",\"\",'Holdsammensætning  '!$B$4)","v":""},null,null,null,null,null,null,null,null,null,null,null,null,null,null,{"$f":"IF('Holdsammensætning  '!$J$5=\"\",\"\",'Holdsammensætning  '!$J$5)","v":""},{"$f":"'Indtast Hold og Resultat'!D47","v":7}]
[null,"Navn",{"$f":"'Indtast Hold og Resultat'!C49","v":"Lone Nielsen"},null,null,null,null,null,null,{"$f":"'Indtast Hold og Resultat'!C50","v":"Ingrid Jensen"},null,null,null,null,null,null,{"$f":"'Indtast Hold og Resultat'!C51","v":"Allan Pedersen"},null,null,{"$f":"'Indtast Hold og Resultat'!C52","v":"Connie Bregnvig"},null,null,null,"  Antal "]
[null,"Klub",{"$f":"'Indtast Hold og Resultat'!D49","v":"BK"},null,null,null,null,null,null,{"$f":"'Indtast Hold og Resultat'!D50","v":"Krolffolket"},null,null,null,null,null,null,{"$f":"'Indtast Hold og Resultat'!D51","v":"Krolffolket"},null,null,{"$f":"'Indtast Hold og Resultat'!D52","v":"Meløse"},null,null,null,"Spillere"]
[null,"Kugle ",{"$f":"IF('Indtast Hold og Resultat'!B49=\"\",\"\",VLOOKUP('Indtast Hold og Resultat'!B49,Deltagere!$B$4:$E$1003,4,FALSE))","v":0},null,null,null,null,null,null,{"$f":"IF('Indtast Hold og Resultat'!B50=\"\",\"\",VLOOKUP('Indtast Hold og Resultat'!B50,Deltagere!$B$4:$E$1003,4,FALSE))","v":"Blå"},null,null,null,null,null,null,{"$f":"IF('Indtast Hold og Resultat'!B51=\"\",\"\",VLOOKUP('Indtast Hold og Resultat'!B51,Deltagere!$B$4:$E$1003,4,FALSE))","v":"Farve"},null,null,{"$f":"IF('Indtast Hold og Resultat'!B52=\"\",\"\",VLOOKUP('Indtast Hold og Resultat'!B52,Deltagere!$B$4:$E$1003,4,FALSE))","v":"Farve"},null,null,null,{"$f":"COUNT('Indtast Hold og Resultat'!B49:B52)","v":4}]
[null,{"$f":"IF(X165=\"\",\"\",IF(X165<=18,X165,\"\"))","v":7},{"$f":"IF(X168=2,\"X\",IF(X168=3,\"X\",IF(X168=4,\"X\",\"\")))","v":"X"}]
[null,{"$f":"IF(B169<18,B169+1,IF(B169=18,1,\"\"))","v":8},null,null,null,null,null,null,null,{"$f":"IF(X168=2,\"X\",IF(X168=3,\"X\",IF(X168=4,\"X\",\"\")))","v":"X"}]
[null,9,{"$f":"IF(X168=2,\"X\",\"\")","v":""},null,null,null,null,null,null,null,null,null,null,null,null,null,{"$f":"IF(X168=3,\"X\",IF(X168=4,\"X\",\"\"))","v":"X"}]
[null,10,{"$f":"IF(X168=3,\"X\",\"\")","v":""},null,null,null,null,null,null,{"$f":"IF(X168=2,\"X\",\"\")","v":""},null,null,null,null,null,null,null,null,null,{"$f":"IF(X168=4,\"X\",\"\")","v":"X"}]
[null,11,{"$f":"IF(X168=2,\"X\",IF(X168=4,\"X\",\"\"))","v":"X"},null,null,null,null,null,null,{"$f":"IF(X168=3,\"X\",\"\")","v":""}]
[null,12,null,null,null,null,null,null,null,{"$f":"IF(X168=2,\"X\",IF(X168=4,\"X\",\"\"))","v":"X"},null,null,null,null,null,null,{"$f":"IF(X168=3,\"X\",\"\")","v":""}]
[null,13,{"$f":"IF(X168=2,\"X\",IF(X168=3,\"X\",\"\"))","v":""},null,null,null,null,null,null,null,null,null,null,null,null,null,{"$f":"IF(X168=4,\"X\",\"\")","v":"X"}]
[null,14,null,null,null,null,null,null,null,{"$f":"IF(X168=2,\"X\",IF(X168=3,\"X\",\"\"))","v":""},null,null,null,null,null,null,null,null,null,{"$f":"IF(X168=4,\"X\",\"\")","v":"X"}]
[null,15,{"$f":"IF(X168=2,\"X\",IF(X168=4,\"X\",\"\"))","v":"X"},null,null,null,null,null,null,null,null,null,null,null,null,null,{"$f":"IF(X168=3,\"X\",\"\")","v":""}]
[null,16,{"$f":"IF(X168=3,\"X\",\"\")","v":""},null,null,null,null,null,null,{"$f":"IF(X168=2,\"X\",IF(X168=4,\"X\",\"\"))","v":"X"}]
[null,17,{"$f":"IF(X168=2,\"X\",\"\")","v":""},null,null,null,null,null,null,{"$f":"IF(X168=3,\"X\",\"\")","v":""},null,null,null,null,null,null,{"$f":"IF(X168=4,\"X\",\"\")","v":"X"}]
[null,18,null,null,null,null,null,null,null,{"$f":"IF(X168=2,\"X\",\"\")","v":""},null,null,null,null,null,null,{"$f":"IF(X168=3,\"X\",\"\")","v":""},null,null,{"$f":"IF(X168=4,\"X\",\"\")","v":"X"}]
[null,1,{"$f":"IF(X168=2,\"X\",IF(X168=3,\"X\",IF(X168=4,\"X\",\"\")))","v":"X"}]
[null,2,null,null,null,null,null,null,null,{"$f":"IF(X168=2,\"X\",IF(X168=3,\"X\",IF(X168=4,\"X\",\"\")))","v":"X"}]
[null,3,{"$f":"IF(X168=2,\"X\",\"\")","v":""},null,null,null,null,null,null,null,null,null,null,null,null,null,{"$f":"IF(X168=3,\"X\",IF(X168=4,\"X\",\"\"))","v":"X"},null,null,null,null,null,null,"Kontrol af "]
[null,4,{"$f":"IF(X168=3,\"X\",\"\")","v":""},null,null,null,null,null,null,{"$f":"IF(X168=2,\"X\",\"\")","v":""},null,null,null,null,null,null,null,null,null,{"$f":"IF(X168=4,\"X\",\"\")","v":"X"},null,null,null,"sammen-"]
[null,5,{"$f":"IF(X168=2,\"X\",IF(X168=4,\"X\",\"\"))","v":"X"},null,null,null,null,null,null,{"$f":"IF(X168=3,\"X\",\"\")","v":""},null,null,null,null,null,null,null,null,null,null,null,null,null,"tælling."]
[null,6,null,null,null,null,null,null,null,{"$f":"IF(X168=2,\"X\",IF(X168=4,\"X\",\"\"))","v":"X"},null,null,null,null,null,null,{"$f":"IF(X168=3,\"X\",\"\")","v":""}]
[null,"Total"]
[null,"Dommer :",null,{"$f":"C166","v":"Lone Nielsen"},null,null,null,null,null,{"$f":"IF(D188=\"\",\"\",VLOOKUP(D188,Deltagere!$C$4:$I$1003,2,FALSE))","v":"BK"},null,null,null,null,null,"Dato:",null,{"$f":"IF('Holdsammensætning  '!$J$4=\"\",\"\",'Holdsammensætning  '!$J$4)","v":"2023-08-15"},null,{"$f":"'Indtast Hold og Resultat'!B47","v":"Hold 7"},null," Runde :",null,1]
[]
[]
[null,null,null,null,null,null,null,{"$f":"IF('Holdsammensætning  '!$B$3=\"\",\"\",'Holdsammensætning  '!$B$3)","v":"BK Greve"},null,null,null,null,null,null,null,null,null,null,null,null,null,null,null,"Start hul nr."]
[null,null,null,null,null,null,null,{"$f":"IF('Holdsammensætning  '!$B$4=\"\",\"\",'Holdsammensætning  '!$B$4)","v":""},null,null,null,null,null,null,null,null,null,null,null,null,null,null,{"$f":"IF('Holdsammensætning  '!$J$5=\"\",\"\",'Holdsammensætning  '!$J$5)","v":""},{"$f":"'Indtast Hold og Resultat'!D54","v":8}]
[null,"Navn",{"$f":"'Indtast Hold og Resultat'!C56","v":"Tage Jensen"},null,null,null,null,null,null,{"$f":"'Indtast Hold og Resultat'!C57","v":"Kjeld Hansen"},null,null,null,null,null,null,{"$f":"'Indtast Hold og Resultat'!C58","v":"Lissi Lindberg"},null,null,{"$f":"'Indtast Hold og Resultat'!C59","v":"Jørgen Hugo Larsen"},null,null,null,"  Antal "]
[null,"Klub",{"$f":"'Indtast Hold og Resultat'!D56","v":"Meløse"},null,null,null,null,null,null,{"$f":"'Indtast Hold og Resultat'!D57","v":"Krolffolket"},null,null,null,null,null,null,{"$f":"'Indtast Hold og Resultat'!D58","v":"Krolffolket"},null,null,{"$f":"'Indtast Hold og Resultat'!D59","v":"BK"},null,null,null,"Spillere"]
[null,"Kugle ",{"$f":"IF('Indtast Hold og Resultat'!B56=\"\",\"\",VLOOKUP('Indtast Hold og Resultat'!B56,Deltagere!$B$4:$E$1003,4,FALSE))","v":"Sort"},null,null,null,null,null,null,{"$f":"IF('Indtast Hold og Resultat'!B57=\"\",\"\",VLOOKUP('Indtast Hold og Resultat'!B57,Deltagere!$B$4:$E$1003,4,FALSE))","v":"Sort"},null,null,null,null,null,null,{"$f":"IF('Indtast Hold og Resultat'!B58=\"\",\"\",VLOOKUP('Indtast Hold og Resultat'!B58,Deltagere!$B$4:$E$1003,4,FALSE))","v":"Pink"},null,null,{"$f":"IF('Indtast Hold og Resultat'!B59=\"\",\"\",VLOOKUP('Indtast Hold og Resultat'!B59,Deltagere!$B$4:$E$1003,4,FALSE))","v":"Farve"},null,null,null,{"$f":"COUNT('Indtast Hold og Resultat'!B56:B59)","v":4}]
[null,{"$f":"IF(X192=\"\",\"\",IF(X192<=18,X192,\"\"))","v":8},{"$f":"IF(X195=2,\"X\",IF(X195=3,\"X\",IF(X195=4,\"X\",\"\")))","v":"X"}]
[null,{"$f":"IF(B196<18,B196+1,IF(B196=18,1,\"\"))","v":9},null,null,null,null,null,null,null,{"$f":"IF(X195=2,\"X\",IF(X195=3,\"X\",IF(X195=4,\"X\",\"\")))","v":"X"}]
[null,10,{"$f":"IF(X195=2,\"X\",\"\")","v":""},null,null,null,null,null,null,null,null,null,null,null,null,null,{"$f":"IF(X195=3,\"X\",IF(X195=4,\"X\",\"\"))","v":"X"}]
[null,11,{"$f":"IF(X195=3,\"X\",\"\")","v":""},null,null,null,null,null,null,{"$f":"IF(X195=2,\"X\",\"\")","v":""},null,null,null,null,null,null,null,null,null,{"$f":"IF(X195=4,\"X\",\"\")","v":"X"}]
[null,12,{"$f":"IF(X195=2,\"X\",IF(X195=4,\"X\",\"\"))","v":"X"},null,null,null,null,null,null,{"$f":"IF(X195=3,\"X\",\"\")","v":""}]
[null,13,null,null,null,null,null,null,null,{"$f":"IF(X195=2,\"X\",IF(X195=4,\"X\",\"\"))","v":"X"},null,null,null,null,null,null,{"$f":"IF(X195=3,\"X\",\"\")","v":""}]
[null,14,{"$f":"IF(X195=2,\"X\",IF(X195=3,\"X\",\"\"))","v":""},null,null,null,null,null,null,null,null,null,null,null,null,null,{"$f":"IF(X195=4,\"X\",\"\")","v":"X"}]
[null,15,null,null,null,null,null,null,null,{"$f":"IF(X195=2,\"X\",IF(X195=3,\"X\",\"\"))","v":""},null,null,null,null,null,null,null,null,null,{"$f":"IF(X195=4,\"X\",\"\")","v":"X"}]
[null,16,{"$f":"IF(X195=2,\"X\",IF(X195=4,\"X\",\"\"))","v":"X"},null,null,null,null,null,null,null,null,null,null,null,null,null,{"$f":"IF(X195=3,\"X\",\"\")","v":""}]
[null,17,{"$f":"IF(X195=3,\"X\",\"\")","v":""},null,null,null,null,null,null,{"$f":"IF(X195=2,\"X\",IF(X195=4,\"X\",\"\"))","v":"X"}]
[null,18,{"$f":"IF(X195=2,\"X\",\"\")","v":""},null,null,null,null,null,null,{"$f":"IF(X195=3,\"X\",\"\")","v":""},null,null,null,null,null,null,{"$f":"IF(X195=4,\"X\",\"\")","v":"X"}]
[null,1,null,null,null,null,null,null,null,{"$f":"IF(X195=2,\"X\",\"\")","v":""},null,null,null,null,null,null,{"$f":"IF(X195=3,\"X\",\"\")","v":""},null,null,{"$f":"IF(X195=4,\"X\",\"\")","v":"X"}]
[null,2,{"$f":"IF(X195=2,\"X\",IF(X195=3,\"X\",IF(X195=4,\"X\",\"\")))","v":"X"}]
[null,3,null,null,null,null,null,null,null,{"$f":"IF(X195=2,\"X\",IF(X195=3,\"X\",IF(X195=4,\"X\",\"\")))","v":"X"}]
[null,4,{"$f":"IF(X195=2,\"X\",\"\")","v":""},null,null,null,null,null,null,null,null,null,null,null,null,null,{"$f":"IF(X195=3,\"X\",IF(X195=4,\"X\",\"\"))","v":"X"},null,null,null,null,null,null,"Kontrol af "]
[null,5,{"$f":"IF(X195=3,\"X\",\"\")","v":""},null,null,null,null,null,null,{"$f":"IF(X195=2,\"X\",\"\")","v":""},null,null,null,null,null,null,null,null,null,{"$f":"IF(X195=4,\"X\",\"\")","v":"X"},null,null,null,"sammen-"]
[null,6,{"$f":"IF(X195=2,\"X\",IF(X195=4,\"X\",\"\"))","v":"X"},null,null,null,null,null,null,{"$f":"IF(X195=3,\"X\",\"\")","v":""},null,null,null,null,null,null,null,null,null,null,null,null,null,"tælling."]
[null,7,null,null,null,null,null,null,null,{"$f":"IF(X195=2,\"X\",IF(X195=4,\"X\",\"\"))","v":"X"},null,null,null,null,null,null,{"$f":"IF(X195=3,\"X\",\"\")","v":""}]
[null,"Total"]
[null,"Dommer :",null,{"$f":"C193","v":"Tage Jensen"},null,null,null,null,null,{"$f":"IF(D215=\"\",\"\",VLOOKUP(D215,Deltagere!$C$4:$I$1003,2,FALSE))","v":"Meløse"},null,null,null,null,null,"Dato:",null,{"$f":"IF('Holdsammensætning  '!$J$4=\"\",\"\",'Holdsammensætning  '!$J$4)","v":"2023-08-15"},null,{"$f":"'Indtast Hold og Resultat'!B54","v":"Hold 8"},null," Runde :",null,1]
[]
[]
[null,null,null,null,null,null,null,{"$f":"IF('Holdsammensætning  '!$B$3=\"\",\"\",'Holdsammensætning  '!$B$3)","v":"BK Greve"},null,null,null,null,null,null,null,null,null,null,null,null,null,null,null,"Start hul nr."]
[null,null,null,null,null,null,null,{"$f":"IF('Holdsammensætning  '!$B$4=\"\",\"\",'Holdsammensætning  '!$B$4)","v":""},null,null,null,null,null,null,null,null,null,null,null,null,null,null,{"$f":"IF('Holdsammensætning  '!$J$5=\"\",\"\",'Holdsammensætning  '!$J$5)","v":""},{"$f":"'Indtast Hold og Resultat'!D61","v":9}]
[null,"Navn",{"$f":"'Indtast Hold og Resultat'!C63","v":"Søren Helbo"},null,null,null,null,null,null,{"$f":"'Indtast Hold og Resultat'!C64","v":"Finn Jørgensen"},null,null,null,null,null,null,{"$f":"'Indtast Hold og Resultat'!C65","v":"Ole Nilaus Nielsen"},null,null,{"$f":"'Indtast Hold og Resultat'!C66","v":"Åge  Zcharau"},null,null,null,"  Antal "]
[null,"Klub",{"$f":"'Indtast Hold og Resultat'!D63","v":"Meløse"},null,null,null,null,null,null,{"$f":"'Indtast Hold og Resultat'!D64","v":"Krolffolket"},null,null,null,null,null,null,{"$f":"'Indtast Hold og Resultat'!D65","v":"Krolffolket"},null,null,{"$f":"'Indtast Hold og Resultat'!D66","v":"BK"},null,null,null,"Spillere"]
[null,"Kugle ",{"$f":"IF('Indtast Hold og Resultat'!B63=\"\",\"\",VLOOKUP('Indtast Hold og Resultat'!B63,Deltagere!$B$4:$E$1003,4,FALSE))","v":"Orange"},null,null,null,null,null,null,{"$f":"IF('Indtast Hold og Resultat'!B64=\"\",\"\",VLOOKUP('Indtast Hold og Resultat'!B64,Deltagere!$B$4:$E$1003,4,FALSE))","v":"Gul"},null,null,null,null,null,null,{"$f":"IF('Indtast Hold og Resultat'!B65=\"\",\"\",VLOOKUP('Indtast Hold og Resultat'!B65,Deltagere!$B$4:$E$1003,4,FALSE))","v":"Gul"},null,null,{"$f":"IF('Indtast Hold og Resultat'!B66=\"\",\"\",VLOOKUP('Indtast Hold og Resultat'!B66,Deltagere!$B$4:$E$1003,4,FALSE))","v":"Farve"},null,null,null,{"$f":"COUNT('Indtast Hold og Resultat'!B63:B66)","v":4}]
[null,{"$f":"IF(X219=\"\",\"\",IF(X219<=18,X219,\"\"))","v":9},{"$f":"IF(X222=2,\"X\",IF(X222=3,\"X\",IF(X222=4,\"X\",\"\")))","v":"X"}]
[null,{"$f":"IF(B223<18,B223+1,IF(B223=18,1,\"\"))","v":10},null,null,null,null,null,null,null,{"$f":"IF(X222=2,\"X\",IF(X222=3,\"X\",IF(X222=4,\"X\",\"\")))","v":"X"}]
[null,11,{"$f":"IF(X222=2,\"X\",\"\")","v":""},null,null,null,null,null,null,null,null,null,null,null,null,null,{"$f":"IF(X222=3,\"X\",IF(X222=4,\"X\",\"\"))","v":"X"}]
[null,12,{"$f":"IF(X222=3,\"X\",\"\")","v":""},null,null,null,null,null,null,{"$f":"IF(X222=2,\"X\",\"\")","v":""},null,null,null,null,null,null,null,null,null,{"$f":"IF(X222=4,\"X\",\"\")","v":"X"}]
[null,13,{"$f":"IF(X222=2,\"X\",IF(X222=4,\"X\",\"\"))","v":"X"},null,null,null,null,null,null,{"$f":"IF(X222=3,\"X\",\"\")","v":""}]
[null,14,null,null,null,null,null,null,null,{"$f":"IF(X222=2,\"X\",IF(X222=4,\"X\",\"\"))","v":"X"},null,null,null,null,null,null,{"$f":"IF(X222=3,\"X\",\"\")","v":""}]
[null,15,{"$f":"IF(X222=2,\"X\",IF(X222=3,\"X\",\"\"))","v":""},null,null,null,null,null,null,null,null,null,null,null,null,null,{"$f":"IF(X222=4,\"X\",\"\")","v":"X"}]
[null,16,null,null,null,null,null,null,null,{"$f":"IF(X222=2,\"X\",IF(X222=3,\"X\",\"\"))","v":""},null,null,null,null,null,null,null,null,null,{"$f":"IF(X222=4,\"X\",\"\")","v":"X"}]
[null,17,{"$f":"IF(X222=2,\"X\",IF(X222=4,\"X\",\"\"))","v":"X"},null,null,null,null,null,null,null,null,null,null,null,null,null,{"$f":"IF(X222=3,\"X\",\"\")","v":""}]
[null,18,{"$f":"IF(X222=3,\"X\",\"\")","v":""},null,null,null,null,null,null,{"$f":"IF(X222=2,\"X\",IF(X222=4,\"X\",\"\"))","v":"X"}]
[null,1,{"$f":"IF(X222=2,\"X\",\"\")","v":""},null,null,null,null,null,null,{"$f":"IF(X222=3,\"X\",\"\")","v":""},null,null,null,null,null,null,{"$f":"IF(X222=4,\"X\",\"\")","v":"X"}]
[null,2,null,null,null,null,null,null,null,{"$f":"IF(X222=2,\"X\",\"\")","v":""},null,null,null,null,null,null,{"$f":"IF(X222=3,\"X\",\"\")","v":""},null,null,{"$f":"IF(X222=4,\"X\",\"\")","v":"X"}]
[null,3,{"$f":"IF(X222=2,\"X\",IF(X222=3,\"X\",IF(X222=4,\"X\",\"\")))","v":"X"}]
[null,4,null,null,null,null,null,null,null,{"$f":"IF(X222=2,\"X\",IF(X222=3,\"X\",IF(X222=4,\"X\",\"\")))","v":"X"}]
[null,5,{"$f":"IF(X222=2,\"X\",\"\")","v":""},null,null,null,null,null,null,null,null,null,null,null,null,null,{"$f":"IF(X222=3,\"X\",IF(X222=4,\"X\",\"\"))","v":"X"},null,null,null,null,null,null,"Kontrol af "]
[null,6,{"$f":"IF(X222=3,\"X\",\"\")","v":""},null,null,null,null,null,null,{"$f":"IF(X222=2,\"X\",\"\")","v":""},null,null,null,null,null,null,null,null,null,{"$f":"IF(X222=4,\"X\",\"\")","v":"X"},null,null,null,"sammen-"]
[null,7,{"$f":"IF(X222=2,\"X\",IF(X222=4,\"X\",\"\"))","v":"X"},null,null,null,null,null,null,{"$f":"IF(X222=3,\"X\",\"\")","v":""},null,null,null,null,null,null,null,null,null,null,null,null,null,"tælling."]
[null,8,null,null,null,null,null,null,null,{"$f":"IF(X222=2,\"X\",IF(X222=4,\"X\",\"\"))","v":"X"},null,null,null,null,null,null,{"$f":"IF(X222=3,\"X\",\"\")","v":""}]
[null,"Total"]
[null,"Dommer :",null,{"$f":"C220","v":"Søren Helbo"},null,null,null,null,null,{"$f":"IF(D242=\"\",\"\",VLOOKUP(D242,Deltagere!$C$4:$I$1003,2,FALSE))","v":"Meløse"},null,null,null,null,null,"Dato:",null,{"$f":"IF('Holdsammensætning  '!$J$4=\"\",\"\",'Holdsammensætning  '!$J$4)","v":"2023-08-15"},null,{"$f":"'Indtast Hold og Resultat'!B61","v":"Hold 9"},null," Runde :",null,1]
[]
[]
[null,null,null,null,null,null,null,{"$f":"IF('Holdsammensætning  '!$B$3=\"\",\"\",'Holdsammensætning  '!$B$3)","v":"BK Greve"},null,null,null,null,null,null,null,null,null,null,null,null,null,null,null,"Start hul nr."]
[null,null,null,null,null,null,null,{"$f":"IF('Holdsammensætning  '!$B$4=\"\",\"\",'Holdsammensætning  '!$B$4)","v":""},null,null,null,null,null,null,null,null,null,null,null,null,null,null,{"$f":"IF('Holdsammensætning  '!$J$5=\"\",\"\",'Holdsammensætning  '!$J$5)","v":""},{"$f":"'Indtast Hold og Resultat'!D68","v":10}]
[null,"Navn",{"$f":"'Indtast Hold og Resultat'!C70","v":"Peter Knudsen"},null,null,null,null,null,null,{"$f":"'Indtast Hold og Resultat'!C71","v":"Gytha Szumlanski"},null,null,null,null,null,null,{"$f":"'Indtast Hold og Resultat'!C72","v":"Benthe Dahl"},null,null,{"$f":"'Indtast Hold og Resultat'!C73","v":"Annette Traulsen"},null,null,null,"  Antal "]
[null,"Klub",{"$f":"'Indtast Hold og Resultat'!D70","v":"Meløse"},null,null,null,null,null,null,{"$f":"'Indtast Hold og Resultat'!D71","v":"Krolffolket"},null,null,null,null,null,null,{"$f":"'Indtast Hold og Resultat'!D72","v":"Krolffolket"},null,null,{"$f":"'Indtast Hold og Resultat'!D73","v":"BK"},null,null,null,"Spillere"]
[null,"Kugle ",{"$f":"IF('Indtast Hold og Resultat'!B70=\"\",\"\",VLOOKUP('Indtast Hold og Resultat'!B70,Deltagere!$B$4:$E$1003,4,FALSE))","v":"Farve"},null,null,null,null,null,null,{"$f":"IF('Indtast Hold og Resultat'!B71=\"\",\"\",VLOOKUP('Indtast Hold og Resultat'!B71,Deltagere!$B$4:$E$1003,4,FALSE))","v":"Blå"},null,null,null,null,null,null,{"$f":"IF('Indtast Hold og Resultat'!B72=\"\",\"\",VLOOKUP('Indtast Hold og Resultat'!B72,Deltagere!$B$4:$E$1003,4,FALSE))","v":"Gul"},null,null,{"$f":"IF('Indtast Hold og Resultat'!B73=\"\",\"\",VLOOKUP('Indtast Hold og Resultat'!B73,Deltagere!$B$4:$E$1003,4,FALSE))","v":0},null,null,null,{"$f":"COUNT('Indtast Hold og Resultat'!B70:B73)","v":4}]
[null,{"$f":"IF(X246=\"\",\"\",IF(X246<=18,X246,\"\"))","v":10},{"$f":"IF(X249=2,\"X\",IF(X249=3,\"X\",IF(X249=4,\"X\",\"\")))","v":"X"}]
[null,{"$f":"IF(B250<18,B250+1,IF(B250=18,1,\"\"))","v":11},null,null,null,null,null,null,null,{"$f":"IF(X249=2,\"X\",IF(X249=3,\"X\",IF(X249=4,\"X\",\"\")))","v":"X"}]
[null,12,{"$f":"IF(X249=2,\"X\",\"\")","v":""},null,null,null,null,null,null,null,null,null,null,null,null,null,{"$f":"IF(X249=3,\"X\",IF(X249=4,\"X\",\"\"))","v":"X"}]
[null,13,{"$f":"IF(X249=3,\"X\",\"\")","v":""},null,null,null,null,null,null,{"$f":"IF(X249=2,\"X\",\"\")","v":""},null,null,null,null,null,null,null,null,null,{"$f":"IF(X249=4,\"X\",\"\")","v":"X"}]
[null,14,{"$f":"IF(X249=2,\"X\",IF(X249=4,\"X\",\"\"))","v":"X"},null,null,null,null,null,null,{"$f":"IF(X249=3,\"X\",\"\")","v":""}]
[null,15,null,null,null,null,null,null,null,{"$f":"IF(X249=2,\"X\",IF(X249=4,\"X\",\"\"))","v":"X"},null,null,null,null,null,null,{"$f":"IF(X249=3,\"X\",\"\")","v":""}]
[null,16,{"$f":"IF(X249=2,\"X\",IF(X249=3,\"X\",\"\"))","v":""},null,null,null,null,null,null,null,null,null,null,null,null,null,{"$f":"IF(X249=4,\"X\",\"\")","v":"X"}]
[null,17,null,null,null,null,null,null,null,{"$f":"IF(X249=2,\"X\",IF(X249=3,\"X\",\"\"))","v":""},null,null,null,null,null,null,null,null,null,{"$f":"IF(X249=4,\"X\",\"\")","v":"X"}]
[null,18,{"$f":"IF(X249=2,\"X\",IF(X249=4,\"X\",\"\"))","v":"X"},null,null,null,null,null,null,null,null,null,null,null,null,null,{"$f":"IF(X249=3,\"X\",\"\")","v":""}]
[null,1,{"$f":"IF(X249=3,\"X\",\"\")","v":""},null,null,null,null,null,null,{"$f":"IF(X249=2,\"X\",IF(X249=4,\"X\",\"\"))","v":"X"}]
[null,2,{"$f":"IF(X249=2,\"X\",\"\")","v":""},null,null,null,null,null,null,{"$f":"IF(X249=3,\"X\",\"\")","v":""},null,null,null,null,null,null,{"$f":"IF(X249=4,\"X\",\"\")","v":"X"}]
[null,3,null,null,null,null,null,null,null,{"$f":"IF(X249=2,\"X\",\"\")","v":""},null,null,null,null,null,null,{"$f":"IF(X249=3,\"X\",\"\")","v":""},null,null,{"$f":"IF(X249=4,\"X\",\"\")","v":"X"}]
[null,4,{"$f":"IF(X249=2,\"X\",IF(X249=3,\"X\",IF(X249=4,\"X\",\"\")))","v":"X"}]
[null,5,null,null,null,null,null,null,null,{"$f":"IF(X249=2,\"X\",IF(X249=3,\"X\",IF(X249=4,\"X\",\"\")))","v":"X"}]
[null,6,{"$f":"IF(X249=2,\"X\",\"\")","v":""},null,null,null,null,null,null,null,null,null,null,null,null,null,{"$f":"IF(X249=3,\"X\",IF(X249=4,\"X\",\"\"))","v":"X"},null,null,null,null,null,null,"Kontrol af "]
[null,7,{"$f":"IF(X249=3,\"X\",\"\")","v":""},null,null,null,null,null,null,{"$f":"IF(X249=2,\"X\",\"\")","v":""},null,null,null,null,null,null,null,null,null,{"$f":"IF(X249=4,\"X\",\"\")","v":"X"},null,null,null,"sammen-"]
[null,8,{"$f":"IF(X249=2,\"X\",IF(X249=4,\"X\",\"\"))","v":"X"},null,null,null,null,null,null,{"$f":"IF(X249=3,\"X\",\"\")","v":""},null,null,null,null,null,null,null,null,null,null,null,null,null,"tælling."]
[null,9,null,null,null,null,null,null,null,{"$f":"IF(X249=2,\"X\",IF(X249=4,\"X\",\"\"))","v":"X"},null,null,null,null,null,null,{"$f":"IF(X249=3,\"X\",\"\")","v":""}]
[null,"Total"]
[null,"Dommer :",null,{"$f":"C247","v":"Peter Knudsen"},null,null,null,null,null,{"$f":"IF(D269=\"\",\"\",VLOOKUP(D269,Deltagere!$C$4:$I$1003,2,FALSE))","v":"Meløse"},null,null,null,null,null,"Dato:",null,{"$f":"IF('Holdsammensætning  '!$J$4=\"\",\"\",'Holdsammensætning  '!$J$4)","v":"2023-08-15"},null,{"$f":"'Indtast Hold og Resultat'!B68","v":"Hold 10"},null," Runde :",null,1]
[]
[]
[null,null,null,null,null,null,null,{"$f":"IF('Holdsammensætning  '!$B$3=\"\",\"\",'Holdsammensætning  '!$B$3)","v":"BK Greve"},null,null,null,null,null,null,null,null,null,null,null,null,null,null,null,"Start hul nr."]
[null,null,null,null,null,null,null,{"$f":"IF('Holdsammensætning  '!$B$4=\"\",\"\",'Holdsammensætning  '!$B$4)","v":""},null,null,null,null,null,null,null,null,null,null,null,null,null,null,{"$f":"IF('Holdsammensætning  '!$J$5=\"\",\"\",'Holdsammensætning  '!$J$5)","v":""},{"$f":"'Indtast Hold og Resultat'!D75","v":11}]
[null,"Navn",{"$f":"'Indtast Hold og Resultat'!C77","v":"Susanne Blok"},null,null,null,null,null,null,{"$f":"'Indtast Hold og Resultat'!C78","v":"Ivan Szumlanski"},null,null,null,null,null,null,{"$f":"'Indtast Hold og Resultat'!C79","v":"Lena Kirkegaard"},null,null,{"$f":"'Indtast Hold og Resultat'!C80","v":"Tove Perlt"},null,null,null,"  Antal "]
[null,"Klub",{"$f":"'Indtast Hold og Resultat'!D77","v":"Krolffolket"},null,null,null,null,null,null,{"$f":"'Indtast Hold og Resultat'!D78","v":"Krolffolket"},null,null,null,null,null,null,{"$f":"'Indtast Hold og Resultat'!D79","v":"Krolffolket"},null,null,{"$f":"'Indtast Hold og Resultat'!D80","v":"BK"},null,null,null,"Spillere"]
[null,"Kugle ",{"$f":"IF('Indtast Hold og Resultat'!B77=\"\",\"\",VLOOKUP('Indtast Hold og Resultat'!B77,Deltagere!$B$4:$E$1003,4,FALSE))","v":"Gul"},null,null,null,null,null,null,{"$f":"IF('Indtast Hold og Resultat'!B78=\"\",\"\",VLOOKUP('Indtast Hold og Resultat'!B78,Deltagere!$B$4:$E$1003,4,FALSE))","v":"Orange"},null,null,null,null,null,null,{"$f":"IF('Indtast Hold og Resultat'!B79=\"\",\"\",VLOOKUP('Indtast Hold og Resultat'!B79,Deltagere!$B$4:$E$1003,4,FALSE))","v":"Orange"},null,null,{"$f":"IF('Indtast Hold og Resultat'!B80=\"\",\"\",VLOOKUP('Indtast Hold og Resultat'!B80,Deltagere!$B$4:$E$1003,4,FALSE))","v":"Farve"},null,null,null,{"$f":"COUNT('Indtast Hold og Resultat'!B77:B80)","v":4}]
[null,{"$f":"IF(X273=\"\",\"\",IF(X273<=18,X273,\"\"))","v":11},{"$f":"IF(X276=2,\"X\",IF(X276=3,\"X\",IF(X276=4,\"X\",\"\")))","v":"X"}]
[null,{"$f":"IF(B277<18,B277+1,IF(B277=18,1,\"\"))","v":12},null,null,null,null,null,null,null,{"$f":"IF(X276=2,\"X\",IF(X276=3,\"X\",IF(X276=4,\"X\",\"\")))","v":"X"}]
[null,13,{"$f":"IF(X276=2,\"X\",\"\")","v":""},null,null,null,null,null,null,null,null,null,null,null,null,null,{"$f":"IF(X276=3,\"X\",IF(X276=4,\"X\",\"\"))","v":"X"}]
[null,14,{"$f":"IF(X276=3,\"X\",\"\")","v":""},null,null,null,null,null,null,{"$f":"IF(X276=2,\"X\",\"\")","v":""},null,null,null,null,null,null,null,null,null,{"$f":"IF(X276=4,\"X\",\"\")","v":"X"}]
[null,15,{"$f":"IF(X276=2,\"X\",IF(X276=4,\"X\",\"\"))","v":"X"},null,null,null,null,null,null,{"$f":"IF(X276=3,\"X\",\"\")","v":""}]
[null,16,null,null,null,null,null,null,null,{"$f":"IF(X276=2,\"X\",IF(X276=4,\"X\",\"\"))","v":"X"},null,null,null,null,null,null,{"$f":"IF(X276=3,\"X\",\"\")","v":""}]
[null,17,{"$f":"IF(X276=2,\"X\",IF(X276=3,\"X\",\"\"))","v":""},null,null,null,null,null,null,null,null,null,null,null,null,null,{"$f":"IF(X276=4,\"X\",\"\")","v":"X"}]
[null,18,null,null,null,null,null,null,null,{"$f":"IF(X276=2,\"X\",IF(X276=3,\"X\",\"\"))","v":""},null,null,null,null,null,null,null,null,null,{"$f":"IF(X276=4,\"X\",\"\")","v":"X"}]
[null,1,{"$f":"IF(X276=2,\"X\",IF(X276=4,\"X\",\"\"))","v":"X"},null,null,null,null,null,null,null,null,null,null,null,null,null,{"$f":"IF(X276=3,\"X\",\"\")","v":""}]
[null,2,{"$f":"IF(X276=3,\"X\",\"\")","v":""},null,null,null,null,null,null,{"$f":"IF(X276=2,\"X\",IF(X276=4,\"X\",\"\"))","v":"X"}]
[null,3,{"$f":"IF(X276=2,\"X\",\"\")","v":""},null,null,null,null,null,null,{"$f":"IF(X276=3,\"X\",\"\")","v":""},null,null,null,null,null,null,{"$f":"IF(X276=4,\"X\",\"\")","v":"X"}]
[null,4,null,null,null,null,null,null,null,{"$f":"IF(X276=2,\"X\",\"\")","v":""},null,null,null,null,null,null,{"$f":"IF(X276=3,\"X\",\"\")","v":""},null,null,{"$f":"IF(X276=4,\"X\",\"\")","v":"X"}]
[null,5,{"$f":"IF(X276=2,\"X\",IF(X276=3,\"X\",IF(X276=4,\"X\",\"\")))","v":"X"}]
[null,6,null,null,null,null,null,null,null,{"$f":"IF(X276=2,\"X\",IF(X276=3,\"X\",IF(X276=4,\"X\",\"\")))","v":"X"}]
[null,7,{"$f":"IF(X276=2,\"X\",\"\")","v":""},null,null,null,null,null,null,null,null,null,null,null,null,null,{"$f":"IF(X276=3,\"X\",IF(X276=4,\"X\",\"\"))","v":"X"},null,null,null,null,null,null,"Kontrol af "]
[null,8,{"$f":"IF(X276=3,\"X\",\"\")","v":""},null,null,null,null,null,null,{"$f":"IF(X276=2,\"X\",\"\")","v":""},null,null,null,null,null,null,null,null,null,{"$f":"IF(X276=4,\"X\",\"\")","v":"X"},null,null,null,"sammen-"]
[null,9,{"$f":"IF(X276=2,\"X\",IF(X276=4,\"X\",\"\"))","v":"X"},null,null,null,null,null,null,{"$f":"IF(X276=3,\"X\",\"\")","v":""},null,null,null,null,null,null,null,null,null,null,null,null,null,"tælling."]
[null,10,null,null,null,null,null,null,null,{"$f":"IF(X276=2,\"X\",IF(X276=4,\"X\",\"\"))","v":"X"},null,null,null,null,null,null,{"$f":"IF(X276=3,\"X\",\"\")","v":""}]
[null,"Total"]
[null,"Dommer :",null,{"$f":"C274","v":"Susanne Blok"},null,null,null,null,null,{"$f":"IF(D296=\"\",\"\",VLOOKUP(D296,Deltagere!$C$4:$I$1003,2,FALSE))","v":"Krolffolket"},null,null,null,null,null,"Dato:",null,{"$f":"IF('Holdsammensætning  '!$J$4=\"\",\"\",'Holdsammensætning  '!$J$4)","v":"2023-08-15"},null,{"$f":"'Indtast Hold og Resultat'!B75","v":"Hold 11"},null," Runde :",null,1]
[]
[]
[null,null,null,null,null,null,null,{"$f":"IF('Holdsammensætning  '!$B$3=\"\",\"\",'Holdsammensætning  '!$B$3)","v":"BK Greve"},null,null,null,null,null,null,null,null,null,null,null,null,null,null,null,"Start hul nr."]
[null,null,null,null,null,null,null,{"$f":"IF('Holdsammensætning  '!$B$4=\"\",\"\",'Holdsammensætning  '!$B$4)","v":""},null,null,null,null,null,null,null,null,null,null,null,null,null,null,{"$f":"IF('Holdsammensætning  '!$J$5=\"\",\"\",'Holdsammensætning  '!$J$5)","v":""},{"$f":"'Indtast Hold og Resultat'!D82","v":12}]
[null,"Navn",{"$f":"'Indtast Hold og Resultat'!C84","v":"Annie Jensen"},null,null,null,null,null,null,{"$f":"'Indtast Hold og Resultat'!C85","v":"Hanne Hansen"},null,null,null,null,null,null,{"$f":"'Indtast Hold og Resultat'!C86","v":"Vibeke Jørgensen"},null,null,{"$f":"'Indtast Hold og Resultat'!C87","v":"Adam Kristoffersen"},null,null,null,"  Antal "]
[null,"Klub",{"$f":"'Indtast Hold og Resultat'!D84","v":"Meløse"},null,null,null,null,null,null,{"$f":"'Indtast Hold og Resultat'!D85","v":"Krolffolket"},null,null,null,null,null,null,{"$f":"'Indtast Hold og Resultat'!D86","v":"Krolffolket"},null,null,{"$f":"'Indtast Hold og Resultat'!D87","v":"IF Vikingerne"},null,null,null,"Spillere"]
[null,"Kugle ",{"$f":"IF('Indtast Hold og Resultat'!B84=\"\",\"\",VLOOKUP('Indtast Hold og Resultat'!B84,Deltagere!$B$4:$E$1003,4,FALSE))","v":"Farve"},null,null,null,null,null,null,{"$f":"IF('Indtast Hold og Resultat'!B85=\"\",\"\",VLOOKUP('Indtast Hold og Resultat'!B85,Deltagere!$B$4:$E$1003,4,FALSE))","v":"Lys blå"},null,null,null,null,null,null,{"$f":"IF('Indtast Hold og Resultat'!B86=\"\",\"\",VLOOKUP('Indtast Hold og Resultat'!B86,Deltagere!$B$4:$E$1003,4,FALSE))","v":"Rød"},null,null,{"$f":"IF('Indtast Hold og Resultat'!B87=\"\",\"\",VLOOKUP('Indtast Hold og Resultat'!B87,Deltagere!$B$4:$E$1003,4,FALSE))","v":"Farve"},null,null,null,{"$f":"COUNT('Indtast Hold og Resultat'!B84:B87)","v":4}]
[null,{"$f":"IF(X300=\"\",\"\",IF(X300<=18,X300,\"\"))","v":12},{"$f":"IF(X303=2,\"X\",IF(X303=3,\"X\",IF(X303=4,\"X\",\"\")))","v":"X"}]
[null,{"$f":"IF(B304<18,B304+1,IF(B304=18,1,\"\"))","v":13},null,null,null,null,null,null,null,{"$f":"IF(X303=2,\"X\",IF(X303=3,\"X\",IF(X303=4,\"X\",\"\")))","v":"X"}]
[null,14,{"$f":"IF(X303=2,\"X\",\"\")","v":""},null,null,null,null,null,null,null,null,null,null,null,null,null,{"$f":"IF(X303=3,\"X\",IF(X303=4,\"X\",\"\"))","v":"X"}]
[null,15,{"$f":"IF(X303=3,\"X\",\"\")","v":""},null,null,null,null,null,null,{"$f":"IF(X303=2,\"X\",\"\")","v":""},null,null,null,null,null,null,null,null,null,{"$f":"IF(X303=4,\"X\",\"\")","v":"X"}]
[null,16,{"$f":"IF(X303=2,\"X\",IF(X303=4,\"X\",\"\"))","v":"X"},null,null,null,null,null,null,{"$f":"IF(X303=3,\"X\",\"\")","v":""}]
[null,17,null,null,null,null,null,null,null,{"$f":"IF(X303=2,\"X\",IF(X303=4,\"X\",\"\"))","v":"X"},null,null,null,null,null,null,{"$f":"IF(X303=3,\"X\",\"\")","v":""}]
[null,18,{"$f":"IF(X303=2,\"X\",IF(X303=3,\"X\",\"\"))","v":""},null,null,null,null,null,null,null,null,null,null,null,null,null,{"$f":"IF(X303=4,\"X\",\"\")","v":"X"}]
[null,1,null,null,null,null,null,null,null,{"$f":"IF(X303=2,\"X\",IF(X303=3,\"X\",\"\"))","v":""},null,null,null,null,null,null,null,null,null,{"$f":"IF(X303=4,\"X\",\"\")","v":"X"}]
[null,2,{"$f":"IF(X303=2,\"X\",IF(X303=4,\"X\",\"\"))","v":"X"},null,null,null,null,null,null,null,null,null,null,null,null,null,{"$f":"IF(X303=3,\"X\",\"\")","v":""}]
[null,3,{"$f":"IF(X303=3,\"X\",\"\")","v":""},null,null,null,null,null,null,{"$f":"IF(X303=2,\"X\",IF(X303=4,\"X\",\"\"))","v":"X"}]
[null,4,{"$f":"IF(X303=2,\"X\",\"\")","v":""},null,null,null,null,null,null,{"$f":"IF(X303=3,\"X\",\"\")","v":""},null,null,null,null,null,null,{"$f":"IF(X303=4,\"X\",\"\")","v":"X"}]
[null,5,null,null,null,null,null,null,null,{"$f":"IF(X303=2,\"X\",\"\")","v":""},null,null,null,null,null,null,{"$f":"IF(X303=3,\"X\",\"\")","v":""},null,null,{"$f":"IF(X303=4,\"X\",\"\")","v":"X"}]
[null,6,{"$f":"IF(X303=2,\"X\",IF(X303=3,\"X\",IF(X303=4,\"X\",\"\")))","v":"X"}]
[null,7,null,null,null,null,null,null,null,{"$f":"IF(X303=2,\"X\",IF(X303=3,\"X\",IF(X303=4,\"X\",\"\")))","v":"X"}]
[null,8,{"$f":"IF(X303=2,\"X\",\"\")","v":""},null,null,null,null,null,null,null,null,null,null,null,null,null,{"$f":"IF(X303=3,\"X\",IF(X303=4,\"X\",\"\"))","v":"X"},null,null,null,null,null,null,"Kontrol af "]
[null,9,{"$f":"IF(X303=3,\"X\",\"\")","v":""},null,null,null,null,null,null,{"$f":"IF(X303=2,\"X\",\"\")","v":""},null,null,null,null,null,null,null,null,null,{"$f":"IF(X303=4,\"X\",\"\")","v":"X"},null,null,null,"sammen-"]
[null,10,{"$f":"IF(X303=2,\"X\",IF(X303=4,\"X\",\"\"))","v":"X"},null,null,null,null,null,null,{"$f":"IF(X303=3,\"X\",\"\")","v":""},null,null,null,null,null,null,null,null,null,null,null,null,null,"tælling."]
[null,11,null,null,null,null,null,null,null,{"$f":"IF(X303=2,\"X\",IF(X303=4,\"X\",\"\"))","v":"X"},null,null,null,null,null,null,{"$f":"IF(X303=3,\"X\",\"\")","v":""}]
[null,"Total"]
[null,"Dommer :",null,{"$f":"C301","v":"Annie Jensen"},null,null,null,null,null,{"$f":"IF(D323=\"\",\"\",VLOOKUP(D323,Deltagere!$C$4:$I$1003,2,FALSE))","v":"Meløse"},null,null,null,null,null,"Dato:",null,{"$f":"IF('Holdsammensætning  '!$J$4=\"\",\"\",'Holdsammensætning  '!$J$4)","v":"2023-08-15"},null,{"$f":"'Indtast Hold og Resultat'!B82","v":"Hold 12"},null," Runde :",null,1]
[]
[]
[null,null,null,null,null,null,null,{"$f":"IF('Holdsammensætning  '!$B$3=\"\",\"\",'Holdsammensætning  '!$B$3)","v":"BK Greve"},null,null,null,null,null,null,null,null,null,null,null,null,null,null,null,"Start hul nr."]
[null,null,null,null,null,null,null,{"$f":"IF('Holdsammensætning  '!$B$4=\"\",\"\",'Holdsammensætning  '!$B$4)","v":""},null,null,null,null,null,null,null,null,null,null,null,null,null,null,{"$f":"IF('Holdsammensætning  '!$J$5=\"\",\"\",'Holdsammensætning  '!$J$5)","v":""},{"$f":"'Indtast Hold og Resultat'!D89","v":13}]
[null,"Navn",{"$f":"'Indtast Hold og Resultat'!C91","v":"Lennert Sørensen"},null,null,null,null,null,null,{"$f":"'Indtast Hold og Resultat'!C92","v":"Michael Jørgensen"},null,null,null,null,null,null,{"$f":"'Indtast Hold og Resultat'!C93","v":"Ida Olsen"},null,null,{"$f":"'Indtast Hold og Resultat'!C94","v":"Peter Sølsten"},null,null,null,"  Antal "]
[null,"Klub",{"$f":"'Indtast Hold og Resultat'!D91","v":"Meløse"},null,null,null,null,null,null,{"$f":"'Indtast Hold og Resultat'!D92","v":"Krolffolket"},null,null,null,null,null,null,{"$f":"'Indtast Hold og Resultat'!D93","v":"Krolffolket"},null,null,{"$f":"'Indtast Hold og Resultat'!D94","v":"BK"},null,null,null,"Spillere"]
[null,"Kugle ",{"$f":"IF('Indtast Hold og Resultat'!B91=\"\",\"\",VLOOKUP('Indtast Hold og Resultat'!B91,Deltagere!$B$4:$E$1003,4,FALSE))","v":0},null,null,null,null,null,null,{"$f":"IF('Indtast Hold og Resultat'!B92=\"\",\"\",VLOOKUP('Indtast Hold og Resultat'!B92,Deltagere!$B$4:$E$1003,4,FALSE))","v":"Rød"},null,null,null,null,null,null,{"$f":"IF('Indtast Hold og Resultat'!B93=\"\",\"\",VLOOKUP('Indtast Hold og Resultat'!B93,Deltagere!$B$4:$E$1003,4,FALSE))","v":"Rød"},null,null,{"$f":"IF('Indtast Hold og Resultat'!B94=\"\",\"\",VLOOKUP('Indtast Hold og Resultat'!B94,Deltagere!$B$4:$E$1003,4,FALSE))","v":0},null,null,null,{"$f":"COUNT('Indtast Hold og Resultat'!B91:B94)","v":4}]
[null,{"$f":"IF(X327=\"\",\"\",IF(X327<=18,X327,\"\"))","v":13},{"$f":"IF(X330=2,\"X\",IF(X330=3,\"X\",IF(X330=4,\"X\",\"\")))","v":"X"}]
[null,{"$f":"IF(B331<18,B331+1,IF(B331=18,1,\"\"))","v":14},null,null,null,null,null,null,null,{"$f":"IF(X330=2,\"X\",IF(X330=3,\"X\",IF(X330=4,\"X\",\"\")))","v":"X"}]
[null,15,{"$f":"IF(X330=2,\"X\",\"\")","v":""},null,null,null,null,null,null,null,null,null,null,null,null,null,{"$f":"IF(X330=3,\"X\",IF(X330=4,\"X\",\"\"))","v":"X"}]
[null,16,{"$f":"IF(X330=3,\"X\",\"\")","v":""},null,null,null,null,null,null,{"$f":"IF(X330=2,\"X\",\"\")","v":""},null,null,null,null,null,null,null,null,null,{"$f":"IF(X330=4,\"X\",\"\")","v":"X"}]
[null,17,{"$f":"IF(X330=2,\"X\",IF(X330=4,\"X\",\"\"))","v":"X"},null,null,null,null,null,null,{"$f":"IF(X330=3,\"X\",\"\")","v":""}]
[null,18,null,null,null,null,null,null,null,{"$f":"IF(X330=2,\"X\",IF(X330=4,\"X\",\"\"))","v":"X"},null,null,null,null,null,null,{"$f":"IF(X330=3,\"X\",\"\")","v":""}]
[null,1,{"$f":"IF(X330=2,\"X\",IF(X330=3,\"X\",\"\"))","v":""},null,null,null,null,null,null,null,null,null,null,null,null,null,{"$f":"IF(X330=4,\"X\",\"\")","v":"X"}]
[null,2,null,null,null,null,null,null,null,{"$f":"IF(X330=2,\"X\",IF(X330=3,\"X\",\"\"))","v":""},null,null,null,null,null,null,null,null,null,{"$f":"IF(X330=4,\"X\",\"\")","v":"X"}]
[null,3,{"$f":"IF(X330=2,\"X\",IF(X330=4,\"X\",\"\"))","v":"X"},null,null,null,null,null,null,null,null,null,null,null,null,null,{"$f":"IF(X330=3,\"X\",\"\")","v":""}]
[null,4,{"$f":"IF(X330=3,\"X\",\"\")","v":""},null,null,null,null,null,null,{"$f":"IF(X330=2,\"X\",IF(X330=4,\"X\",\"\"))","v":"X"}]
[null,5,{"$f":"IF(X330=2,\"X\",\"\")","v":""},null,null,null,null,null,null,{"$f":"IF(X330=3,\"X\",\"\")","v":""},null,null,null,null,null,null,{"$f":"IF(X330=4,\"X\",\"\")","v":"X"}]
[null,6,null,null,null,null,null,null,null,{"$f":"IF(X330=2,\"X\",\"\")","v":""},null,null,null,null,null,null,{"$f":"IF(X330=3,\"X\",\"\")","v":""},null,null,{"$f":"IF(X330=4,\"X\",\"\")","v":"X"}]
[null,7,{"$f":"IF(X330=2,\"X\",IF(X330=3,\"X\",IF(X330=4,\"X\",\"\")))","v":"X"}]
[null,8,null,null,null,null,null,null,null,{"$f":"IF(X330=2,\"X\",IF(X330=3,\"X\",IF(X330=4,\"X\",\"\")))","v":"X"}]
[null,9,{"$f":"IF(X330=2,\"X\",\"\")","v":""},null,null,null,null,null,null,null,null,null,null,null,null,null,{"$f":"IF(X330=3,\"X\",IF(X330=4,\"X\",\"\"))","v":"X"},null,null,null,null,null,null,"Kontrol af "]
[null,10,{"$f":"IF(X330=3,\"X\",\"\")","v":""},null,null,null,null,null,null,{"$f":"IF(X330=2,\"X\",\"\")","v":""},null,null,null,null,null,null,null,null,null,{"$f":"IF(X330=4,\"X\",\"\")","v":"X"},null,null,null,"sammen-"]
[null,11,{"$f":"IF(X330=2,\"X\",IF(X330=4,\"X\",\"\"))","v":"X"},null,null,null,null,null,null,{"$f":"IF(X330=3,\"X\",\"\")","v":""},null,null,null,null,null,null,null,null,null,null,null,null,null,"tælling."]
[null,12,null,null,null,null,null,null,null,{"$f":"IF(X330=2,\"X\",IF(X330=4,\"X\",\"\"))","v":"X"},null,null,null,null,null,null,{"$f":"IF(X330=3,\"X\",\"\")","v":""}]
[null,"Total"]
[null,"Dommer :",null,{"$f":"C328","v":"Lennert Sørensen"},null,null,null,null,null,{"$f":"IF(D350=\"\",\"\",VLOOKUP(D350,Deltagere!$C$4:$I$1003,2,FALSE))","v":"Meløse"},null,null,null,null,null,"Dato:",null,{"$f":"IF('Holdsammensætning  '!$J$4=\"\",\"\",'Holdsammensætning  '!$J$4)","v":"2023-08-15"},null,{"$f":"'Indtast Hold og Resultat'!B89","v":"Hold 13"},null," Runde :",null,1]
[]
[]
[null,null,null,null,null,null,null,{"$f":"IF('Holdsammensætning  '!$B$3=\"\",\"\",'Holdsammensætning  '!$B$3)","v":"BK Greve"},null,null,null,null,null,null,null,null,null,null,null,null,null,null,null,"Start hul nr."]
[null,null,null,null,null,null,null,{"$f":"IF('Holdsammensætning  '!$B$4=\"\",\"\",'Holdsammensætning  '!$B$4)","v":""},null,null,null,null,null,null,null,null,null,null,null,null,null,null,{"$f":"IF('Holdsammensætning  '!$J$5=\"\",\"\",'Holdsammensætning  '!$J$5)","v":""},{"$f":"'Indtast Hold og Resultat'!D96","v":14}]
[null,"Navn",{"$f":"'Indtast Hold og Resultat'!C98","v":"Anne Marie Laustsen"},null,null,null,null,null,null,{"$f":"'Indtast Hold og Resultat'!C99","v":"Jørgen Hansen"},null,null,null,null,null,null,{"$f":"'Indtast Hold og Resultat'!C100","v":"Ole Christensen"},null,null,{"$f":"'Indtast Hold og Resultat'!C101","v":"Sarah Christiansen"},null,null,null,"  Antal "]
[null,"Klub",{"$f":"'Indtast Hold og Resultat'!D98","v":"Meløse"},null,null,null,null,null,null,{"$f":"'Indtast Hold og Resultat'!D99","v":"Krolffolket"},null,null,null,null,null,null,{"$f":"'Indtast Hold og Resultat'!D100","v":"Krolffolket"},null,null,{"$f":"'Indtast Hold og Resultat'!D101","v":"IF Vikingerne"},null,null,null,"Spillere"]
[null,"Kugle ",{"$f":"IF('Indtast Hold og Resultat'!B98=\"\",\"\",VLOOKUP('Indtast Hold og Resultat'!B98,Deltagere!$B$4:$E$1003,4,FALSE))","v":0},null,null,null,null,null,null,{"$f":"IF('Indtast Hold og Resultat'!B99=\"\",\"\",VLOOKUP('Indtast Hold og Resultat'!B99,Deltagere!$B$4:$E$1003,4,FALSE))","v":"Blå"},null,null,null,null,null,null,{"$f":"IF('Indtast Hold og Resultat'!B100=\"\",\"\",VLOOKUP('Indtast Hold og Resultat'!B100,Deltagere!$B$4:$E$1003,4,FALSE))","v":"Gul"},null,null,{"$f":"IF('Indtast Hold og Resultat'!B101=\"\",\"\",VLOOKUP('Indtast Hold og Resultat'!B101,Deltagere!$B$4:$E$1003,4,FALSE))","v":"Farve"},null,null,null,{"$f":"COUNT('Indtast Hold og Resultat'!B98:B101)","v":4}]
[null,{"$f":"IF(X354=\"\",\"\",IF(X354<=18,X354,\"\"))","v":14},{"$f":"IF(X357=2,\"X\",IF(X357=3,\"X\",IF(X357=4,\"X\",\"\")))","v":"X"}]
[null,{"$f":"IF(B358<18,B358+1,IF(B358=18,1,\"\"))","v":15},null,null,null,null,null,null,null,{"$f":"IF(X357=2,\"X\",IF(X357=3,\"X\",IF(X357=4,\"X\",\"\")))","v":"X"}]
[null,16,{"$f":"IF(X357=2,\"X\",\"\")","v":""},null,null,null,null,null,null,null,null,null,null,null,null,null,{"$f":"IF(X357=3,\"X\",IF(X357=4,\"X\",\"\"))","v":"X"}]
[null,17,{"$f":"IF(X357=3,\"X\",\"\")","v":""},null,null,null,null,null,null,{"$f":"IF(X357=2,\"X\",\"\")","v":""},null,null,null,null,null,null,null,null,null,{"$f":"IF(X357=4,\"X\",\"\")","v":"X"}]
[null,18,{"$f":"IF(X357=2,\"X\",IF(X357=4,\"X\",\"\"))","v":"X"},null,null,null,null,null,null,{"$f":"IF(X357=3,\"X\",\"\")","v":""}]
[null,1,null,null,null,null,null,null,null,{"$f":"IF(X357=2,\"X\",IF(X357=4,\"X\",\"\"))","v":"X"},null,null,null,null,null,null,{"$f":"IF(X357=3,\"X\",\"\")","v":""}]
[null,2,{"$f":"IF(X357=2,\"X\",IF(X357=3,\"X\",\"\"))","v":""},null,null,null,null,null,null,null,null,null,null,null,null,null,{"$f":"IF(X357=4,\"X\",\"\")","v":"X"}]
[null,3,null,null,null,null,null,null,null,{"$f":"IF(X357=2,\"X\",IF(X357=3,\"X\",\"\"))","v":""},null,null,null,null,null,null,null,null,null,{"$f":"IF(X357=4,\"X\",\"\")","v":"X"}]
[null,4,{"$f":"IF(X357=2,\"X\",IF(X357=4,\"X\",\"\"))","v":"X"},null,null,null,null,null,null,null,null,null,null,null,null,null,{"$f":"IF(X357=3,\"X\",\"\")","v":""}]
[null,5,{"$f":"IF(X357=3,\"X\",\"\")","v":""},null,null,null,null,null,null,{"$f":"IF(X357=2,\"X\",IF(X357=4,\"X\",\"\"))","v":"X"}]
[null,6,{"$f":"IF(X357=2,\"X\",\"\")","v":""},null,null,null,null,null,null,{"$f":"IF(X357=3,\"X\",\"\")","v":""},null,null,null,null,null,null,{"$f":"IF(X357=4,\"X\",\"\")","v":"X"}]
[null,7,null,null,null,null,null,null,null,{"$f":"IF(X357=2,\"X\",\"\")","v":""},null,null,null,null,null,null,{"$f":"IF(X357=3,\"X\",\"\")","v":""},null,null,{"$f":"IF(X357=4,\"X\",\"\")","v":"X"}]
[null,8,{"$f":"IF(X357=2,\"X\",IF(X357=3,\"X\",IF(X357=4,\"X\",\"\")))","v":"X"}]
[null,9,null,null,null,null,null,null,null,{"$f":"IF(X357=2,\"X\",IF(X357=3,\"X\",IF(X357=4,\"X\",\"\")))","v":"X"}]
[null,10,{"$f":"IF(X357=2,\"X\",\"\")","v":""},null,null,null,null,null,null,null,null,null,null,null,null,null,{"$f":"IF(X357=3,\"X\",IF(X357=4,\"X\",\"\"))","v":"X"},null,null,null,null,null,null,"Kontrol af "]
[null,11,{"$f":"IF(X357=3,\"X\",\"\")","v":""},null,null,null,null,null,null,{"$f":"IF(X357=2,\"X\",\"\")","v":""},null,null,null,null,null,null,null,null,null,{"$f":"IF(X357=4,\"X\",\"\")","v":"X"},null,null,null,"sammen-"]
[null,12,{"$f":"IF(X357=2,\"X\",IF(X357=4,\"X\",\"\"))","v":"X"},null,null,null,null,null,null,{"$f":"IF(X357=3,\"X\",\"\")","v":""},null,null,null,null,null,null,null,null,null,null,null,null,null,"tælling."]
[null,13,null,null,null,null,null,null,null,{"$f":"IF(X357=2,\"X\",IF(X357=4,\"X\",\"\"))","v":"X"},null,null,null,null,null,null,{"$f":"IF(X357=3,\"X\",\"\")","v":""}]
[null,"Total"]
[null,"Dommer :",null,{"$f":"C355","v":"Anne Marie Laustsen"},null,null,null,null,null,{"$f":"IF(D377=\"\",\"\",VLOOKUP(D377,Deltagere!$C$4:$I$1003,2,FALSE))","v":"Meløse"},null,null,null,null,null,"Dato:",null,{"$f":"IF('Holdsammensætning  '!$J$4=\"\",\"\",'Holdsammensætning  '!$J$4)","v":"2023-08-15"},null,{"$f":"'Indtast Hold og Resultat'!B96","v":"Hold 14"},null," Runde :",null,1]
[]
[]
[null,null,null,null,null,null,null,{"$f":"IF('Holdsammensætning  '!$B$3=\"\",\"\",'Holdsammensætning  '!$B$3)","v":"BK Greve"},null,null,null,null,null,null,null,null,null,null,null,null,null,null,null,"Start hul nr."]
[null,null,null,null,null,null,null,{"$f":"IF('Holdsammensætning  '!$B$4=\"\",\"\",'Holdsammensætning  '!$B$4)","v":""},null,null,null,null,null,null,null,null,null,null,null,null,null,null,{"$f":"IF('Holdsammensætning  '!$J$5=\"\",\"\",'Holdsammensætning  '!$J$5)","v":""},{"$f":"'Indtast Hold og Resultat'!D103","v":15}]
[null,"Navn",{"$f":"'Indtast Hold og Resultat'!C105","v":"Lise Qvist Bebe"},null,null,null,null,null,null,{"$f":"'Indtast Hold og Resultat'!C106","v":"Anette Nielsen"},null,null,null,null,null,null,{"$f":"'Indtast Hold og Resultat'!C107","v":"Peter Christensen"},null,null,{"$f":"'Indtast Hold og Resultat'!C108","v":""},null,null,null,"  Antal "]
[null,"Klub",{"$f":"'Indtast Hold og Resultat'!D105","v":"Meløse"},null,null,null,null,null,null,{"$f":"'Indtast Hold og Resultat'!D106","v":"BK"},null,null,null,null,null,null,{"$f":"'Indtast Hold og Resultat'!D107","v":"Krolffolket"},null,null,{"$f":"'Indtast Hold og Resultat'!D108","v":""},null,null,null,"Spillere"]
[null,"Kugle ",{"$f":"IF('Indtast Hold og Resultat'!B105=\"\",\"\",VLOOKUP('Indtast Hold og Resultat'!B105,Deltagere!$B$4:$E$1003,4,FALSE))","v":"Farve"},null,null,null,null,null,null,{"$f":"IF('Indtast Hold og Resultat'!B106=\"\",\"\",VLOOKUP('Indtast Hold og Resultat'!B106,Deltagere!$B$4:$E$1003,4,FALSE))","v":"Farve"},null,null,null,null,null,null,{"$f":"IF('Indtast Hold og Resultat'!B107=\"\",\"\",VLOOKUP('Indtast Hold og Resultat'!B107,Deltagere!$B$4:$E$1003,4,FALSE))","v":"Rød"},null,null,{"$f":"IF('Indtast Hold og Resultat'!B108=\"\",\"\",VLOOKUP('Indtast Hold og Resultat'!B108,Deltagere!$B$4:$E$1003,4,FALSE))","v":""},null,null,null,{"$f":"COUNT('Indtast Hold og Resultat'!B105:B108)","v":3}]
[null,{"$f":"IF(X381=\"\",\"\",IF(X381<=18,X381,\"\"))","v":15},{"$f":"IF(X384=2,\"X\",IF(X384=3,\"X\",IF(X384=4,\"X\",\"\")))","v":"X"}]
[null,{"$f":"IF(B385<18,B385+1,IF(B385=18,1,\"\"))","v":16},null,null,null,null,null,null,null,{"$f":"IF(X384=2,\"X\",IF(X384=3,\"X\",IF(X384=4,\"X\",\"\")))","v":"X"}]
[null,17,{"$f":"IF(X384=2,\"X\",\"\")","v":""},null,null,null,null,null,null,null,null,null,null,null,null,null,{"$f":"IF(X384=3,\"X\",IF(X384=4,\"X\",\"\"))","v":"X"}]
[null,18,{"$f":"IF(X384=3,\"X\",\"\")","v":"X"},null,null,null,null,null,null,{"$f":"IF(X384=2,\"X\",\"\")","v":""},null,null,null,null,null,null,null,null,null,{"$f":"IF(X384=4,\"X\",\"\")","v":""}]
[null,1,{"$f":"IF(X384=2,\"X\",IF(X384=4,\"X\",\"\"))","v":""},null,null,null,null,null,null,{"$f":"IF(X384=3,\"X\",\"\")","v":"X"}]
[null,2,null,null,null,null,null,null,null,{"$f":"IF(X384=2,\"X\",IF(X384=4,\"X\",\"\"))","v":""},null,null,null,null,null,null,{"$f":"IF(X384=3,\"X\",\"\")","v":"X"}]
[null,3,{"$f":"IF(X384=2,\"X\",IF(X384=3,\"X\",\"\"))","v":"X"},null,null,null,null,null,null,null,null,null,null,null,null,null,{"$f":"IF(X384=4,\"X\",\"\")","v":""}]
[null,4,null,null,null,null,null,null,null,{"$f":"IF(X384=2,\"X\",IF(X384=3,\"X\",\"\"))","v":"X"},null,null,null,null,null,null,null,null,null,{"$f":"IF(X384=4,\"X\",\"\")","v":""}]
[null,5,{"$f":"IF(X384=2,\"X\",IF(X384=4,\"X\",\"\"))","v":""},null,null,null,null,null,null,null,null,null,null,null,null,null,{"$f":"IF(X384=3,\"X\",\"\")","v":"X"}]
[null,6,{"$f":"IF(X384=3,\"X\",\"\")","v":"X"},null,null,null,null,null,null,{"$f":"IF(X384=2,\"X\",IF(X384=4,\"X\",\"\"))","v":""}]
[null,7,{"$f":"IF(X384=2,\"X\",\"\")","v":""},null,null,null,null,null,null,{"$f":"IF(X384=3,\"X\",\"\")","v":"X"},null,null,null,null,null,null,{"$f":"IF(X384=4,\"X\",\"\")","v":""}]
[null,8,null,null,null,null,null,null,null,{"$f":"IF(X384=2,\"X\",\"\")","v":""},null,null,null,null,null,null,{"$f":"IF(X384=3,\"X\",\"\")","v":"X"},null,null,{"$f":"IF(X384=4,\"X\",\"\")","v":""}]
[null,9,{"$f":"IF(X384=2,\"X\",IF(X384=3,\"X\",IF(X384=4,\"X\",\"\")))","v":"X"}]
[null,10,null,null,null,null,null,null,null,{"$f":"IF(X384=2,\"X\",IF(X384=3,\"X\",IF(X384=4,\"X\",\"\")))","v":"X"}]
[null,11,{"$f":"IF(X384=2,\"X\",\"\")","v":""},null,null,null,null,null,null,null,null,null,null,null,null,null,{"$f":"IF(X384=3,\"X\",IF(X384=4,\"X\",\"\"))","v":"X"},null,null,null,null,null,null,"Kontrol af "]
[null,12,{"$f":"IF(X384=3,\"X\",\"\")","v":"X"},null,null,null,null,null,null,{"$f":"IF(X384=2,\"X\",\"\")","v":""},null,null,null,null,null,null,null,null,null,{"$f":"IF(X384=4,\"X\",\"\")","v":""},null,null,null,"sammen-"]
[null,13,{"$f":"IF(X384=2,\"X\",IF(X384=4,\"X\",\"\"))","v":""},null,null,null,null,null,null,{"$f":"IF(X384=3,\"X\",\"\")","v":"X"},null,null,null,null,null,null,null,null,null,null,null,null,null,"tælling."]
[null,14,null,null,null,null,null,null,null,{"$f":"IF(X384=2,\"X\",IF(X384=4,\"X\",\"\"))","v":""},null,null,null,null,null,null,{"$f":"IF(X384=3,\"X\",\"\")","v":"X"}]
[null,"Total"]
[null,"Dommer :",null,{"$f":"C382","v":"Lise Qvist Bebe"},null,null,null,null,null,{"$f":"IF(D404=\"\",\"\",VLOOKUP(D404,Deltagere!$C$4:$I$1003,2,FALSE))","v":"Meløse"},null,null,null,null,null,"Dato:",null,{"$f":"IF('Holdsammensætning  '!$J$4=\"\",\"\",'Holdsammensætning  '!$J$4)","v":"2023-08-15"},null,{"$f":"'Indtast Hold og Resultat'!B103","v":"Hold 15"},null," Runde :",null,1]
[]
[]
[null,null,null,null,null,null,null,{"$f":"IF('Holdsammensætning  '!$B$3=\"\",\"\",'Holdsammensætning  '!$B$3)","v":"BK Greve"},null,null,null,null,null,null,null,null,null,null,null,null,null,null,null,"Start hul nr."]
[null,null,null,null,null,null,null,{"$f":"IF('Holdsammensætning  '!$B$4=\"\",\"\",'Holdsammensætning  '!$B$4)","v":""},null,null,null,null,null,null,null,null,null,null,null,null,null,null,{"$f":"IF('Holdsammensætning  '!$J$5=\"\",\"\",'Holdsammensætning  '!$J$5)","v":""},{"$f":"'Indtast Hold og Resultat'!D110","v":16}]
[null,"Navn",{"$f":"'Indtast Hold og Resultat'!C112","v":"Majbritt Nielsen"},null,null,null,null,null,null,{"$f":"'Indtast Hold og Resultat'!C113","v":"Jette S. Olsen"},null,null,null,null,null,null,{"$f":"'Indtast Hold og Resultat'!C114","v":"Anders Jørgensen"},null,null,{"$f":"'Indtast Hold og Resultat'!C115","v":"Margit Larsen"},null,null,null,"  Antal "]
[null,"Klub",{"$f":"'Indtast Hold og Resultat'!D112","v":"Krolffolket"},null,null,null,null,null,null,{"$f":"'Indtast Hold og Resultat'!D113","v":"Krolffolket"},null,null,null,null,null,null,{"$f":"'Indtast Hold og Resultat'!D114","v":"IF Vikingerne"},null,null,{"$f":"'Indtast Hold og Resultat'!D115","v":"BK"},null,null,null,"Spillere"]
[null,"Kugle ",{"$f":"IF('Indtast Hold og Resultat'!B112=\"\",\"\",VLOOKUP('Indtast Hold og Resultat'!B112,Deltagere!$B$4:$E$1003,4,FALSE))","v":"Rød"},null,null,null,null,null,null,{"$f":"IF('Indtast Hold og Resultat'!B113=\"\",\"\",VLOOKUP('Indtast Hold og Resultat'!B113,Deltagere!$B$4:$E$1003,4,FALSE))","v":"Rød"},null,null,null,null,null,null,{"$f":"IF('Indtast Hold og Resultat'!B114=\"\",\"\",VLOOKUP('Indtast Hold og Resultat'!B114,Deltagere!$B$4:$E$1003,4,FALSE))","v":"Farve"},null,null,{"$f":"IF('Indtast Hold og Resultat'!B115=\"\",\"\",VLOOKUP('Indtast Hold og Resultat'!B115,Deltagere!$B$4:$E$1003,4,FALSE))","v":"Grøn"},null,null,null,{"$f":"COUNT('Indtast Hold og Resultat'!B112:B115)","v":4}]
[null,{"$f":"IF(X408=\"\",\"\",IF(X408<=18,X408,\"\"))","v":16},{"$f":"IF(X411=2,\"X\",IF(X411=3,\"X\",IF(X411=4,\"X\",\"\")))","v":"X"}]
[null,{"$f":"IF(B412<18,B412+1,IF(B412=18,1,\"\"))","v":17},null,null,null,null,null,null,null,{"$f":"IF(X411=2,\"X\",IF(X411=3,\"X\",IF(X411=4,\"X\",\"\")))","v":"X"}]
[null,18,{"$f":"IF(X411=2,\"X\",\"\")","v":""},null,null,null,null,null,null,null,null,null,null,null,null,null,{"$f":"IF(X411=3,\"X\",IF(X411=4,\"X\",\"\"))","v":"X"}]
[null,1,{"$f":"IF(X411=3,\"X\",\"\")","v":""},null,null,null,null,null,null,{"$f":"IF(X411=2,\"X\",\"\")","v":""},null,null,null,null,null,null,null,null,null,{"$f":"IF(X411=4,\"X\",\"\")","v":"X"}]
[null,2,{"$f":"IF(X411=2,\"X\",IF(X411=4,\"X\",\"\"))","v":"X"},null,null,null,null,null,null,{"$f":"IF(X411=3,\"X\",\"\")","v":""}]
[null,3,null,null,null,null,null,null,null,{"$f":"IF(X411=2,\"X\",IF(X411=4,\"X\",\"\"))","v":"X"},null,null,null,null,null,null,{"$f":"IF(X411=3,\"X\",\"\")","v":""}]
[null,4,{"$f":"IF(X411=2,\"X\",IF(X411=3,\"X\",\"\"))","v":""},null,null,null,null,null,null,null,null,null,null,null,null,null,{"$f":"IF(X411=4,\"X\",\"\")","v":"X"}]
[null,5,null,null,null,null,null,null,null,{"$f":"IF(X411=2,\"X\",IF(X411=3,\"X\",\"\"))","v":""},null,null,null,null,null,null,null,null,null,{"$f":"IF(X411=4,\"X\",\"\")","v":"X"}]
[null,6,{"$f":"IF(X411=2,\"X\",IF(X411=4,\"X\",\"\"))","v":"X"},null,null,null,null,null,null,null,null,null,null,null,null,null,{"$f":"IF(X411=3,\"X\",\"\")","v":""}]
[null,7,{"$f":"IF(X411=3,\"X\",\"\")","v":""},null,null,null,null,null,null,{"$f":"IF(X411=2,\"X\",IF(X411=4,\"X\",\"\"))","v":"X"}]
[null,8,{"$f":"IF(X411=2,\"X\",\"\")","v":""},null,null,null,null,null,null,{"$f":"IF(X411=3,\"X\",\"\")","v":""},null,null,null,null,null,null,{"$f":"IF(X411=4,\"X\",\"\")","v":"X"}]
[null,9,null,null,null,null,null,null,null,{"$f":"IF(X411=2,\"X\",\"\")","v":""},null,null,null,null,null,null,{"$f":"IF(X411=3,\"X\",\"\")","v":""},null,null,{"$f":"IF(X411=4,\"X\",\"\")","v":"X"}]
[null,10,{"$f":"IF(X411=2,\"X\",IF(X411=3,\"X\",IF(X411=4,\"X\",\"\")))","v":"X"}]
[null,11,null,null,null,null,null,null,null,{"$f":"IF(X411=2,\"X\",IF(X411=3,\"X\",IF(X411=4,\"X\",\"\")))","v":"X"}]
[null,12,{"$f":"IF(X411=2,\"X\",\"\")","v":""},null,null,null,null,null,null,null,null,null,null,null,null,null,{"$f":"IF(X411=3,\"X\",IF(X411=4,\"X\",\"\"))","v":"X"},null,null,null,null,null,null,"Kontrol af "]
[null,13,{"$f":"IF(X411=3,\"X\",\"\")","v":""},null,null,null,null,null,null,{"$f":"IF(X411=2,\"X\",\"\")","v":""},null,null,null,null,null,null,null,null,null,{"$f":"IF(X411=4,\"X\",\"\")","v":"X"},null,null,null,"sammen-"]
[null,14,{"$f":"IF(X411=2,\"X\",IF(X411=4,\"X\",\"\"))","v":"X"},null,null,null,null,null,null,{"$f":"IF(X411=3,\"X\",\"\")","v":""},null,null,null,null,null,null,null,null,null,null,null,null,null,"tælling."]
[null,15,null,null,null,null,null,null,null,{"$f":"IF(X411=2,\"X\",IF(X411=4,\"X\",\"\"))","v":"X"},null,null,null,null,null,null,{"$f":"IF(X411=3,\"X\",\"\")","v":""}]
[null,"Total"]
[null,"Dommer :",null,{"$f":"C409","v":"Majbritt Nielsen"},null,null,null,null,null,{"$f":"IF(D431=\"\",\"\",VLOOKUP(D431,Deltagere!$C$4:$I$1003,2,FALSE))","v":"Krolffolket"},null,null,null,null,null,"Dato:",null,{"$f":"IF('Holdsammensætning  '!$J$4=\"\",\"\",'Holdsammensætning  '!$J$4)","v":"2023-08-15"},null,{"$f":"'Indtast Hold og Resultat'!B110","v":"Hold 16"},null," Runde :",null,1]
[]
[]
[null,null,null,null,null,null,null,{"$f":"IF('Holdsammensætning  '!$B$3=\"\",\"\",'Holdsammensætning  '!$B$3)","v":"BK Greve"},null,null,null,null,null,null,null,null,null,null,null,null,null,null,null,"Start hul nr."]
[null,null,null,null,null,null,null,{"$f":"IF('Holdsammensætning  '!$B$4=\"\",\"\",'Holdsammensætning  '!$B$4)","v":""},null,null,null,null,null,null,null,null,null,null,null,null,null,null,{"$f":"IF('Holdsammensætning  '!$J$5=\"\",\"\",'Holdsammensætning  '!$J$5)","v":""},{"$f":"'Indtast Hold og Resultat'!D117","v":17}]
[null,"Navn",{"$f":"'Indtast Hold og Resultat'!C119","v":"Peter Aare"},null,null,null,null,null,null,{"$f":"'Indtast Hold og Resultat'!C120","v":"Lone Hansen"},null,null,null,null,null,null,{"$f":"'Indtast Hold og Resultat'!C121","v":"Lis Rasmussen"},null,null,{"$f":"'Indtast Hold og Resultat'!C122","v":""},null,null,null,"  Antal "]
[null,"Klub",{"$f":"'Indtast Hold og Resultat'!D119","v":"Meløse"},null,null,null,null,null,null,{"$f":"'Indtast Hold og Resultat'!D120","v":"Krolffolket"},null,null,null,null,null,null,{"$f":"'Indtast Hold og Resultat'!D121","v":"BK"},null,null,{"$f":"'Indtast Hold og Resultat'!D122","v":""},null,null,null,"Spillere"]
[null,"Kugle ",{"$f":"IF('Indtast Hold og Resultat'!B119=\"\",\"\",VLOOKUP('Indtast Hold og Resultat'!B119,Deltagere!$B$4:$E$1003,4,FALSE))","v":"Blå"},null,null,null,null,null,null,{"$f":"IF('Indtast Hold og Resultat'!B120=\"\",\"\",VLOOKUP('Indtast Hold og Resultat'!B120,Deltagere!$B$4:$E$1003,4,FALSE))","v":"Rød"},null,null,null,null,null,null,{"$f":"IF('Indtast Hold og Resultat'!B121=\"\",\"\",VLOOKUP('Indtast Hold og Resultat'!B121,Deltagere!$B$4:$E$1003,4,FALSE))","v":"Farve"},null,null,{"$f":"IF('Indtast Hold og Resultat'!B122=\"\",\"\",VLOOKUP('Indtast Hold og Resultat'!B122,Deltagere!$B$4:$E$1003,4,FALSE))","v":""},null,null,null,{"$f":"COUNT('Indtast Hold og Resultat'!B119:B122)","v":3}]
[null,{"$f":"IF(X435=\"\",\"\",IF(X435<=18,X435,\"\"))","v":17},{"$f":"IF(X438=2,\"X\",IF(X438=3,\"X\",IF(X438=4,\"X\",\"\")))","v":"X"}]
[null,{"$f":"IF(B439<18,B439+1,IF(B439=18,1,\"\"))","v":18},null,null,null,null,null,null,null,{"$f":"IF(X438=2,\"X\",IF(X438=3,\"X\",IF(X438=4,\"X\",\"\")))","v":"X"}]
[null,1,{"$f":"IF(X438=2,\"X\",\"\")","v":""},null,null,null,null,null,null,null,null,null,null,null,null,null,{"$f":"IF(X438=3,\"X\",IF(X438=4,\"X\",\"\"))","v":"X"}]
[null,2,{"$f":"IF(X438=3,\"X\",\"\")","v":"X"},null,null,null,null,null,null,{"$f":"IF(X438=2,\"X\",\"\")","v":""},null,null,null,null,null,null,null,null,null,{"$f":"IF(X438=4,\"X\",\"\")","v":""}]
[null,3,{"$f":"IF(X438=2,\"X\",IF(X438=4,\"X\",\"\"))","v":""},null,null,null,null,null,null,{"$f":"IF(X438=3,\"X\",\"\")","v":"X"}]
[null,4,null,null,null,null,null,null,null,{"$f":"IF(X438=2,\"X\",IF(X438=4,\"X\",\"\"))","v":""},null,null,null,null,null,null,{"$f":"IF(X438=3,\"X\",\"\")","v":"X"}]
[null,5,{"$f":"IF(X438=2,\"X\",IF(X438=3,\"X\",\"\"))","v":"X"},null,null,null,null,null,null,null,null,null,null,null,null,null,{"$f":"IF(X438=4,\"X\",\"\")","v":""}]
[null,6,null,null,null,null,null,null,null,{"$f":"IF(X438=2,\"X\",IF(X438=3,\"X\",\"\"))","v":"X"},null,null,null,null,null,null,null,null,null,{"$f":"IF(X438=4,\"X\",\"\")","v":""}]
[null,7,{"$f":"IF(X438=2,\"X\",IF(X438=4,\"X\",\"\"))","v":""},null,null,null,null,null,null,null,null,null,null,null,null,null,{"$f":"IF(X438=3,\"X\",\"\")","v":"X"}]
[null,8,{"$f":"IF(X438=3,\"X\",\"\")","v":"X"},null,null,null,null,null,null,{"$f":"IF(X438=2,\"X\",IF(X438=4,\"X\",\"\"))","v":""}]
[null,9,{"$f":"IF(X438=2,\"X\",\"\")","v":""},null,null,null,null,null,null,{"$f":"IF(X438=3,\"X\",\"\")","v":"X"},null,null,null,null,null,null,{"$f":"IF(X438=4,\"X\",\"\")","v":""}]
[null,10,null,null,null,null,null,null,null,{"$f":"IF(X438=2,\"X\",\"\")","v":""},null,null,null,null,null,null,{"$f":"IF(X438=3,\"X\",\"\")","v":"X"},null,null,{"$f":"IF(X438=4,\"X\",\"\")","v":""}]
[null,11,{"$f":"IF(X438=2,\"X\",IF(X438=3,\"X\",IF(X438=4,\"X\",\"\")))","v":"X"}]
[null,12,null,null,null,null,null,null,null,{"$f":"IF(X438=2,\"X\",IF(X438=3,\"X\",IF(X438=4,\"X\",\"\")))","v":"X"}]
[null,13,{"$f":"IF(X438=2,\"X\",\"\")","v":""},null,null,null,null,null,null,null,null,null,null,null,null,null,{"$f":"IF(X438=3,\"X\",IF(X438=4,\"X\",\"\"))","v":"X"},null,null,null,null,null,null,"Kontrol af "]
[null,14,{"$f":"IF(X438=3,\"X\",\"\")","v":"X"},null,null,null,null,null,null,{"$f":"IF(X438=2,\"X\",\"\")","v":""},null,null,null,null,null,null,null,null,null,{"$f":"IF(X438=4,\"X\",\"\")","v":""},null,null,null,"sammen-"]
[null,15,{"$f":"IF(X438=2,\"X\",IF(X438=4,\"X\",\"\"))","v":""},null,null,null,null,null,null,{"$f":"IF(X438=3,\"X\",\"\")","v":"X"},null,null,null,null,null,null,null,null,null,null,null,null,null,"tælling."]
[null,16,null,null,null,null,null,null,null,{"$f":"IF(X438=2,\"X\",IF(X438=4,\"X\",\"\"))","v":""},null,null,null,null,null,null,{"$f":"IF(X438=3,\"X\",\"\")","v":"X"}]
[null,"Total"]
[null,"Dommer :",null,{"$f":"C436","v":"Peter Aare"},null,null,null,null,null,{"$f":"IF(D458=\"\",\"\",VLOOKUP(D458,Deltagere!$C$4:$I$1003,2,FALSE))","v":"Meløse"},null,null,null,null,null,"Dato:",null,{"$f":"IF('Holdsammensætning  '!$J$4=\"\",\"\",'Holdsammensætning  '!$J$4)","v":"2023-08-15"},null,{"$f":"'Indtast Hold og Resultat'!B117","v":"Hold 17"},null," Runde :",null,1]
[]
[]
[null,null,null,null,null,null,null,{"$f":"IF('Holdsammensætning  '!$B$3=\"\",\"\",'Holdsammensætning  '!$B$3)","v":"BK Greve"},null,null,null,null,null,null,null,null,null,null,null,null,null,null,null,"Start hul nr."]
[null,null,null,null,null,null,null,{"$f":"IF('Holdsammensætning  '!$B$4=\"\",\"\",'Holdsammensætning  '!$B$4)","v":""},null,null,null,null,null,null,null,null,null,null,null,null,null,null,{"$f":"IF('Holdsammensætning  '!$J$5=\"\",\"\",'Holdsammensætning  '!$J$5)","v":""},{"$f":"'Indtast Hold og Resultat'!D124","v":18}]
[null,"Navn",{"$f":"'Indtast Hold og Resultat'!C126","v":"Lone S. Nielsen"},null,null,null,null,null,null,{"$f":"'Indtast Hold og Resultat'!C127","v":"Helga Andersen"},null,null,null,null,null,null,{"$f":"'Indtast Hold og Resultat'!C128","v":"Kian Andersen"},null,null,{"$f":"'Indtast Hold og Resultat'!C129","v":"Per Aune"},null,null,null,"  Antal "]
[null,"Klub",{"$f":"'Indtast Hold og Resultat'!D126","v":"Krolffolket"},null,null,null,null,null,null,{"$f":"'Indtast Hold og Resultat'!D127","v":"Krolffolket"},null,null,null,null,null,null,{"$f":"'Indtast Hold og Resultat'!D128","v":"IF Vikingerne"},null,null,{"$f":"'Indtast Hold og Resultat'!D129","v":"BK"},null,null,null,"Spillere"]
[null,"Kugle ",{"$f":"IF('Indtast Hold og Resultat'!B126=\"\",\"\",VLOOKUP('Indtast Hold og Resultat'!B126,Deltagere!$B$4:$E$1003,4,FALSE))","v":"Grøn"},null,null,null,null,null,null,{"$f":"IF('Indtast Hold og Resultat'!B127=\"\",\"\",VLOOKUP('Indtast Hold og Resultat'!B127,Deltagere!$B$4:$E$1003,4,FALSE))","v":"Orange"},null,null,null,null,null,null,{"$f":"IF('Indtast Hold og Resultat'!B128=\"\",\"\",VLOOKUP('Indtast Hold og Resultat'!B128,Deltagere!$B$4:$E$1003,4,FALSE))","v":"Farve"},null,null,{"$f":"IF('Indtast Hold og Resultat'!B129=\"\",\"\",VLOOKUP('Indtast Hold og Resultat'!B129,Deltagere!$B$4:$E$1003,4,FALSE))","v":"Orange"},null,null,null,{"$f":"COUNT('Indtast Hold og Resultat'!B126:B129)","v":4}]
[null,{"$f":"IF(X462=\"\",\"\",IF(X462<=18,X462,\"\"))","v":18},{"$f":"IF(X465=2,\"X\",IF(X465=3,\"X\",IF(X465=4,\"X\",\"\")))","v":"X"}]
[null,{"$f":"IF(B466<18,B466+1,IF(B466=18,1,\"\"))","v":1},null,null,null,null,null,null,null,{"$f":"IF(X465=2,\"X\",IF(X465=3,\"X\",IF(X465=4,\"X\",\"\")))","v":"X"}]
[null,2,{"$f":"IF(X465=2,\"X\",\"\")","v":""},null,null,null,null,null,null,null,null,null,null,null,null,null,{"$f":"IF(X465=3,\"X\",IF(X465=4,\"X\",\"\"))","v":"X"}]
[null,3,{"$f":"IF(X465=3,\"X\",\"\")","v":""},null,null,null,null,null,null,{"$f":"IF(X465=2,\"X\",\"\")","v":""},null,null,null,null,null,null,null,null,null,{"$f":"IF(X465=4,\"X\",\"\")","v":"X"}]
[null,4,{"$f":"IF(X465=2,\"X\",IF(X465=4,\"X\",\"\"))","v":"X"},null,null,null,null,null,null,{"$f":"IF(X465=3,\"X\",\"\")","v":""}]
[null,5,null,null,null,null,null,null,null,{"$f":"IF(X465=2,\"X\",IF(X465=4,\"X\",\"\"))","v":"X"},null,null,null,null,null,null,{"$f":"IF(X465=3,\"X\",\"\")","v":""}]
[null,6,{"$f":"IF(X465=2,\"X\",IF(X465=3,\"X\",\"\"))","v":""},null,null,null,null,null,null,null,null,null,null,null,null,null,{"$f":"IF(X465=4,\"X\",\"\")","v":"X"}]
[null,7,null,null,null,null,null,null,null,{"$f":"IF(X465=2,\"X\",IF(X465=3,\"X\",\"\"))","v":""},null,null,null,null,null,null,null,null,null,{"$f":"IF(X465=4,\"X\",\"\")","v":"X"}]
[null,8,{"$f":"IF(X465=2,\"X\",IF(X465=4,\"X\",\"\"))","v":"X"},null,null,null,null,null,null,null,null,null,null,null,null,null,{"$f":"IF(X465=3,\"X\",\"\")","v":""}]
[null,9,{"$f":"IF(X465=3,\"X\",\"\")","v":""},null,null,null,null,null,null,{"$f":"IF(X465=2,\"X\",IF(X465=4,\"X\",\"\"))","v":"X"}]
[null,10,{"$f":"IF(X465=2,\"X\",\"\")","v":""},null,null,null,null,null,null,{"$f":"IF(X465=3,\"X\",\"\")","v":""},null,null,null,null,null,null,{"$f":"IF(X465=4,\"X\",\"\")","v":"X"}]
[null,11,null,null,null,null,null,null,null,{"$f":"IF(X465=2,\"X\",\"\")","v":""},null,null,null,null,null,null,{"$f":"IF(X465=3,\"X\",\"\")","v":""},null,null,{"$f":"IF(X465=4,\"X\",\"\")","v":"X"}]
[null,12,{"$f":"IF(X465=2,\"X\",IF(X465=3,\"X\",IF(X465=4,\"X\",\"\")))","v":"X"}]
[null,13,null,null,null,null,null,null,null,{"$f":"IF(X465=2,\"X\",IF(X465=3,\"X\",IF(X465=4,\"X\",\"\")))","v":"X"}]
[null,14,{"$f":"IF(X465=2,\"X\",\"\")","v":""},null,null,null,null,null,null,null,null,null,null,null,null,null,{"$f":"IF(X465=3,\"X\",IF(X465=4,\"X\",\"\"))","v":"X"},null,null,null,null,null,null,"Kontrol af "]
[null,15,{"$f":"IF(X465=3,\"X\",\"\")","v":""},null,null,null,null,null,null,{"$f":"IF(X465=2,\"X\",\"\")","v":""},null,null,null,null,null,null,null,null,null,{"$f":"IF(X465=4,\"X\",\"\")","v":"X"},null,null,null,"sammen-"]
[null,16,{"$f":"IF(X465=2,\"X\",IF(X465=4,\"X\",\"\"))","v":"X"},null,null,null,null,null,null,{"$f":"IF(X465=3,\"X\",\"\")","v":""},null,null,null,null,null,null,null,null,null,null,null,null,null,"tælling."]
[null,17,null,null,null,null,null,null,null,{"$f":"IF(X465=2,\"X\",IF(X465=4,\"X\",\"\"))","v":"X"},null,null,null,null,null,null,{"$f":"IF(X465=3,\"X\",\"\")","v":""}]
[null,"Total"]
[null,"Dommer :",null,{"$f":"C463","v":"Lone S. Nielsen"},null,null,null,null,null,{"$f":"IF(D485=\"\",\"\",VLOOKUP(D485,Deltagere!$C$4:$I$1003,2,FALSE))","v":"Krolffolket"},null,null,null,null,null,"Dato:",null,{"$f":"IF('Holdsammensætning  '!$J$4=\"\",\"\",'Holdsammensætning  '!$J$4)","v":"2023-08-15"},null,{"$f":"'Indtast Hold og Resultat'!B124","v":"Hold 18"},null," Runde :",null,1]
[]
[]
[null,null,null,null,null,null,null,{"$f":"IF('Holdsammensætning  '!$B$3=\"\",\"\",'Holdsammensætning  '!$B$3)","v":"BK Greve"},null,null,null,null,null,null,null,null,null,null,null,null,null,null,null,"Start hul nr."]
[null,null,null,null,null,null,null,{"$f":"IF('Holdsammensætning  '!$B$4=\"\",\"\",'Holdsammensætning  '!$B$4)","v":""},null,null,null,null,null,null,null,null,null,null,null,null,null,null,{"$f":"IF('Holdsammensætning  '!$J$5=\"\",\"\",'Holdsammensætning  '!$J$5)","v":""},{"$f":"'Indtast Hold og Resultat'!D131","v":1}]
[null,"Navn",{"$f":"'Indtast Hold og Resultat'!C133","v":"Helga Andersen"},null,null,null,null,null,null,{"$f":"'Indtast Hold og Resultat'!C134","v":"Peter Aare"},null,null,null,null,null,null,{"$f":"'Indtast Hold og Resultat'!C135","v":"Per Aune"},null,null,{"$f":"'Indtast Hold og Resultat'!C136","v":""},null,null,null,"  Antal "]
[null,"Klub",{"$f":"'Indtast Hold og Resultat'!D133","v":"Krolffolket"},null,null,null,null,null,null,{"$f":"'Indtast Hold og Resultat'!D134","v":"Meløse"},null,null,null,null,null,null,{"$f":"'Indtast Hold og Resultat'!D135","v":"BK"},null,null,{"$f":"'Indtast Hold og Resultat'!D136","v":""},null,null,null,"Spillere"]
[null,"Kugle ",{"$f":"IF('Indtast Hold og Resultat'!B133=\"\",\"\",VLOOKUP('Indtast Hold og Resultat'!B133,Deltagere!$B$4:$E$1003,4,FALSE))","v":"Orange"},null,null,null,null,null,null,{"$f":"IF('Indtast Hold og Resultat'!B134=\"\",\"\",VLOOKUP('Indtast Hold og Resultat'!B134,Deltagere!$B$4:$E$1003,4,FALSE))","v":"Blå"},null,null,null,null,null,null,{"$f":"IF('Indtast Hold og Resultat'!B135=\"\",\"\",VLOOKUP('Indtast Hold og Resultat'!B135,Deltagere!$B$4:$E$1003,4,FALSE))","v":"Orange"},null,null,{"$f":"IF('Indtast Hold og Resultat'!B136=\"\",\"\",VLOOKUP('Indtast Hold og Resultat'!B136,Deltagere!$B$4:$E$1003,4,FALSE))","v":""},null,null,null,{"$f":"COUNT('Indtast Hold og Resultat'!B133:B136)","v":3}]
[null,{"$f":"IF(X489=\"\",\"\",IF(X489<=18,X489,\"\"))","v":1},{"$f":"IF(X492=2,\"X\",IF(X492=3,\"X\",IF(X492=4,\"X\",\"\")))","v":"X"}]
[null,{"$f":"IF(B493<18,B493+1,IF(B493=18,1,\"\"))","v":2},null,null,null,null,null,null,null,{"$f":"IF(X492=2,\"X\",IF(X492=3,\"X\",IF(X492=4,\"X\",\"\")))","v":"X"}]
[null,3,{"$f":"IF(X492=2,\"X\",\"\")","v":""},null,null,null,null,null,null,null,null,null,null,null,null,null,{"$f":"IF(X492=3,\"X\",IF(X492=4,\"X\",\"\"))","v":"X"}]
[null,4,{"$f":"IF(X492=3,\"X\",\"\")","v":"X"},null,null,null,null,null,null,{"$f":"IF(X492=2,\"X\",\"\")","v":""},null,null,null,null,null,null,null,null,null,{"$f":"IF(X492=4,\"X\",\"\")","v":""}]
[null,5,{"$f":"IF(X492=2,\"X\",IF(X492=4,\"X\",\"\"))","v":""},null,null,null,null,null,null,{"$f":"IF(X492=3,\"X\",\"\")","v":"X"}]
[null,6,null,null,null,null,null,null,null,{"$f":"IF(X492=2,\"X\",IF(X492=4,\"X\",\"\"))","v":""},null,null,null,null,null,null,{"$f":"IF(X492=3,\"X\",\"\")","v":"X"}]
[null,7,{"$f":"IF(X492=2,\"X\",IF(X492=3,\"X\",\"\"))","v":"X"},null,null,null,null,null,null,null,null,null,null,null,null,null,{"$f":"IF(X492=4,\"X\",\"\")","v":""}]
[null,8,null,null,null,null,null,null,null,{"$f":"IF(X492=2,\"X\",IF(X492=3,\"X\",\"\"))","v":"X"},null,null,null,null,null,null,null,null,null,{"$f":"IF(X492=4,\"X\",\"\")","v":""}]
[null,9,{"$f":"IF(X492=2,\"X\",IF(X492=4,\"X\",\"\"))","v":""},null,null,null,null,null,null,null,null,null,null,null,null,null,{"$f":"IF(X492=3,\"X\",\"\")","v":"X"}]
[null,10,{"$f":"IF(X492=3,\"X\",\"\")","v":"X"},null,null,null,null,null,null,{"$f":"IF(X492=2,\"X\",IF(X492=4,\"X\",\"\"))","v":""}]
[null,11,{"$f":"IF(X492=2,\"X\",\"\")","v":""},null,null,null,null,null,null,{"$f":"IF(X492=3,\"X\",\"\")","v":"X"},null,null,null,null,null,null,{"$f":"IF(X492=4,\"X\",\"\")","v":""}]
[null,12,null,null,null,null,null,null,null,{"$f":"IF(X492=2,\"X\",\"\")","v":""},null,null,null,null,null,null,{"$f":"IF(X492=3,\"X\",\"\")","v":"X"},null,null,{"$f":"IF(X492=4,\"X\",\"\")","v":""}]
[null,13,{"$f":"IF(X492=2,\"X\",IF(X492=3,\"X\",IF(X492=4,\"X\",\"\")))","v":"X"}]
[null,14,null,null,null,null,null,null,null,{"$f":"IF(X492=2,\"X\",IF(X492=3,\"X\",IF(X492=4,\"X\",\"\")))","v":"X"}]
[null,15,{"$f":"IF(X492=2,\"X\",\"\")","v":""},null,null,null,null,null,null,null,null,null,null,null,null,null,{"$f":"IF(X492=3,\"X\",IF(X492=4,\"X\",\"\"))","v":"X"},null,null,null,null,null,null,"Kontrol af "]
[null,16,{"$f":"IF(X492=3,\"X\",\"\")","v":"X"},null,null,null,null,null,null,{"$f":"IF(X492=2,\"X\",\"\")","v":""},null,null,null,null,null,null,null,null,null,{"$f":"IF(X492=4,\"X\",\"\")","v":""},null,null,null,"sammen-"]
[null,17,{"$f":"IF(X492=2,\"X\",IF(X492=4,\"X\",\"\"))","v":""},null,null,null,null,null,null,{"$f":"IF(X492=3,\"X\",\"\")","v":"X"},null,null,null,null,null,null,null,null,null,null,null,null,null,"tælling."]
[null,18,null,null,null,null,null,null,null,{"$f":"IF(X492=2,\"X\",IF(X492=4,\"X\",\"\"))","v":""},null,null,null,null,null,null,{"$f":"IF(X492=3,\"X\",\"\")","v":"X"}]
[null,"Total"]
[null,"Dommer :",null,{"$f":"C490","v":"Helga Andersen"},null,null,null,null,null,{"$f":"IF(D512=\"\",\"\",VLOOKUP(D512,Deltagere!$C$4:$I$1003,2,FALSE))","v":"Krolffolket"},null,null,null,null,null,"Dato:",null,{"$f":"IF('Holdsammensætning  '!$J$4=\"\",\"\",'Holdsammensætning  '!$J$4)","v":"2023-08-15"},null,{"$f":"'Indtast Hold og Resultat'!B131","v":"Hold 1"},null," Runde :",null,2]
[]
[]
[null,null,null,null,null,null,null,{"$f":"IF('Holdsammensætning  '!$B$3=\"\",\"\",'Holdsammensætning  '!$B$3)","v":"BK Greve"},null,null,null,null,null,null,null,null,null,null,null,null,null,null,null,"Start hul nr."]
[null,null,null,null,null,null,null,{"$f":"IF('Holdsammensætning  '!$B$4=\"\",\"\",'Holdsammensætning  '!$B$4)","v":""},null,null,null,null,null,null,null,null,null,null,null,null,null,null,{"$f":"IF('Holdsammensætning  '!$J$5=\"\",\"\",'Holdsammensætning  '!$J$5)","v":""},{"$f":"'Indtast Hold og Resultat'!D138","v":2}]
[null,"Navn",{"$f":"'Indtast Hold og Resultat'!C140","v":"Lone Hansen"},null,null,null,null,null,null,{"$f":"'Indtast Hold og Resultat'!C141","v":"Lise Qvist Bebe"},null,null,null,null,null,null,{"$f":"'Indtast Hold og Resultat'!C142","v":"Ole Nilaus Nielsen"},null,null,{"$f":"'Indtast Hold og Resultat'!C143","v":"Åge  Zcharau"},null,null,null,"  Antal "]
[null,"Klub",{"$f":"'Indtast Hold og Resultat'!D140","v":"Krolffolket"},null,null,null,null,null,null,{"$f":"'Indtast Hold og Resultat'!D141","v":"Meløse"},null,null,null,null,null,null,{"$f":"'Indtast Hold og Resultat'!D142","v":"Krolffolket"},null,null,{"$f":"'Indtast Hold og Resultat'!D143","v":"BK"},null,null,null,"Spillere"]
[null,"Kugle ",{"$f":"IF('Indtast Hold og Resultat'!B140=\"\",\"\",VLOOKUP('Indtast Hold og Resultat'!B140,Deltagere!$B$4:$E$1003,4,FALSE))","v":"Rød"},null,null,null,null,null,null,{"$f":"IF('Indtast Hold og Resultat'!B141=\"\",\"\",VLOOKUP('Indtast Hold og Resultat'!B141,Deltagere!$B$4:$E$1003,4,FALSE))","v":"Farve"},null,null,null,null,null,null,{"$f":"IF('Indtast Hold og Resultat'!B142=\"\",\"\",VLOOKUP('Indtast Hold og Resultat'!B142,Deltagere!$B$4:$E$1003,4,FALSE))","v":"Gul"},null,null,{"$f":"IF('Indtast Hold og Resultat'!B143=\"\",\"\",VLOOKUP('Indtast Hold og Resultat'!B143,Deltagere!$B$4:$E$1003,4,FALSE))","v":"Farve"},null,null,null,{"$f":"COUNT('Indtast Hold og Resultat'!B140:B143)","v":4}]
[null,{"$f":"IF(X516=\"\",\"\",IF(X516<=18,X516,\"\"))","v":2},{"$f":"IF(X519=2,\"X\",IF(X519=3,\"X\",IF(X519=4,\"X\",\"\")))","v":"X"}]
[null,{"$f":"IF(B520<18,B520+1,IF(B520=18,1,\"\"))","v":3},null,null,null,null,null,null,null,{"$f":"IF(X519=2,\"X\",IF(X519=3,\"X\",IF(X519=4,\"X\",\"\")))","v":"X"}]
[null,4,{"$f":"IF(X519=2,\"X\",\"\")","v":""},null,null,null,null,null,null,null,null,null,null,null,null,null,{"$f":"IF(X519=3,\"X\",IF(X519=4,\"X\",\"\"))","v":"X"}]
[null,5,{"$f":"IF(X519=3,\"X\",\"\")","v":""},null,null,null,null,null,null,{"$f":"IF(X519=2,\"X\",\"\")","v":""},null,null,null,null,null,null,null,null,null,{"$f":"IF(X519=4,\"X\",\"\")","v":"X"}]
[null,6,{"$f":"IF(X519=2,\"X\",IF(X519=4,\"X\",\"\"))","v":"X"},null,null,null,null,null,null,{"$f":"IF(X519=3,\"X\",\"\")","v":""}]
[null,7,null,null,null,null,null,null,null,{"$f":"IF(X519=2,\"X\",IF(X519=4,\"X\",\"\"))","v":"X"},null,null,null,null,null,null,{"$f":"IF(X519=3,\"X\",\"\")","v":""}]
[null,8,{"$f":"IF(X519=2,\"X\",IF(X519=3,\"X\",\"\"))","v":""},null,null,null,null,null,null,null,null,null,null,null,null,null,{"$f":"IF(X519=4,\"X\",\"\")","v":"X"}]
[null,9,null,null,null,null,null,null,null,{"$f":"IF(X519=2,\"X\",IF(X519=3,\"X\",\"\"))","v":""},null,null,null,null,null,null,null,null,null,{"$f":"IF(X519=4,\"X\",\"\")","v":"X"}]
[null,10,{"$f":"IF(X519=2,\"X\",IF(X519=4,\"X\",\"\"))","v":"X"},null,null,null,null,null,null,null,null,null,null,null,null,null,{"$f":"IF(X519=3,\"X\",\"\")","v":""}]
[null,11,{"$f":"IF(X519=3,\"X\",\"\")","v":""},null,null,null,null,null,null,{"$f":"IF(X519=2,\"X\",IF(X519=4,\"X\",\"\"))","v":"X"}]
[null,12,{"$f":"IF(X519=2,\"X\",\"\")","v":""},null,null,null,null,null,null,{"$f":"IF(X519=3,\"X\",\"\")","v":""},null,null,null,null,null,null,{"$f":"IF(X519=4,\"X\",\"\")","v":"X"}]
[null,13,null,null,null,null,null,null,null,{"$f":"IF(X519=2,\"X\",\"\")","v":""},null,null,null,null,null,null,{"$f":"IF(X519=3,\"X\",\"\")","v":""},null,null,{"$f":"IF(X519=4,\"X\",\"\")","v":"X"}]
[null,14,{"$f":"IF(X519=2,\"X\",IF(X519=3,\"X\",IF(X519=4,\"X\",\"\")))","v":"X"}]
[null,15,null,null,null,null,null,null,null,{"$f":"IF(X519=2,\"X\",IF(X519=3,\"X\",IF(X519=4,\"X\",\"\")))","v":"X"}]
[null,16,{"$f":"IF(X519=2,\"X\",\"\")","v":""},null,null,null,null,null,null,null,null,null,null,null,null,null,{"$f":"IF(X519=3,\"X\",IF(X519=4,\"X\",\"\"))","v":"X"},null,null,null,null,null,null,"Kontrol af "]
[null,17,{"$f":"IF(X519=3,\"X\",\"\")","v":""},null,null,null,null,null,null,{"$f":"IF(X519=2,\"X\",\"\")","v":""},null,null,null,null,null,null,null,null,null,{"$f":"IF(X519=4,\"X\",\"\")","v":"X"},null,null,null,"sammen-"]
[null,18,{"$f":"IF(X519=2,\"X\",IF(X519=4,\"X\",\"\"))","v":"X"},null,null,null,null,null,null,{"$f":"IF(X519=3,\"X\",\"\")","v":""},null,null,null,null,null,null,null,null,null,null,null,null,null,"tælling."]
[null,1,null,null,null,null,null,null,null,{"$f":"IF(X519=2,\"X\",IF(X519=4,\"X\",\"\"))","v":"X"},null,null,null,null,null,null,{"$f":"IF(X519=3,\"X\",\"\")","v":""}]
[null,"Total"]
[null,"Dommer :",null,{"$f":"C517","v":"Lone Hansen"},null,null,null,null,null,{"$f":"IF(D539=\"\",\"\",VLOOKUP(D539,Deltagere!$C$4:$I$1003,2,FALSE))","v":"Krolffolket"},null,null,null,null,null,"Dato:",null,{"$f":"IF('Holdsammensætning  '!$J$4=\"\",\"\",'Holdsammensætning  '!$J$4)","v":"2023-08-15"},null,{"$f":"'Indtast Hold og Resultat'!B138","v":"Hold 2"},null," Runde :",null,2]
[]
[]
[null,null,null,null,null,null,null,{"$f":"IF('Holdsammensætning  '!$B$3=\"\",\"\",'Holdsammensætning  '!$B$3)","v":"BK Greve"},null,null,null,null,null,null,null,null,null,null,null,null,null,null,null,"Start hul nr."]
[null,null,null,null,null,null,null,{"$f":"IF('Holdsammensætning  '!$B$4=\"\",\"\",'Holdsammensætning  '!$B$4)","v":""},null,null,null,null,null,null,null,null,null,null,null,null,null,null,{"$f":"IF('Holdsammensætning  '!$J$5=\"\",\"\",'Holdsammensætning  '!$J$5)","v":""},{"$f":"'Indtast Hold og Resultat'!D145","v":3}]
[null,"Navn",{"$f":"'Indtast Hold og Resultat'!C147","v":"Jette S. Olsen"},null,null,null,null,null,null,{"$f":"'Indtast Hold og Resultat'!C148","v":"Anne Marie Laustsen"},null,null,null,null,null,null,{"$f":"'Indtast Hold og Resultat'!C149","v":"Ole Christensen"},null,null,{"$f":"'Indtast Hold og Resultat'!C150","v":"Annette Traulsen"},null,null,null,"  Antal "]
[null,"Klub",{"$f":"'Indtast Hold og Resultat'!D147","v":"Krolffolket"},null,null,null,null,null,null,{"$f":"'Indtast Hold og Resultat'!D148","v":"Meløse"},null,null,null,null,null,null,{"$f":"'Indtast Hold og Resultat'!D149","v":"Krolffolket"},null,null,{"$f":"'Indtast Hold og Resultat'!D150","v":"BK"},null,null,null,"Spillere"]
[null,"Kugle ",{"$f":"IF('Indtast Hold og Resultat'!B147=\"\",\"\",VLOOKUP('Indtast Hold og Resultat'!B147,Deltagere!$B$4:$E$1003,4,FALSE))","v":"Rød"},null,null,null,null,null,null,{"$f":"IF('Indtast Hold og Resultat'!B148=\"\",\"\",VLOOKUP('Indtast Hold og Resultat'!B178,Deltagere!$B$4:$E$1003,4,FALSE))","v":"Grøn"},null,null,null,null,null,null,{"$f":"IF('Indtast Hold og Resultat'!B149=\"\",\"\",VLOOKUP('Indtast Hold og Resultat'!B149,Deltagere!$B$4:$E$1003,4,FALSE))","v":"Gul"},null,null,{"$f":"IF('Indtast Hold og Resultat'!B150=\"\",\"\",VLOOKUP('Indtast Hold og Resultat'!B150,Deltagere!$B$4:$E$1003,4,FALSE))","v":0},null,null,null,{"$f":"COUNT('Indtast Hold og Resultat'!B147:B150)","v":4}]
[null,{"$f":"IF(X543=\"\",\"\",IF(X543<=18,X543,\"\"))","v":3},{"$f":"IF(X546=2,\"X\",IF(X546=3,\"X\",IF(X546=4,\"X\",\"\")))","v":"X"}]
[null,{"$f":"IF(B547<18,B547+1,IF(B547=18,1,\"\"))","v":4},null,null,null,null,null,null,null,{"$f":"IF(X546=2,\"X\",IF(X546=3,\"X\",IF(X546=4,\"X\",\"\")))","v":"X"}]
[null,5,{"$f":"IF(X546=2,\"X\",\"\")","v":""},null,null,null,null,null,null,null,null,null,null,null,null,null,{"$f":"IF(X546=3,\"X\",IF(X546=4,\"X\",\"\"))","v":"X"}]
[null,6,{"$f":"IF(X546=3,\"X\",\"\")","v":""},null,null,null,null,null,null,{"$f":"IF(X546=2,\"X\",\"\")","v":""},null,null,null,null,null,null,null,null,null,{"$f":"IF(X546=4,\"X\",\"\")","v":"X"}]
[null,7,{"$f":"IF(X546=2,\"X\",IF(X546=4,\"X\",\"\"))","v":"X"},null,null,null,null,null,null,{"$f":"IF(X546=3,\"X\",\"\")","v":""}]
[null,8,null,null,null,null,null,null,null,{"$f":"IF(X546=2,\"X\",IF(X546=4,\"X\",\"\"))","v":"X"},null,null,null,null,null,null,{"$f":"IF(X546=3,\"X\",\"\")","v":""}]
[null,9,{"$f":"IF(X546=2,\"X\",IF(X546=3,\"X\",\"\"))","v":""},null,null,null,null,null,null,null,null,null,null,null,null,null,{"$f":"IF(X546=4,\"X\",\"\")","v":"X"}]
[null,10,null,null,null,null,null,null,null,{"$f":"IF(X546=2,\"X\",IF(X546=3,\"X\",\"\"))","v":""},null,null,null,null,null,null,null,null,null,{"$f":"IF(X546=4,\"X\",\"\")","v":"X"}]
[null,11,{"$f":"IF(X546=2,\"X\",IF(X546=4,\"X\",\"\"))","v":"X"},null,null,null,null,null,null,null,null,null,null,null,null,null,{"$f":"IF(X546=3,\"X\",\"\")","v":""}]
[null,12,{"$f":"IF(X546=3,\"X\",\"\")","v":""},null,null,null,null,null,null,{"$f":"IF(X546=2,\"X\",IF(X546=4,\"X\",\"\"))","v":"X"}]
[null,13,{"$f":"IF(X546=2,\"X\",\"\")","v":""},null,null,null,null,null,null,{"$f":"IF(X546=3,\"X\",\"\")","v":""},null,null,null,null,null,null,{"$f":"IF(X546=4,\"X\",\"\")","v":"X"}]
[null,14,null,null,null,null,null,null,null,{"$f":"IF(X546=2,\"X\",\"\")","v":""},null,null,null,null,null,null,{"$f":"IF(X546=3,\"X\",\"\")","v":""},null,null,{"$f":"IF(X546=4,\"X\",\"\")","v":"X"}]
[null,15,{"$f":"IF(X546=2,\"X\",IF(X546=3,\"X\",IF(X546=4,\"X\",\"\")))","v":"X"}]
[null,16,null,null,null,null,null,null,null,{"$f":"IF(X546=2,\"X\",IF(X546=3,\"X\",IF(X546=4,\"X\",\"\")))","v":"X"}]
[null,17,{"$f":"IF(X546=2,\"X\",\"\")","v":""},null,null,null,null,null,null,null,null,null,null,null,null,null,{"$f":"IF(X546=3,\"X\",IF(X546=4,\"X\",\"\"))","v":"X"},null,null,null,null,null,null,"Kontrol af "]
[null,18,{"$f":"IF(X546=3,\"X\",\"\")","v":""},null,null,null,null,null,null,{"$f":"IF(X546=2,\"X\",\"\")","v":""},null,null,null,null,null,null,null,null,null,{"$f":"IF(X546=4,\"X\",\"\")","v":"X"},null,null,null,"sammen-"]
[null,1,{"$f":"IF(X546=2,\"X\",IF(X546=4,\"X\",\"\"))","v":"X"},null,null,null,null,null,null,{"$f":"IF(X546=3,\"X\",\"\")","v":""},null,null,null,null,null,null,null,null,null,null,null,null,null,"tælling."]
[null,2,null,null,null,null,null,null,null,{"$f":"IF(X546=2,\"X\",IF(X546=4,\"X\",\"\"))","v":"X"},null,null,null,null,null,null,{"$f":"IF(X546=3,\"X\",\"\")","v":""}]
[null,"Total"]
[null,"Dommer :",null,{"$f":"C544","v":"Jette S. Olsen"},null,null,null,null,null,{"$f":"IF(D566=\"\",\"\",VLOOKUP(D566,Deltagere!$C$4:$I$1003,2,FALSE))","v":"Krolffolket"},null,null,null,null,null,"Dato:",null,{"$f":"IF('Holdsammensætning  '!$J$4=\"\",\"\",'Holdsammensætning  '!$J$4)","v":"2023-08-15"},null,{"$f":"'Indtast Hold og Resultat'!B145","v":"Hold 3"},null," Runde :",null,2]
[]
[]
[null,null,null,null,null,null,null,{"$f":"IF('Holdsammensætning  '!$B$3=\"\",\"\",'Holdsammensætning  '!$B$3)","v":"BK Greve"},null,null,null,null,null,null,null,null,null,null,null,null,null,null,null,"Start hul nr."]
[null,null,null,null,null,null,null,{"$f":"IF('Holdsammensætning  '!$B$4=\"\",\"\",'Holdsammensætning  '!$B$4)","v":""},null,null,null,null,null,null,null,null,null,null,null,null,null,null,{"$f":"IF('Holdsammensætning  '!$J$5=\"\",\"\",'Holdsammensætning  '!$J$5)","v":""},{"$f":"'Indtast Hold og Resultat'!D152","v":4}]
[null,"Navn",{"$f":"'Indtast Hold og Resultat'!C154","v":"Ida Olsen"},null,null,null,null,null,null,{"$f":"'Indtast Hold og Resultat'!C155","v":"Lennert Sørensen"},null,null,null,null,null,null,{"$f":"'Indtast Hold og Resultat'!C156","v":"Tove Perlt"},null,null,{"$f":"'Indtast Hold og Resultat'!C157","v":""},null,null,null,"  Antal "]
[null,"Klub",{"$f":"'Indtast Hold og Resultat'!D154","v":"Krolffolket"},null,null,null,null,null,null,{"$f":"'Indtast Hold og Resultat'!D155","v":"Meløse"},null,null,null,null,null,null,{"$f":"'Indtast Hold og Resultat'!D156","v":"BK"},null,null,{"$f":"'Indtast Hold og Resultat'!D157","v":""},null,null,null,"Spillere"]
[null,"Kugle ",{"$f":"IF('Indtast Hold og Resultat'!B154=\"\",\"\",VLOOKUP('Indtast Hold og Resultat'!B154,Deltagere!$B$4:$E$1003,4,FALSE))","v":"Rød"},null,null,null,null,null,null,{"$f":"IF('Indtast Hold og Resultat'!B155=\"\",\"\",VLOOKUP('Indtast Hold og Resultat'!B155,Deltagere!$B$4:$E$1003,4,FALSE))","v":0},null,null,null,null,null,null,{"$f":"IF('Indtast Hold og Resultat'!B156=\"\",\"\",VLOOKUP('Indtast Hold og Resultat'!B156,Deltagere!$B$4:$E$1003,4,FALSE))","v":"Farve"},null,null,{"$f":"IF('Indtast Hold og Resultat'!B157=\"\",\"\",VLOOKUP('Indtast Hold og Resultat'!B157,Deltagere!$B$4:$E$1003,4,FALSE))","v":""},null,null,null,{"$f":"COUNT('Indtast Hold og Resultat'!B154:B157)","v":3}]
[null,{"$f":"IF(X570=\"\",\"\",IF(X570<=18,X570,\"\"))","v":4},{"$f":"IF(X573=2,\"X\",IF(X573=3,\"X\",IF(X573=4,\"X\",\"\")))","v":"X"}]
[null,{"$f":"IF(B574<18,B574+1,IF(B574=18,1,\"\"))","v":5},null,null,null,null,null,null,null,{"$f":"IF(X573=2,\"X\",IF(X573=3,\"X\",IF(X573=4,\"X\",\"\")))","v":"X"}]
[null,6,{"$f":"IF(X573=2,\"X\",\"\")","v":""},null,null,null,null,null,null,null,null,null,null,null,null,null,{"$f":"IF(X573=3,\"X\",IF(X573=4,\"X\",\"\"))","v":"X"}]
[null,7,{"$f":"IF(X573=3,\"X\",\"\")","v":"X"},null,null,null,null,null,null,{"$f":"IF(X573=2,\"X\",\"\")","v":""},null,null,null,null,null,null,null,null,null,{"$f":"IF(X573=4,\"X\",\"\")","v":""}]
[null,8,{"$f":"IF(X573=2,\"X\",IF(X573=4,\"X\",\"\"))","v":""},null,null,null,null,null,null,{"$f":"IF(X573=3,\"X\",\"\")","v":"X"}]
[null,9,null,null,null,null,null,null,null,{"$f":"IF(X573=2,\"X\",IF(X573=4,\"X\",\"\"))","v":""},null,null,null,null,null,null,{"$f":"IF(X573=3,\"X\",\"\")","v":"X"}]
[null,10,{"$f":"IF(X573=2,\"X\",IF(X573=3,\"X\",\"\"))","v":"X"},null,null,null,null,null,null,null,null,null,null,null,null,null,{"$f":"IF(X573=4,\"X\",\"\")","v":""}]
[null,11,null,null,null,null,null,null,null,{"$f":"IF(X573=2,\"X\",IF(X573=3,\"X\",\"\"))","v":"X"},null,null,null,null,null,null,null,null,null,{"$f":"IF(X573=4,\"X\",\"\")","v":""}]
[null,12,{"$f":"IF(X573=2,\"X\",IF(X573=4,\"X\",\"\"))","v":""},null,null,null,null,null,null,null,null,null,null,null,null,null,{"$f":"IF(X573=3,\"X\",\"\")","v":"X"}]
[null,13,{"$f":"IF(X573=3,\"X\",\"\")","v":"X"},null,null,null,null,null,null,{"$f":"IF(X573=2,\"X\",IF(X573=4,\"X\",\"\"))","v":""}]
[null,14,{"$f":"IF(X573=2,\"X\",\"\")","v":""},null,null,null,null,null,null,{"$f":"IF(X573=3,\"X\",\"\")","v":"X"},null,null,null,null,null,null,{"$f":"IF(X573=4,\"X\",\"\")","v":""}]
[null,15,null,null,null,null,null,null,null,{"$f":"IF(X573=2,\"X\",\"\")","v":""},null,null,null,null,null,null,{"$f":"IF(X573=3,\"X\",\"\")","v":"X"},null,null,{"$f":"IF(X573=4,\"X\",\"\")","v":""}]
[null,16,{"$f":"IF(X573=2,\"X\",IF(X573=3,\"X\",IF(X573=4,\"X\",\"\")))","v":"X"}]
[null,17,null,null,null,null,null,null,null,{"$f":"IF(X573=2,\"X\",IF(X573=3,\"X\",IF(X573=4,\"X\",\"\")))","v":"X"}]
[null,18,{"$f":"IF(X573=2,\"X\",\"\")","v":""},null,null,null,null,null,null,null,null,null,null,null,null,null,{"$f":"IF(X573=3,\"X\",IF(X573=4,\"X\",\"\"))","v":"X"},null,null,null,null,null,null,"Kontrol af "]
[null,1,{"$f":"IF(X573=3,\"X\",\"\")","v":"X"},null,null,null,null,null,null,{"$f":"IF(X573=2,\"X\",\"\")","v":""},null,null,null,null,null,null,null,null,null,{"$f":"IF(X573=4,\"X\",\"\")","v":""},null,null,null,"sammen-"]
[null,2,{"$f":"IF(X573=2,\"X\",IF(X573=4,\"X\",\"\"))","v":""},null,null,null,null,null,null,{"$f":"IF(X573=3,\"X\",\"\")","v":"X"},null,null,null,null,null,null,null,null,null,null,null,null,null,"tælling."]
[null,3,null,null,null,null,null,null,null,{"$f":"IF(X573=2,\"X\",IF(X573=4,\"X\",\"\"))","v":""},null,null,null,null,null,null,{"$f":"IF(X573=3,\"X\",\"\")","v":"X"}]
[null,"Total"]
[null,"Dommer :",null,{"$f":"C571","v":"Ida Olsen"},null,null,null,null,null,{"$f":"IF(D593=\"\",\"\",VLOOKUP(D593,Deltagere!$C$4:$I$1003,2,FALSE))","v":"Krolffolket"},null,null,null,null,null,"Dato:",null,{"$f":"IF('Holdsammensætning  '!$J$4=\"\",\"\",'Holdsammensætning  '!$J$4)","v":"2023-08-15"},null,{"$f":"'Indtast Hold og Resultat'!B152","v":"Hold 4"},null," Runde :",null,2]
[]
[]
[null,null,null,null,null,null,null,{"$f":"IF('Holdsammensætning  '!$B$3=\"\",\"\",'Holdsammensætning  '!$B$3)","v":"BK Greve"},null,null,null,null,null,null,null,null,null,null,null,null,null,null,null,"Start hul nr."]
[null,null,null,null,null,null,null,{"$f":"IF('Holdsammensætning  '!$B$4=\"\",\"\",'Holdsammensætning  '!$B$4)","v":""},null,null,null,null,null,null,null,null,null,null,null,null,null,null,{"$f":"IF('Holdsammensætning  '!$J$5=\"\",\"\",'Holdsammensætning  '!$J$5)","v":""},{"$f":"'Indtast Hold og Resultat'!D159","v":5}]
[null,"Navn",{"$f":"'Indtast Hold og Resultat'!C161","v":"Jørgen Hansen"},null,null,null,null,null,null,{"$f":"'Indtast Hold og Resultat'!C162","v":"Annie Jensen"},null,null,null,null,null,null,{"$f":"'Indtast Hold og Resultat'!C163","v":"Vibeke Jørgensen"},null,null,{"$f":"'Indtast Hold og Resultat'!C164","v":"Lis Rasmussen"},null,null,null,"  Antal "]
[null,"Klub",{"$f":"'Indtast Hold og Resultat'!D161","v":"Krolffolket"},null,null,null,null,null,null,{"$f":"'Indtast Hold og Resultat'!D162","v":"Meløse"},null,null,null,null,null,null,{"$f":"'Indtast Hold og Resultat'!D163","v":"Krolffolket"},null,null,{"$f":"'Indtast Hold og Resultat'!D164","v":"BK"},null,null,null,"Spillere"]
[null,"Kugle ",{"$f":"IF('Indtast Hold og Resultat'!B161=\"\",\"\",VLOOKUP('Indtast Hold og Resultat'!B161,Deltagere!$B$4:$E$1003,4,FALSE))","v":"Blå"},null,null,null,null,null,null,{"$f":"IF('Indtast Hold og Resultat'!B162=\"\",\"\",VLOOKUP('Indtast Hold og Resultat'!B162,Deltagere!$B$4:$E$1003,4,FALSE))","v":"Farve"},null,null,null,null,null,null,{"$f":"IF('Indtast Hold og Resultat'!B163=\"\",\"\",VLOOKUP('Indtast Hold og Resultat'!B163,Deltagere!$B$4:$E$1003,4,FALSE))","v":"Rød"},null,null,{"$f":"IF('Indtast Hold og Resultat'!B164=\"\",\"\",VLOOKUP('Indtast Hold og Resultat'!B164,Deltagere!$B$4:$E$1003,4,FALSE))","v":"Farve"},null,null,null,{"$f":"COUNT('Indtast Hold og Resultat'!B161:B164)","v":4}]
[null,{"$f":"IF(X597=\"\",\"\",IF(X597<=18,X597,\"\"))","v":5},{"$f":"IF(X600=2,\"X\",IF(X600=3,\"X\",IF(X600=4,\"X\",\"\")))","v":"X"}]
[null,{"$f":"IF(B601<18,B601+1,IF(B601=18,1,\"\"))","v":6},null,null,null,null,null,null,null,{"$f":"IF(X600=2,\"X\",IF(X600=3,\"X\",IF(X600=4,\"X\",\"\")))","v":"X"}]
[null,7,{"$f":"IF(X600=2,\"X\",\"\")","v":""},null,null,null,null,null,null,null,null,null,null,null,null,null,{"$f":"IF(X600=3,\"X\",IF(X600=4,\"X\",\"\"))","v":"X"}]
[null,8,{"$f":"IF(X600=3,\"X\",\"\")","v":""},null,null,null,null,null,null,{"$f":"IF(X600=2,\"X\",\"\")","v":""},null,null,null,null,null,null,null,null,null,{"$f":"IF(X600=4,\"X\",\"\")","v":"X"}]
[null,9,{"$f":"IF(X600=2,\"X\",IF(X600=4,\"X\",\"\"))","v":"X"},null,null,null,null,null,null,{"$f":"IF(X600=3,\"X\",\"\")","v":""}]
[null,10,null,null,null,null,null,null,null,{"$f":"IF(X600=2,\"X\",IF(X600=4,\"X\",\"\"))","v":"X"},null,null,null,null,null,null,{"$f":"IF(X600=3,\"X\",\"\")","v":""}]
[null,11,{"$f":"IF(X600=2,\"X\",IF(X600=3,\"X\",\"\"))","v":""},null,null,null,null,null,null,null,null,null,null,null,null,null,{"$f":"IF(X600=4,\"X\",\"\")","v":"X"}]
[null,12,null,null,null,null,null,null,null,{"$f":"IF(X600=2,\"X\",IF(X600=3,\"X\",\"\"))","v":""},null,null,null,null,null,null,null,null,null,{"$f":"IF(X600=4,\"X\",\"\")","v":"X"}]
[null,13,{"$f":"IF(X600=2,\"X\",IF(X600=4,\"X\",\"\"))","v":"X"},null,null,null,null,null,null,null,null,null,null,null,null,null,{"$f":"IF(X600=3,\"X\",\"\")","v":""}]
[null,14,{"$f":"IF(X600=3,\"X\",\"\")","v":""},null,null,null,null,null,null,{"$f":"IF(X600=2,\"X\",IF(X600=4,\"X\",\"\"))","v":"X"}]
[null,15,{"$f":"IF(X600=2,\"X\",\"\")","v":""},null,null,null,null,null,null,{"$f":"IF(X600=3,\"X\",\"\")","v":""},null,null,null,null,null,null,{"$f":"IF(X600=4,\"X\",\"\")","v":"X"}]
[null,16,null,null,null,null,null,null,null,{"$f":"IF(X600=2,\"X\",\"\")","v":""},null,null,null,null,null,null,{"$f":"IF(X600=3,\"X\",\"\")","v":""},null,null,{"$f":"IF(X600=4,\"X\",\"\")","v":"X"}]
[null,17,{"$f":"IF(X600=2,\"X\",IF(X600=3,\"X\",IF(X600=4,\"X\",\"\")))","v":"X"}]
[null,18,null,null,null,null,null,null,null,{"$f":"IF(X600=2,\"X\",IF(X600=3,\"X\",IF(X600=4,\"X\",\"\")))","v":"X"}]
[null,1,{"$f":"IF(X600=2,\"X\",\"\")","v":""},null,null,null,null,null,null,null,null,null,null,null,null,null,{"$f":"IF(X600=3,\"X\",IF(X600=4,\"X\",\"\"))","v":"X"},null,null,null,null,null,null,"Kontrol af "]
[null,2,{"$f":"IF(X600=3,\"X\",\"\")","v":""},null,null,null,null,null,null,{"$f":"IF(X600=2,\"X\",\"\")","v":""},null,null,null,null,null,null,null,null,null,{"$f":"IF(X600=4,\"X\",\"\")","v":"X"},null,null,null,"sammen-"]
[null,3,{"$f":"IF(X600=2,\"X\",IF(X600=4,\"X\",\"\"))","v":"X"},null,null,null,null,null,null,{"$f":"IF(X600=3,\"X\",\"\")","v":""},null,null,null,null,null,null,null,null,null,null,null,null,null,"tælling."]
[null,4,null,null,null,null,null,null,null,{"$f":"IF(X600=2,\"X\",IF(X600=4,\"X\",\"\"))","v":"X"},null,null,null,null,null,null,{"$f":"IF(X600=3,\"X\",\"\")","v":""}]
[null,"Total"]
[null,"Dommer :",null,{"$f":"C598","v":"Jørgen Hansen"},null,null,null,null,null,{"$f":"IF(D620=\"\",\"\",VLOOKUP(D620,Deltagere!$C$4:$I$1003,2,FALSE))","v":"Krolffolket"},null,null,null,null,null,"Dato:",null,{"$f":"IF('Holdsammensætning  '!$J$4=\"\",\"\",'Holdsammensætning  '!$J$4)","v":"2023-08-15"},null,{"$f":"'Indtast Hold og Resultat'!B159","v":"Hold 5"},null," Runde :",null,2]
[]
[]
[null,null,null,null,null,null,null,{"$f":"IF('Holdsammensætning  '!$B$3=\"\",\"\",'Holdsammensætning  '!$B$3)","v":"BK Greve"},null,null,null,null,null,null,null,null,null,null,null,null,null,null,null,"Start hul nr."]
[null,null,null,null,null,null,null,{"$f":"IF('Holdsammensætning  '!$B$4=\"\",\"\",'Holdsammensætning  '!$B$4)","v":""},null,null,null,null,null,null,null,null,null,null,null,null,null,null,{"$f":"IF('Holdsammensætning  '!$J$5=\"\",\"\",'Holdsammensætning  '!$J$5)","v":""},{"$f":"'Indtast Hold og Resultat'!D166","v":6}]
[null,"Navn",{"$f":"'Indtast Hold og Resultat'!C168","v":"Michael Jørgensen"},null,null,null,null,null,null,{"$f":"'Indtast Hold og Resultat'!C169","v":"Jørgen Hvilsom"},null,null,null,null,null,null,{"$f":"'Indtast Hold og Resultat'!C170","v":"Susanne Blok"},null,null,{"$f":"'Indtast Hold og Resultat'!C171","v":"Peter Sølsten"},null,null,null,"  Antal "]
[null,"Klub",{"$f":"'Indtast Hold og Resultat'!D168","v":"Krolffolket"},null,null,null,null,null,null,{"$f":"'Indtast Hold og Resultat'!D169","v":"Meløse"},null,null,null,null,null,null,{"$f":"'Indtast Hold og Resultat'!D170","v":"Krolffolket"},null,null,{"$f":"'Indtast Hold og Resultat'!D171","v":"BK"},null,null,null,"Spillere"]
[null,"Kugle ",{"$f":"IF('Indtast Hold og Resultat'!B168=\"\",\"\",VLOOKUP('Indtast Hold og Resultat'!B168,Deltagere!$B$4:$E$1003,4,FALSE))","v":"Rød"},null,null,null,null,null,null,{"$f":"IF('Indtast Hold og Resultat'!B169=\"\",\"\",VLOOKUP('Indtast Hold og Resultat'!B169,Deltagere!$B$4:$E$1003,4,FALSE))","v":"Orange"},null,null,null,null,null,null,{"$f":"IF('Indtast Hold og Resultat'!B170=\"\",\"\",VLOOKUP('Indtast Hold og Resultat'!B170,Deltagere!$B$4:$E$1003,4,FALSE))","v":"Gul"},null,null,{"$f":"IF('Indtast Hold og Resultat'!B171=\"\",\"\",VLOOKUP('Indtast Hold og Resultat'!B171,Deltagere!$B$4:$E$1003,4,FALSE))","v":0},null,null,null,{"$f":"COUNT('Indtast Hold og Resultat'!B168:C171)","v":4}]
[null,{"$f":"IF(X624=\"\",\"\",IF(X624<=18,X624,\"\"))","v":6},{"$f":"IF(X627=2,\"X\",IF(X627=3,\"X\",IF(X627=4,\"X\",\"\")))","v":"X"}]
[null,{"$f":"IF(B628<18,B628+1,IF(B628=18,1,\"\"))","v":7},null,null,null,null,null,null,null,{"$f":"IF(X627=2,\"X\",IF(X627=3,\"X\",IF(X627=4,\"X\",\"\")))","v":"X"}]
[null,8,{"$f":"IF(X627=2,\"X\",\"\")","v":""},null,null,null,null,null,null,null,null,null,null,null,null,null,{"$f":"IF(X627=3,\"X\",IF(X627=4,\"X\",\"\"))","v":"X"}]
[null,9,{"$f":"IF(X627=3,\"X\",\"\")","v":""},null,null,null,null,null,null,{"$f":"IF(X627=2,\"X\",\"\")","v":""},null,null,null,null,null,null,null,null,null,{"$f":"IF(X627=4,\"X\",\"\")","v":"X"}]
[null,10,{"$f":"IF(X627=2,\"X\",IF(X627=4,\"X\",\"\"))","v":"X"},null,null,null,null,null,null,{"$f":"IF(X627=3,\"X\",\"\")","v":""}]
[null,11,null,null,null,null,null,null,null,{"$f":"IF(X627=2,\"X\",IF(X627=4,\"X\",\"\"))","v":"X"},null,null,null,null,null,null,{"$f":"IF(X627=3,\"X\",\"\")","v":""}]
[null,12,{"$f":"IF(X627=2,\"X\",IF(X627=3,\"X\",\"\"))","v":""},null,null,null,null,null,null,null,null,null,null,null,null,null,{"$f":"IF(X627=4,\"X\",\"\")","v":"X"}]
[null,13,null,null,null,null,null,null,null,{"$f":"IF(X627=2,\"X\",IF(X627=3,\"X\",\"\"))","v":""},null,null,null,null,null,null,null,null,null,{"$f":"IF(X627=4,\"X\",\"\")","v":"X"}]
[null,14,{"$f":"IF(X627=2,\"X\",IF(X627=4,\"X\",\"\"))","v":"X"},null,null,null,null,null,null,null,null,null,null,null,null,null,{"$f":"IF(X627=3,\"X\",\"\")","v":""}]
[null,15,{"$f":"IF(X627=3,\"X\",\"\")","v":""},null,null,null,null,null,null,{"$f":"IF(X627=2,\"X\",IF(X627=4,\"X\",\"\"))","v":"X"}]
[null,16,{"$f":"IF(X627=2,\"X\",\"\")","v":""},null,null,null,null,null,null,{"$f":"IF(X627=3,\"X\",\"\")","v":""},null,null,null,null,null,null,{"$f":"IF(X627=4,\"X\",\"\")","v":"X"}]
[null,17,null,null,null,null,null,null,null,{"$f":"IF(X627=2,\"X\",\"\")","v":""},null,null,null,null,null,null,{"$f":"IF(X627=3,\"X\",\"\")","v":""},null,null,{"$f":"IF(X627=4,\"X\",\"\")","v":"X"}]
[null,18,{"$f":"IF(X627=2,\"X\",IF(X627=3,\"X\",IF(X627=4,\"X\",\"\")))","v":"X"}]
[null,1,null,null,null,null,null,null,null,{"$f":"IF(X627=2,\"X\",IF(X627=3,\"X\",IF(X627=4,\"X\",\"\")))","v":"X"}]
[null,2,{"$f":"IF(X627=2,\"X\",\"\")","v":""},null,null,null,null,null,null,null,null,null,null,null,null,null,{"$f":"IF(X627=3,\"X\",IF(X627=4,\"X\",\"\"))","v":"X"},null,null,null,null,null,null,"Kontrol af "]
[null,3,{"$f":"IF(X627=3,\"X\",\"\")","v":""},null,null,null,null,null,null,{"$f":"IF(X627=2,\"X\",\"\")","v":""},null,null,null,null,null,null,null,null,null,{"$f":"IF(X627=4,\"X\",\"\")","v":"X"},null,null,null,"sammen-"]
[null,4,{"$f":"IF(X627=2,\"X\",IF(X627=4,\"X\",\"\"))","v":"X"},null,null,null,null,null,null,{"$f":"IF(X627=3,\"X\",\"\")","v":""},null,null,null,null,null,null,null,null,null,null,null,null,null,"tælling."]
[null,5,null,null,null,null,null,null,null,{"$f":"IF(X627=2,\"X\",IF(X627=4,\"X\",\"\"))","v":"X"},null,null,null,null,null,null,{"$f":"IF(X627=3,\"X\",\"\")","v":""}]
[null,"Total"]
[null,"Dommer :",null,{"$f":"C625","v":"Michael Jørgensen"},null,null,null,null,null,{"$f":"IF(D647=\"\",\"\",VLOOKUP(D647,Deltagere!$C$4:$I$1003,2,FALSE))","v":"Krolffolket"},null,null,null,null,null,"Dato:",null,{"$f":"IF('Holdsammensætning  '!$J$4=\"\",\"\",'Holdsammensætning  '!$J$4)","v":"2023-08-15"},null,{"$f":"'Indtast Hold og Resultat'!B166","v":"Hold 6"},null," Runde :",null,2]
[]
[]
[null,null,null,null,null,null,null,{"$f":"IF('Holdsammensætning  '!$B$3=\"\",\"\",'Holdsammensætning  '!$B$3)","v":"BK Greve"},null,null,null,null,null,null,null,null,null,null,null,null,null,null,null,"Start hul nr."]
[null,null,null,null,null,null,null,{"$f":"IF('Holdsammensætning  '!$B$4=\"\",\"\",'Holdsammensætning  '!$B$4)","v":""},null,null,null,null,null,null,null,null,null,null,null,null,null,null,{"$f":"IF('Holdsammensætning  '!$J$5=\"\",\"\",'Holdsammensætning  '!$J$5)","v":""},{"$f":"'Indtast Hold og Resultat'!D173","v":7}]
[null,"Navn",{"$f":"'Indtast Hold og Resultat'!C175","v":"Hanne Hansen"},null,null,null,null,null,null,{"$f":"'Indtast Hold og Resultat'!C176","v":"Peter Knudsen"},null,null,null,null,null,null,{"$f":"'Indtast Hold og Resultat'!C177","v":"Benthe Dahl"},null,null,{"$f":"'Indtast Hold og Resultat'!C178","v":"Margit Larsen"},null,null,null,"  Antal "]
[null,"Klub",{"$f":"'Indtast Hold og Resultat'!D175","v":"Krolffolket"},null,null,null,null,null,null,{"$f":"'Indtast Hold og Resultat'!D176","v":"Meløse"},null,null,null,null,null,null,{"$f":"'Indtast Hold og Resultat'!D177","v":"Krolffolket"},null,null,{"$f":"'Indtast Hold og Resultat'!D178","v":"BK"},null,null,null,"Spillere"]
[null,"Kugle ",{"$f":"IF('Indtast Hold og Resultat'!B175=\"\",\"\",VLOOKUP('Indtast Hold og Resultat'!B175,Deltagere!$B$4:$E$1003,4,FALSE))","v":"Lys blå"},null,null,null,null,null,null,{"$f":"IF('Indtast Hold og Resultat'!B176=\"\",\"\",VLOOKUP('Indtast Hold og Resultat'!B176,Deltagere!$B$4:$E$1003,4,FALSE))","v":"Farve"},null,null,null,null,null,null,{"$f":"IF('Indtast Hold og Resultat'!B177=\"\",\"\",VLOOKUP('Indtast Hold og Resultat'!B177,Deltagere!$B$4:$E$1003,4,FALSE))","v":"Gul"},null,null,{"$f":"IF('Indtast Hold og Resultat'!B178=\"\",\"\",VLOOKUP('Indtast Hold og Resultat'!B178,Deltagere!$B$4:$E$1003,4,FALSE))","v":"Grøn"},null,null,null,{"$f":"COUNT('Indtast Hold og Resultat'!B175:B178)","v":4}]
[null,{"$f":"IF(X651=\"\",\"\",IF(X651<=18,X651,\"\"))","v":7},{"$f":"IF(X654=2,\"X\",IF(X654=3,\"X\",IF(X654=4,\"X\",\"\")))","v":"X"}]
[null,{"$f":"IF(B655<18,B655+1,IF(B655=18,1,\"\"))","v":8},null,null,null,null,null,null,null,{"$f":"IF(X654=2,\"X\",IF(X654=3,\"X\",IF(X654=4,\"X\",\"\")))","v":"X"}]
[null,9,{"$f":"IF(X654=2,\"X\",\"\")","v":""},null,null,null,null,null,null,null,null,null,null,null,null,null,{"$f":"IF(X654=3,\"X\",IF(X654=4,\"X\",\"\"))","v":"X"}]
[null,10,{"$f":"IF(X654=3,\"X\",\"\")","v":""},null,null,null,null,null,null,{"$f":"IF(X654=2,\"X\",\"\")","v":""},null,null,null,null,null,null,null,null,null,{"$f":"IF(X654=4,\"X\",\"\")","v":"X"}]
[null,11,{"$f":"IF(X654=2,\"X\",IF(X654=4,\"X\",\"\"))","v":"X"},null,null,null,null,null,null,{"$f":"IF(X654=3,\"X\",\"\")","v":""}]
[null,12,null,null,null,null,null,null,null,{"$f":"IF(X654=2,\"X\",IF(X654=4,\"X\",\"\"))","v":"X"},null,null,null,null,null,null,{"$f":"IF(X654=3,\"X\",\"\")","v":""}]
[null,13,{"$f":"IF(X654=2,\"X\",IF(X654=3,\"X\",\"\"))","v":""},null,null,null,null,null,null,null,null,null,null,null,null,null,{"$f":"IF(X654=4,\"X\",\"\")","v":"X"}]
[null,14,null,null,null,null,null,null,null,{"$f":"IF(X654=2,\"X\",IF(X654=3,\"X\",\"\"))","v":""},null,null,null,null,null,null,null,null,null,{"$f":"IF(X654=4,\"X\",\"\")","v":"X"}]
[null,15,{"$f":"IF(X654=2,\"X\",IF(X654=4,\"X\",\"\"))","v":"X"},null,null,null,null,null,null,null,null,null,null,null,null,null,{"$f":"IF(X654=3,\"X\",\"\")","v":""}]
[null,16,{"$f":"IF(X654=3,\"X\",\"\")","v":""},null,null,null,null,null,null,{"$f":"IF(X654=2,\"X\",IF(X654=4,\"X\",\"\"))","v":"X"}]
[null,17,{"$f":"IF(X654=2,\"X\",\"\")","v":""},null,null,null,null,null,null,{"$f":"IF(X654=3,\"X\",\"\")","v":""},null,null,null,null,null,null,{"$f":"IF(X654=4,\"X\",\"\")","v":"X"}]
[null,18,null,null,null,null,null,null,null,{"$f":"IF(X654=2,\"X\",\"\")","v":""},null,null,null,null,null,null,{"$f":"IF(X654=3,\"X\",\"\")","v":""},null,null,{"$f":"IF(X654=4,\"X\",\"\")","v":"X"}]
[null,1,{"$f":"IF(X654=2,\"X\",IF(X654=3,\"X\",IF(X654=4,\"X\",\"\")))","v":"X"}]
[null,2,null,null,null,null,null,null,null,{"$f":"IF(X654=2,\"X\",IF(X654=3,\"X\",IF(X654=4,\"X\",\"\")))","v":"X"}]
[null,3,{"$f":"IF(X654=2,\"X\",\"\")","v":""},null,null,null,null,null,null,null,null,null,null,null,null,null,{"$f":"IF(X654=3,\"X\",IF(X654=4,\"X\",\"\"))","v":"X"},null,null,null,null,null,null,"Kontrol af "]
[null,4,{"$f":"IF(X654=3,\"X\",\"\")","v":""},null,null,null,null,null,null,{"$f":"IF(X654=2,\"X\",\"\")","v":""},null,null,null,null,null,null,null,null,null,{"$f":"IF(X654=4,\"X\",\"\")","v":"X"},null,null,null,"sammen-"]
[null,5,{"$f":"IF(X654=2,\"X\",IF(X654=4,\"X\",\"\"))","v":"X"},null,null,null,null,null,null,{"$f":"IF(X654=3,\"X\",\"\")","v":""},null,null,null,null,null,null,null,null,null,null,null,null,null,"tælling."]
[null,6,null,null,null,null,null,null,null,{"$f":"IF(X654=2,\"X\",IF(X654=4,\"X\",\"\"))","v":"X"},null,null,null,null,null,null,{"$f":"IF(X654=3,\"X\",\"\")","v":""}]
[null,"Total"]
[null,"Dommer :",null,{"$f":"C652","v":"Hanne Hansen"},null,null,null,null,null,{"$f":"IF(D674=\"\",\"\",VLOOKUP(D674,Deltagere!$C$4:$I$1003,2,FALSE))","v":"Krolffolket"},null,null,null,null,null,"Dato:",null,{"$f":"IF('Holdsammensætning  '!$J$4=\"\",\"\",'Holdsammensætning  '!$J$4)","v":"2023-08-15"},null,{"$f":"'Indtast Hold og Resultat'!B173","v":"Hold 7"},null," Runde :",null,2]
[]
[]
[null,null,null,null,null,null,null,{"$f":"IF('Holdsammensætning  '!$B$3=\"\",\"\",'Holdsammensætning  '!$B$3)","v":"BK Greve"},null,null,null,null,null,null,null,null,null,null,null,null,null,null,null,"Start hul nr."]
[null,null,null,null,null,null,null,{"$f":"IF('Holdsammensætning  '!$B$4=\"\",\"\",'Holdsammensætning  '!$B$4)","v":""},null,null,null,null,null,null,null,null,null,null,null,null,null,null,{"$f":"IF('Holdsammensætning  '!$J$5=\"\",\"\",'Holdsammensætning  '!$J$5)","v":""},{"$f":"'Indtast Hold og Resultat'!D180","v":8}]
[null,"Navn",{"$f":"'Indtast Hold og Resultat'!C182","v":"Ivan Szumlanski"},null,null,null,null,null,null,{"$f":"'Indtast Hold og Resultat'!C183","v":"Søren Helbo"},null,null,null,null,null,null,{"$f":"'Indtast Hold og Resultat'!C184","v":"Majbritt Nielsen"},null,null,{"$f":"'Indtast Hold og Resultat'!C185","v":"Anette Nielsen"},null,null,null,"  Antal "]
[null,"Klub",{"$f":"'Indtast Hold og Resultat'!D182","v":"Krolffolket"},null,null,null,null,null,null,{"$f":"'Indtast Hold og Resultat'!D183","v":"Meløse"},null,null,null,null,null,null,{"$f":"'Indtast Hold og Resultat'!D184","v":"Krolffolket"},null,null,{"$f":"'Indtast Hold og Resultat'!D185","v":"BK"},null,null,null,"Spillere"]
[null,"Kugle ",{"$f":"IF('Indtast Hold og Resultat'!B182=\"\",\"\",VLOOKUP('Indtast Hold og Resultat'!B182,Deltagere!$B$4:$E$1003,4,FALSE))","v":"Orange"},null,null,null,null,null,null,{"$f":"IF('Indtast Hold og Resultat'!B183=\"\",\"\",VLOOKUP('Indtast Hold og Resultat'!B183,Deltagere!$B$4:$E$1003,4,FALSE))","v":"Orange"},null,null,null,null,null,null,{"$f":"IF('Indtast Hold og Resultat'!B184=\"\",\"\",VLOOKUP('Indtast Hold og Resultat'!B184,Deltagere!$B$4:$E$1003,4,FALSE))","v":"Rød"},null,null,{"$f":"IF('Indtast Hold og Resultat'!B185=\"\",\"\",VLOOKUP('Indtast Hold og Resultat'!B185,Deltagere!$B$4:$E$1003,4,FALSE))","v":"Farve"},null,null,null,{"$f":"COUNT('Indtast Hold og Resultat'!B182:B185)","v":4}]
[null,{"$f":"IF(X678=\"\",\"\",IF(X678<=18,X678,\"\"))","v":8},{"$f":"IF(X681=2,\"X\",IF(X681=3,\"X\",IF(X681=4,\"X\",\"\")))","v":"X"}]
[null,{"$f":"IF(B682<18,B682+1,IF(B682=18,1,\"\"))","v":9},null,null,null,null,null,null,null,{"$f":"IF(X681=2,\"X\",IF(X681=3,\"X\",IF(X681=4,\"X\",\"\")))","v":"X"}]
[null,10,{"$f":"IF(X681=2,\"X\",\"\")","v":""},null,null,null,null,null,null,null,null,null,null,null,null,null,{"$f":"IF(X681=3,\"X\",IF(X681=4,\"X\",\"\"))","v":"X"}]
[null,11,{"$f":"IF(X681=3,\"X\",\"\")","v":""},null,null,null,null,null,null,{"$f":"IF(X681=2,\"X\",\"\")","v":""},null,null,null,null,null,null,null,null,null,{"$f":"IF(X681=4,\"X\",\"\")","v":"X"}]
[null,12,{"$f":"IF(X681=2,\"X\",IF(X681=4,\"X\",\"\"))","v":"X"},null,null,null,null,null,null,{"$f":"IF(X681=3,\"X\",\"\")","v":""}]
[null,13,null,null,null,null,null,null,null,{"$f":"IF(X681=2,\"X\",IF(X681=4,\"X\",\"\"))","v":"X"},null,null,null,null,null,null,{"$f":"IF(X681=3,\"X\",\"\")","v":""}]
[null,14,{"$f":"IF(X681=2,\"X\",IF(X681=3,\"X\",\"\"))","v":""},null,null,null,null,null,null,null,null,null,null,null,null,null,{"$f":"IF(X681=4,\"X\",\"\")","v":"X"}]
[null,15,null,null,null,null,null,null,null,{"$f":"IF(X681=2,\"X\",IF(X681=3,\"X\",\"\"))","v":""},null,null,null,null,null,null,null,null,null,{"$f":"IF(X681=4,\"X\",\"\")","v":"X"}]
[null,16,{"$f":"IF(X681=2,\"X\",IF(X681=4,\"X\",\"\"))","v":"X"},null,null,null,null,null,null,null,null,null,null,null,null,null,{"$f":"IF(X681=3,\"X\",\"\")","v":""}]
[null,17,{"$f":"IF(X681=3,\"X\",\"\")","v":""},null,null,null,null,null,null,{"$f":"IF(X681=2,\"X\",IF(X681=4,\"X\",\"\"))","v":"X"}]
[null,18,{"$f":"IF(X681=2,\"X\",\"\")","v":""},null,null,null,null,null,null,{"$f":"IF(X681=3,\"X\",\"\")","v":""},null,null,null,null,null,null,{"$f":"IF(X681=4,\"X\",\"\")","v":"X"}]
[null,1,null,null,null,null,null,null,null,{"$f":"IF(X681=2,\"X\",\"\")","v":""},null,null,null,null,null,null,{"$f":"IF(X681=3,\"X\",\"\")","v":""},null,null,{"$f":"IF(X681=4,\"X\",\"\")","v":"X"}]
[null,2,{"$f":"IF(X681=2,\"X\",IF(X681=3,\"X\",IF(X681=4,\"X\",\"\")))","v":"X"}]
[null,3,null,null,null,null,null,null,null,{"$f":"IF(X681=2,\"X\",IF(X681=3,\"X\",IF(X681=4,\"X\",\"\")))","v":"X"}]
[null,4,{"$f":"IF(X681=2,\"X\",\"\")","v":""},null,null,null,null,null,null,null,null,null,null,null,null,null,{"$f":"IF(X681=3,\"X\",IF(X681=4,\"X\",\"\"))","v":"X"},null,null,null,null,null,null,"Kontrol af "]
[null,5,{"$f":"IF(X681=3,\"X\",\"\")","v":""},null,null,null,null,null,null,{"$f":"IF(X681=2,\"X\",\"\")","v":""},null,null,null,null,null,null,null,null,null,{"$f":"IF(X681=4,\"X\",\"\")","v":"X"},null,null,null,"sammen-"]
[null,6,{"$f":"IF(X681=2,\"X\",IF(X681=4,\"X\",\"\"))","v":"X"},null,null,null,null,null,null,{"$f":"IF(X681=3,\"X\",\"\")","v":""},null,null,null,null,null,null,null,null,null,null,null,null,null,"tælling."]
[null,7,null,null,null,null,null,null,null,{"$f":"IF(X681=2,\"X\",IF(X681=4,\"X\",\"\"))","v":"X"},null,null,null,null,null,null,{"$f":"IF(X681=3,\"X\",\"\")","v":""}]
[null,"Total"]
[null,"Dommer :",null,{"$f":"C679","v":"Ivan Szumlanski"},null,null,null,null,null,{"$f":"IF(D701=\"\",\"\",VLOOKUP(D701,Deltagere!$C$4:$I$1003,2,FALSE))","v":"Krolffolket"},null,null,null,null,null,"Dato:",null,{"$f":"IF('Holdsammensætning  '!$J$4=\"\",\"\",'Holdsammensætning  '!$J$4)","v":"2023-08-15"},null,{"$f":"'Indtast Hold og Resultat'!B180","v":"Hold 8"},null," Runde :",null,2]
[]
[]
[null,null,null,null,null,null,null,{"$f":"IF('Holdsammensætning  '!$B$3=\"\",\"\",'Holdsammensætning  '!$B$3)","v":"BK Greve"},null,null,null,null,null,null,null,null,null,null,null,null,null,null,null,"Start hul nr."]
[null,null,null,null,null,null,null,{"$f":"IF('Holdsammensætning  '!$B$4=\"\",\"\",'Holdsammensætning  '!$B$4)","v":""},null,null,null,null,null,null,null,null,null,null,null,null,null,null,{"$f":"IF('Holdsammensætning  '!$J$5=\"\",\"\",'Holdsammensætning  '!$J$5)","v":""},{"$f":"'Indtast Hold og Resultat'!D187","v":9}]
[null,"Navn",{"$f":"'Indtast Hold og Resultat'!C189","v":"Gytha Szumlanski"},null,null,null,null,null,null,{"$f":"'Indtast Hold og Resultat'!C190","v":"Tage Jensen"},null,null,null,null,null,null,{"$f":"'Indtast Hold og Resultat'!C191","v":"Lone S. Nielsen"},null,null,{"$f":"'Indtast Hold og Resultat'!C192","v":"Villy Jensen"},null,null,null,"  Antal "]
[null,"Klub",{"$f":"'Indtast Hold og Resultat'!D189","v":"Krolffolket"},null,null,null,null,null,null,{"$f":"'Indtast Hold og Resultat'!D190","v":"Meløse"},null,null,null,null,null,null,{"$f":"'Indtast Hold og Resultat'!D191","v":"Krolffolket"},null,null,{"$f":"'Indtast Hold og Resultat'!D192","v":"Meløse"},null,null,null,"Spillere"]
[null,"Kugle ",{"$f":"IF('Indtast Hold og Resultat'!B189=\"\",\"\",VLOOKUP('Indtast Hold og Resultat'!B189,Deltagere!$B$4:$E$1003,4,FALSE))","v":"Blå"},null,null,null,null,null,null,{"$f":"IF('Indtast Hold og Resultat'!B190=\"\",\"\",VLOOKUP('Indtast Hold og Resultat'!B190,Deltagere!$B$4:$E$1003,4,FALSE))","v":"Sort"},null,null,null,null,null,null,{"$f":"IF('Indtast Hold og Resultat'!B191=\"\",\"\",VLOOKUP('Indtast Hold og Resultat'!B191,Deltagere!$B$4:$E$1003,4,FALSE))","v":"Grøn"},null,null,{"$f":"IF('Indtast Hold og Resultat'!B192=\"\",\"\",VLOOKUP('Indtast Hold og Resultat'!B192,Deltagere!$B$4:$E$1003,4,FALSE))","v":"Rød"},null,null,null,{"$f":"COUNT('Indtast Hold og Resultat'!B189:B192)","v":4}]
[null,{"$f":"IF(X705=\"\",\"\",IF(X705<=18,X705,\"\"))","v":9},{"$f":"IF(X708=2,\"X\",IF(X708=3,\"X\",IF(X708=4,\"X\",\"\")))","v":"X"}]
[null,{"$f":"IF(B709<18,B709+1,IF(B709=18,1,\"\"))","v":10},null,null,null,null,null,null,null,{"$f":"IF(X708=2,\"X\",IF(X708=3,\"X\",IF(X708=4,\"X\",\"\")))","v":"X"}]
[null,11,{"$f":"IF(X708=2,\"X\",\"\")","v":""},null,null,null,null,null,null,null,null,null,null,null,null,null,{"$f":"IF(X708=3,\"X\",IF(X708=4,\"X\",\"\"))","v":"X"}]
[null,12,{"$f":"IF(X708=3,\"X\",\"\")","v":""},null,null,null,null,null,null,{"$f":"IF(X708=2,\"X\",\"\")","v":""},null,null,null,null,null,null,null,null,null,{"$f":"IF(X708=4,\"X\",\"\")","v":"X"}]
[null,13,{"$f":"IF(X708=2,\"X\",IF(X708=4,\"X\",\"\"))","v":"X"},null,null,null,null,null,null,{"$f":"IF(X708=3,\"X\",\"\")","v":""}]
[null,14,null,null,null,null,null,null,null,{"$f":"IF(X708=2,\"X\",IF(X708=4,\"X\",\"\"))","v":"X"},null,null,null,null,null,null,{"$f":"IF(X708=3,\"X\",\"\")","v":""}]
[null,15,{"$f":"IF(X708=2,\"X\",IF(X708=3,\"X\",\"\"))","v":""},null,null,null,null,null,null,null,null,null,null,null,null,null,{"$f":"IF(X708=4,\"X\",\"\")","v":"X"}]
[null,16,null,null,null,null,null,null,null,{"$f":"IF(X708=2,\"X\",IF(X708=3,\"X\",\"\"))","v":""},null,null,null,null,null,null,null,null,null,{"$f":"IF(X708=4,\"X\",\"\")","v":"X"}]
[null,17,{"$f":"IF(X708=2,\"X\",IF(X708=4,\"X\",\"\"))","v":"X"},null,null,null,null,null,null,null,null,null,null,null,null,null,{"$f":"IF(X708=3,\"X\",\"\")","v":""}]
[null,18,{"$f":"IF(X708=3,\"X\",\"\")","v":""},null,null,null,null,null,null,{"$f":"IF(X708=2,\"X\",IF(X708=4,\"X\",\"\"))","v":"X"}]
[null,1,{"$f":"IF(X708=2,\"X\",\"\")","v":""},null,null,null,null,null,null,{"$f":"IF(X708=3,\"X\",\"\")","v":""},null,null,null,null,null,null,{"$f":"IF(X708=4,\"X\",\"\")","v":"X"}]
[null,2,null,null,null,null,null,null,null,{"$f":"IF(X708=2,\"X\",\"\")","v":""},null,null,null,null,null,null,{"$f":"IF(X708=3,\"X\",\"\")","v":""},null,null,{"$f":"IF(X708=4,\"X\",\"\")","v":"X"}]
[null,3,{"$f":"IF(X708=2,\"X\",IF(X708=3,\"X\",IF(X708=4,\"X\",\"\")))","v":"X"}]
[null,4,null,null,null,null,null,null,null,{"$f":"IF(X708=2,\"X\",IF(X708=3,\"X\",IF(X708=4,\"X\",\"\")))","v":"X"}]
[null,5,{"$f":"IF(X708=2,\"X\",\"\")","v":""},null,null,null,null,null,null,null,null,null,null,null,null,null,{"$f":"IF(X708=3,\"X\",IF(X708=4,\"X\",\"\"))","v":"X"},null,null,null,null,null,null,"Kontrol af "]
[null,6,{"$f":"IF(X708=3,\"X\",\"\")","v":""},null,null,null,null,null,null,{"$f":"IF(X708=2,\"X\",\"\")","v":""},null,null,null,null,null,null,null,null,null,{"$f":"IF(X708=4,\"X\",\"\")","v":"X"},null,null,null,"sammen-"]
[null,7,{"$f":"IF(X708=2,\"X\",IF(X708=4,\"X\",\"\"))","v":"X"},null,null,null,null,null,null,{"$f":"IF(X708=3,\"X\",\"\")","v":""},null,null,null,null,null,null,null,null,null,null,null,null,null,"tælling."]
[null,8,null,null,null,null,null,null,null,{"$f":"IF(X708=2,\"X\",IF(X708=4,\"X\",\"\"))","v":"X"},null,null,null,null,null,null,{"$f":"IF(X708=3,\"X\",\"\")","v":""}]
[null,"Total"]
[null,"Dommer :",null,{"$f":"C706","v":"Gytha Szumlanski"},null,null,null,null,null,{"$f":"IF(D728=\"\",\"\",VLOOKUP(D728,Deltagere!$C$4:$I$1003,2,FALSE))","v":"Krolffolket"},null,null,null,null,null,"Dato:",null,{"$f":"IF('Holdsammensætning  '!$J$4=\"\",\"\",'Holdsammensætning  '!$J$4)","v":"2023-08-15"},null,{"$f":"'Indtast Hold og Resultat'!B187","v":"Hold 9"},null," Runde :",null,2]
[]
[]
[null,null,null,null,null,null,null,{"$f":"IF('Holdsammensætning  '!$B$3=\"\",\"\",'Holdsammensætning  '!$B$3)","v":"BK Greve"},null,null,null,null,null,null,null,null,null,null,null,null,null,null,null,"Start hul nr."]
[null,null,null,null,null,null,null,{"$f":"IF('Holdsammensætning  '!$B$4=\"\",\"\",'Holdsammensætning  '!$B$4)","v":""},null,null,null,null,null,null,null,null,null,null,null,null,null,null,{"$f":"IF('Holdsammensætning  '!$J$5=\"\",\"\",'Holdsammensætning  '!$J$5)","v":""},{"$f":"'Indtast Hold og Resultat'!D194","v":10}]
[null,"Navn",{"$f":"'Indtast Hold og Resultat'!C196","v":"Finn Jørgensen"},null,null,null,null,null,null,{"$f":"'Indtast Hold og Resultat'!C197","v":"Svend Faigh"},null,null,null,null,null,null,{"$f":"'Indtast Hold og Resultat'!C198","v":"Lissi Lindberg"},null,null,{"$f":"'Indtast Hold og Resultat'!C199","v":"Mogens Bodilsen"},null,null,null,"  Antal "]
[null,"Klub",{"$f":"'Indtast Hold og Resultat'!D196","v":"Krolffolket"},null,null,null,null,null,null,{"$f":"'Indtast Hold og Resultat'!D197","v":"BK"},null,null,null,null,null,null,{"$f":"'Indtast Hold og Resultat'!D198","v":"Krolffolket"},null,null,{"$f":"'Indtast Hold og Resultat'!D199","v":"Meløse"},null,null,null,"Spillere"]
[null,"Kugle ",{"$f":"IF('Indtast Hold og Resultat'!B196=\"\",\"\",VLOOKUP('Indtast Hold og Resultat'!B196,Deltagere!$B$4:$E$1003,4,FALSE))","v":"Gul"},null,null,null,null,null,null,{"$f":"IF('Indtast Hold og Resultat'!B197=\"\",\"\",VLOOKUP('Indtast Hold og Resultat'!B197,Deltagere!$B$4:$E$1003,4,FALSE))","v":"Farve"},null,null,null,null,null,null,{"$f":"IF('Indtast Hold og Resultat'!B198=\"\",\"\",VLOOKUP('Indtast Hold og Resultat'!B198,Deltagere!$B$4:$E$1003,4,FALSE))","v":"Pink"},null,null,{"$f":"IF('Indtast Hold og Resultat'!B199=\"\",\"\",VLOOKUP('Indtast Hold og Resultat'!B199,Deltagere!$B$4:$E$1003,4,FALSE))","v":"Blå"},null,null,null,{"$f":"COUNT('Indtast Hold og Resultat'!B196:B199)","v":4}]
[null,{"$f":"IF(X732=\"\",\"\",IF(X732<=18,X732,\"\"))","v":10},{"$f":"IF(X735=2,\"X\",IF(X735=3,\"X\",IF(X735=4,\"X\",\"\")))","v":"X"}]
[null,{"$f":"IF(B736<18,B736+1,IF(B736=18,1,\"\"))","v":11},null,null,null,null,null,null,null,{"$f":"IF(X735=2,\"X\",IF(X735=3,\"X\",IF(X735=4,\"X\",\"\")))","v":"X"}]
[null,12,{"$f":"IF(X735=2,\"X\",\"\")","v":""},null,null,null,null,null,null,null,null,null,null,null,null,null,{"$f":"IF(X735=3,\"X\",IF(X735=4,\"X\",\"\"))","v":"X"}]
[null,13,{"$f":"IF(X735=3,\"X\",\"\")","v":""},null,null,null,null,null,null,{"$f":"IF(X735=2,\"X\",\"\")","v":""},null,null,null,null,null,null,null,null,null,{"$f":"IF(X735=4,\"X\",\"\")","v":"X"}]
[null,14,{"$f":"IF(X735=2,\"X\",IF(X735=4,\"X\",\"\"))","v":"X"},null,null,null,null,null,null,{"$f":"IF(X735=3,\"X\",\"\")","v":""}]
[null,15,null,null,null,null,null,null,null,{"$f":"IF(X735=2,\"X\",IF(X735=4,\"X\",\"\"))","v":"X"},null,null,null,null,null,null,{"$f":"IF(X735=3,\"X\",\"\")","v":""}]
[null,16,{"$f":"IF(X735=2,\"X\",IF(X735=3,\"X\",\"\"))","v":""},null,null,null,null,null,null,null,null,null,null,null,null,null,{"$f":"IF(X735=4,\"X\",\"\")","v":"X"}]
[null,17,null,null,null,null,null,null,null,{"$f":"IF(X735=2,\"X\",IF(X735=3,\"X\",\"\"))","v":""},null,null,null,null,null,null,null,null,null,{"$f":"IF(X735=4,\"X\",\"\")","v":"X"}]
[null,18,{"$f":"IF(X735=2,\"X\",IF(X735=4,\"X\",\"\"))","v":"X"},null,null,null,null,null,null,null,null,null,null,null,null,null,{"$f":"IF(X735=3,\"X\",\"\")","v":""}]
[null,1,{"$f":"IF(X735=3,\"X\",\"\")","v":""},null,null,null,null,null,null,{"$f":"IF(X735=2,\"X\",IF(X735=4,\"X\",\"\"))","v":"X"}]
[null,2,{"$f":"IF(X735=2,\"X\",\"\")","v":""},null,null,null,null,null,null,{"$f":"IF(X735=3,\"X\",\"\")","v":""},null,null,null,null,null,null,{"$f":"IF(X735=4,\"X\",\"\")","v":"X"}]
[null,3,null,null,null,null,null,null,null,{"$f":"IF(X735=2,\"X\",\"\")","v":""},null,null,null,null,null,null,{"$f":"IF(X735=3,\"X\",\"\")","v":""},null,null,{"$f":"IF(X735=4,\"X\",\"\")","v":"X"}]
[null,4,{"$f":"IF(X735=2,\"X\",IF(X735=3,\"X\",IF(X735=4,\"X\",\"\")))","v":"X"}]
[null,5,null,null,null,null,null,null,null,{"$f":"IF(X735=2,\"X\",IF(X735=3,\"X\",IF(X735=4,\"X\",\"\")))","v":"X"}]
[null,6,{"$f":"IF(X735=2,\"X\",\"\")","v":""},null,null,null,null,null,null,null,null,null,null,null,null,null,{"$f":"IF(X735=3,\"X\",IF(X735=4,\"X\",\"\"))","v":"X"},null,null,null,null,null,null,"Kontrol af "]
[null,7,{"$f":"IF(X735=3,\"X\",\"\")","v":""},null,null,null,null,null,null,{"$f":"IF(X735=2,\"X\",\"\")","v":""},null,null,null,null,null,null,null,null,null,{"$f":"IF(X735=4,\"X\",\"\")","v":"X"},null,null,null,"sammen-"]
[null,8,{"$f":"IF(X735=2,\"X\",IF(X735=4,\"X\",\"\"))","v":"X"},null,null,null,null,null,null,{"$f":"IF(X735=3,\"X\",\"\")","v":""},null,null,null,null,null,null,null,null,null,null,null,null,null,"tælling."]
[null,9,null,null,null,null,null,null,null,{"$f":"IF(X735=2,\"X\",IF(X735=4,\"X\",\"\"))","v":"X"},null,null,null,null,null,null,{"$f":"IF(X735=3,\"X\",\"\")","v":""}]
[null,"Total"]
[null,"Dommer :",null,{"$f":"C733","v":"Finn Jørgensen"},null,null,null,null,null,{"$f":"IF(D755=\"\",\"\",VLOOKUP(D755,Deltagere!$C$4:$I$1003,2,FALSE))","v":"Krolffolket"},null,null,null,null,null,"Dato:",null,{"$f":"IF('Holdsammensætning  '!$J$4=\"\",\"\",'Holdsammensætning  '!$J$4)","v":"2023-08-15"},null,{"$f":"'Indtast Hold og Resultat'!B194","v":"Hold 10"},null," Runde :",null,2]
[]
[]
[null,null,null,null,null,null,null,{"$f":"IF('Holdsammensætning  '!$B$3=\"\",\"\",'Holdsammensætning  '!$B$3)","v":"BK Greve"},null,null,null,null,null,null,null,null,null,null,null,null,null,null,null,"Start hul nr."]
[null,null,null,null,null,null,null,{"$f":"IF('Holdsammensætning  '!$B$4=\"\",\"\",'Holdsammensætning  '!$B$4)","v":""},null,null,null,null,null,null,null,null,null,null,null,null,null,null,{"$f":"IF('Holdsammensætning  '!$J$5=\"\",\"\",'Holdsammensætning  '!$J$5)","v":""},{"$f":"'Indtast Hold og Resultat'!D201","v":11}]
[null,"Navn",{"$f":"'Indtast Hold og Resultat'!C203","v":"Kjeld Hansen"},null,null,null,null,null,null,{"$f":"'Indtast Hold og Resultat'!C204","v":"Lone Nielsen"},null,null,null,null,null,null,{"$f":"'Indtast Hold og Resultat'!C205","v":"Liselotte Storgaard"},null,null,{"$f":"'Indtast Hold og Resultat'!C206","v":"Niels Aare Jensen"},null,null,null,"  Antal "]
[null,"Klub",{"$f":"'Indtast Hold og Resultat'!D203","v":"Krolffolket"},null,null,null,null,null,null,{"$f":"'Indtast Hold og Resultat'!D204","v":"BK"},null,null,null,null,null,null,{"$f":"'Indtast Hold og Resultat'!D205","v":"Krolffolket"},null,null,{"$f":"'Indtast Hold og Resultat'!D206","v":"Meløse"},null,null,null,"Spillere"]
[null,"Kugle ",{"$f":"IF('Indtast Hold og Resultat'!B203=\"\",\"\",VLOOKUP('Indtast Hold og Resultat'!B203,Deltagere!$B$4:$E$1003,4,FALSE))","v":"Sort"},null,null,null,null,null,null,{"$f":"IF('Indtast Hold og Resultat'!B204=\"\",\"\",VLOOKUP('Indtast Hold og Resultat'!B204,Deltagere!$B$4:$E$1003,4,FALSE))","v":0},null,null,null,null,null,null,{"$f":"IF('Indtast Hold og Resultat'!B205=\"\",\"\",VLOOKUP('Indtast Hold og Resultat'!B205,Deltagere!$B$4:$E$1003,4,FALSE))","v":"Orange"},null,null,{"$f":"IF('Indtast Hold og Resultat'!B206=\"\",\"\",VLOOKUP('Indtast Hold og Resultat'!B206,Deltagere!$B$4:$E$1003,4,FALSE))","v":"Blå"},null,null,null,{"$f":"COUNT('Indtast Hold og Resultat'!B203:B206)","v":4}]
[null,{"$f":"IF(X759=\"\",\"\",IF(X759<=18,X759,\"\"))","v":11},{"$f":"IF(X762=2,\"X\",IF(X762=3,\"X\",IF(X762=4,\"X\",\"\")))","v":"X"}]
[null,{"$f":"IF(B763<18,B763+1,IF(B763=18,1,\"\"))","v":12},null,null,null,null,null,null,null,{"$f":"IF(X762=2,\"X\",IF(X762=3,\"X\",IF(X762=4,\"X\",\"\")))","v":"X"}]
[null,13,{"$f":"IF(X762=2,\"X\",\"\")","v":""},null,null,null,null,null,null,null,null,null,null,null,null,null,{"$f":"IF(X762=3,\"X\",IF(X762=4,\"X\",\"\"))","v":"X"}]
[null,14,{"$f":"IF(X762=3,\"X\",\"\")","v":""},null,null,null,null,null,null,{"$f":"IF(X762=2,\"X\",\"\")","v":""},null,null,null,null,null,null,null,null,null,{"$f":"IF(X762=4,\"X\",\"\")","v":"X"}]
[null,15,{"$f":"IF(X762=2,\"X\",IF(X762=4,\"X\",\"\"))","v":"X"},null,null,null,null,null,null,{"$f":"IF(X762=3,\"X\",\"\")","v":""}]
[null,16,null,null,null,null,null,null,null,{"$f":"IF(X762=2,\"X\",IF(X762=4,\"X\",\"\"))","v":"X"},null,null,null,null,null,null,{"$f":"IF(X762=3,\"X\",\"\")","v":""}]
[null,17,{"$f":"IF(X762=2,\"X\",IF(X762=3,\"X\",\"\"))","v":""},null,null,null,null,null,null,null,null,null,null,null,null,null,{"$f":"IF(X762=4,\"X\",\"\")","v":"X"}]
[null,18,null,null,null,null,null,null,null,{"$f":"IF(X762=2,\"X\",IF(X762=3,\"X\",\"\"))","v":""},null,null,null,null,null,null,null,null,null,{"$f":"IF(X762=4,\"X\",\"\")","v":"X"}]
[null,1,{"$f":"IF(X762=2,\"X\",IF(X762=4,\"X\",\"\"))","v":"X"},null,null,null,null,null,null,null,null,null,null,null,null,null,{"$f":"IF(X762=3,\"X\",\"\")","v":""}]
[null,2,{"$f":"IF(X762=3,\"X\",\"\")","v":""},null,null,null,null,null,null,{"$f":"IF(X762=2,\"X\",IF(X762=4,\"X\",\"\"))","v":"X"}]
[null,3,{"$f":"IF(X762=2,\"X\",\"\")","v":""},null,null,null,null,null,null,{"$f":"IF(X762=3,\"X\",\"\")","v":""},null,null,null,null,null,null,{"$f":"IF(X762=4,\"X\",\"\")","v":"X"}]
[null,4,null,null,null,null,null,null,null,{"$f":"IF(X762=2,\"X\",\"\")","v":""},null,null,null,null,null,null,{"$f":"IF(X762=3,\"X\",\"\")","v":""},null,null,{"$f":"IF(X762=4,\"X\",\"\")","v":"X"}]
[null,5,{"$f":"IF(X762=2,\"X\",IF(X762=3,\"X\",IF(X762=4,\"X\",\"\")))","v":"X"}]
[null,6,null,null,null,null,null,null,null,{"$f":"IF(X762=2,\"X\",IF(X762=3,\"X\",IF(X762=4,\"X\",\"\")))","v":"X"}]
[null,7,{"$f":"IF(X762=2,\"X\",\"\")","v":""},null,null,null,null,null,null,null,null,null,null,null,null,null,{"$f":"IF(X762=3,\"X\",IF(X762=4,\"X\",\"\"))","v":"X"},null,null,null,null,null,null,"Kontrol af "]
[null,8,{"$f":"IF(X762=3,\"X\",\"\")","v":""},null,null,null,null,null,null,{"$f":"IF(X762=2,\"X\",\"\")","v":""},null,null,null,null,null,null,null,null,null,{"$f":"IF(X762=4,\"X\",\"\")","v":"X"},null,null,null,"sammen-"]
[null,9,{"$f":"IF(X762=2,\"X\",IF(X762=4,\"X\",\"\"))","v":"X"},null,null,null,null,null,null,{"$f":"IF(X762=3,\"X\",\"\")","v":""},null,null,null,null,null,null,null,null,null,null,null,null,null,"tælling."]
[null,10,null,null,null,null,null,null,null,{"$f":"IF(X762=2,\"X\",IF(X762=4,\"X\",\"\"))","v":"X"},null,null,null,null,null,null,{"$f":"IF(X762=3,\"X\",\"\")","v":""}]
[null,"Total"]
[null,"Dommer :",null,{"$f":"C760","v":"Kjeld Hansen"},null,null,null,null,null,{"$f":"IF(D782=\"\",\"\",VLOOKUP(D782,Deltagere!$C$4:$I$1003,2,FALSE))","v":"Krolffolket"},null,null,null,null,null,"Dato:",null,{"$f":"IF('Holdsammensætning  '!$J$4=\"\",\"\",'Holdsammensætning  '!$J$4)","v":"2023-08-15"},null,{"$f":"'Indtast Hold og Resultat'!B201","v":"Hold 11"},null," Runde :",null,2]
[]
[]
[null,null,null,null,null,null,null,{"$f":"IF('Holdsammensætning  '!$B$3=\"\",\"\",'Holdsammensætning  '!$B$3)","v":"BK Greve"},null,null,null,null,null,null,null,null,null,null,null,null,null,null,null,"Start hul nr."]
[null,null,null,null,null,null,null,{"$f":"IF('Holdsammensætning  '!$B$4=\"\",\"\",'Holdsammensætning  '!$B$4)","v":""},null,null,null,null,null,null,null,null,null,null,null,null,null,null,{"$f":"IF('Holdsammensætning  '!$J$5=\"\",\"\",'Holdsammensætning  '!$J$5)","v":""},{"$f":"'Indtast Hold og Resultat'!D208","v":12}]
[null,"Navn",{"$f":"'Indtast Hold og Resultat'!C210","v":"Jim Jørgensen"},null,null,null,null,null,null,{"$f":"'Indtast Hold og Resultat'!C211","v":"Annette Lykke Madsen"},null,null,null,null,null,null,{"$f":"'Indtast Hold og Resultat'!C212","v":"Allan Pedersen"},null,null,{"$f":"'Indtast Hold og Resultat'!C213","v":"Anna Grethe Christensen"},null,null,null,"  Antal "]
[null,"Klub",{"$f":"'Indtast Hold og Resultat'!D210","v":"Krolffolket"},null,null,null,null,null,null,{"$f":"'Indtast Hold og Resultat'!D211","v":"BK"},null,null,null,null,null,null,{"$f":"'Indtast Hold og Resultat'!D212","v":"Krolffolket"},null,null,{"$f":"'Indtast Hold og Resultat'!D213","v":"Meløse"},null,null,null,"Spillere"]
[null,"Kugle ",{"$f":"IF('Indtast Hold og Resultat'!B210=\"\",\"\",VLOOKUP('Indtast Hold og Resultat'!B210,Deltagere!$B$4:$E$1003,4,FALSE))","v":"Gul"},null,null,null,null,null,null,{"$f":"IF('Indtast Hold og Resultat'!B211=\"\",\"\",VLOOKUP('Indtast Hold og Resultat'!B211,Deltagere!$B$4:$E$1003,4,FALSE))","v":"Farve"},null,null,null,null,null,null,{"$f":"IF('Indtast Hold og Resultat'!B212=\"\",\"\",VLOOKUP('Indtast Hold og Resultat'!B212,Deltagere!$B$4:$E$1003,4,FALSE))","v":"Farve"},null,null,{"$f":"IF('Indtast Hold og Resultat'!B213=\"\",\"\",VLOOKUP('Indtast Hold og Resultat'!B213,Deltagere!$B$4:$E$1003,4,FALSE))","v":"Lyserød"},null,null,null,{"$f":"COUNT('Indtast Hold og Resultat'!B210:B213)","v":4}]
[null,{"$f":"IF(X786=\"\",\"\",IF(X786<=18,X786,\"\"))","v":12},{"$f":"IF(X789=2,\"X\",IF(X789=3,\"X\",IF(X789=4,\"X\",\"\")))","v":"X"}]
[null,{"$f":"IF(B790<18,B790+1,IF(B790=18,1,\"\"))","v":13},null,null,null,null,null,null,null,{"$f":"IF(X789=2,\"X\",IF(X789=3,\"X\",IF(X789=4,\"X\",\"\")))","v":"X"}]
[null,14,{"$f":"IF(X789=2,\"X\",\"\")","v":""},null,null,null,null,null,null,null,null,null,null,null,null,null,{"$f":"IF(X789=3,\"X\",IF(X789=4,\"X\",\"\"))","v":"X"}]
[null,15,{"$f":"IF(X789=3,\"X\",\"\")","v":""},null,null,null,null,null,null,{"$f":"IF(X789=2,\"X\",\"\")","v":""},null,null,null,null,null,null,null,null,null,{"$f":"IF(X789=4,\"X\",\"\")","v":"X"}]
[null,16,{"$f":"IF(X789=2,\"X\",IF(X789=4,\"X\",\"\"))","v":"X"},null,null,null,null,null,null,{"$f":"IF(X789=3,\"X\",\"\")","v":""}]
[null,17,null,null,null,null,null,null,null,{"$f":"IF(X789=2,\"X\",IF(X789=4,\"X\",\"\"))","v":"X"},null,null,null,null,null,null,{"$f":"IF(X789=3,\"X\",\"\")","v":""}]
[null,18,{"$f":"IF(X789=2,\"X\",IF(X789=3,\"X\",\"\"))","v":""},null,null,null,null,null,null,null,null,null,null,null,null,null,{"$f":"IF(X789=4,\"X\",\"\")","v":"X"}]
[null,1,null,null,null,null,null,null,null,{"$f":"IF(X789=2,\"X\",IF(X789=3,\"X\",\"\"))","v":""},null,null,null,null,null,null,null,null,null,{"$f":"IF(X789=4,\"X\",\"\")","v":"X"}]
[null,2,{"$f":"IF(X789=2,\"X\",IF(X789=4,\"X\",\"\"))","v":"X"},null,null,null,null,null,null,null,null,null,null,null,null,null,{"$f":"IF(X789=3,\"X\",\"\")","v":""}]
[null,3,{"$f":"IF(X789=3,\"X\",\"\")","v":""},null,null,null,null,null,null,{"$f":"IF(X789=2,\"X\",IF(X789=4,\"X\",\"\"))","v":"X"}]
[null,4,{"$f":"IF(X789=2,\"X\",\"\")","v":""},null,null,null,null,null,null,{"$f":"IF(X789=3,\"X\",\"\")","v":""},null,null,null,null,null,null,{"$f":"IF(X789=4,\"X\",\"\")","v":"X"}]
[null,5,null,null,null,null,null,null,null,{"$f":"IF(X789=2,\"X\",\"\")","v":""},null,null,null,null,null,null,{"$f":"IF(X789=3,\"X\",\"\")","v":""},null,null,{"$f":"IF(X789=4,\"X\",\"\")","v":"X"}]
[null,6,{"$f":"IF(X789=2,\"X\",IF(X789=3,\"X\",IF(X789=4,\"X\",\"\")))","v":"X"}]
[null,7,null,null,null,null,null,null,null,{"$f":"IF(X789=2,\"X\",IF(X789=3,\"X\",IF(X789=4,\"X\",\"\")))","v":"X"}]
[null,8,{"$f":"IF(X789=2,\"X\",\"\")","v":""},null,null,null,null,null,null,null,null,null,null,null,null,null,{"$f":"IF(X789=3,\"X\",IF(X789=4,\"X\",\"\"))","v":"X"},null,null,null,null,null,null,"Kontrol af "]
[null,9,{"$f":"IF(X789=3,\"X\",\"\")","v":""},null,null,null,null,null,null,{"$f":"IF(X789=2,\"X\",\"\")","v":""},null,null,null,null,null,null,null,null,null,{"$f":"IF(X789=4,\"X\",\"\")","v":"X"},null,null,null,"sammen-"]
[null,10,{"$f":"IF(X789=2,\"X\",IF(X789=4,\"X\",\"\"))","v":"X"},null,null,null,null,null,null,{"$f":"IF(X789=3,\"X\",\"\")","v":""},null,null,null,null,null,null,null,null,null,null,null,null,null,"tælling."]
[null,11,null,null,null,null,null,null,null,{"$f":"IF(X789=2,\"X\",IF(X789=4,\"X\",\"\"))","v":"X"},null,null,null,null,null,null,{"$f":"IF(X789=3,\"X\",\"\")","v":""}]
[null,"Total"]
[null,"Dommer :",null,{"$f":"C787","v":"Jim Jørgensen"},null,null,null,null,null,{"$f":"IF(D809=\"\",\"\",VLOOKUP(D809,Deltagere!$C$4:$I$1003,2,FALSE))","v":"Krolffolket"},null,null,null,null,null,"Dato:",null,{"$f":"IF('Holdsammensætning  '!$J$4=\"\",\"\",'Holdsammensætning  '!$J$4)","v":"2023-08-15"},null,{"$f":"'Indtast Hold og Resultat'!B208","v":"Hold 12"},null," Runde :",null,2]
[]
[]
[null,null,null,null,null,null,null,{"$f":"IF('Holdsammensætning  '!$B$3=\"\",\"\",'Holdsammensætning  '!$B$3)","v":"BK Greve"},null,null,null,null,null,null,null,null,null,null,null,null,null,null,null,"Start hul nr."]
[null,null,null,null,null,null,null,{"$f":"IF('Holdsammensætning  '!$B$4=\"\",\"\",'Holdsammensætning  '!$B$4)","v":""},null,null,null,null,null,null,null,null,null,null,null,null,null,null,{"$f":"IF('Holdsammensætning  '!$J$5=\"\",\"\",'Holdsammensætning  '!$J$5)","v":""},{"$f":"'Indtast Hold og Resultat'!D215","v":13}]
[null,"Navn",{"$f":"'Indtast Hold og Resultat'!C217","v":"Ingrid Jensen"},null,null,null,null,null,null,{"$f":"'Indtast Hold og Resultat'!C218","v":"Preben Madsen"},null,null,null,null,null,null,{"$f":"'Indtast Hold og Resultat'!C219","v":"Lena Kirkegaard"},null,null,{"$f":"'Indtast Hold og Resultat'!C220","v":"Preben Ludore"},null,null,null,"  Antal "]
[null,"Klub",{"$f":"'Indtast Hold og Resultat'!D217","v":"Krolffolket"},null,null,null,null,null,null,{"$f":"'Indtast Hold og Resultat'!D218","v":"BK"},null,null,null,null,null,null,{"$f":"'Indtast Hold og Resultat'!D219","v":"Krolffolket"},null,null,{"$f":"'Indtast Hold og Resultat'!D220","v":"Meløse"},null,null,null,"Spillere"]
[null,"Kugle ",{"$f":"IF('Indtast Hold og Resultat'!B217=\"\",\"\",VLOOKUP('Indtast Hold og Resultat'!B217,Deltagere!$B$4:$E$1003,4,FALSE))","v":"Blå"},null,null,null,null,null,null,{"$f":"IF('Indtast Hold og Resultat'!B218=\"\",\"\",VLOOKUP('Indtast Hold og Resultat'!B218,Deltagere!$B$4:$E$1003,4,FALSE))","v":"Farve"},null,null,null,null,null,null,{"$f":"IF('Indtast Hold og Resultat'!B219=\"\",\"\",VLOOKUP('Indtast Hold og Resultat'!B219,Deltagere!$B$4:$E$1003,4,FALSE))","v":"Orange"},null,null,{"$f":"IF('Indtast Hold og Resultat'!B220=\"\",\"\",VLOOKUP('Indtast Hold og Resultat'!B220,Deltagere!$B$4:$E$1003,4,FALSE))","v":"Farve"},null,null,null,{"$f":"COUNT('Indtast Hold og Resultat'!B217:B220)","v":4}]
[null,{"$f":"IF(X813=\"\",\"\",IF(X813<=18,X813,\"\"))","v":13},{"$f":"IF(X816=2,\"X\",IF(X816=3,\"X\",IF(X816=4,\"X\",\"\")))","v":"X"}]
[null,{"$f":"IF(B817<18,B817+1,IF(B817=18,1,\"\"))","v":14},null,null,null,null,null,null,null,{"$f":"IF(X816=2,\"X\",IF(X816=3,\"X\",IF(X816=4,\"X\",\"\")))","v":"X"}]
[null,15,{"$f":"IF(X816=2,\"X\",\"\")","v":""},null,null,null,null,null,null,null,null,null,null,null,null,null,{"$f":"IF(X816=3,\"X\",IF(X816=4,\"X\",\"\"))","v":"X"}]
[null,16,{"$f":"IF(X816=3,\"X\",\"\")","v":""},null,null,null,null,null,null,{"$f":"IF(X816=2,\"X\",\"\")","v":""},null,null,null,null,null,null,null,null,null,{"$f":"IF(X816=4,\"X\",\"\")","v":"X"}]
[null,17,{"$f":"IF(X816=2,\"X\",IF(X816=4,\"X\",\"\"))","v":"X"},null,null,null,null,null,null,{"$f":"IF(X816=3,\"X\",\"\")","v":""}]
[null,18,null,null,null,null,null,null,null,{"$f":"IF(X816=2,\"X\",IF(X816=4,\"X\",\"\"))","v":"X"},null,null,null,null,null,null,{"$f":"IF(X816=3,\"X\",\"\")","v":""}]
[null,1,{"$f":"IF(X816=2,\"X\",IF(X816=3,\"X\",\"\"))","v":""},null,null,null,null,null,null,null,null,null,null,null,null,null,{"$f":"IF(X816=4,\"X\",\"\")","v":"X"}]
[null,2,null,null,null,null,null,null,null,{"$f":"IF(X816=2,\"X\",IF(X816=3,\"X\",\"\"))","v":""},null,null,null,null,null,null,null,null,null,{"$f":"IF(X816=4,\"X\",\"\")","v":"X"}]
[null,3,{"$f":"IF(X816=2,\"X\",IF(X816=4,\"X\",\"\"))","v":"X"},null,null,null,null,null,null,null,null,null,null,null,null,null,{"$f":"IF(X816=3,\"X\",\"\")","v":""}]
[null,4,{"$f":"IF(X816=3,\"X\",\"\")","v":""},null,null,null,null,null,null,{"$f":"IF(X816=2,\"X\",IF(X816=4,\"X\",\"\"))","v":"X"}]
[null,5,{"$f":"IF(X816=2,\"X\",\"\")","v":""},null,null,null,null,null,null,{"$f":"IF(X816=3,\"X\",\"\")","v":""},null,null,null,null,null,null,{"$f":"IF(X816=4,\"X\",\"\")","v":"X"}]
[null,6,null,null,null,null,null,null,null,{"$f":"IF(X816=2,\"X\",\"\")","v":""},null,null,null,null,null,null,{"$f":"IF(X816=3,\"X\",\"\")","v":""},null,null,{"$f":"IF(X816=4,\"X\",\"\")","v":"X"}]
[null,7,{"$f":"IF(X816=2,\"X\",IF(X816=3,\"X\",IF(X816=4,\"X\",\"\")))","v":"X"}]
[null,8,null,null,null,null,null,null,null,{"$f":"IF(X816=2,\"X\",IF(X816=3,\"X\",IF(X816=4,\"X\",\"\")))","v":"X"}]
[null,9,{"$f":"IF(X816=2,\"X\",\"\")","v":""},null,null,null,null,null,null,null,null,null,null,null,null,null,{"$f":"IF(X816=3,\"X\",IF(X816=4,\"X\",\"\"))","v":"X"},null,null,null,null,null,null,"Kontrol af "]
[null,10,{"$f":"IF(X816=3,\"X\",\"\")","v":""},null,null,null,null,null,null,{"$f":"IF(X816=2,\"X\",\"\")","v":""},null,null,null,null,null,null,null,null,null,{"$f":"IF(X816=4,\"X\",\"\")","v":"X"},null,null,null,"sammen-"]
[null,11,{"$f":"IF(X816=2,\"X\",IF(X816=4,\"X\",\"\"))","v":"X"},null,null,null,null,null,null,{"$f":"IF(X816=3,\"X\",\"\")","v":""},null,null,null,null,null,null,null,null,null,null,null,null,null,"tælling."]
[null,12,null,null,null,null,null,null,null,{"$f":"IF(X816=2,\"X\",IF(X816=4,\"X\",\"\"))","v":"X"},null,null,null,null,null,null,{"$f":"IF(X816=3,\"X\",\"\")","v":""}]
[null,"Total"]
[null,"Dommer :",null,{"$f":"C814","v":"Ingrid Jensen"},null,null,null,null,null,{"$f":"IF(D836=\"\",\"\",VLOOKUP(D836,Deltagere!$C$4:$I$1003,2,FALSE))","v":"Krolffolket"},null,null,null,null,null,"Dato:",null,{"$f":"IF('Holdsammensætning  '!$J$4=\"\",\"\",'Holdsammensætning  '!$J$4)","v":"2023-08-15"},null,{"$f":"'Indtast Hold og Resultat'!B215","v":"Hold 13"},null," Runde :",null,2]
[]
[]
[null,null,null,null,null,null,null,{"$f":"IF('Holdsammensætning  '!$B$3=\"\",\"\",'Holdsammensætning  '!$B$3)","v":"BK Greve"},null,null,null,null,null,null,null,null,null,null,null,null,null,null,null,"Start hul nr."]
[null,null,null,null,null,null,null,{"$f":"IF('Holdsammensætning  '!$B$4=\"\",\"\",'Holdsammensætning  '!$B$4)","v":""},null,null,null,null,null,null,null,null,null,null,null,null,null,null,{"$f":"IF('Holdsammensætning  '!$J$5=\"\",\"\",'Holdsammensætning  '!$J$5)","v":""},{"$f":"'Indtast Hold og Resultat'!D222","v":14}]
[null,"Navn",{"$f":"'Indtast Hold og Resultat'!C224","v":"Christian Blid"},null,null,null,null,null,null,{"$f":"'Indtast Hold og Resultat'!C225","v":"Mogens Kortegaard"},null,null,null,null,null,null,{"$f":"'Indtast Hold og Resultat'!C226","v":"Erik Wagner"},null,null,{"$f":"'Indtast Hold og Resultat'!C227","v":"Kian Andersen"},null,null,null,"  Antal "]
[null,"Klub",{"$f":"'Indtast Hold og Resultat'!D224","v":"Krolffolket"},null,null,null,null,null,null,{"$f":"'Indtast Hold og Resultat'!D225","v":"BK"},null,null,null,null,null,null,{"$f":"'Indtast Hold og Resultat'!D226","v":"Krolffolket"},null,null,{"$f":"'Indtast Hold og Resultat'!D227","v":"IF Vikingerne"},null,null,null,"Spillere"]
[null,"Kugle ",{"$f":"IF('Indtast Hold og Resultat'!B224=\"\",\"\",VLOOKUP('Indtast Hold og Resultat'!B224,Deltagere!$B$4:$E$1003,4,FALSE))","v":"Lys Blå"},null,null,null,null,null,null,{"$f":"IF('Indtast Hold og Resultat'!B225=\"\",\"\",VLOOKUP('Indtast Hold og Resultat'!B225,Deltagere!$B$4:$E$1003,4,FALSE))","v":"Farve"},null,null,null,null,null,null,{"$f":"IF('Indtast Hold og Resultat'!B226=\"\",\"\",VLOOKUP('Indtast Hold og Resultat'!B226,Deltagere!$B$4:$E$1003,4,FALSE))","v":"Gul"},null,null,{"$f":"IF('Indtast Hold og Resultat'!B227=\"\",\"\",VLOOKUP('Indtast Hold og Resultat'!B227,Deltagere!$B$4:$E$1003,4,FALSE))","v":"Farve"},null,null,null,{"$f":"COUNT('Indtast Hold og Resultat'!B224:B227)","v":4}]
[null,{"$f":"IF(X840=\"\",\"\",IF(X840<=18,X840,\"\"))","v":14},{"$f":"IF(X843=2,\"X\",IF(X843=3,\"X\",IF(X843=4,\"X\",\"\")))","v":"X"}]
[null,{"$f":"IF(B844<18,B844+1,IF(B844=18,1,\"\"))","v":15},null,null,null,null,null,null,null,{"$f":"IF(X843=2,\"X\",IF(X843=3,\"X\",IF(X843=4,\"X\",\"\")))","v":"X"}]
[null,16,{"$f":"IF(X843=2,\"X\",\"\")","v":""},null,null,null,null,null,null,null,null,null,null,null,null,null,{"$f":"IF(X843=3,\"X\",IF(X843=4,\"X\",\"\"))","v":"X"}]
[null,17,{"$f":"IF(X843=3,\"X\",\"\")","v":""},null,null,null,null,null,null,{"$f":"IF(X843=2,\"X\",\"\")","v":""},null,null,null,null,null,null,null,null,null,{"$f":"IF(X843=4,\"X\",\"\")","v":"X"}]
[null,18,{"$f":"IF(X843=2,\"X\",IF(X843=4,\"X\",\"\"))","v":"X"},null,null,null,null,null,null,{"$f":"IF(X843=3,\"X\",\"\")","v":""}]
[null,1,null,null,null,null,null,null,null,{"$f":"IF(X843=2,\"X\",IF(X843=4,\"X\",\"\"))","v":"X"},null,null,null,null,null,null,{"$f":"IF(X843=3,\"X\",\"\")","v":""}]
[null,2,{"$f":"IF(X843=2,\"X\",IF(X843=3,\"X\",\"\"))","v":""},null,null,null,null,null,null,null,null,null,null,null,null,null,{"$f":"IF(X843=4,\"X\",\"\")","v":"X"}]
[null,3,null,null,null,null,null,null,null,{"$f":"IF(X843=2,\"X\",IF(X843=3,\"X\",\"\"))","v":""},null,null,null,null,null,null,null,null,null,{"$f":"IF(X843=4,\"X\",\"\")","v":"X"}]
[null,4,{"$f":"IF(X843=2,\"X\",IF(X843=4,\"X\",\"\"))","v":"X"},null,null,null,null,null,null,null,null,null,null,null,null,null,{"$f":"IF(X843=3,\"X\",\"\")","v":""}]
[null,5,{"$f":"IF(X843=3,\"X\",\"\")","v":""},null,null,null,null,null,null,{"$f":"IF(X843=2,\"X\",IF(X843=4,\"X\",\"\"))","v":"X"}]
[null,6,{"$f":"IF(X843=2,\"X\",\"\")","v":""},null,null,null,null,null,null,{"$f":"IF(X843=3,\"X\",\"\")","v":""},null,null,null,null,null,null,{"$f":"IF(X843=4,\"X\",\"\")","v":"X"}]
[null,7,null,null,null,null,null,null,null,{"$f":"IF(X843=2,\"X\",\"\")","v":""},null,null,null,null,null,null,{"$f":"IF(X843=3,\"X\",\"\")","v":""},null,null,{"$f":"IF(X843=4,\"X\",\"\")","v":"X"}]
[null,8,{"$f":"IF(X843=2,\"X\",IF(X843=3,\"X\",IF(X843=4,\"X\",\"\")))","v":"X"}]
[null,9,null,null,null,null,null,null,null,{"$f":"IF(X843=2,\"X\",IF(X843=3,\"X\",IF(X843=4,\"X\",\"\")))","v":"X"}]
[null,10,{"$f":"IF(X843=2,\"X\",\"\")","v":""},null,null,null,null,null,null,null,null,null,null,null,null,null,{"$f":"IF(X843=3,\"X\",IF(X843=4,\"X\",\"\"))","v":"X"},null,null,null,null,null,null,"Kontrol af "]
[null,11,{"$f":"IF(X843=3,\"X\",\"\")","v":""},null,null,null,null,null,null,{"$f":"IF(X843=2,\"X\",\"\")","v":""},null,null,null,null,null,null,null,null,null,{"$f":"IF(X843=4,\"X\",\"\")","v":"X"},null,null,null,"sammen-"]
[null,12,{"$f":"IF(X843=2,\"X\",IF(X843=4,\"X\",\"\"))","v":"X"},null,null,null,null,null,null,{"$f":"IF(X843=3,\"X\",\"\")","v":""},null,null,null,null,null,null,null,null,null,null,null,null,null,"tælling."]
[null,13,null,null,null,null,null,null,null,{"$f":"IF(X843=2,\"X\",IF(X843=4,\"X\",\"\"))","v":"X"},null,null,null,null,null,null,{"$f":"IF(X843=3,\"X\",\"\")","v":""}]
[null,"Total"]
[null,"Dommer :",null,{"$f":"C841","v":"Christian Blid"},null,null,null,null,null,{"$f":"IF(D863=\"\",\"\",VLOOKUP(D863,Deltagere!$C$4:$I$1003,2,FALSE))","v":"Krolffolket"},null,null,null,null,null,"Dato:",null,{"$f":"IF('Holdsammensætning  '!$J$4=\"\",\"\",'Holdsammensætning  '!$J$4)","v":"2023-08-15"},null,{"$f":"'Indtast Hold og Resultat'!B222","v":"Hold 14"},null," Runde :",null,2]
[]
[]
[null,null,null,null,null,null,null,{"$f":"IF('Holdsammensætning  '!$B$3=\"\",\"\",'Holdsammensætning  '!$B$3)","v":"BK Greve"},null,null,null,null,null,null,null,null,null,null,null,null,null,null,null,"Start hul nr."]
[null,null,null,null,null,null,null,{"$f":"IF('Holdsammensætning  '!$B$4=\"\",\"\",'Holdsammensætning  '!$B$4)","v":""},null,null,null,null,null,null,null,null,null,null,null,null,null,null,{"$f":"IF('Holdsammensætning  '!$J$5=\"\",\"\",'Holdsammensætning  '!$J$5)","v":""},{"$f":"'Indtast Hold og Resultat'!D229","v":15}]
[null,"Navn",{"$f":"'Indtast Hold og Resultat'!C231","v":"Inge Sørensen"},null,null,null,null,null,null,{"$f":"'Indtast Hold og Resultat'!C232","v":"Annie Damsgaard"},null,null,null,null,null,null,{"$f":"'Indtast Hold og Resultat'!C233","v":"Steen Lergard"},null,null,{"$f":"'Indtast Hold og Resultat'!C234","v":"Søren Skourup"},null,null,null,"  Antal "]
[null,"Klub",{"$f":"'Indtast Hold og Resultat'!D231","v":"Krolffolket"},null,null,null,null,null,null,{"$f":"'Indtast Hold og Resultat'!D232","v":"BK"},null,null,null,null,null,null,{"$f":"'Indtast Hold og Resultat'!D233","v":"Krolffolket"},null,null,{"$f":"'Indtast Hold og Resultat'!D234","v":"IF Vikingerne"},null,null,null,"Spillere"]
[null,"Kugle ",{"$f":"IF('Indtast Hold og Resultat'!B231=\"\",\"\",VLOOKUP('Indtast Hold og Resultat'!B231,Deltagere!$B$4:$E$1003,4,FALSE))","v":"Gul"},null,null,null,null,null,null,{"$f":"IF('Indtast Hold og Resultat'!B232=\"\",\"\",VLOOKUP('Indtast Hold og Resultat'!B232,Deltagere!$B$4:$E$1003,4,FALSE))","v":"Turkis"},null,null,null,null,null,null,{"$f":"IF('Indtast Hold og Resultat'!B233=\"\",\"\",VLOOKUP('Indtast Hold og Resultat'!B233,Deltagere!$B$4:$E$1003,4,FALSE))","v":"Farve"},null,null,{"$f":"IF('Indtast Hold og Resultat'!B234=\"\",\"\",VLOOKUP('Indtast Hold og Resultat'!B234,Deltagere!$B$4:$E$1003,4,FALSE))","v":"Farve"},null,null,null,{"$f":"COUNT('Indtast Hold og Resultat'!B231:B234)","v":4}]
[null,{"$f":"IF(X867=\"\",\"\",IF(X867<=18,X867,\"\"))","v":15},{"$f":"IF(X870=2,\"X\",IF(X870=3,\"X\",IF(X870=4,\"X\",\"\")))","v":"X"}]
[null,{"$f":"IF(B871<18,B871+1,IF(B871=18,1,\"\"))","v":16},null,null,null,null,null,null,null,{"$f":"IF(X870=2,\"X\",IF(X870=3,\"X\",IF(X870=4,\"X\",\"\")))","v":"X"}]
[null,17,{"$f":"IF(X870=2,\"X\",\"\")","v":""},null,null,null,null,null,null,null,null,null,null,null,null,null,{"$f":"IF(X870=3,\"X\",IF(X870=4,\"X\",\"\"))","v":"X"}]
[null,18,{"$f":"IF(X870=3,\"X\",\"\")","v":""},null,null,null,null,null,null,{"$f":"IF(X870=2,\"X\",\"\")","v":""},null,null,null,null,null,null,null,null,null,{"$f":"IF(X870=4,\"X\",\"\")","v":"X"}]
[null,1,{"$f":"IF(X870=2,\"X\",IF(X870=4,\"X\",\"\"))","v":"X"},null,null,null,null,null,null,{"$f":"IF(X870=3,\"X\",\"\")","v":""}]
[null,2,null,null,null,null,null,null,null,{"$f":"IF(X870=2,\"X\",IF(X870=4,\"X\",\"\"))","v":"X"},null,null,null,null,null,null,{"$f":"IF(X870=3,\"X\",\"\")","v":""}]
[null,3,{"$f":"IF(X870=2,\"X\",IF(X870=3,\"X\",\"\"))","v":""},null,null,null,null,null,null,null,null,null,null,null,null,null,{"$f":"IF(X870=4,\"X\",\"\")","v":"X"}]
[null,4,null,null,null,null,null,null,null,{"$f":"IF(X870=2,\"X\",IF(X870=3,\"X\",\"\"))","v":""},null,null,null,null,null,null,null,null,null,{"$f":"IF(X870=4,\"X\",\"\")","v":"X"}]
[null,5,{"$f":"IF(X870=2,\"X\",IF(X870=4,\"X\",\"\"))","v":"X"},null,null,null,null,null,null,null,null,null,null,null,null,null,{"$f":"IF(X870=3,\"X\",\"\")","v":""}]
[null,6,{"$f":"IF(X870=3,\"X\",\"\")","v":""},null,null,null,null,null,null,{"$f":"IF(X870=2,\"X\",IF(X870=4,\"X\",\"\"))","v":"X"}]
[null,7,{"$f":"IF(X870=2,\"X\",\"\")","v":""},null,null,null,null,null,null,{"$f":"IF(X870=3,\"X\",\"\")","v":""},null,null,null,null,null,null,{"$f":"IF(X870=4,\"X\",\"\")","v":"X"}]
[null,8,null,null,null,null,null,null,null,{"$f":"IF(X870=2,\"X\",\"\")","v":""},null,null,null,null,null,null,{"$f":"IF(X870=3,\"X\",\"\")","v":""},null,null,{"$f":"IF(X870=4,\"X\",\"\")","v":"X"}]
[null,9,{"$f":"IF(X870=2,\"X\",IF(X870=3,\"X\",IF(X870=4,\"X\",\"\")))","v":"X"}]
[null,10,null,null,null,null,null,null,null,{"$f":"IF(X870=2,\"X\",IF(X870=3,\"X\",IF(X870=4,\"X\",\"\")))","v":"X"}]
[null,11,{"$f":"IF(X870=2,\"X\",\"\")","v":""},null,null,null,null,null,null,null,null,null,null,null,null,null,{"$f":"IF(X870=3,\"X\",IF(X870=4,\"X\",\"\"))","v":"X"},null,null,null,null,null,null,"Kontrol af "]
[null,12,{"$f":"IF(X870=3,\"X\",\"\")","v":""},null,null,null,null,null,null,{"$f":"IF(X870=2,\"X\",\"\")","v":""},null,null,null,null,null,null,null,null,null,{"$f":"IF(X870=4,\"X\",\"\")","v":"X"},null,null,null,"sammen-"]
[null,13,{"$f":"IF(X870=2,\"X\",IF(X870=4,\"X\",\"\"))","v":"X"},null,null,null,null,null,null,{"$f":"IF(X870=3,\"X\",\"\")","v":""},null,null,null,null,null,null,null,null,null,null,null,null,null,"tælling."]
[null,14,null,null,null,null,null,null,null,{"$f":"IF(X870=2,\"X\",IF(X870=4,\"X\",\"\"))","v":"X"},null,null,null,null,null,null,{"$f":"IF(X870=3,\"X\",\"\")","v":""}]
[null,"Total"]
[null,"Dommer :",null,{"$f":"C868","v":"Inge Sørensen"},null,null,null,null,null,{"$f":"IF(D890=\"\",\"\",VLOOKUP(D890,Deltagere!$C$4:$I$1003,2,FALSE))","v":"Krolffolket"},null,null,null,null,null,"Dato:",null,{"$f":"IF('Holdsammensætning  '!$J$4=\"\",\"\",'Holdsammensætning  '!$J$4)","v":"2023-08-15"},null,{"$f":"'Indtast Hold og Resultat'!B229","v":"Hold 15"},null," Runde :",null,2]
[]
[]
[null,null,null,null,null,null,null,{"$f":"IF('Holdsammensætning  '!$B$3=\"\",\"\",'Holdsammensætning  '!$B$3)","v":"BK Greve"},null,null,null,null,null,null,null,null,null,null,null,null,null,null,null,"Start hul nr."]
[null,null,null,null,null,null,null,{"$f":"IF('Holdsammensætning  '!$B$4=\"\",\"\",'Holdsammensætning  '!$B$4)","v":""},null,null,null,null,null,null,null,null,null,null,null,null,null,null,{"$f":"IF('Holdsammensætning  '!$J$5=\"\",\"\",'Holdsammensætning  '!$J$5)","v":""},{"$f":"'Indtast Hold og Resultat'!D236","v":16}]
[null,"Navn",{"$f":"'Indtast Hold og Resultat'!C238","v":"Allan Larsen"},null,null,null,null,null,null,{"$f":"'Indtast Hold og Resultat'!C239","v":"Anders Jørgensen"},null,null,null,null,null,null,{"$f":"'Indtast Hold og Resultat'!C240","v":"Lisser Kristensen"},null,null,{"$f":"'Indtast Hold og Resultat'!C241","v":"Connie Bregnvig"},null,null,null,"  Antal "]
[null,"Klub",{"$f":"'Indtast Hold og Resultat'!D238","v":"Krolffolket"},null,null,null,null,null,null,{"$f":"'Indtast Hold og Resultat'!D239","v":"IF Vikingerne"},null,null,null,null,null,null,{"$f":"'Indtast Hold og Resultat'!D240","v":"Krolffolket"},null,null,{"$f":"'Indtast Hold og Resultat'!D241","v":"Meløse"},null,null,null,"Spillere"]
[null,"Kugle ",{"$f":"IF('Indtast Hold og Resultat'!B238=\"\",\"\",VLOOKUP('Indtast Hold og Resultat'!B238,Deltagere!$B$4:$E$1003,4,FALSE))","v":"Orange"},null,null,null,null,null,null,{"$f":"IF('Indtast Hold og Resultat'!B239=\"\",\"\",VLOOKUP('Indtast Hold og Resultat'!B239,Deltagere!$B$4:$E$1003,4,FALSE))","v":"Farve"},null,null,null,null,null,null,{"$f":"IF('Indtast Hold og Resultat'!B240=\"\",\"\",VLOOKUP('Indtast Hold og Resultat'!B240,Deltagere!$B$4:$E$1003,4,FALSE))","v":"Rød"},null,null,{"$f":"IF('Indtast Hold og Resultat'!B241=\"\",\"\",VLOOKUP('Indtast Hold og Resultat'!B241,Deltagere!$B$4:$E$1003,4,FALSE))","v":"Farve"},null,null,null,{"$f":"COUNT('Indtast Hold og Resultat'!B238:B241)","v":4}]
[null,{"$f":"IF(X894=\"\",\"\",IF(X894<=18,X894,\"\"))","v":16},{"$f":"IF(X897=2,\"X\",IF(X897=3,\"X\",IF(X897=4,\"X\",\"\")))","v":"X"}]
[null,{"$f":"IF(B898<18,B898+1,IF(B898=18,1,\"\"))","v":17},null,null,null,null,null,null,null,{"$f":"IF(X897=2,\"X\",IF(X897=3,\"X\",IF(X897=4,\"X\",\"\")))","v":"X"}]
[null,18,{"$f":"IF(X897=2,\"X\",\"\")","v":""},null,null,null,null,null,null,null,null,null,null,null,null,null,{"$f":"IF(X897=3,\"X\",IF(X897=4,\"X\",\"\"))","v":"X"}]
[null,1,{"$f":"IF(X897=3,\"X\",\"\")","v":""},null,null,null,null,null,null,{"$f":"IF(X897=2,\"X\",\"\")","v":""},null,null,null,null,null,null,null,null,null,{"$f":"IF(X897=4,\"X\",\"\")","v":"X"}]
[null,2,{"$f":"IF(X897=2,\"X\",IF(X897=4,\"X\",\"\"))","v":"X"},null,null,null,null,null,null,{"$f":"IF(X897=3,\"X\",\"\")","v":""}]
[null,3,null,null,null,null,null,null,null,{"$f":"IF(X897=2,\"X\",IF(X897=4,\"X\",\"\"))","v":"X"},null,null,null,null,null,null,{"$f":"IF(X897=3,\"X\",\"\")","v":""}]
[null,4,{"$f":"IF(X897=2,\"X\",IF(X897=3,\"X\",\"\"))","v":""},null,null,null,null,null,null,null,null,null,null,null,null,null,{"$f":"IF(X897=4,\"X\",\"\")","v":"X"}]
[null,5,null,null,null,null,null,null,null,{"$f":"IF(X897=2,\"X\",IF(X897=3,\"X\",\"\"))","v":""},null,null,null,null,null,null,null,null,null,{"$f":"IF(X897=4,\"X\",\"\")","v":"X"}]
[null,6,{"$f":"IF(X897=2,\"X\",IF(X897=4,\"X\",\"\"))","v":"X"},null,null,null,null,null,null,null,null,null,null,null,null,null,{"$f":"IF(X897=3,\"X\",\"\")","v":""}]
[null,7,{"$f":"IF(X897=3,\"X\",\"\")","v":""},null,null,null,null,null,null,{"$f":"IF(X897=2,\"X\",IF(X897=4,\"X\",\"\"))","v":"X"}]
[null,8,{"$f":"IF(X897=2,\"X\",\"\")","v":""},null,null,null,null,null,null,{"$f":"IF(X897=3,\"X\",\"\")","v":""},null,null,null,null,null,null,{"$f":"IF(X897=4,\"X\",\"\")","v":"X"}]
[null,9,null,null,null,null,null,null,null,{"$f":"IF(X897=2,\"X\",\"\")","v":""},null,null,null,null,null,null,{"$f":"IF(X897=3,\"X\",\"\")","v":""},null,null,{"$f":"IF(X897=4,\"X\",\"\")","v":"X"}]
[null,10,{"$f":"IF(X897=2,\"X\",IF(X897=3,\"X\",IF(X897=4,\"X\",\"\")))","v":"X"}]
[null,11,null,null,null,null,null,null,null,{"$f":"IF(X897=2,\"X\",IF(X897=3,\"X\",IF(X897=4,\"X\",\"\")))","v":"X"}]
[null,12,{"$f":"IF(X897=2,\"X\",\"\")","v":""},null,null,null,null,null,null,null,null,null,null,null,null,null,{"$f":"IF(X897=3,\"X\",IF(X897=4,\"X\",\"\"))","v":"X"},null,null,null,null,null,null,"Kontrol af "]
[null,13,{"$f":"IF(X897=3,\"X\",\"\")","v":""},null,null,null,null,null,null,{"$f":"IF(X897=2,\"X\",\"\")","v":""},null,null,null,null,null,null,null,null,null,{"$f":"IF(X897=4,\"X\",\"\")","v":"X"},null,null,null,"sammen-"]
[null,14,{"$f":"IF(X897=2,\"X\",IF(X897=4,\"X\",\"\"))","v":"X"},null,null,null,null,null,null,{"$f":"IF(X897=3,\"X\",\"\")","v":""},null,null,null,null,null,null,null,null,null,null,null,null,null,"tælling."]
[null,15,null,null,null,null,null,null,null,{"$f":"IF(X897=2,\"X\",IF(X897=4,\"X\",\"\"))","v":"X"},null,null,null,null,null,null,{"$f":"IF(X897=3,\"X\",\"\")","v":""}]
[null,"Total"]
[null,"Dommer :",null,{"$f":"C895","v":"Allan Larsen"},null,null,null,null,null,{"$f":"IF(D917=\"\",\"\",VLOOKUP(D917,Deltagere!$C$4:$I$1003,2,FALSE))","v":"Krolffolket"},null,null,null,null,null,"Dato:",null,{"$f":"IF('Holdsammensætning  '!$J$4=\"\",\"\",'Holdsammensætning  '!$J$4)","v":"2023-08-15"},null,{"$f":"'Indtast Hold og Resultat'!B236","v":"Hold 16"},null," Runde :",null,2]
[]
[]
[null,null,null,null,null,null,null,{"$f":"IF('Holdsammensætning  '!$B$3=\"\",\"\",'Holdsammensætning  '!$B$3)","v":"BK Greve"},null,null,null,null,null,null,null,null,null,null,null,null,null,null,null,"Start hul nr."]
[null,null,null,null,null,null,null,{"$f":"IF('Holdsammensætning  '!$B$4=\"\",\"\",'Holdsammensætning  '!$B$4)","v":""},null,null,null,null,null,null,null,null,null,null,null,null,null,null,{"$f":"IF('Holdsammensætning  '!$J$5=\"\",\"\",'Holdsammensætning  '!$J$5)","v":""},{"$f":"'Indtast Hold og Resultat'!D243","v":17}]
[null,"Navn",{"$f":"'Indtast Hold og Resultat'!C245","v":"Bjørn Krogh"},null,null,null,null,null,null,{"$f":"'Indtast Hold og Resultat'!C246","v":"Jørgen Hugo Larsen"},null,null,null,null,null,null,{"$f":"'Indtast Hold og Resultat'!C247","v":"Petra Knudsen"},null,null,{"$f":"'Indtast Hold og Resultat'!C248","v":"Adam Kristoffersen"},null,null,null,"  Antal "]
[null,"Klub",{"$f":"'Indtast Hold og Resultat'!D245","v":"Krolffolket"},null,null,null,null,null,null,{"$f":"'Indtast Hold og Resultat'!D246","v":"BK"},null,null,null,null,null,null,{"$f":"'Indtast Hold og Resultat'!D247","v":"Meløse"},null,null,{"$f":"'Indtast Hold og Resultat'!D248","v":"IF Vikingerne"},null,null,null,"Spillere"]
[null,"Kugle ",{"$f":"IF('Indtast Hold og Resultat'!B245=\"\",\"\",VLOOKUP('Indtast Hold og Resultat'!B245,Deltagere!$B$4:$E$1003,4,FALSE))","v":0},null,null,null,null,null,null,{"$f":"IF('Indtast Hold og Resultat'!B246=\"\",\"\",VLOOKUP('Indtast Hold og Resultat'!B246,Deltagere!$B$4:$E$1003,4,FALSE))","v":"Farve"},null,null,null,null,null,null,{"$f":"IF('Indtast Hold og Resultat'!B247=\"\",\"\",VLOOKUP('Indtast Hold og Resultat'!B247,Deltagere!$B$4:$E$1003,4,FALSE))","v":"Lilla"},null,null,{"$f":"IF('Indtast Hold og Resultat'!B248=\"\",\"\",VLOOKUP('Indtast Hold og Resultat'!B248,Deltagere!$B$4:$E$1003,4,FALSE))","v":"Farve"},null,null,null,{"$f":"COUNT('Indtast Hold og Resultat'!B245:B248)","v":4}]
[null,{"$f":"IF(X921=\"\",\"\",IF(X921<=18,X921,\"\"))","v":17},{"$f":"IF(X924=2,\"X\",IF(X924=3,\"X\",IF(X924=4,\"X\",\"\")))","v":"X"}]
[null,{"$f":"IF(B925<18,B925+1,IF(B925=18,1,\"\"))","v":18},null,null,null,null,null,null,null,{"$f":"IF(X924=2,\"X\",IF(X924=3,\"X\",IF(X924=4,\"X\",\"\")))","v":"X"}]
[null,1,{"$f":"IF(X924=2,\"X\",\"\")","v":""},null,null,null,null,null,null,null,null,null,null,null,null,null,{"$f":"IF(X924=3,\"X\",IF(X924=4,\"X\",\"\"))","v":"X"}]
[null,2,{"$f":"IF(X924=3,\"X\",\"\")","v":""},null,null,null,null,null,null,{"$f":"IF(X924=2,\"X\",\"\")","v":""},null,null,null,null,null,null,null,null,null,{"$f":"IF(X924=4,\"X\",\"\")","v":"X"}]
[null,3,{"$f":"IF(X924=2,\"X\",IF(X924=4,\"X\",\"\"))","v":"X"},null,null,null,null,null,null,{"$f":"IF(X924=3,\"X\",\"\")","v":""}]
[null,4,null,null,null,null,null,null,null,{"$f":"IF(X924=2,\"X\",IF(X924=4,\"X\",\"\"))","v":"X"},null,null,null,null,null,null,{"$f":"IF(X924=3,\"X\",\"\")","v":""}]
[null,5,{"$f":"IF(X924=2,\"X\",IF(X924=3,\"X\",\"\"))","v":""},null,null,null,null,null,null,null,null,null,null,null,null,null,{"$f":"IF(X924=4,\"X\",\"\")","v":"X"}]
[null,6,null,null,null,null,null,null,null,{"$f":"IF(X924=2,\"X\",IF(X924=3,\"X\",\"\"))","v":""},null,null,null,null,null,null,null,null,null,{"$f":"IF(X924=4,\"X\",\"\")","v":"X"}]
[null,7,{"$f":"IF(X924=2,\"X\",IF(X924=4,\"X\",\"\"))","v":"X"},null,null,null,null,null,null,null,null,null,null,null,null,null,{"$f":"IF(X924=3,\"X\",\"\")","v":""}]
[null,8,{"$f":"IF(X924=3,\"X\",\"\")","v":""},null,null,null,null,null,null,{"$f":"IF(X924=2,\"X\",IF(X924=4,\"X\",\"\"))","v":"X"}]
[null,9,{"$f":"IF(X924=2,\"X\",\"\")","v":""},null,null,null,null,null,null,{"$f":"IF(X924=3,\"X\",\"\")","v":""},null,null,null,null,null,null,{"$f":"IF(X924=4,\"X\",\"\")","v":"X"}]
[null,10,null,null,null,null,null,null,null,{"$f":"IF(X924=2,\"X\",\"\")","v":""},null,null,null,null,null,null,{"$f":"IF(X924=3,\"X\",\"\")","v":""},null,null,{"$f":"IF(X924=4,\"X\",\"\")","v":"X"}]
[null,11,{"$f":"IF(X924=2,\"X\",IF(X924=3,\"X\",IF(X924=4,\"X\",\"\")))","v":"X"}]
[null,12,null,null,null,null,null,null,null,{"$f":"IF(X924=2,\"X\",IF(X924=3,\"X\",IF(X924=4,\"X\",\"\")))","v":"X"}]
[null,13,{"$f":"IF(X924=2,\"X\",\"\")","v":""},null,null,null,null,null,null,null,null,null,null,null,null,null,{"$f":"IF(X924=3,\"X\",IF(X924=4,\"X\",\"\"))","v":"X"},null,null,null,null,null,null,"Kontrol af "]
[null,14,{"$f":"IF(X924=3,\"X\",\"\")","v":""},null,null,null,null,null,null,{"$f":"IF(X924=2,\"X\",\"\")","v":""},null,null,null,null,null,null,null,null,null,{"$f":"IF(X924=4,\"X\",\"\")","v":"X"},null,null,null,"sammen-"]
[null,15,{"$f":"IF(X924=2,\"X\",IF(X924=4,\"X\",\"\"))","v":"X"},null,null,null,null,null,null,{"$f":"IF(X924=3,\"X\",\"\")","v":""},null,null,null,null,null,null,null,null,null,null,null,null,null,"tælling."]
[null,16,null,null,null,null,null,null,null,{"$f":"IF(X924=2,\"X\",IF(X924=4,\"X\",\"\"))","v":"X"},null,null,null,null,null,null,{"$f":"IF(X924=3,\"X\",\"\")","v":""}]
[null,"Total"]
[null,"Dommer :",null,{"$f":"C922","v":"Bjørn Krogh"},null,null,null,null,null,{"$f":"IF(D944=\"\",\"\",VLOOKUP(D944,Deltagere!$C$4:$I$1003,2,FALSE))","v":"Krolffolket"},null,null,null,null,null,"Dato:",null,{"$f":"IF('Holdsammensætning  '!$J$4=\"\",\"\",'Holdsammensætning  '!$J$4)","v":"2023-08-15"},null,{"$f":"'Indtast Hold og Resultat'!B243","v":"Hold 17"},null," Runde :",null,2]
[]
[]
[null,null,null,null,null,null,null,{"$f":"IF('Holdsammensætning  '!$B$3=\"\",\"\",'Holdsammensætning  '!$B$3)","v":"BK Greve"},null,null,null,null,null,null,null,null,null,null,null,null,null,null,null,"Start hul nr."]
[null,null,null,null,null,null,null,{"$f":"IF('Holdsammensætning  '!$B$4=\"\",\"\",'Holdsammensætning  '!$B$4)","v":""},null,null,null,null,null,null,null,null,null,null,null,null,null,null,{"$f":"IF('Holdsammensætning  '!$J$5=\"\",\"\",'Holdsammensætning  '!$J$5)","v":""},{"$f":"'Indtast Hold og Resultat'!D250","v":18}]
[null,"Navn",{"$f":"'Indtast Hold og Resultat'!C252","v":"Alice Rask"},null,null,null,null,null,null,{"$f":"'Indtast Hold og Resultat'!C253","v":"Conny Schackinger"},null,null,null,null,null,null,{"$f":"'Indtast Hold og Resultat'!C254","v":"Sarah Christiansen"},null,null,{"$f":"'Indtast Hold og Resultat'!C255","v":"Peter Christensen"},null,null,null,"  Antal "]
[null,"Klub",{"$f":"'Indtast Hold og Resultat'!D252","v":"Krolffolket"},null,null,null,null,null,null,{"$f":"'Indtast Hold og Resultat'!D253","v":"BK"},null,null,null,null,null,null,{"$f":"'Indtast Hold og Resultat'!D254","v":"IF Vikingerne"},null,null,{"$f":"'Indtast Hold og Resultat'!D255","v":"Krolffolket"},null,null,null,"Spillere"]
[null,"Kugle ",{"$f":"IF('Indtast Hold og Resultat'!B252=\"\",\"\",VLOOKUP('Indtast Hold og Resultat'!B252,Deltagere!$B$4:$E$1003,4,FALSE))","v":"Grøn"},null,null,null,null,null,null,{"$f":"IF('Indtast Hold og Resultat'!B253=\"\",\"\",VLOOKUP('Indtast Hold og Resultat'!B253,Deltagere!$B$4:$E$1003,4,FALSE))","v":"Blå"},null,null,null,null,null,null,{"$f":"IF('Indtast Hold og Resultat'!B254=\"\",\"\",VLOOKUP('Indtast Hold og Resultat'!B254,Deltagere!$B$4:$E$1003,4,FALSE))","v":"Farve"},null,null,{"$f":"IF('Indtast Hold og Resultat'!B255=\"\",\"\",VLOOKUP('Indtast Hold og Resultat'!B255,Deltagere!$B$4:$E$1003,4,FALSE))","v":"Rød"},null,null,null,{"$f":"COUNT('Indtast Hold og Resultat'!B252:C255)","v":4}]
[null,{"$f":"IF(X948=\"\",\"\",IF(X948<=18,X948,\"\"))","v":18},{"$f":"IF(X951=2,\"X\",IF(X951=3,\"X\",IF(X951=4,\"X\",\"\")))","v":"X"}]
[null,{"$f":"IF(B952<18,B952+1,IF(B952=18,1,\"\"))","v":1},null,null,null,null,null,null,null,{"$f":"IF(X951=2,\"X\",IF(X951=3,\"X\",IF(X951=4,\"X\",\"\")))","v":"X"}]
[null,2,{"$f":"IF(X951=2,\"X\",\"\")","v":""},null,null,null,null,null,null,null,null,null,null,null,null,null,{"$f":"IF(X951=3,\"X\",IF(X951=4,\"X\",\"\"))","v":"X"}]
[null,3,{"$f":"IF(X951=3,\"X\",\"\")","v":""},null,null,null,null,null,null,{"$f":"IF(X951=2,\"X\",\"\")","v":""},null,null,null,null,null,null,null,null,null,{"$f":"IF(X951=4,\"X\",\"\")","v":"X"}]
[null,4,{"$f":"IF(X951=2,\"X\",IF(X951=4,\"X\",\"\"))","v":"X"},null,null,null,null,null,null,{"$f":"IF(X951=3,\"X\",\"\")","v":""}]
[null,5,null,null,null,null,null,null,null,{"$f":"IF(X951=2,\"X\",IF(X951=4,\"X\",\"\"))","v":"X"},null,null,null,null,null,null,{"$f":"IF(X951=3,\"X\",\"\")","v":""}]
[null,6,{"$f":"IF(X951=2,\"X\",IF(X951=3,\"X\",\"\"))","v":""},null,null,null,null,null,null,null,null,null,null,null,null,null,{"$f":"IF(X951=4,\"X\",\"\")","v":"X"}]
[null,7,null,null,null,null,null,null,null,{"$f":"IF(X951=2,\"X\",IF(X951=3,\"X\",\"\"))","v":""},null,null,null,null,null,null,null,null,null,{"$f":"IF(X951=4,\"X\",\"\")","v":"X"}]
[null,8,{"$f":"IF(X951=2,\"X\",IF(X951=4,\"X\",\"\"))","v":"X"},null,null,null,null,null,null,null,null,null,null,null,null,null,{"$f":"IF(X951=3,\"X\",\"\")","v":""}]
[null,9,{"$f":"IF(X951=3,\"X\",\"\")","v":""},null,null,null,null,null,null,{"$f":"IF(X951=2,\"X\",IF(X951=4,\"X\",\"\"))","v":"X"}]
[null,10,{"$f":"IF(X951=2,\"X\",\"\")","v":""},null,null,null,null,null,null,{"$f":"IF(X951=3,\"X\",\"\")","v":""},null,null,null,null,null,null,{"$f":"IF(X951=4,\"X\",\"\")","v":"X"}]
[null,11,null,null,null,null,null,null,null,{"$f":"IF(X951=2,\"X\",\"\")","v":""},null,null,null,null,null,null,{"$f":"IF(X951=3,\"X\",\"\")","v":""},null,null,{"$f":"IF(X951=4,\"X\",\"\")","v":"X"}]
[null,12,{"$f":"IF(X951=2,\"X\",IF(X951=3,\"X\",IF(X951=4,\"X\",\"\")))","v":"X"}]
[null,13,null,null,null,null,null,null,null,{"$f":"IF(X951=2,\"X\",IF(X951=3,\"X\",IF(X951=4,\"X\",\"\")))","v":"X"}]
[null,14,{"$f":"IF(X951=2,\"X\",\"\")","v":""},null,null,null,null,null,null,null,null,null,null,null,null,null,{"$f":"IF(X951=3,\"X\",IF(X951=4,\"X\",\"\"))","v":"X"},null,null,null,null,null,null,"Kontrol af "]
[null,15,{"$f":"IF(X951=3,\"X\",\"\")","v":""},null,null,null,null,null,null,{"$f":"IF(X951=2,\"X\",\"\")","v":""},null,null,null,null,null,null,null,null,null,{"$f":"IF(X951=4,\"X\",\"\")","v":"X"},null,null,null,"sammen-"]
[null,16,{"$f":"IF(X951=2,\"X\",IF(X951=4,\"X\",\"\"))","v":"X"},null,null,null,null,null,null,{"$f":"IF(X951=3,\"X\",\"\")","v":""},null,null,null,null,null,null,null,null,null,null,null,null,null,"tælling."]
[null,17,null,null,null,null,null,null,null,{"$f":"IF(X951=2,\"X\",IF(X951=4,\"X\",\"\"))","v":"X"},null,null,null,null,null,null,{"$f":"IF(X951=3,\"X\",\"\")","v":""}]
[null,"Total"]
[null,"Dommer :",null,{"$f":"C949","v":"Alice Rask"},null,null,null,null,null,{"$f":"IF(D971=\"\",\"\",VLOOKUP(D971,Deltagere!$C$4:$I$1003,2,FALSE))","v":"Krolffolket"},null,null,null,null,null,"Dato:",null,{"$f":"IF('Holdsammensætning  '!$J$4=\"\",\"\",'Holdsammensætning  '!$J$4)","v":"2023-08-15"},null,{"$f":"'Indtast Hold og Resultat'!B250","v":"Hold 18"},null," Runde :",null,2]

{"sheet":"Resultatliste","index":7,"n_rows":109,"n_cols":16,"rows_kept":109,"cut":false,"hidden":false,"merged":[]}
[" ",null,null,null,"Resultat fra stævnet hos :",null,null,null,null,{"$f":"IF('Holdsammensætning  '!B3=\"\",\"\",'Holdsammensætning  '!B3)","v":"BK Greve"},null,null,null,null,null,{"$f":"IF('Holdsammensætning  '!J4=\"\",\"\",'Holdsammensætning  '!J4)","v":"2023-08-15"}]
[null,"Antal slag i alt ved stævnet",null,null,null,{"$f":"IF(C9=\"\",0,SUM(C9:C80))","v":7188},{"$f":"IF(F3>72,\"Hvis der er flere end 72 deltagere vil deltagerne over 72 kun blive vist under bedste dame og bedste herre.\",\"\")","v":""}]
[null,"Antal deltagere ",null,null,null,{"$f":"IF(C9=\"\",0,COUNT(C9:C80))","v":70}]
[null,"Antal slag i gennemsnit ved stævnet",null,null,null,{"$f":"IF(F3=0,0,F2/F3)","v":102.68571428571428},null,"Spillerens antal slag divideret med antal slag i gennemsnit ved stævnet er = Point"]
[]
[null,null,"   Individuel konkurrence",null,null,null,null,null,null,null,"               Hold konkurrence"]
[]
[null,"Nr.","Slag","Point","Navn","Klub",null,"Nr.","Slag","Klub",null,null,null,"Spillere på holdet"]
[null,1,{"$f":"'Indtast Hold og Resultat'!AS57","v":86},{"$f":"IF(C9=\"\",\"\",C9/F$4)","v":0.83750695603784087},{"$f":"'Indtast Hold og Resultat'!AQ57","v":"Peter Aare"},{"$f":"'Indtast Hold og Resultat'!AR57","v":"Meløse"},null,1,{"$f":"IF('Indtast Hold og Resultat'!AP6>1500,\"\",'Indtast Hold og Resultat'!AP6)","v":376.14},{"$f":"'Indtast Hold og Resultat'!AQ6","v":"BK 1"},{"$f":"'Indtast Hold og Resultat'!AR6","v":"Svend Faigh"},null,null,{"$f":"'Indtast Hold og Resultat'!AS6","v":"Mogens Kortegaard"},{"$f":"'Indtast Hold og Resultat'!AT6","v":"Jørgen Hugo Larsen"},{"$f":"'Indtast Hold og Resultat'!AU6","v":"Lone Nielsen"}]
[null,2,{"$f":"'Indtast Hold og Resultat'!AS58","v":86},{"$f":"IF(C10=\"\",\"\",C10/F$4)","v":0.83750695603784087},{"$f":"'Indtast Hold og Resultat'!AQ58","v":"Svend Faigh"},{"$f":"'Indtast Hold og Resultat'!AR58","v":"BK"},null,2,{"$f":"IF('Indtast Hold og Resultat'!AP7>1500,\"\",'Indtast Hold og Resultat'!AP7)","v":378.2},{"$f":"'Indtast Hold og Resultat'!AQ7","v":"Krolffolket 3"},{"$f":"'Indtast Hold og Resultat'!AR7","v":"Ingrid Jensen"},null,null,{"$f":"'Indtast Hold og Resultat'!AS7","v":"Liselotte Storgaard"},{"$f":"'Indtast Hold og Resultat'!AT7","v":"Christian Blid"},{"$f":"'Indtast Hold og Resultat'!AU7","v":"Jørgen Hansen"}]
[null,3,{"$f":"'Indtast Hold og Resultat'!AS59","v":90},0.87646076794657768,{"$f":"'Indtast Hold og Resultat'!AQ59","v":"Peter Knudsen"},{"$f":"'Indtast Hold og Resultat'!AR59","v":"Meløse"},null,3,{"$f":"IF('Indtast Hold og Resultat'!AP8>1500,\"\",'Indtast Hold og Resultat'!AP8)","v":382.1},{"$f":"'Indtast Hold og Resultat'!AQ8","v":"Meløse 1"},{"$f":"'Indtast Hold og Resultat'!AR8","v":"Peter Knudsen"},null,null,{"$f":"'Indtast Hold og Resultat'!AS8","v":"Mogens Bodilsen"},{"$f":"'Indtast Hold og Resultat'!AT8","v":"Villy Jensen"},{"$f":"'Indtast Hold og Resultat'!AU8","v":"Peter Aare"}]
[null,4,{"$f":"'Indtast Hold og Resultat'!AS60","v":91},0.8861992209237618,{"$f":"'Indtast Hold og Resultat'!AQ60","v":"Jørgen Hansen"},{"$f":"'Indtast Hold og Resultat'!AR60","v":"Krolffolket"},null,4,{"$f":"IF('Indtast Hold og Resultat'!AP9>1500,\"\",'Indtast Hold og Resultat'!AP9)","v":386.19},{"$f":"'Indtast Hold og Resultat'!AQ9","v":"Krolffolket 2"},{"$f":"'Indtast Hold og Resultat'!AR9","v":"Michael Jørgensen"},null,null,{"$f":"'Indtast Hold og Resultat'!AS9","v":"Alice Rask"},{"$f":"'Indtast Hold og Resultat'!AT9","v":"Kjeld Hansen"},{"$f":"'Indtast Hold og Resultat'!AU9","v":"Bjørn Krogh"}]
[null,5,{"$f":"'Indtast Hold og Resultat'!AS61","v":92},{"$f":"IF(C13=\"\",\"\",C13/F$4)","v":0.89593767390094603},{"$f":"'Indtast Hold og Resultat'!AQ61","v":"Ingrid Jensen"},{"$f":"'Indtast Hold og Resultat'!AR61","v":"Krolffolket"},null,5,{"$f":"IF('Indtast Hold og Resultat'!AP10>1500,\"\",'Indtast Hold og Resultat'!AP10)","v":389.18},{"$f":"'Indtast Hold og Resultat'!AQ10","v":"Krolffolket 1"},{"$f":"'Indtast Hold og Resultat'!AR10","v":"Hanne Hansen"},null,null,{"$f":"'Indtast Hold og Resultat'!AS10","v":"Lone Hansen"},{"$f":"'Indtast Hold og Resultat'!AT10","v":"Jim Jørgensen"},{"$f":"'Indtast Hold og Resultat'!AU10","v":"Allan Pedersen"}]
[null,6,{"$f":"'Indtast Hold og Resultat'!AS62","v":92},0.89593767390094603,{"$f":"'Indtast Hold og Resultat'!AQ62","v":"Allan Larsen"},{"$f":"'Indtast Hold og Resultat'!AR62","v":"Krolffolket"},null,6,{"$f":"IF('Indtast Hold og Resultat'!AP11>1500,\"\",'Indtast Hold og Resultat'!AP11)","v":396.21},{"$f":"'Indtast Hold og Resultat'!AQ11","v":"Krolffolket 4"},{"$f":"'Indtast Hold og Resultat'!AR11","v":"Ivan Szumlanski"},null,null,{"$f":"'Indtast Hold og Resultat'!AS11","v":"Allan Larsen"},{"$f":"'Indtast Hold og Resultat'!AT11","v":"Finn Jørgensen"},{"$f":"'Indtast Hold og Resultat'!AU11","v":"Peter Christensen"}]
[null,7,{"$f":"'Indtast Hold og Resultat'!AS63","v":93},0.90567612687813026,{"$f":"'Indtast Hold og Resultat'!AQ63","v":"Mogens Kortegaard"},{"$f":"'Indtast Hold og Resultat'!AR63","v":"BK"},null,7,{"$f":"IF('Indtast Hold og Resultat'!AP12>1500,\"\",'Indtast Hold og Resultat'!AP12)","v":397.27},{"$f":"'Indtast Hold og Resultat'!AQ12","v":"Vikingerne 1"},{"$f":"'Indtast Hold og Resultat'!AR12","v":"Anders Jørgensen"},null,null,{"$f":"'Indtast Hold og Resultat'!AS12","v":"Kian Andersen"},{"$f":"'Indtast Hold og Resultat'!AT12","v":"Adam Kristoffersen"},{"$f":"'Indtast Hold og Resultat'!AU12","v":"Søren Skourup"}]
[null,8,{"$f":"'Indtast Hold og Resultat'!AS64","v":94},0.91541457985531438,{"$f":"'Indtast Hold og Resultat'!AQ64","v":"Lone Hansen"},{"$f":"'Indtast Hold og Resultat'!AR64","v":"Krolffolket"},null,8,{"$f":"IF('Indtast Hold og Resultat'!AP13>1500,\"\",'Indtast Hold og Resultat'!AP13)","v":399.11},{"$f":"'Indtast Hold og Resultat'!AQ13","v":"Meløse 2"},{"$f":"'Indtast Hold og Resultat'!AR13","v":"Annie Jensen"},null,null,{"$f":"'Indtast Hold og Resultat'!AS13","v":"Tage Jensen"},{"$f":"'Indtast Hold og Resultat'!AT13","v":"Lise Qvist Bebe"},{"$f":"'Indtast Hold og Resultat'!AU13","v":"Connie Bregnvig"}]
[null,9,{"$f":"'Indtast Hold og Resultat'!AS65","v":94},0.91541457985531438,{"$f":"'Indtast Hold og Resultat'!AQ65","v":"Michael Jørgensen"},{"$f":"'Indtast Hold og Resultat'!AR65","v":"Krolffolket"},null,9,{"$f":"IF('Indtast Hold og Resultat'!AP14>1500,\"\",'Indtast Hold og Resultat'!AP14)","v":404.23},{"$f":"'Indtast Hold og Resultat'!AQ14","v":"Krolffolket 6"},{"$f":"'Indtast Hold og Resultat'!AR14","v":"Helga Andersen"},null,null,{"$f":"'Indtast Hold og Resultat'!AS14","v":"Jette S. Olsen"},{"$f":"'Indtast Hold og Resultat'!AT14","v":"Ole Nilaus Nielsen"},{"$f":"'Indtast Hold og Resultat'!AU14","v":"Susanne Blok"}]
[null,10,{"$f":"'Indtast Hold og Resultat'!AS66","v":94},0.91541457985531438,{"$f":"'Indtast Hold og Resultat'!AQ66","v":"Peter Christensen"},{"$f":"'Indtast Hold og Resultat'!AR66","v":"Krolffolket"},null,10,{"$f":"IF('Indtast Hold og Resultat'!AP15>1500,\"\",'Indtast Hold og Resultat'!AP15)","v":408.22},{"$f":"'Indtast Hold og Resultat'!AQ15","v":"Krolffolket 5"},{"$f":"'Indtast Hold og Resultat'!AR15","v":"Lisser Kristensen"},null,null,{"$f":"'Indtast Hold og Resultat'!AS15","v":"Ole Christensen"},{"$f":"'Indtast Hold og Resultat'!AT15","v":"Vibeke Jørgensen"},{"$f":"'Indtast Hold og Resultat'!AU15","v":"Gytha Szumlanski"}]
[null,11,{"$f":"'Indtast Hold og Resultat'!AS67","v":95},0.92515303283249861,{"$f":"'Indtast Hold og Resultat'!AQ67","v":"Adam Kristoffersen"},{"$f":"'Indtast Hold og Resultat'!AR67","v":"IF Vikingerne"},null,11,{"$f":"IF('Indtast Hold og Resultat'!AP16>1500,\"\",'Indtast Hold og Resultat'!AP16)","v":415.24},{"$f":"'Indtast Hold og Resultat'!AQ16","v":"Krolffolket 7"},{"$f":"'Indtast Hold og Resultat'!AR16","v":"Ida Olsen"},null,null,{"$f":"'Indtast Hold og Resultat'!AS16","v":"Erik Wagner"},{"$f":"'Indtast Hold og Resultat'!AT16","v":"Lissi Lindberg"},{"$f":"'Indtast Hold og Resultat'!AU16","v":"Lone S. Nielsen"}]
[null,12,{"$f":"'Indtast Hold og Resultat'!AS68","v":96},0.93489148580968284,{"$f":"'Indtast Hold og Resultat'!AQ68","v":"Hanne Hansen"},{"$f":"'Indtast Hold og Resultat'!AR68","v":"Krolffolket"},null,12,{"$f":"IF('Indtast Hold og Resultat'!AP17>1500,\"\",'Indtast Hold og Resultat'!AP17)","v":418.13},{"$f":"'Indtast Hold og Resultat'!AQ17","v":"Meløse 4"},{"$f":"'Indtast Hold og Resultat'!AR17","v":"Anne Marie Laustsen"},null,null,{"$f":"'Indtast Hold og Resultat'!AS17","v":"Søren Helbo"},{"$f":"'Indtast Hold og Resultat'!AT17","v":"Jørgen Hvilsom"},{"$f":"'Indtast Hold og Resultat'!AU17","v":"Lennert Sørensen"}]
[null,13,{"$f":"'Indtast Hold og Resultat'!AS69","v":96},0.93489148580968284,{"$f":"'Indtast Hold og Resultat'!AQ69","v":"Susanne Blok"},{"$f":"'Indtast Hold og Resultat'!AR69","v":"Krolffolket"},null,13,{"$f":"IF('Indtast Hold og Resultat'!AP18>1500,\"\",'Indtast Hold og Resultat'!AP18)","v":419.15},{"$f":"'Indtast Hold og Resultat'!AQ18","v":"BK 2"},{"$f":"'Indtast Hold og Resultat'!AR18","v":"Åge  Zcharau"},null,null,{"$f":"'Indtast Hold og Resultat'!AS18","v":"Conny Schackinger"},{"$f":"'Indtast Hold og Resultat'!AT18","v":"Annie Damsgaard"},{"$f":"'Indtast Hold og Resultat'!AU18","v":"Preben Madsen"}]
[null,14,{"$f":"'Indtast Hold og Resultat'!AS70","v":96},0.93489148580968284,{"$f":"'Indtast Hold og Resultat'!AQ70","v":"Anders Jørgensen"},{"$f":"'Indtast Hold og Resultat'!AR70","v":"IF Vikingerne"},null,14,{"$f":"IF('Indtast Hold og Resultat'!AP19>1500,\"\",'Indtast Hold og Resultat'!AP19)","v":420.12},{"$f":"'Indtast Hold og Resultat'!AQ19","v":"Meløse 3"},{"$f":"'Indtast Hold og Resultat'!AR19","v":"Anna Grethe Christensen"},null,null,{"$f":"'Indtast Hold og Resultat'!AS19","v":"Niels Aare Jensen"},{"$f":"'Indtast Hold og Resultat'!AT19","v":"Petra Knudsen"},{"$f":"'Indtast Hold og Resultat'!AU19","v":"Preben Ludore"}]
[null,15,{"$f":"'Indtast Hold og Resultat'!AS71","v":97},0.94462993878686707,{"$f":"'Indtast Hold og Resultat'!AQ71","v":"Preben Ludore"},{"$f":"'Indtast Hold og Resultat'!AR71","v":"Meløse"},null,15,{"$f":"IF('Indtast Hold og Resultat'!AP20>1500,\"\",'Indtast Hold og Resultat'!AP20)","v":426.25},{"$f":"'Indtast Hold og Resultat'!AQ20","v":"Krolffolket 8"},{"$f":"'Indtast Hold og Resultat'!AR20","v":"Inge Sørensen"},null,null,{"$f":"'Indtast Hold og Resultat'!AS20","v":"Lena Kirkegaard"},{"$f":"'Indtast Hold og Resultat'!AT20","v":"Majbritt Nielsen"},{"$f":"'Indtast Hold og Resultat'!AU20","v":"Benthe Dahl"}]
[null,16,{"$f":"'Indtast Hold og Resultat'!AS72","v":97},0.94462993878686707,{"$f":"'Indtast Hold og Resultat'!AQ72","v":"Jørgen Hugo Larsen"},{"$f":"'Indtast Hold og Resultat'!AR72","v":"BK"},null,16,{"$f":"IF('Indtast Hold og Resultat'!AP21>1500,\"\",'Indtast Hold og Resultat'!AP21)","v":453.16},{"$f":"'Indtast Hold og Resultat'!AQ21","v":"BK 3"},{"$f":"'Indtast Hold og Resultat'!AR21","v":"Peter Sølsten"},null,null,{"$f":"'Indtast Hold og Resultat'!AS21","v":"Margit Larsen"},{"$f":"'Indtast Hold og Resultat'!AT21","v":"Per Aune"},{"$f":"'Indtast Hold og Resultat'!AU21","v":"Tove Perlt"}]
[null,17,{"$f":"'Indtast Hold og Resultat'!AS73","v":97},0.94462993878686707,{"$f":"'Indtast Hold og Resultat'!AQ73","v":"Kjeld Hansen"},{"$f":"'Indtast Hold og Resultat'!AR73","v":"Krolffolket"},null,17,{"$f":"IF('Indtast Hold og Resultat'!AP22>1500,\"\",'Indtast Hold og Resultat'!AP22)","v":500.17},{"$f":"'Indtast Hold og Resultat'!AQ22","v":"BK 4"},{"$f":"'Indtast Hold og Resultat'!AR22","v":"Annette Traulsen"},null,null,{"$f":"'Indtast Hold og Resultat'!AS22","v":"Anette Nielsen"},{"$f":"'Indtast Hold og Resultat'!AT22","v":"Lis Rasmussen"},{"$f":"'Indtast Hold og Resultat'!AU22","v":"Annette Lykke Madsen"}]
[null,18,{"$f":"'Indtast Hold og Resultat'!AS74","v":97},0.94462993878686707,{"$f":"'Indtast Hold og Resultat'!AQ74","v":"Bjørn Krogh"},{"$f":"'Indtast Hold og Resultat'!AR74","v":"Krolffolket"},null,18,{"$f":"IF('Indtast Hold og Resultat'!AP23>1500,\"\",'Indtast Hold og Resultat'!AP23)","v":1222.26},{"$f":"'Indtast Hold og Resultat'!AQ23","v":"Blandet 1"},{"$f":"'Indtast Hold og Resultat'!AR23","v":"Steen Lergard"},null,null,{"$f":"'Indtast Hold og Resultat'!AS23","v":"Sarah Christiansen"},{"$f":"'Indtast Hold og Resultat'!AT23","v":""},{"$f":"'Indtast Hold og Resultat'!AU23","v":""}]
[null,19,{"$f":"'Indtast Hold og Resultat'!AS75","v":97},0.94462993878686707,{"$f":"'Indtast Hold og Resultat'!AQ75","v":"Liselotte Storgaard"},{"$f":"'Indtast Hold og Resultat'!AR75","v":"Krolffolket"}]
[null,20,{"$f":"'Indtast Hold og Resultat'!AS76","v":97},0.94462993878686707,{"$f":"'Indtast Hold og Resultat'!AQ76","v":"Vibeke Jørgensen"},{"$f":"'Indtast Hold og Resultat'!AR76","v":"Krolffolket"}]
[null,21,{"$f":"'Indtast Hold og Resultat'!AS77","v":97},0.94462993878686707,{"$f":"'Indtast Hold og Resultat'!AQ77","v":"Lone S. Nielsen"},{"$f":"'Indtast Hold og Resultat'!AR77","v":"Krolffolket"}]
[null,22,{"$f":"'Indtast Hold og Resultat'!AS78","v":97},0.94462993878686707,{"$f":"'Indtast Hold og Resultat'!AQ78","v":"Majbritt Nielsen"},{"$f":"'Indtast Hold og Resultat'!AR78","v":"Krolffolket"}]
[null,23,{"$f":"'Indtast Hold og Resultat'!AS79","v":98},0.95436839176405119,{"$f":"'Indtast Hold og Resultat'!AQ79","v":"Annie Jensen"},{"$f":"'Indtast Hold og Resultat'!AR79","v":"Meløse"}]
[null,24,{"$f":"'Indtast Hold og Resultat'!AS80","v":98},0.95436839176405119,{"$f":"'Indtast Hold og Resultat'!AQ80","v":"Lennert Sørensen"},{"$f":"'Indtast Hold og Resultat'!AR80","v":"Meløse"}]
[null,25,{"$f":"'Indtast Hold og Resultat'!AS81","v":98},0.95436839176405119,{"$f":"'Indtast Hold og Resultat'!AQ81","v":"Alice Rask"},{"$f":"'Indtast Hold og Resultat'!AR81","v":"Krolffolket"}]
[null,26,{"$f":"'Indtast Hold og Resultat'!AS82","v":98},0.95436839176405119,{"$f":"'Indtast Hold og Resultat'!AQ82","v":"Christian Blid"},{"$f":"'Indtast Hold og Resultat'!AR82","v":"Krolffolket"}]
[null,27,{"$f":"'Indtast Hold og Resultat'!AS83","v":98},0.95436839176405119,{"$f":"'Indtast Hold og Resultat'!AQ83","v":"Helga Andersen"},{"$f":"'Indtast Hold og Resultat'!AR83","v":"Krolffolket"}]
[null,28,{"$f":"'Indtast Hold og Resultat'!AS84","v":99},0.96410684474123542,{"$f":"'Indtast Hold og Resultat'!AQ84","v":"Villy Jensen"},{"$f":"'Indtast Hold og Resultat'!AR84","v":"Meløse"},null,null,null,"    Bedste herre",null,null,null,"                  Bedste dame"]
[null,29,{"$f":"'Indtast Hold og Resultat'!AS85","v":99},0.96410684474123542,{"$f":"'Indtast Hold og Resultat'!AQ85","v":"Allan Pedersen"},{"$f":"'Indtast Hold og Resultat'!AR85","v":"Krolffolket"},null,"Nr.","Slag","Navn","Klub",null,"Nr.","Slag","Navn","Klub"]
[null,30,{"$f":"'Indtast Hold og Resultat'!AS86","v":100},0.97384529771841966,{"$f":"'Indtast Hold og Resultat'!AQ86","v":"Tage Jensen"},{"$f":"'Indtast Hold og Resultat'!AR86","v":"Meløse"},null,1,{"$f":"'Indtast Hold og Resultat'!AP146","v":86.013999999999996},{"$f":"'Indtast Hold og Resultat'!AQ146","v":"Peter Aare"},{"$f":"'Indtast Hold og Resultat'!AR146","v":"Meløse"},null,1,{"$f":"'Indtast Hold og Resultat'!AP223","v":92.051000000000002},{"$f":"'Indtast Hold og Resultat'!AQ223","v":"Ingrid Jensen"},{"$f":"'Indtast Hold og Resultat'!AR223","v":"Krolffolket"}]
[null,31,{"$f":"'Indtast Hold og Resultat'!AS87","v":100},0.97384529771841966,{"$f":"'Indtast Hold og Resultat'!AQ87","v":"Connie Bregnvig"},{"$f":"'Indtast Hold og Resultat'!AR87","v":"Meløse"},null,2,{"$f":"'Indtast Hold og Resultat'!AP147","v":86.027000000000001},{"$f":"'Indtast Hold og Resultat'!AQ147","v":"Svend Faigh"},{"$f":"'Indtast Hold og Resultat'!AR147","v":"BK"},null,2,{"$f":"'Indtast Hold og Resultat'!AP224","v":94.043999999999997},{"$f":"'Indtast Hold og Resultat'!AQ224","v":"Lone Hansen"},{"$f":"'Indtast Hold og Resultat'!AR224","v":"Krolffolket"}]
[null,32,{"$f":"'Indtast Hold og Resultat'!AS88","v":100},0.97384529771841966,{"$f":"'Indtast Hold og Resultat'!AQ88","v":"Lone Nielsen"},{"$f":"'Indtast Hold og Resultat'!AR88","v":"BK"},null,3,{"$f":"'Indtast Hold og Resultat'!AP148","v":90.010999999999996},{"$f":"'Indtast Hold og Resultat'!AQ148","v":"Peter Knudsen"},{"$f":"'Indtast Hold og Resultat'!AR148","v":"Meløse"},null,3,{"$f":"'Indtast Hold og Resultat'!AP225","v":96.043000000000006},{"$f":"'Indtast Hold og Resultat'!AQ225","v":"Hanne Hansen"},{"$f":"'Indtast Hold og Resultat'!AR225","v":"Krolffolket"}]
[null,33,{"$f":"'Indtast Hold og Resultat'!AS89","v":100},0.97384529771841966,{"$f":"'Indtast Hold og Resultat'!AQ89","v":"Jim Jørgensen"},{"$f":"'Indtast Hold og Resultat'!AR89","v":"Krolffolket"},null,4,{"$f":"'Indtast Hold og Resultat'!AP149","v":91.054000000000002},{"$f":"'Indtast Hold og Resultat'!AQ149","v":"Jørgen Hansen"},{"$f":"'Indtast Hold og Resultat'!AR149","v":"Krolffolket"},null,4,{"$f":"'Indtast Hold og Resultat'!AP226","v":96.066000000000003},{"$f":"'Indtast Hold og Resultat'!AQ226","v":"Susanne Blok"},{"$f":"'Indtast Hold og Resultat'!AR226","v":"Krolffolket"}]
[null,34,{"$f":"'Indtast Hold og Resultat'!AS90","v":101},0.98358375069560378,{"$f":"'Indtast Hold og Resultat'!AQ90","v":"Lise Qvist Bebe"},{"$f":"'Indtast Hold og Resultat'!AR90","v":"Meløse"},null,5,{"$f":"'Indtast Hold og Resultat'!AP150","v":92.055999999999997},{"$f":"'Indtast Hold og Resultat'!AQ150","v":"Allan Larsen"},{"$f":"'Indtast Hold og Resultat'!AR150","v":"Krolffolket"},null,5,{"$f":"'Indtast Hold og Resultat'!AP227","v":97.052000000000007},{"$f":"'Indtast Hold og Resultat'!AQ227","v":"Liselotte Storgaard"},{"$f":"'Indtast Hold og Resultat'!AR227","v":"Krolffolket"}]
[null,35,{"$f":"'Indtast Hold og Resultat'!AS91","v":101},0.98358375069560378,{"$f":"'Indtast Hold og Resultat'!AQ91","v":"Jørgen Hvilsom"},{"$f":"'Indtast Hold og Resultat'!AR91","v":"Meløse"},null,6,{"$f":"'Indtast Hold og Resultat'!AP151","v":93.028000000000006},{"$f":"'Indtast Hold og Resultat'!AQ151","v":"Mogens Kortegaard"},{"$f":"'Indtast Hold og Resultat'!AR151","v":"BK"},null,6,{"$f":"'Indtast Hold og Resultat'!AP228","v":97.061000000000007},{"$f":"'Indtast Hold og Resultat'!AQ228","v":"Vibeke Jørgensen"},{"$f":"'Indtast Hold og Resultat'!AR228","v":"Krolffolket"}]
[null,36,{"$f":"'Indtast Hold og Resultat'!AS92","v":101},0.98358375069560378,{"$f":"'Indtast Hold og Resultat'!AQ92","v":"Annie Damsgaard"},{"$f":"'Indtast Hold og Resultat'!AR92","v":"BK"},null,7,{"$f":"'Indtast Hold og Resultat'!AP152","v":94.046999999999997},{"$f":"'Indtast Hold og Resultat'!AQ152","v":"Michael Jørgensen"},{"$f":"'Indtast Hold og Resultat'!AR152","v":"Krolffolket"},null,7,{"$f":"'Indtast Hold og Resultat'!AP229","v":97.07},{"$f":"'Indtast Hold og Resultat'!AQ229","v":"Lone S. Nielsen"},{"$f":"'Indtast Hold og Resultat'!AR229","v":"Krolffolket"}]
[null,37,{"$f":"'Indtast Hold og Resultat'!AS93","v":101},0.98358375069560378,{"$f":"'Indtast Hold og Resultat'!AQ93","v":"Preben Madsen"},{"$f":"'Indtast Hold og Resultat'!AR93","v":"BK"},null,8,{"$f":"'Indtast Hold og Resultat'!AP153","v":94.058000000000007},{"$f":"'Indtast Hold og Resultat'!AQ153","v":"Peter Christensen"},{"$f":"'Indtast Hold og Resultat'!AR153","v":"Krolffolket"},null,8,{"$f":"'Indtast Hold og Resultat'!AP230","v":97.072999999999993},{"$f":"'Indtast Hold og Resultat'!AQ230","v":"Majbritt Nielsen"},{"$f":"'Indtast Hold og Resultat'!AR230","v":"Krolffolket"}]
[null,38,{"$f":"'Indtast Hold og Resultat'!AS94","v":101},0.98358375069560378,{"$f":"'Indtast Hold og Resultat'!AQ94","v":"Tove Perlt"},{"$f":"'Indtast Hold og Resultat'!AR94","v":"BK"},null,9,{"$f":"'Indtast Hold og Resultat'!AP154","v":95.081000000000003},{"$f":"'Indtast Hold og Resultat'!AQ154","v":"Adam Kristoffersen"},{"$f":"'Indtast Hold og Resultat'!AR154","v":"IF Vikingerne"},null,9,{"$f":"'Indtast Hold og Resultat'!AP231","v":98.015000000000001},{"$f":"'Indtast Hold og Resultat'!AQ231","v":"Annie Jensen"},{"$f":"'Indtast Hold og Resultat'!AR231","v":"Meløse"}]
[null,39,{"$f":"'Indtast Hold og Resultat'!AS95","v":101},0.98358375069560378,{"$f":"'Indtast Hold og Resultat'!AQ95","v":"Ida Olsen"},{"$f":"'Indtast Hold og Resultat'!AR95","v":"Krolffolket"},null,10,{"$f":"'Indtast Hold og Resultat'!AP155","v":96.078999999999994},{"$f":"'Indtast Hold og Resultat'!AQ155","v":"Anders Jørgensen"},{"$f":"'Indtast Hold og Resultat'!AR155","v":"IF Vikingerne"},null,10,{"$f":"'Indtast Hold og Resultat'!AP232","v":98.048000000000002},{"$f":"'Indtast Hold og Resultat'!AQ232","v":"Alice Rask"},{"$f":"'Indtast Hold og Resultat'!AR232","v":"Krolffolket"}]
[null,40,{"$f":"'Indtast Hold og Resultat'!AS96","v":102},0.99332220367278801,{"$f":"'Indtast Hold og Resultat'!AQ96","v":"Petra Knudsen"},{"$f":"'Indtast Hold og Resultat'!AR96","v":"Meløse"},null,11,{"$f":"'Indtast Hold og Resultat'!AP156","v":97.022000000000006},{"$f":"'Indtast Hold og Resultat'!AQ156","v":"Preben Ludore"},{"$f":"'Indtast Hold og Resultat'!AR156","v":"Meløse"},null,11,{"$f":"'Indtast Hold og Resultat'!AP233","v":98.063000000000002},{"$f":"'Indtast Hold og Resultat'!AQ233","v":"Helga Andersen"},{"$f":"'Indtast Hold og Resultat'!AR233","v":"Krolffolket"}]
[null,41,{"$f":"'Indtast Hold og Resultat'!AS97","v":102},0.99332220367278801,{"$f":"'Indtast Hold og Resultat'!AQ97","v":"Søren Helbo"},{"$f":"'Indtast Hold og Resultat'!AR97","v":"Meløse"},null,12,{"$f":"'Indtast Hold og Resultat'!AP157","v":97.028999999999996},{"$f":"'Indtast Hold og Resultat'!AQ157","v":"Jørgen Hugo Larsen"},{"$f":"'Indtast Hold og Resultat'!AR157","v":"BK"},null,12,{"$f":"'Indtast Hold og Resultat'!AP234","v":100.018},{"$f":"'Indtast Hold og Resultat'!AQ234","v":"Connie Bregnvig"},{"$f":"'Indtast Hold og Resultat'!AR234","v":"Meløse"}]
[null,42,{"$f":"'Indtast Hold og Resultat'!AS98","v":102},0.99332220367278801,{"$f":"'Indtast Hold og Resultat'!AQ98","v":"Jette S. Olsen"},{"$f":"'Indtast Hold og Resultat'!AR98","v":"Krolffolket"},null,13,{"$f":"'Indtast Hold og Resultat'!AP158","v":97.049000000000007},{"$f":"'Indtast Hold og Resultat'!AQ158","v":"Kjeld Hansen"},{"$f":"'Indtast Hold og Resultat'!AR158","v":"Krolffolket"},null,13,{"$f":"'Indtast Hold og Resultat'!AP235","v":100.03},{"$f":"'Indtast Hold og Resultat'!AQ235","v":"Lone Nielsen"},{"$f":"'Indtast Hold og Resultat'!AR235","v":"BK"}]
[null,43,{"$f":"'Indtast Hold og Resultat'!AS99","v":102},0.99332220367278801,{"$f":"'Indtast Hold og Resultat'!AQ99","v":"Søren Skourup"},{"$f":"'Indtast Hold og Resultat'!AR99","v":"IF Vikingerne"},null,14,{"$f":"'Indtast Hold og Resultat'!AP159","v":97.05},{"$f":"'Indtast Hold og Resultat'!AQ159","v":"Bjørn Krogh"},{"$f":"'Indtast Hold og Resultat'!AR159","v":"Krolffolket"},null,14,{"$f":"'Indtast Hold og Resultat'!AP236","v":101.017},{"$f":"'Indtast Hold og Resultat'!AQ236","v":"Lise Qvist Bebe"},{"$f":"'Indtast Hold og Resultat'!AR236","v":"Meløse"}]
[null,44,{"$f":"'Indtast Hold og Resultat'!AS100","v":103},1.0030606566499722,{"$f":"'Indtast Hold og Resultat'!AQ100","v":"Niels Aare Jensen"},{"$f":"'Indtast Hold og Resultat'!AR100","v":"Meløse"},null,15,{"$f":"'Indtast Hold og Resultat'!AP160","v":98.025999999999996},{"$f":"'Indtast Hold og Resultat'!AQ160","v":"Lennert Sørensen"},{"$f":"'Indtast Hold og Resultat'!AR160","v":"Meløse"},null,15,{"$f":"'Indtast Hold og Resultat'!AP237","v":101.033},{"$f":"'Indtast Hold og Resultat'!AQ237","v":"Annie Damsgaard"},{"$f":"'Indtast Hold og Resultat'!AR237","v":"BK"}]
[null,45,{"$f":"'Indtast Hold og Resultat'!AS101","v":103},1.0030606566499722,{"$f":"'Indtast Hold og Resultat'!AQ101","v":"Lisser Kristensen"},{"$f":"'Indtast Hold og Resultat'!AR101","v":"Krolffolket"},null,16,{"$f":"'Indtast Hold og Resultat'!AP161","v":98.052999999999997},{"$f":"'Indtast Hold og Resultat'!AQ161","v":"Christian Blid"},{"$f":"'Indtast Hold og Resultat'!AR161","v":"Krolffolket"},null,16,{"$f":"'Indtast Hold og Resultat'!AP238","v":101.038},{"$f":"'Indtast Hold og Resultat'!AQ238","v":"Tove Perlt"},{"$f":"'Indtast Hold og Resultat'!AR238","v":"BK"}]
[null,46,{"$f":"'Indtast Hold og Resultat'!AS102","v":104},1.0127991096271565,{"$f":"'Indtast Hold og Resultat'!AQ102","v":"Ole Christensen"},{"$f":"'Indtast Hold og Resultat'!AR102","v":"Krolffolket"},null,17,{"$f":"'Indtast Hold og Resultat'!AP162","v":99.013000000000005},{"$f":"'Indtast Hold og Resultat'!AQ162","v":"Villy Jensen"},{"$f":"'Indtast Hold og Resultat'!AR162","v":"Meløse"},null,17,{"$f":"'Indtast Hold og Resultat'!AP239","v":101.06699999999999},{"$f":"'Indtast Hold og Resultat'!AQ239","v":"Ida Olsen"},{"$f":"'Indtast Hold og Resultat'!AR239","v":"Krolffolket"}]
[null,47,{"$f":"'Indtast Hold og Resultat'!AS103","v":104},1.0127991096271565,{"$f":"'Indtast Hold og Resultat'!AQ103","v":"Gytha Szumlanski"},{"$f":"'Indtast Hold og Resultat'!AR103","v":"Krolffolket"},null,18,{"$f":"'Indtast Hold og Resultat'!AP163","v":99.046000000000006},{"$f":"'Indtast Hold og Resultat'!AQ163","v":"Allan Pedersen"},{"$f":"'Indtast Hold og Resultat'!AR163","v":"Krolffolket"},null,18,{"$f":"'Indtast Hold og Resultat'!AP240","v":102.021},{"$f":"'Indtast Hold og Resultat'!AQ240","v":"Petra Knudsen"},{"$f":"'Indtast Hold og Resultat'!AR240","v":"Meløse"}]
[null,48,{"$f":"'Indtast Hold og Resultat'!AS104","v":104},1.0127991096271565,{"$f":"'Indtast Hold og Resultat'!AQ104","v":"Kian Andersen"},{"$f":"'Indtast Hold og Resultat'!AR104","v":"IF Vikingerne"},null,19,{"$f":"'Indtast Hold og Resultat'!AP164","v":100.01600000000001},{"$f":"'Indtast Hold og Resultat'!AQ164","v":"Tage Jensen"},{"$f":"'Indtast Hold og Resultat'!AR164","v":"Meløse"},null,19,{"$f":"'Indtast Hold og Resultat'!AP241","v":102.06399999999999},{"$f":"'Indtast Hold og Resultat'!AQ241","v":"Jette S. Olsen"},{"$f":"'Indtast Hold og Resultat'!AR241","v":"Krolffolket"}]
[null,49,{"$f":"'Indtast Hold og Resultat'!AS105","v":105},1.0225375626043407,{"$f":"'Indtast Hold og Resultat'!AQ105","v":"Åge  Zcharau"},{"$f":"'Indtast Hold og Resultat'!AR105","v":"BK"},null,20,{"$f":"'Indtast Hold og Resultat'!AP165","v":100.045},{"$f":"'Indtast Hold og Resultat'!AQ165","v":"Jim Jørgensen"},{"$f":"'Indtast Hold og Resultat'!AR165","v":"Krolffolket"},null,20,{"$f":"'Indtast Hold og Resultat'!AP242","v":103.059},{"$f":"'Indtast Hold og Resultat'!AQ242","v":"Lisser Kristensen"},{"$f":"'Indtast Hold og Resultat'!AR242","v":"Krolffolket"}]
[null,50,{"$f":"'Indtast Hold og Resultat'!AS106","v":105},1.0225375626043407,{"$f":"'Indtast Hold og Resultat'!AQ106","v":"Ivan Szumlanski"},{"$f":"'Indtast Hold og Resultat'!AR106","v":"Krolffolket"},null,21,{"$f":"'Indtast Hold og Resultat'!AP166","v":101.02500000000001},{"$f":"'Indtast Hold og Resultat'!AQ166","v":"Jørgen Hvilsom"},{"$f":"'Indtast Hold og Resultat'!AR166","v":"Meløse"},null,21,{"$f":"'Indtast Hold og Resultat'!AP243","v":104.062},{"$f":"'Indtast Hold og Resultat'!AQ243","v":"Gytha Szumlanski"},{"$f":"'Indtast Hold og Resultat'!AR243","v":"Krolffolket"}]
[null,51,{"$f":"'Indtast Hold og Resultat'!AS107","v":105},1.0225375626043407,{"$f":"'Indtast Hold og Resultat'!AQ107","v":"Finn Jørgensen"},{"$f":"'Indtast Hold og Resultat'!AR107","v":"Krolffolket"},null,22,{"$f":"'Indtast Hold og Resultat'!AP167","v":101.03400000000001},{"$f":"'Indtast Hold og Resultat'!AQ167","v":"Preben Madsen"},{"$f":"'Indtast Hold og Resultat'!AR167","v":"BK"},null,22,{"$f":"'Indtast Hold og Resultat'!AP244","v":107.07599999999999},{"$f":"'Indtast Hold og Resultat'!AQ244","v":"Sarah Christiansen"},{"$f":"'Indtast Hold og Resultat'!AR244","v":"IF Vikingerne"}]
[null,52,{"$f":"'Indtast Hold og Resultat'!AS108","v":107},1.0420144685587089,{"$f":"'Indtast Hold og Resultat'!AQ108","v":"Mogens Bodilsen"},{"$f":"'Indtast Hold og Resultat'!AR108","v":"Meløse"},null,23,{"$f":"'Indtast Hold og Resultat'!AP168","v":102.024},{"$f":"'Indtast Hold og Resultat'!AQ168","v":"Søren Helbo"},{"$f":"'Indtast Hold og Resultat'!AR168","v":"Meløse"},null,23,{"$f":"'Indtast Hold og Resultat'!AP245","v":108.071},{"$f":"'Indtast Hold og Resultat'!AQ245","v":"Inge Sørensen"},{"$f":"'Indtast Hold og Resultat'!AR245","v":"Krolffolket"}]
[null,53,{"$f":"'Indtast Hold og Resultat'!AS109","v":107},1.0420144685587089,{"$f":"'Indtast Hold og Resultat'!AQ109","v":"Sarah Christiansen"},{"$f":"'Indtast Hold og Resultat'!AR109","v":"IF Vikingerne"},null,24,{"$f":"'Indtast Hold og Resultat'!AP169","v":102.08199999999999},{"$f":"'Indtast Hold og Resultat'!AQ169","v":"Søren Skourup"},{"$f":"'Indtast Hold og Resultat'!AR169","v":"IF Vikingerne"},null,24,{"$f":"'Indtast Hold og Resultat'!AP246","v":109.069},{"$f":"'Indtast Hold og Resultat'!AQ246","v":"Lissi Lindberg"},{"$f":"'Indtast Hold og Resultat'!AR246","v":"Krolffolket"}]
[null,54,{"$f":"'Indtast Hold og Resultat'!AS110","v":108},1.0517529215358932,{"$f":"'Indtast Hold og Resultat'!AQ110","v":"Ole Nilaus Nielsen"},{"$f":"'Indtast Hold og Resultat'!AR110","v":"Krolffolket"},null,25,{"$f":"'Indtast Hold og Resultat'!AP170","v":103.02},{"$f":"'Indtast Hold og Resultat'!AQ170","v":"Niels Aare Jensen"},{"$f":"'Indtast Hold og Resultat'!AR170","v":"Meløse"},null,25,{"$f":"'Indtast Hold og Resultat'!AP247","v":110.072},{"$f":"'Indtast Hold og Resultat'!AQ247","v":"Lena Kirkegaard"},{"$f":"'Indtast Hold og Resultat'!AR247","v":"Krolffolket"}]
[null,55,{"$f":"'Indtast Hold og Resultat'!AS111","v":108},1.0517529215358932,{"$f":"'Indtast Hold og Resultat'!AQ111","v":"Erik Wagner"},{"$f":"'Indtast Hold og Resultat'!AR111","v":"Krolffolket"},null,26,{"$f":"'Indtast Hold og Resultat'!AP171","v":104.06},{"$f":"'Indtast Hold og Resultat'!AQ171","v":"Ole Christensen"},{"$f":"'Indtast Hold og Resultat'!AR171","v":"Krolffolket"},null,26,{"$f":"'Indtast Hold og Resultat'!AP248","v":111.074},{"$f":"'Indtast Hold og Resultat'!AQ248","v":"Benthe Dahl"},{"$f":"'Indtast Hold og Resultat'!AR248","v":"Krolffolket"}]
[null,56,{"$f":"'Indtast Hold og Resultat'!AS112","v":108},1.0517529215358932,{"$f":"'Indtast Hold og Resultat'!AQ112","v":"Inge Sørensen"},{"$f":"'Indtast Hold og Resultat'!AR112","v":"Krolffolket"},null,27,{"$f":"'Indtast Hold og Resultat'!AP172","v":104.08},{"$f":"'Indtast Hold og Resultat'!AQ172","v":"Kian Andersen"},{"$f":"'Indtast Hold og Resultat'!AR172","v":"IF Vikingerne"},null,27,{"$f":"'Indtast Hold og Resultat'!AP249","v":112.032},{"$f":"'Indtast Hold og Resultat'!AQ249","v":"Conny Schackinger"},{"$f":"'Indtast Hold og Resultat'!AR249","v":"BK"}]
[null,57,{"$f":"'Indtast Hold og Resultat'!AS113","v":109},1.0614913745130774,{"$f":"'Indtast Hold og Resultat'!AQ113","v":"Lissi Lindberg"},{"$f":"'Indtast Hold og Resultat'!AR113","v":"Krolffolket"},null,28,{"$f":"'Indtast Hold og Resultat'!AP173","v":105.03100000000001},{"$f":"'Indtast Hold og Resultat'!AQ173","v":"Åge  Zcharau"},{"$f":"'Indtast Hold og Resultat'!AR173","v":"BK"},null,28,{"$f":"'Indtast Hold og Resultat'!AP250","v":117.023},{"$f":"'Indtast Hold og Resultat'!AQ250","v":"Anne Marie Laustsen"},{"$f":"'Indtast Hold og Resultat'!AR250","v":"Meløse"}]
[null,58,{"$f":"'Indtast Hold og Resultat'!AS114","v":110},1.0712298274902616,{"$f":"'Indtast Hold og Resultat'!AQ114","v":"Lena Kirkegaard"},{"$f":"'Indtast Hold og Resultat'!AR114","v":"Krolffolket"},null,29,{"$f":"'Indtast Hold og Resultat'!AP174","v":105.05500000000001},{"$f":"'Indtast Hold og Resultat'!AQ174","v":"Ivan Szumlanski"},{"$f":"'Indtast Hold og Resultat'!AR174","v":"Krolffolket"},null,29,{"$f":"'Indtast Hold og Resultat'!AP251","v":117.039},{"$f":"'Indtast Hold og Resultat'!AQ251","v":"Annette Traulsen"},{"$f":"'Indtast Hold og Resultat'!AR251","v":"BK"}]
[null,59,{"$f":"'Indtast Hold og Resultat'!AS115","v":111},1.0809682804674459,{"$f":"'Indtast Hold og Resultat'!AQ115","v":"Benthe Dahl"},{"$f":"'Indtast Hold og Resultat'!AR115","v":"Krolffolket"},null,30,{"$f":"'Indtast Hold og Resultat'!AP175","v":105.057},{"$f":"'Indtast Hold og Resultat'!AQ175","v":"Finn Jørgensen"},{"$f":"'Indtast Hold og Resultat'!AR175","v":"Krolffolket"},null,30,{"$f":"'Indtast Hold og Resultat'!AP252","v":118.01900000000001},{"$f":"'Indtast Hold og Resultat'!AQ252","v":"Anna Grethe Christensen"},{"$f":"'Indtast Hold og Resultat'!AR252","v":"Meløse"}]
[null,60,{"$f":"'Indtast Hold og Resultat'!AS116","v":112},1.0907067334446299,{"$f":"'Indtast Hold og Resultat'!AQ116","v":"Conny Schackinger"},{"$f":"'Indtast Hold og Resultat'!AR116","v":"BK"},null,31,{"$f":"'Indtast Hold og Resultat'!AP176","v":107.012},{"$f":"'Indtast Hold og Resultat'!AQ176","v":"Mogens Bodilsen"},{"$f":"'Indtast Hold og Resultat'!AR176","v":"Meløse"},null,31,{"$f":"'Indtast Hold og Resultat'!AP253","v":119.042},{"$f":"'Indtast Hold og Resultat'!AQ253","v":"Annette Lykke Madsen"},{"$f":"'Indtast Hold og Resultat'!AR253","v":"BK"}]
[null,61,{"$f":"'Indtast Hold og Resultat'!AS117","v":112},1.0907067334446299,{"$f":"'Indtast Hold og Resultat'!AQ117","v":"Peter Sølsten"},{"$f":"'Indtast Hold og Resultat'!AR117","v":"BK"},null,32,{"$f":"'Indtast Hold og Resultat'!AP177","v":108.065},{"$f":"'Indtast Hold og Resultat'!AQ177","v":"Ole Nilaus Nielsen"},{"$f":"'Indtast Hold og Resultat'!AR177","v":"Krolffolket"},null,32,{"$f":"'Indtast Hold og Resultat'!AP254","v":123.036},{"$f":"'Indtast Hold og Resultat'!AQ254","v":"Margit Larsen"},{"$f":"'Indtast Hold og Resultat'!AR254","v":"BK"}]
[null,62,{"$f":"'Indtast Hold og Resultat'!AS118","v":115},1.1199220923761826,{"$f":"'Indtast Hold og Resultat'!AQ118","v":"Steen Lergard"},{"$f":"'Indtast Hold og Resultat'!AR118","v":"Krolffolket"},null,33,{"$f":"'Indtast Hold og Resultat'!AP178","v":108.068},{"$f":"'Indtast Hold og Resultat'!AQ178","v":"Erik Wagner"},{"$f":"'Indtast Hold og Resultat'!AR178","v":"Krolffolket"},null,33,{"$f":"'Indtast Hold og Resultat'!AP255","v":132.04},{"$f":"'Indtast Hold og Resultat'!AQ255","v":"Anette Nielsen"},{"$f":"'Indtast Hold og Resultat'!AR255","v":"BK"}]
[null,63,{"$f":"'Indtast Hold og Resultat'!AS119","v":117},1.139398998330551,{"$f":"'Indtast Hold og Resultat'!AQ119","v":"Anne Marie Laustsen"},{"$f":"'Indtast Hold og Resultat'!AR119","v":"Meløse"},null,34,{"$f":"'Indtast Hold og Resultat'!AP179","v":112.035},{"$f":"'Indtast Hold og Resultat'!AQ179","v":"Peter Sølsten"},{"$f":"'Indtast Hold og Resultat'!AR179","v":"BK"},null,34,{"$f":"'Indtast Hold og Resultat'!AP256","v":132.041},{"$f":"'Indtast Hold og Resultat'!AQ256","v":"Lis Rasmussen"},{"$f":"'Indtast Hold og Resultat'!AR256","v":"BK"}]
[null,64,{"$f":"'Indtast Hold og Resultat'!AS120","v":117},1.139398998330551,{"$f":"'Indtast Hold og Resultat'!AQ120","v":"Per Aune"},{"$f":"'Indtast Hold og Resultat'!AR120","v":"BK"},null,35,{"$f":"'Indtast Hold og Resultat'!AP180","v":115.075},{"$f":"'Indtast Hold og Resultat'!AQ180","v":"Steen Lergard"},{"$f":"'Indtast Hold og Resultat'!AR180","v":"Krolffolket"},null,35,{"$f":"'Indtast Hold og Resultat'!AP257","v":""},{"$f":"'Indtast Hold og Resultat'!AQ257","v":""},{"$f":"'Indtast Hold og Resultat'!AR257","v":""}]
[null,65,{"$f":"'Indtast Hold og Resultat'!AS121","v":117},1.139398998330551,{"$f":"'Indtast Hold og Resultat'!AQ121","v":"Annette Traulsen"},{"$f":"'Indtast Hold og Resultat'!AR121","v":"BK"},null,36,{"$f":"'Indtast Hold og Resultat'!AP181","v":117.03700000000001},{"$f":"'Indtast Hold og Resultat'!AQ181","v":"Per Aune"},{"$f":"'Indtast Hold og Resultat'!AR181","v":"BK"},null,36,{"$f":"'Indtast Hold og Resultat'!AP258","v":""},{"$f":"'Indtast Hold og Resultat'!AQ258","v":""},{"$f":"'Indtast Hold og Resultat'!AR258","v":""}]
[null,66,{"$f":"'Indtast Hold og Resultat'!AS122","v":118},{"$f":"IF(C74=\"\",\"\",C74/F$4)","v":1.149137451307735},{"$f":"'Indtast Hold og Resultat'!AQ122","v":"Anna Grethe Christensen"},{"$f":"'Indtast Hold og Resultat'!AR122","v":"Meløse"},null,37,{"$f":"'Indtast Hold og Resultat'!AP182","v":""},{"$f":"'Indtast Hold og Resultat'!AQ182","v":""},{"$f":"'Indtast Hold og Resultat'!AR182","v":""},null,37,{"$f":"'Indtast Hold og Resultat'!AP259","v":""},{"$f":"'Indtast Hold og Resultat'!AQ259","v":""},{"$f":"'Indtast Hold og Resultat'!AR259","v":""}]
[null,67,{"$f":"'Indtast Hold og Resultat'!AS123","v":119},1.1588759042849193,{"$f":"'Indtast Hold og Resultat'!AQ123","v":"Annette Lykke Madsen"},{"$f":"'Indtast Hold og Resultat'!AR123","v":"BK"},null,38,{"$f":"'Indtast Hold og Resultat'!AP183","v":""},{"$f":"'Indtast Hold og Resultat'!AQ183","v":""},{"$f":"'Indtast Hold og Resultat'!AR183","v":""},null,38,{"$f":"'Indtast Hold og Resultat'!AP260","v":""},{"$f":"'Indtast Hold og Resultat'!AQ260","v":""},{"$f":"'Indtast Hold og Resultat'!AR260","v":""}]
[null,68,{"$f":"'Indtast Hold og Resultat'!AS124","v":123},1.1978297161936562,{"$f":"'Indtast Hold og Resultat'!AQ124","v":"Margit Larsen"},{"$f":"'Indtast Hold og Resultat'!AR124","v":"BK"},null,39,{"$f":"'Indtast Hold og Resultat'!AP184","v":""},{"$f":"'Indtast Hold og Resultat'!AQ184","v":""},{"$f":"'Indtast Hold og Resultat'!AR184","v":""},null,39,{"$f":"'Indtast Hold og Resultat'!AP261","v":""},{"$f":"'Indtast Hold og Resultat'!AQ261","v":""},{"$f":"'Indtast Hold og Resultat'!AR261","v":""}]
[null,69,{"$f":"'Indtast Hold og Resultat'!AS125","v":132},1.2854757929883138,{"$f":"'Indtast Hold og Resultat'!AQ125","v":"Anette Nielsen"},{"$f":"'Indtast Hold og Resultat'!AR125","v":"BK"},null,40,{"$f":"'Indtast Hold og Resultat'!AP185","v":""},{"$f":"'Indtast Hold og Resultat'!AQ185","v":""},{"$f":"'Indtast Hold og Resultat'!AR185","v":""},null,40,{"$f":"'Indtast Hold og Resultat'!AP262","v":""},{"$f":"'Indtast Hold og Resultat'!AQ262","v":""},{"$f":"'Indtast Hold og Resultat'!AR262","v":""}]
[null,70,{"$f":"'Indtast Hold og Resultat'!AS126","v":132},1.2854757929883138,{"$f":"'Indtast Hold og Resultat'!AQ126","v":"Lis Rasmussen"},{"$f":"'Indtast Hold og Resultat'!AR126","v":"BK"},null,41,{"$f":"'Indtast Hold og Resultat'!AP186","v":""},{"$f":"'Indtast Hold og Resultat'!AQ186","v":""},{"$f":"'Indtast Hold og Resultat'!AR186","v":""},null,41,{"$f":"'Indtast Hold og Resultat'!AP263","v":""},{"$f":"'Indtast Hold og Resultat'!AQ263","v":""},{"$f":"'Indtast Hold og Resultat'!AR263","v":""}]
[null,71,{"$f":"'Indtast Hold og Resultat'!AS127","v":""},"",{"$f":"'Indtast Hold og Resultat'!AQ127","v":""},{"$f":"'Indtast Hold og Resultat'!AR127","v":""},null,42,{"$f":"'Indtast Hold og Resultat'!AP187","v":""},{"$f":"'Indtast Hold og Resultat'!AQ187","v":""},{"$f":"'Indtast Hold og Resultat'!AR187","v":""},null,42,{"$f":"'Indtast Hold og Resultat'!AP264","v":""},{"$f":"'Indtast Hold og Resultat'!AQ264","v":""},{"$f":"'Indtast Hold og Resultat'!AR264","v":""}]
[null,72,{"$f":"'Indtast Hold og Resultat'!AS128","v":""},"",{"$f":"'Indtast Hold og Resultat'!AQ128","v":""},{"$f":"'Indtast Hold og Resultat'!AR128","v":""},null,43,{"$f":"'Indtast Hold og Resultat'!AP188","v":""},{"$f":"'Indtast Hold og Resultat'!AQ188","v":""},{"$f":"'Indtast Hold og Resultat'!AR188","v":""},null,43,{"$f":"'Indtast Hold og Resultat'!AP265","v":""},{"$f":"'Indtast Hold og Resultat'!AQ265","v":""},{"$f":"'Indtast Hold og Resultat'!AR265","v":""}]
[null,null,null,null,null,null,null,44,{"$f":"'Indtast Hold og Resultat'!AP189","v":""},{"$f":"'Indtast Hold og Resultat'!AQ189","v":""},{"$f":"'Indtast Hold og Resultat'!AR189","v":""},null,44,{"$f":"'Indtast Hold og Resultat'!AP266","v":""},{"$f":"'Indtast Hold og Resultat'!AQ266","v":""},{"$f":"'Indtast Hold og Resultat'!AR266","v":""}]
[null,null,null,null,null,null,null,45,{"$f":"'Indtast Hold og Resultat'!AP190","v":""},{"$f":"'Indtast Hold og Resultat'!AQ190","v":""},{"$f":"'Indtast Hold og Resultat'!AR190","v":""},null,45,{"$f":"'Indtast Hold og Resultat'!AP267","v":""},{"$f":"'Indtast Hold og Resultat'!AQ267","v":""},{"$f":"'Indtast Hold og Resultat'!AR267","v":""}]
[null,null,null,null,null,null,null,46,{"$f":"'Indtast Hold og Resultat'!AP191","v":""},{"$f":"'Indtast Hold og Resultat'!AQ191","v":""},{"$f":"'Indtast Hold og Resultat'!AR191","v":""},null,46,{"$f":"'Indtast Hold og Resultat'!AP268","v":""},{"$f":"'Indtast Hold og Resultat'!AQ268","v":""},{"$f":"'Indtast Hold og Resultat'!AR268","v":""}]
[null,null,null,null,null,null,null,47,{"$f":"'Indtast Hold og Resultat'!AP192","v":""},{"$f":"'Indtast Hold og Resultat'!AQ192","v":""},{"$f":"'Indtast Hold og Resultat'!AR192","v":""},null,47,{"$f":"'Indtast Hold og Resultat'!AP269","v":""},{"$f":"'Indtast Hold og Resultat'!AQ269","v":""},{"$f":"'Indtast Hold og Resultat'!AR269","v":""}]
[null,null,null,null,null,null,null,48,{"$f":"'Indtast Hold og Resultat'!AP193","v":""},{"$f":"'Indtast Hold og Resultat'!AQ193","v":""},{"$f":"'Indtast Hold og Resultat'!AR193","v":""},null,48,{"$f":"'Indtast Hold og Resultat'!AP270","v":""},{"$f":"'Indtast Hold og Resultat'!AQ270","v":""},{"$f":"'Indtast Hold og Resultat'!AR270","v":""}]
[null,null,null,null,null,null,null,49,{"$f":"'Indtast Hold og Resultat'!AP194","v":""},{"$f":"'Indtast Hold og Resultat'!AQ194","v":""},{"$f":"'Indtast Hold og Resultat'!AR194","v":""},null,49,{"$f":"'Indtast Hold og Resultat'!AP271","v":""},{"$f":"'Indtast Hold og Resultat'!AQ271","v":""},{"$f":"'Indtast Hold og Resultat'!AR271","v":""}]
[null,null,null,null,null,null,null,50,{"$f":"'Indtast Hold og Resultat'!AP195","v":""},{"$f":"'Indtast Hold og Resultat'!AQ195","v":""},{"$f":"'Indtast Hold og Resultat'!AR195","v":""},null,50,{"$f":"'Indtast Hold og Resultat'!AP272","v":""},{"$f":"'Indtast Hold og Resultat'!AQ272","v":""},{"$f":"'Indtast Hold og Resultat'!AR272","v":""}]
[null,null,null,null,null,null,null,51,{"$f":"'Indtast Hold og Resultat'!AP196","v":""},{"$f":"'Indtast Hold og Resultat'!AQ196","v":""},{"$f":"'Indtast Hold og Resultat'!AR196","v":""},null,51,{"$f":"'Indtast Hold og Resultat'!AP273","v":""},{"$f":"'Indtast Hold og Resultat'!AQ273","v":""},{"$f":"'Indtast Hold og Resultat'!AR273","v":""}]
[null,null,null,null,null,null,null,52,{"$f":"'Indtast Hold og Resultat'!AP197","v":""},{"$f":"'Indtast Hold og Resultat'!AQ197","v":""},{"$f":"'Indtast Hold og Resultat'!AR197","v":""},null,52,{"$f":"'Indtast Hold og Resultat'!AP274","v":""},{"$f":"'Indtast Hold og Resultat'!AQ274","v":""},{"$f":"'Indtast Hold og Resultat'!AR274","v":""}]
[null,null,null,null,null,null,null,53,{"$f":"'Indtast Hold og Resultat'!AP198","v":""},{"$f":"'Indtast Hold og Resultat'!AQ198","v":""},{"$f":"'Indtast Hold og Resultat'!AR198","v":""},null,53,{"$f":"'Indtast Hold og Resultat'!AP275","v":""},{"$f":"'Indtast Hold og Resultat'!AQ275","v":""},{"$f":"'Indtast Hold og Resultat'!AR275","v":""}]
[null,null,null,null,null,null,null,54,{"$f":"'Indtast Hold og Resultat'!AP199","v":""},{"$f":"'Indtast Hold og Resultat'!AQ199","v":""},{"$f":"'Indtast Hold og Resultat'!AR199","v":""},null,54,{"$f":"'Indtast Hold og Resultat'!AP276","v":""},{"$f":"'Indtast Hold og Resultat'!AQ276","v":""},{"$f":"'Indtast Hold og Resultat'!AR276","v":""}]
[null,null,null,null,null,null,null,55,{"$f":"'Indtast Hold og Resultat'!AP200","v":""},{"$f":"'Indtast Hold og Resultat'!AQ200","v":""},{"$f":"'Indtast Hold og Resultat'!AR200","v":""},null,55,{"$f":"'Indtast Hold og Resultat'!AP277","v":""},{"$f":"'Indtast Hold og Resultat'!AQ277","v":""},{"$f":"'Indtast Hold og Resultat'!AR277","v":""}]
[null,null,null,null,null,null,null,56,{"$f":"'Indtast Hold og Resultat'!AP201","v":""},{"$f":"'Indtast Hold og Resultat'!AQ201","v":""},{"$f":"'Indtast Hold og Resultat'!AR201","v":""},null,56,{"$f":"'Indtast Hold og Resultat'!AP278","v":""},{"$f":"'Indtast Hold og Resultat'!AQ278","v":""},{"$f":"'Indtast Hold og Resultat'!AR278","v":""}]
[null,null,null,null,null,null,null,57,{"$f":"'Indtast Hold og Resultat'!AP202","v":""},{"$f":"'Indtast Hold og Resultat'!AQ202","v":""},{"$f":"'Indtast Hold og Resultat'!AR202","v":""},null,57,{"$f":"'Indtast Hold og Resultat'!AP279","v":""},{"$f":"'Indtast Hold og Resultat'!AQ279","v":""},{"$f":"'Indtast Hold og Resultat'!AR279","v":""}]
[null,null,null,null,null,null,null,58,{"$f":"'Indtast Hold og Resultat'!AP203","v":""},{"$f":"'Indtast Hold og Resultat'!AQ203","v":""},{"$f":"'Indtast Hold og Resultat'!AR203","v":""},null,58,{"$f":"'Indtast Hold og Resultat'!AP280","v":""},{"$f":"'Indtast Hold og Resultat'!AQ280","v":""},{"$f":"'Indtast Hold og Resultat'!AR280","v":""}]
[null,null,null,null,null,null,null,59,{"$f":"'Indtast Hold og Resultat'!AP204","v":""},{"$f":"'Indtast Hold og Resultat'!AQ204","v":""},{"$f":"'Indtast Hold og Resultat'!AR204","v":""},null,59,{"$f":"'Indtast Hold og Resultat'!AP281","v":""},{"$f":"'Indtast Hold og Resultat'!AQ281","v":""},{"$f":"'Indtast Hold og Resultat'!AR281","v":""}]
[null,null,null,null,null,null,null,60,{"$f":"'Indtast Hold og Resultat'!AP205","v":""},{"$f":"'Indtast Hold og Resultat'!AQ205","v":""},{"$f":"'Indtast Hold og Resultat'!AR205","v":""},null,60,{"$f":"'Indtast Hold og Resultat'!AP282","v":""},{"$f":"'Indtast Hold og Resultat'!AQ282","v":""},{"$f":"'Indtast Hold og Resultat'!AR282","v":""}]
[null,null,null,null,null,null,null,61,{"$f":"'Indtast Hold og Resultat'!AP206","v":""},{"$f":"'Indtast Hold og Resultat'!AQ206","v":""},{"$f":"'Indtast Hold og Resultat'!AR206","v":""},null,61,{"$f":"'Indtast Hold og Resultat'!AP283","v":""},{"$f":"'Indtast Hold og Resultat'!AQ283","v":""},{"$f":"'Indtast Hold og Resultat'!AR283","v":""}]
[null,null,null,null,null,null,null,62,{"$f":"'Indtast Hold og Resultat'!AP207","v":""},{"$f":"'Indtast Hold og Resultat'!AQ207","v":""},{"$f":"'Indtast Hold og Resultat'!AR207","v":""},null,62,{"$f":"'Indtast Hold og Resultat'!AP284","v":""},{"$f":"'Indtast Hold og Resultat'!AQ284","v":""},{"$f":"'Indtast Hold og Resultat'!AR284","v":""}]
[null,null,null,null,null,null,null,63,{"$f":"'Indtast Hold og Resultat'!AP208","v":""},{"$f":"'Indtast Hold og Resultat'!AQ208","v":""},{"$f":"'Indtast Hold og Resultat'!AR208","v":""},null,63,{"$f":"'Indtast Hold og Resultat'!AP285","v":""},{"$f":"'Indtast Hold og Resultat'!AQ285","v":""},{"$f":"'Indtast Hold og Resultat'!AR285","v":""}]
[null,null,null,null,null,null,null,64,{"$f":"'Indtast Hold og Resultat'!AP209","v":""},{"$f":"'Indtast Hold og Resultat'!AQ209","v":""},{"$f":"'Indtast Hold og Resultat'!AR209","v":""},null,64,{"$f":"'Indtast Hold og Resultat'!AP286","v":""},{"$f":"'Indtast Hold og Resultat'!AQ286","v":""},{"$f":"'Indtast Hold og Resultat'!AR286","v":""}]
[null,null,null,null,null,null,null,65,{"$f":"'Indtast Hold og Resultat'!AP210","v":""},{"$f":"'Indtast Hold og Resultat'!AQ210","v":""},{"$f":"'Indtast Hold og Resultat'!AR210","v":""},null,65,{"$f":"'Indtast Hold og Resultat'!AP287","v":""},{"$f":"'Indtast Hold og Resultat'!AQ287","v":""},{"$f":"'Indtast Hold og Resultat'!AR287","v":""}]
[null,null,null,null,null,null,null,66,{"$f":"'Indtast Hold og Resultat'!AP211","v":""},{"$f":"'Indtast Hold og Resultat'!AQ211","v":""},{"$f":"'Indtast Hold og Resultat'!AR211","v":""},null,66,{"$f":"'Indtast Hold og Resultat'!AP288","v":""},{"$f":"'Indtast Hold og Resultat'!AQ288","v":""},{"$f":"'Indtast Hold og Resultat'!AR288","v":""}]
[null,null,null,null,null,null,null,67,{"$f":"'Indtast Hold og Resultat'!AP212","v":""},{"$f":"'Indtast Hold og Resultat'!AQ212","v":""},{"$f":"'Indtast Hold og Resultat'!AR212","v":""},null,67,{"$f":"'Indtast Hold og Resultat'!AP289","v":""},{"$f":"'Indtast Hold og Resultat'!AQ289","v":""},{"$f":"'Indtast Hold og Resultat'!AR289","v":""}]
[null,null,null,null,null,null,null,68,{"$f":"'Indtast Hold og Resultat'!AP213","v":""},{"$f":"'Indtast Hold og Resultat'!AQ213","v":""},{"$f":"'Indtast Hold og Resultat'!AR213","v":""},null,68,{"$f":"'Indtast Hold og Resultat'!AP290","v":""},{"$f":"'Indtast Hold og Resultat'!AQ290","v":""},{"$f":"'Indtast Hold og Resultat'!AR290","v":""}]
[null,null,null,null,null,null,null,69,{"$f":"'Indtast Hold og Resultat'!AP214","v":""},{"$f":"'Indtast Hold og Resultat'!AQ214","v":""},{"$f":"'Indtast Hold og Resultat'!AR214","v":""},null,69,{"$f":"'Indtast Hold og Resultat'!AP291","v":""},{"$f":"'Indtast Hold og Resultat'!AQ291","v":""},{"$f":"'Indtast Hold og Resultat'!AR291","v":""}]
[null,null,null,null,null,null,null,70,{"$f":"'Indtast Hold og Resultat'!AP215","v":""},{"$f":"'Indtast Hold og Resultat'!AQ215","v":""},{"$f":"'Indtast Hold og Resultat'!AR215","v":""},null,70,{"$f":"'Indtast Hold og Resultat'!AP292","v":""},{"$f":"'Indtast Hold og Resultat'!AQ292","v":""},{"$f":"'Indtast Hold og Resultat'!AR292","v":""}]
[null,null,null,null,null,null,null,71,{"$f":"'Indtast Hold og Resultat'!AP216","v":""},{"$f":"'Indtast Hold og Resultat'!AQ216","v":""},{"$f":"'Indtast Hold og Resultat'!AR216","v":""},null,71,{"$f":"'Indtast Hold og Resultat'!AP293","v":""},{"$f":"'Indtast Hold og Resultat'!AQ293","v":""},{"$f":"'Indtast Hold og Resultat'!AR293","v":""}]
[null,null,null,null,null,null,null,72,{"$f":"'Indtast Hold og Resultat'!AP217","v":""},{"$f":"'Indtast Hold og Resultat'!AQ217","v":""},{"$f":"'Indtast Hold og Resultat'!AR217","v":""},null,72,{"$f":"'Indtast Hold og Resultat'!AP294","v":""},{"$f":"'Indtast Hold og Resultat'!AQ294","v":""},{"$f":"'Indtast Hold og Resultat'!AR294","v":""}]

{"sheet":"Kontrol","index":8,"n_rows":1010,"n_cols":19,"rows_kept":1010,"cut":false,"hidden":true,"merged":[]}
[]
[]
[]
[null,null,null,null,null,"Antal deltagere",null,"Kontrol af deltagere",null,"Kontrol af deltagere",null,null,null,null,"Kontrol af deltagere"]
[null,null,null,null,null,null,null,"Og holdsammensætning runde 1",null,"Og holdsammensætning runde 2",null,null,null,null,"og klubbernes hold"]
[null,null,null,null,null,{"$f":"SUM(F11:F1010)","v":70},null,{"$f":"IF(F6=Q6,1,2)","v":1},null,{"$f":"IF(F6=R6,1,2)","v":1},null,null,null,null,{"$f":"IF(F6=S6,1,2)","v":1},null,{"$f":"SUM(Q11:Q210)","v":70},{"$f":"SUM(R11:R210)","v":70},{"$f":"SUM(S11:S210)","v":70}]
[]
[null,null,null,null,null,null,null,null,null,null,null,null,null,null,null,null,"Kontrol af","Kontrol af","Kontrol af"]
[null,"Medlems -",null,"Stævne ","Deltager","Antal ","Deltager",null,"Holdsammen","Holdsammen",null,"Holdsammen","Holdsammen","Klubbernes","Hold ","Klubbernes hold","Deltagere og","Deltagere og","Holdsammensætning og"]
[null,"Nummer","Navn","Deltagere","nummer","deltagere","i rækkefølge","Navn","sætning    runde 1","i rækkefølge runde 1","Navn","sætning    runde 2","i rækkefølge runde 2","Hold","Nummer","i rækkefølge","Holdsammensætning runde 1","Holdsammensætning runde 2","Klubbernes hold"]
[null,{"$f":"Deltagere!B4","v":1},{"$f":"IF(Deltagere!C4=\"\",\"\",Deltagere!C4)","v":""},{"$f":"IF(Deltagere!G4=\"\",\"\",Deltagere!G4)","v":""},{"$f":"IF(D11=\"x\",B11,2000)","v":2000},{"$f":"IF(E11=2000,\"\",1)","v":""},{"$f":"SMALL($E$11:$E$1010,1)","v":51},{"$f":"IF(G11=2000,\"\",VLOOKUP(G11,$B$11:$C$1010,2,FALSE))","v":"Tage Jensen"},{"$f":"IF('Holdsammensætning  '!B8=\"\",2000,'Holdsammensætning  '!B8)","v":308},{"$f":"IF(I11=\"\",\"\",SMALL($I$11:$I$210,1))","v":51},{"$f":"IF(J11=2000,\"\",VLOOKUP(J11,$B$11:$C$1010,2,FALSE))","v":"Tage Jensen"},{"$f":"IF('Holdsammensætning  '!E8=\"\",2000,'Holdsammensætning  '!E8)","v":452},{"$f":"IF(L11=\"\",\"\",SMALL($L$11:$L$210,1))","v":51},{"$f":"IF('Indtast Hold og Resultat'!G7=\"\",2000,'Indtast Hold og Resultat'!G7)","v":55},1,{"$f":"IF(N11=\"\",\"\",SMALL($N$11:$N$210,1))","v":51},{"$f":"IF(J11=2000,\"\",IF(G11=J11,1,2))","v":1},{"$f":"IF(M11=2000,\"\",IF(G11=M11,1,2))","v":1},{"$f":"IF(P11=2000,\"\",IF(P11=G11,1,2))","v":1}]
[null,{"$f":"Deltagere!B5","v":2},{"$f":"IF(Deltagere!C5=\"\",\"\",Deltagere!C5)","v":"Hans Skaanning"},{"$f":"IF(Deltagere!G5=\"\",\"\",Deltagere!G5)","v":""},{"$f":"IF(D12=\"x\",B12,2000)","v":2000},{"$f":"IF(E12=2000,\"\",1)","v":""},{"$f":"SMALL($E$11:$E$1010,2)","v":54},{"$f":"IF(G12=2000,\"\",VLOOKUP(G12,$B$11:$C$1010,2,FALSE))","v":"Søren Helbo"},{"$f":"IF('Holdsammensætning  '!B9=\"\",2000,'Holdsammensætning  '!B9)","v":482},{"$f":"IF(I12=\"\",\"\",SMALL($I$11:$I$210,2))","v":54},{"$f":"IF(J12=2000,\"\",VLOOKUP(J12,$B$11:$C$1010,2,FALSE))","v":"Søren Helbo"},{"$f":"IF('Holdsammensætning  '!E9=\"\",2000,'Holdsammensætning  '!E9)","v":75},{"$f":"IF(L12=\"\",\"\",SMALL($L$11:$L$210,2))","v":54},{"$f":"IF('Indtast Hold og Resultat'!G8=\"\",2000,'Indtast Hold og Resultat'!G8)","v":56},1,{"$f":"IF(N12=\"\",\"\",SMALL($N$11:$N$210,2))","v":54},{"$f":"IF(J12=2000,\"\",IF(G12=J12,1,2))","v":1},{"$f":"IF(M12=2000,\"\",IF(G12=M12,1,2))","v":1},{"$f":"IF(P12=2000,\"\",IF(P12=G12,1,2))","v":1}]
[null,{"$f":"Deltagere!B6","v":3},{"$f":"IF(Deltagere!C6=\"\",\"\",Deltagere!C6)","v":"Otto Hansen"},{"$f":"IF(Deltagere!G6=\"\",\"\",Deltagere!G6)","v":""},2000,"",{"$f":"SMALL($E$11:$E$1010,3)","v":55},"Peter Knudsen",{"$f":"IF('Holdsammensætning  '!B10=\"\",2000,'Holdsammensætning  '!B10)","v":454},{"$f":"IF(I13=\"\",\"\",SMALL($I$11:$I$210,3))","v":55},"Peter Knudsen",{"$f":"IF('Holdsammensætning  '!E10=\"\",2000,'Holdsammensætning  '!E10)","v":311},{"$f":"IF(L13=\"\",\"\",SMALL($L$11:$L$210,3))","v":55},{"$f":"IF('Indtast Hold og Resultat'!G9=\"\",2000,'Indtast Hold og Resultat'!G9)","v":64},1,{"$f":"IF(N13=\"\",\"\",SMALL($N$11:$N$210,3))","v":55},{"$f":"IF(J13=2000,\"\",IF(G13=J13,1,2))","v":1},1,{"$f":"IF(P13=2000,\"\",IF(P13=G13,1,2))","v":1}]
[null,{"$f":"Deltagere!B7","v":4},{"$f":"IF(Deltagere!C7=\"\",\"\",Deltagere!C7)","v":"Pia Omdal"},{"$f":"IF(Deltagere!G7=\"\",\"\",Deltagere!G7)","v":""},2000,"",{"$f":"SMALL($E$11:$E$1010,4)","v":56},"Mogens Bodilsen",{"$f":"IF('Holdsammensætning  '!B11=\"\",2000,'Holdsammensætning  '!B11)","v":57},{"$f":"IF(I14=\"\",\"\",SMALL($I$11:$I$210,4))","v":56},"Mogens Bodilsen",{"$f":"IF('Holdsammensætning  '!E11=\"\",2000,'Holdsammensætning  '!E11)","v":2000},{"$f":"IF(L14=\"\",\"\",SMALL($L$11:$L$210,4))","v":56},{"$f":"IF('Indtast Hold og Resultat'!G10=\"\",2000,'Indtast Hold og Resultat'!G10)","v":75},1,{"$f":"IF(N14=\"\",\"\",SMALL($N$11:$N$210,4))","v":56},1,1,1]
[null,{"$f":"Deltagere!B8","v":5},{"$f":"IF(Deltagere!C8=\"\",\"\",Deltagere!C8)","v":""},{"$f":"IF(Deltagere!G8=\"\",\"\",Deltagere!G8)","v":""},2000,"",{"$f":"SMALL($E$11:$E$1010,5)","v":57},"Niels Aare Jensen",{"$f":"IF('Holdsammensætning  '!B12=\"\",2000,'Holdsammensætning  '!B12)","v":301},{"$f":"IF(I15=\"\",\"\",SMALL($I$11:$I$210,5))","v":57},"Niels Aare Jensen",{"$f":"IF('Holdsammensætning  '!E12=\"\",2000,'Holdsammensætning  '!E12)","v":453},{"$f":"IF(L15=\"\",\"\",SMALL($L$11:$L$210,5))","v":57},{"$f":"IF('Indtast Hold og Resultat'!G14=\"\",2000,'Indtast Hold og Resultat'!G14)","v":61},2,{"$f":"IF(N15=\"\",\"\",SMALL($N$11:$N$210,5))","v":57},1,1,1]
[null,{"$f":"Deltagere!B9","v":6},{"$f":"IF(Deltagere!C9=\"\",\"\",Deltagere!C9)","v":"Jens-Thomas Thomsen"},{"$f":"IF(Deltagere!G9=\"\",\"\",Deltagere!G9)","v":""},2000,"",{"$f":"SMALL($E$11:$E$1010,6)","v":60},"Anna Grethe Christensen",{"$f":"IF('Holdsammensætning  '!B13=\"\",2000,'Holdsammensætning  '!B13)","v":481},{"$f":"IF(I16=\"\",\"\",SMALL($I$11:$I$210,6))","v":60},"Anna Grethe Christensen",{"$f":"IF('Holdsammensætning  '!E13=\"\",2000,'Holdsammensætning  '!E13)","v":74},{"$f":"IF(L16=\"\",\"\",SMALL($L$11:$L$210,6))","v":60},{"$f":"IF('Indtast Hold og Resultat'!G15=\"\",2000,'Indtast Hold og Resultat'!G15)","v":51},2,{"$f":"IF(N16=\"\",\"\",SMALL($N$11:$N$210,6))","v":60},1,1,1]
[null,{"$f":"Deltagere!B10","v":7},{"$f":"IF(Deltagere!C10=\"\",\"\",Deltagere!C10)","v":""},{"$f":"IF(Deltagere!G10=\"\",\"\",Deltagere!G10)","v":""},2000,"",{"$f":"SMALL($E$11:$E$1010,7)","v":61},"Annie Jensen",{"$f":"IF('Holdsammensætning  '!B14=\"\",2000,'Holdsammensætning  '!B14)","v":457},{"$f":"IF(I17=\"\",\"\",SMALL($I$11:$I$210,7))","v":61},"Annie Jensen",{"$f":"IF('Holdsammensætning  '!E14=\"\",2000,'Holdsammensætning  '!E14)","v":485},{"$f":"IF(L17=\"\",\"\",SMALL($L$11:$L$210,7))","v":61},{"$f":"IF('Indtast Hold og Resultat'!G16=\"\",2000,'Indtast Hold og Resultat'!G16)","v":74},2,{"$f":"IF(N17=\"\",\"\",SMALL($N$11:$N$210,7))","v":61},1,1,1]
[null,{"$f":"Deltagere!B11","v":8},{"$f":"IF(Deltagere!C11=\"\",\"\",Deltagere!C11)","v":"Solbjørg Regil"},{"$f":"IF(Deltagere!G11=\"\",\"\",Deltagere!G11)","v":""},2000,"",{"$f":"SMALL($E$11:$E$1010,8)","v":62},"Jørgen Hvilsom",{"$f":"IF('Holdsammensætning  '!B15=\"\",2000,'Holdsammensætning  '!B15)","v":56},{"$f":"IF(I18=\"\",\"\",SMALL($I$11:$I$210,8))","v":62},"Jørgen Hvilsom",{"$f":"IF('Holdsammensætning  '!E15=\"\",2000,'Holdsammensætning  '!E15)","v":307},{"$f":"IF(L18=\"\",\"\",SMALL($L$11:$L$210,8))","v":62},{"$f":"IF('Indtast Hold og Resultat'!G17=\"\",2000,'Indtast Hold og Resultat'!G17)","v":76},2,{"$f":"IF(N18=\"\",\"\",SMALL($N$11:$N$210,8))","v":62},1,1,1]
[null,{"$f":"Deltagere!B12","v":9},{"$f":"IF(Deltagere!C12=\"\",\"\",Deltagere!C12)","v":"Finn Regil"},{"$f":"IF(Deltagere!G12=\"\",\"\",Deltagere!G12)","v":""},2000,"",{"$f":"SMALL($E$11:$E$1010,9)","v":63},"Lennert Sørensen",{"$f":"IF('Holdsammensætning  '!B16=\"\",2000,'Holdsammensætning  '!B16)","v":328},{"$f":"IF(I19=\"\",\"\",SMALL($I$11:$I$210,9))","v":63},"Lennert Sørensen",{"$f":"IF('Holdsammensætning  '!E16=\"\",2000,'Holdsammensætning  '!E16)","v":455},{"$f":"IF(L19=\"\",\"\",SMALL($L$11:$L$210,9))","v":63},{"$f":"IF('Indtast Hold og Resultat'!G21=\"\",2000,'Indtast Hold og Resultat'!G21)","v":60},3,{"$f":"IF(N19=\"\",\"\",SMALL($N$11:$N$210,9))","v":63},1,1,1]
[null,{"$f":"Deltagere!B13","v":10},{"$f":"IF(Deltagere!C13=\"\",\"\",Deltagere!C13)","v":"Henrik Krause"},{"$f":"IF(Deltagere!G13=\"\",\"\",Deltagere!G13)","v":""},2000,"",{"$f":"SMALL($E$11:$E$1010,10)","v":64},"Villy Jensen",{"$f":"IF('Holdsammensætning  '!B17=\"\",2000,'Holdsammensætning  '!B17)","v":479},{"$f":"IF(I20=\"\",\"\",SMALL($I$11:$I$210,10))","v":64},"Villy Jensen",{"$f":"IF('Holdsammensætning  '!E17=\"\",2000,'Holdsammensætning  '!E17)","v":65},{"$f":"IF(L20=\"\",\"\",SMALL($L$11:$L$210,10))","v":64},{"$f":"IF('Indtast Hold og Resultat'!G22=\"\",2000,'Indtast Hold og Resultat'!G22)","v":57},3,{"$f":"IF(N20=\"\",\"\",SMALL($N$11:$N$210,10))","v":64},1,1,1]
[null,{"$f":"Deltagere!B14","v":11},{"$f":"IF(Deltagere!C14=\"\",\"\",Deltagere!C14)","v":"Bent Poulsen"},{"$f":"IF(Deltagere!G14=\"\",\"\",Deltagere!G14)","v":""},2000,"",{"$f":"SMALL($E$11:$E$1010,11)","v":65},"Anne Marie Laustsen",{"$f":"IF('Holdsammensætning  '!B18=\"\",2000,'Holdsammensætning  '!B18)","v":451},{"$f":"IF(I21=\"\",\"\",SMALL($I$11:$I$210,11))","v":65},"Anne Marie Laustsen",{"$f":"IF('Holdsammensætning  '!E18=\"\",2000,'Holdsammensætning  '!E18)","v":495},{"$f":"IF(L21=\"\",\"\",SMALL($L$11:$L$210,11))","v":65},{"$f":"IF('Indtast Hold og Resultat'!G23=\"\",2000,'Indtast Hold og Resultat'!G23)","v":73},3,{"$f":"IF(N21=\"\",\"\",SMALL($N$11:$N$210,11))","v":65},1,1,1]
[null,{"$f":"Deltagere!B15","v":12},{"$f":"IF(Deltagere!C15=\"\",\"\",Deltagere!C15)","v":"Grethe Krause"},{"$f":"IF(Deltagere!G15=\"\",\"\",Deltagere!G15)","v":""},2000,"",{"$f":"SMALL($E$11:$E$1010,12)","v":73},"Petra Knudsen",{"$f":"IF('Holdsammensætning  '!B19=\"\",2000,'Holdsammensætning  '!B19)","v":60},{"$f":"IF(I22=\"\",\"\",SMALL($I$11:$I$210,12))","v":73},"Petra Knudsen",{"$f":"IF('Holdsammensætning  '!E19=\"\",2000,'Holdsammensætning  '!E19)","v":310},{"$f":"IF(L22=\"\",\"\",SMALL($L$11:$L$210,12))","v":73},{"$f":"IF('Indtast Hold og Resultat'!G24=\"\",2000,'Indtast Hold og Resultat'!G24)","v":77},3,{"$f":"IF(N22=\"\",\"\",SMALL($N$11:$N$210,12))","v":73},1,1,1]
[null,{"$f":"Deltagere!B16","v":13},{"$f":"IF(Deltagere!C16=\"\",\"\",Deltagere!C16)","v":""},{"$f":"IF(Deltagere!G16=\"\",\"\",Deltagere!G16)","v":""},2000,"",{"$f":"SMALL($E$11:$E$1010,13)","v":74},"Lise Qvist Bebe",{"$f":"IF('Holdsammensætning  '!B20=\"\",2000,'Holdsammensætning  '!B20)","v":316},{"$f":"IF(I23=\"\",\"\",SMALL($I$11:$I$210,13))","v":74},"Lise Qvist Bebe",{"$f":"IF('Holdsammensætning  '!E20=\"\",2000,'Holdsammensætning  '!E20)","v":494},{"$f":"IF(L23=\"\",\"\",SMALL($L$11:$L$210,13))","v":74},{"$f":"IF('Indtast Hold og Resultat'!G28=\"\",2000,'Indtast Hold og Resultat'!G28)","v":65},4,{"$f":"IF(N23=\"\",\"\",SMALL($N$11:$N$210,13))","v":74},1,1,1]
[null,{"$f":"Deltagere!B17","v":14},{"$f":"IF(Deltagere!C17=\"\",\"\",Deltagere!C17)","v":"Erik Staben"},{"$f":"IF(Deltagere!G17=\"\",\"\",Deltagere!G17)","v":""},2000,"",{"$f":"SMALL($E$11:$E$1010,14)","v":75},"Peter Aare",{"$f":"IF('Holdsammensætning  '!B21=\"\",2000,'Holdsammensætning  '!B21)","v":478},{"$f":"IF(I24=\"\",\"\",SMALL($I$11:$I$210,14))","v":75},"Peter Aare",{"$f":"IF('Holdsammensætning  '!E21=\"\",2000,'Holdsammensætning  '!E21)","v":63},{"$f":"IF(L24=\"\",\"\",SMALL($L$11:$L$210,14))","v":75},{"$f":"IF('Indtast Hold og Resultat'!G29=\"\",2000,'Indtast Hold og Resultat'!G29)","v":54},4,{"$f":"IF(N24=\"\",\"\",SMALL($N$11:$N$210,14))","v":75},1,1,1]
[null,{"$f":"Deltagere!B18","v":15},{"$f":"IF(Deltagere!C18=\"\",\"\",Deltagere!C18)","v":""},{"$f":"IF(Deltagere!G18=\"\",\"\",Deltagere!G18)","v":""},2000,"",{"$f":"SMALL($E$11:$E$1010,15)","v":76},"Connie Bregnvig",{"$f":"IF('Holdsammensætning  '!B22=\"\",2000,'Holdsammensætning  '!B22)","v":608},{"$f":"IF(I25=\"\",\"\",SMALL($I$11:$I$210,15))","v":76},"Connie Bregnvig",{"$f":"IF('Holdsammensætning  '!E22=\"\",2000,'Holdsammensætning  '!E22)","v":315},{"$f":"IF(L25=\"\",\"\",SMALL($L$11:$L$210,15))","v":76},{"$f":"IF('Indtast Hold og Resultat'!G30=\"\",2000,'Indtast Hold og Resultat'!G30)","v":62},4,{"$f":"IF(N25=\"\",\"\",SMALL($N$11:$N$210,15))","v":76},1,1,1]
[null,{"$f":"Deltagere!B19","v":16},{"$f":"IF(Deltagere!C19=\"\",\"\",Deltagere!C19)","v":""},{"$f":"IF(Deltagere!G19=\"\",\"\",Deltagere!G19)","v":""},2000,"",{"$f":"SMALL($E$11:$E$1010,16)","v":77},"Preben Ludore",{"$f":"IF('Holdsammensætning  '!B23=\"\",2000,'Holdsammensætning  '!B23)","v":62},{"$f":"IF(I26=\"\",\"\",SMALL($I$11:$I$210,16))","v":77},"Preben Ludore",{"$f":"IF('Holdsammensætning  '!E23=\"\",2000,'Holdsammensætning  '!E23)","v":2000},{"$f":"IF(L26=\"\",\"\",SMALL($L$11:$L$210,16))","v":77},{"$f":"IF('Indtast Hold og Resultat'!G31=\"\",2000,'Indtast Hold og Resultat'!G31)","v":63},4,{"$f":"IF(N26=\"\",\"\",SMALL($N$11:$N$210,16))","v":77},1,1,1]
[null,{"$f":"Deltagere!B20","v":17},{"$f":"IF(Deltagere!C20=\"\",\"\",Deltagere!C20)","v":"Jytte Nielsen"},{"$f":"IF(Deltagere!G20=\"\",\"\",Deltagere!G20)","v":""},2000,"",{"$f":"SMALL($E$11:$E$1010,17)","v":301},"Svend Faigh",{"$f":"IF('Holdsammensætning  '!B24=\"\",2000,'Holdsammensætning  '!B24)","v":305},{"$f":"IF(I27=\"\",\"\",SMALL($I$11:$I$210,17))","v":301},"Svend Faigh",{"$f":"IF('Holdsammensætning  '!E24=\"\",2000,'Holdsammensætning  '!E24)","v":458},{"$f":"IF(L27=\"\",\"\",SMALL($L$11:$L$210,17))","v":301},{"$f":"IF('Indtast Hold og Resultat'!G35=\"\",2000,'Indtast Hold og Resultat'!G35)","v":301},5,{"$f":"IF(N27=\"\",\"\",SMALL($N$11:$N$210,17))","v":301},1,1,1]
[null,{"$f":"Deltagere!B21","v":18},{"$f":"IF(Deltagere!C21=\"\",\"\",Deltagere!C21)","v":"Kaj Andersson"},{"$f":"IF(Deltagere!G21=\"\",\"\",Deltagere!G21)","v":""},2000,"",{"$f":"SMALL($E$11:$E$1010,18)","v":302},"Jørgen Hugo Larsen",{"$f":"IF('Holdsammensætning  '!B25=\"\",2000,'Holdsammensætning  '!B25)","v":477},{"$f":"IF(I28=\"\",\"\",SMALL($I$11:$I$210,18))","v":302},"Jørgen Hugo Larsen",{"$f":"IF('Holdsammensætning  '!E25=\"\",2000,'Holdsammensætning  '!E25)","v":61},{"$f":"IF(L28=\"\",\"\",SMALL($L$11:$L$210,18))","v":302},{"$f":"IF('Indtast Hold og Resultat'!G36=\"\",2000,'Indtast Hold og Resultat'!G36)","v":327},5,{"$f":"IF(N28=\"\",\"\",SMALL($N$11:$N$210,18))","v":302},1,1,1]
[null,{"$f":"Deltagere!B22","v":19},{"$f":"IF(Deltagere!C22=\"\",\"\",Deltagere!C22)","v":"Aase Poulsen"},{"$f":"IF(Deltagere!G22=\"\",\"\",Deltagere!G22)","v":""},2000,"",{"$f":"SMALL($E$11:$E$1010,19)","v":303},"Lone Nielsen",{"$f":"IF('Holdsammensætning  '!B26=\"\",2000,'Holdsammensætning  '!B26)","v":474},{"$f":"IF(I29=\"\",\"\",SMALL($I$11:$I$210,19))","v":303},"Lone Nielsen",{"$f":"IF('Holdsammensætning  '!E26=\"\",2000,'Holdsammensætning  '!E26)","v":488},{"$f":"IF(L29=\"\",\"\",SMALL($L$11:$L$210,19))","v":303},{"$f":"IF('Indtast Hold og Resultat'!G37=\"\",2000,'Indtast Hold og Resultat'!G37)","v":302},5,{"$f":"IF(N29=\"\",\"\",SMALL($N$11:$N$210,19))","v":303},1,1,1]
[null,{"$f":"Deltagere!B23","v":20},{"$f":"IF(Deltagere!C23=\"\",\"\",Deltagere!C23)","v":"Ruth Sørensen"},{"$f":"IF(Deltagere!G23=\"\",\"\",Deltagere!G23)","v":""},2000,"",{"$f":"SMALL($E$11:$E$1010,20)","v":305},"Annette Lykke Madsen",{"$f":"IF('Holdsammensætning  '!B27=\"\",2000,'Holdsammensætning  '!B27)","v":64},{"$f":"IF(I30=\"\",\"\",SMALL($I$11:$I$210,20))","v":305},"Annette Lykke Madsen",{"$f":"IF('Holdsammensætning  '!E27=\"\",2000,'Holdsammensætning  '!E27)","v":317},{"$f":"IF(L30=\"\",\"\",SMALL($L$11:$L$210,20))","v":305},{"$f":"IF('Indtast Hold og Resultat'!G38=\"\",2000,'Indtast Hold og Resultat'!G38)","v":303},5,{"$f":"IF(N30=\"\",\"\",SMALL($N$11:$N$210,20))","v":305},1,1,1]
[null,{"$f":"Deltagere!B24","v":21},{"$f":"IF(Deltagere!C24=\"\",\"\",Deltagere!C24)","v":""},{"$f":"IF(Deltagere!G24=\"\",\"\",Deltagere!G24)","v":""},2000,"",{"$f":"SMALL($E$11:$E$1010,21)","v":307},"Åge  Zcharau",{"$f":"IF('Holdsammensætning  '!B28=\"\",2000,'Holdsammensætning  '!B28)","v":327},{"$f":"IF(I31=\"\",\"\",SMALL($I$11:$I$210,21))","v":307},"Åge  Zcharau",{"$f":"IF('Holdsammensætning  '!E28=\"\",2000,'Holdsammensætning  '!E28)","v":459},{"$f":"IF(L31=\"\",\"\",SMALL($L$11:$L$210,21))","v":307},{"$f":"IF('Indtast Hold og Resultat'!G42=\"\",2000,'Indtast Hold og Resultat'!G42)","v":307},6,{"$f":"IF(N31=\"\",\"\",SMALL($N$11:$N$210,21))","v":307},1,1,1]
[null,{"$f":"Deltagere!B25","v":22},{"$f":"IF(Deltagere!C25=\"\",\"\",Deltagere!C25)","v":"Renè Christiansen"},{"$f":"IF(Deltagere!G25=\"\",\"\",Deltagere!G25)","v":""},2000,"",{"$f":"SMALL($E$11:$E$1010,22)","v":308},"Conny Schackinger",{"$f":"IF('Holdsammensætning  '!B29=\"\",2000,'Holdsammensætning  '!B29)","v":476},{"$f":"IF(I32=\"\",\"\",SMALL($I$11:$I$210,22))","v":308},"Conny Schackinger",{"$f":"IF('Holdsammensætning  '!E29=\"\",2000,'Holdsammensætning  '!E29)","v":62},{"$f":"IF(L32=\"\",\"\",SMALL($L$11:$L$210,22))","v":308},{"$f":"IF('Indtast Hold og Resultat'!G43=\"\",2000,'Indtast Hold og Resultat'!G43)","v":308},6,{"$f":"IF(N32=\"\",\"\",SMALL($N$11:$N$210,22))","v":308},1,1,1]
[null,{"$f":"Deltagere!B26","v":23},{"$f":"IF(Deltagere!C26=\"\",\"\",Deltagere!C26)","v":"Karin F.L. Kjærgaard"},{"$f":"IF(Deltagere!G26=\"\",\"\",Deltagere!G26)","v":""},2000,"",{"$f":"SMALL($E$11:$E$1010,23)","v":310},"Annette Traulsen",{"$f":"IF('Holdsammensætning  '!B30=\"\",2000,'Holdsammensætning  '!B30)","v":77},{"$f":"IF(I33=\"\",\"\",SMALL($I$11:$I$210,23))","v":310},"Annette Traulsen",{"$f":"IF('Holdsammensætning  '!E30=\"\",2000,'Holdsammensætning  '!E30)","v":487},{"$f":"IF(L33=\"\",\"\",SMALL($L$11:$L$210,23))","v":310},{"$f":"IF('Indtast Hold og Resultat'!G44=\"\",2000,'Indtast Hold og Resultat'!G44)","v":328},6,{"$f":"IF(N33=\"\",\"\",SMALL($N$11:$N$210,23))","v":310},1,1,1]
[null,{"$f":"Deltagere!B27","v":24},{"$f":"IF(Deltagere!C27=\"\",\"\",Deltagere!C27)","v":"Jette Svensson"},{"$f":"IF(Deltagere!G27=\"\",\"\",Deltagere!G27)","v":""},2000,"",{"$f":"SMALL($E$11:$E$1010,24)","v":311},"Per Aune",{"$f":"IF('Holdsammensætning  '!B31=\"\",2000,'Holdsammensætning  '!B31)","v":73},{"$f":"IF(I34=\"\",\"\",SMALL($I$11:$I$210,24))","v":311},"Per Aune",{"$f":"IF('Holdsammensætning  '!E31=\"\",2000,'Holdsammensætning  '!E31)","v":318},{"$f":"IF(L34=\"\",\"\",SMALL($L$11:$L$210,24))","v":311},{"$f":"IF('Indtast Hold og Resultat'!G45=\"\",2000,'Indtast Hold og Resultat'!G45)","v":316},6,{"$f":"IF(N34=\"\",\"\",SMALL($N$11:$N$210,24))","v":311},1,1,1]
[null,{"$f":"Deltagere!B28","v":25},{"$f":"IF(Deltagere!C28=\"\",\"\",Deltagere!C28)","v":"Rosalind Kristensen"},{"$f":"IF(Deltagere!G28=\"\",\"\",Deltagere!G28)","v":""},2000,"",{"$f":"SMALL($E$11:$E$1010,25)","v":315},"Tove Perlt",{"$f":"IF('Holdsammensætning  '!B32=\"\",2000,'Holdsammensætning  '!B32)","v":303},{"$f":"IF(I35=\"\",\"\",SMALL($I$11:$I$210,25))","v":315},"Tove Perlt",{"$f":"IF('Holdsammensætning  '!E32=\"\",2000,'Holdsammensætning  '!E32)","v":461},{"$f":"IF(L35=\"\",\"\",SMALL($L$11:$L$210,25))","v":315},{"$f":"IF('Indtast Hold og Resultat'!G49=\"\",2000,'Indtast Hold og Resultat'!G49)","v":318},7,{"$f":"IF(N35=\"\",\"\",SMALL($N$11:$N$210,25))","v":315},1,1,1]
[null,{"$f":"Deltagere!B29","v":26},{"$f":"IF(Deltagere!C29=\"\",\"\",Deltagere!C29)","v":"Peder Grønne"},{"$f":"IF(Deltagere!G29=\"\",\"\",Deltagere!G29)","v":""},2000,"",{"$f":"SMALL($E$11:$E$1010,26)","v":316},"Preben Madsen",{"$f":"IF('Holdsammensætning  '!B33=\"\",2000,'Holdsammensætning  '!B33)","v":470},{"$f":"IF(I36=\"\",\"\",SMALL($I$11:$I$210,26))","v":316},"Preben Madsen",{"$f":"IF('Holdsammensætning  '!E33=\"\",2000,'Holdsammensætning  '!E33)","v":55},{"$f":"IF(L36=\"\",\"\",SMALL($L$11:$L$210,26))","v":316},{"$f":"IF('Indtast Hold og Resultat'!G50=\"\",2000,'Indtast Hold og Resultat'!G50)","v":320},7,{"$f":"IF(N36=\"\",\"\",SMALL($N$11:$N$210,26))","v":316},1,1,1]
[null,{"$f":"Deltagere!B30","v":27},{"$f":"IF(Deltagere!C30=\"\",\"\",Deltagere!C30)","v":""},{"$f":"IF(Deltagere!G30=\"\",\"\",Deltagere!G30)","v":""},2000,"",{"$f":"SMALL($E$11:$E$1010,27)","v":317},"Lis Rasmussen",{"$f":"IF('Holdsammensætning  '!B34=\"\",2000,'Holdsammensætning  '!B34)","v":472},{"$f":"IF(I37=\"\",\"\",SMALL($I$11:$I$210,27))","v":317},"Lis Rasmussen",{"$f":"IF('Holdsammensætning  '!E34=\"\",2000,'Holdsammensætning  '!E34)","v":486},{"$f":"IF(L37=\"\",\"\",SMALL($L$11:$L$210,27))","v":317},{"$f":"IF('Indtast Hold og Resultat'!G51=\"\",2000,'Indtast Hold og Resultat'!G51)","v":311},7,{"$f":"IF(N37=\"\",\"\",SMALL($N$11:$N$210,27))","v":317},1,1,1]
[null,{"$f":"Deltagere!B31","v":28},{"$f":"IF(Deltagere!C31=\"\",\"\",Deltagere!C31)","v":""},{"$f":"IF(Deltagere!G31=\"\",\"\",Deltagere!G31)","v":""},2000,"",{"$f":"SMALL($E$11:$E$1010,28)","v":318},"Peter Sølsten",{"$f":"IF('Holdsammensætning  '!B35=\"\",2000,'Holdsammensætning  '!B35)","v":76},{"$f":"IF(I38=\"\",\"\",SMALL($I$11:$I$210,28))","v":318},"Peter Sølsten",{"$f":"IF('Holdsammensætning  '!E35=\"\",2000,'Holdsammensætning  '!E35)","v":320},{"$f":"IF(L38=\"\",\"\",SMALL($L$11:$L$210,28))","v":318},{"$f":"IF('Indtast Hold og Resultat'!G52=\"\",2000,'Indtast Hold og Resultat'!G52)","v":315},7,{"$f":"IF(N38=\"\",\"\",SMALL($N$11:$N$210,28))","v":318},1,1,1]
[null,{"$f":"Deltagere!B32","v":29},{"$f":"IF(Deltagere!C32=\"\",\"\",Deltagere!C32)","v":""},{"$f":"IF(Deltagere!G32=\"\",\"\",Deltagere!G32)","v":""},2000,"",{"$f":"SMALL($E$11:$E$1010,29)","v":320},"Margit Larsen",{"$f":"IF('Holdsammensætning  '!B36=\"\",2000,'Holdsammensætning  '!B36)","v":51},{"$f":"IF(I39=\"\",\"\",SMALL($I$11:$I$210,29))","v":320},"Margit Larsen",{"$f":"IF('Holdsammensætning  '!E36=\"\",2000,'Holdsammensætning  '!E36)","v":463},{"$f":"IF(L39=\"\",\"\",SMALL($L$11:$L$210,29))","v":320},{"$f":"IF('Indtast Hold og Resultat'!G56=\"\",2000,'Indtast Hold og Resultat'!G56)","v":310},8,{"$f":"IF(N39=\"\",\"\",SMALL($N$11:$N$210,29))","v":320},1,1,1]
[null,{"$f":"Deltagere!B33","v":30},{"$f":"IF(Deltagere!C33=\"\",\"\",Deltagere!C33)","v":""},{"$f":"IF(Deltagere!G33=\"\",\"\",Deltagere!G33)","v":""},2000,"",{"$f":"SMALL($E$11:$E$1010,30)","v":322},"Anette Nielsen",{"$f":"IF('Holdsammensætning  '!B37=\"\",2000,'Holdsammensætning  '!B37)","v":468},{"$f":"IF(I40=\"\",\"\",SMALL($I$11:$I$210,30))","v":322},"Anette Nielsen",{"$f":"IF('Holdsammensætning  '!E37=\"\",2000,'Holdsammensætning  '!E37)","v":54},{"$f":"IF(L40=\"\",\"\",SMALL($L$11:$L$210,30))","v":322},{"$f":"IF('Indtast Hold og Resultat'!G57=\"\",2000,'Indtast Hold og Resultat'!G57)","v":322},8,{"$f":"IF(N40=\"\",\"\",SMALL($N$11:$N$210,30))","v":322},1,1,1]
[null,{"$f":"Deltagere!B34","v":31},{"$f":"IF(Deltagere!C34=\"\",\"\",Deltagere!C34)","v":""},{"$f":"IF(Deltagere!G34=\"\",\"\",Deltagere!G34)","v":""},2000,"",{"$f":"SMALL($E$11:$E$1010,31)","v":327},"Mogens Kortegaard",{"$f":"IF('Holdsammensætning  '!B38=\"\",2000,'Holdsammensætning  '!B38)","v":480},{"$f":"IF(I41=\"\",\"\",SMALL($I$11:$I$210,31))","v":327},"Mogens Kortegaard",{"$f":"IF('Holdsammensætning  '!E38=\"\",2000,'Holdsammensætning  '!E38)","v":484},{"$f":"IF(L41=\"\",\"\",SMALL($L$11:$L$210,31))","v":327},{"$f":"IF('Indtast Hold og Resultat'!G58=\"\",2000,'Indtast Hold og Resultat'!G58)","v":317},8,{"$f":"IF(N41=\"\",\"\",SMALL($N$11:$N$210,31))","v":327},1,1,1]
[null,{"$f":"Deltagere!B35","v":32},{"$f":"IF(Deltagere!C35=\"\",\"\",Deltagere!C35)","v":""},{"$f":"IF(Deltagere!G35=\"\",\"\",Deltagere!G35)","v":""},2000,"",{"$f":"SMALL($E$11:$E$1010,32)","v":328},"Annie Damsgaard",{"$f":"IF('Holdsammensætning  '!B39=\"\",2000,'Holdsammensætning  '!B39)","v":302},{"$f":"IF(I42=\"\",\"\",SMALL($I$11:$I$210,32))","v":328},"Annie Damsgaard",{"$f":"IF('Holdsammensætning  '!E39=\"\",2000,'Holdsammensætning  '!E39)","v":322},{"$f":"IF(L42=\"\",\"\",SMALL($L$11:$L$210,32))","v":328},{"$f":"IF('Indtast Hold og Resultat'!G59=\"\",2000,'Indtast Hold og Resultat'!G59)","v":305},8,{"$f":"IF(N42=\"\",\"\",SMALL($N$11:$N$210,32))","v":328},1,1,1]
[null,{"$f":"Deltagere!B36","v":33},{"$f":"IF(Deltagere!C36=\"\",\"\",Deltagere!C36)","v":""},{"$f":"IF(Deltagere!G36=\"\",\"\",Deltagere!G36)","v":""},2000,"",{"$f":"SMALL($E$11:$E$1010,33)","v":451},"Steen Lergard",{"$f":"IF('Holdsammensætning  '!B40=\"\",2000,'Holdsammensætning  '!B40)","v":54},{"$f":"IF(I43=\"\",\"\",SMALL($I$11:$I$210,33))","v":451},"Steen Lergard",{"$f":"IF('Holdsammensætning  '!E40=\"\",2000,'Holdsammensætning  '!E40)","v":464},{"$f":"IF(L43=\"\",\"\",SMALL($L$11:$L$210,33))","v":451},{"$f":"IF('Indtast Hold og Resultat'!G63=\"\",2000,'Indtast Hold og Resultat'!G63)","v":461},9,{"$f":"IF(N43=\"\",\"\",SMALL($N$11:$N$210,33))","v":451},1,1,1]
[null,{"$f":"Deltagere!B37","v":34},{"$f":"IF(Deltagere!C37=\"\",\"\",Deltagere!C37)","v":""},{"$f":"IF(Deltagere!G37=\"\",\"\",Deltagere!G37)","v":""},2000,"",{"$f":"SMALL($E$11:$E$1010,34)","v":452},"Helga Andersen",{"$f":"IF('Holdsammensætning  '!B41=\"\",2000,'Holdsammensætning  '!B41)","v":466},{"$f":"IF(I44=\"\",\"\",SMALL($I$11:$I$210,34))","v":452},"Helga Andersen",{"$f":"IF('Holdsammensætning  '!E41=\"\",2000,'Holdsammensætning  '!E41)","v":51},{"$f":"IF(L44=\"\",\"\",SMALL($L$11:$L$210,34))","v":452},{"$f":"IF('Indtast Hold og Resultat'!G64=\"\",2000,'Indtast Hold og Resultat'!G64)","v":453},9,{"$f":"IF(N44=\"\",\"\",SMALL($N$11:$N$210,34))","v":452},1,1,1]
[null,{"$f":"Deltagere!B38","v":35},{"$f":"IF(Deltagere!C38=\"\",\"\",Deltagere!C38)","v":"Ruth Eriksen"},{"$f":"IF(Deltagere!G38=\"\",\"\",Deltagere!G38)","v":""},2000,"",{"$f":"SMALL($E$11:$E$1010,35)","v":453},"Lone Hansen",{"$f":"IF('Holdsammensætning  '!B42=\"\",2000,'Holdsammensætning  '!B42)","v":485},{"$f":"IF(I45=\"\",\"\",SMALL($I$11:$I$210,35))","v":453},"Lone Hansen",{"$f":"IF('Holdsammensætning  '!E42=\"\",2000,'Holdsammensætning  '!E42)","v":483},{"$f":"IF(L45=\"\",\"\",SMALL($L$11:$L$210,35))","v":453},{"$f":"IF('Indtast Hold og Resultat'!G65=\"\",2000,'Indtast Hold og Resultat'!G65)","v":482},9,{"$f":"IF(N45=\"\",\"\",SMALL($N$11:$N$210,35))","v":453},1,1,1]
[null,{"$f":"Deltagere!B39","v":36},{"$f":"IF(Deltagere!C39=\"\",\"\",Deltagere!C39)","v":""},{"$f":"IF(Deltagere!G39=\"\",\"\",Deltagere!G39)","v":""},2000,"",{"$f":"SMALL($E$11:$E$1010,36)","v":454},"Erik Wagner",{"$f":"IF('Holdsammensætning  '!B43=\"\",2000,'Holdsammensætning  '!B43)","v":307},{"$f":"IF(I46=\"\",\"\",SMALL($I$11:$I$210,36))","v":454},"Erik Wagner",{"$f":"IF('Holdsammensætning  '!E43=\"\",2000,'Holdsammensætning  '!E43)","v":64},{"$f":"IF(L46=\"\",\"\",SMALL($L$11:$L$210,36))","v":454},{"$f":"IF('Indtast Hold og Resultat'!G66=\"\",2000,'Indtast Hold og Resultat'!G66)","v":472},9,{"$f":"IF(N46=\"\",\"\",SMALL($N$11:$N$210,36))","v":454},1,1,1]
[null,{"$f":"Deltagere!B40","v":37},{"$f":"IF(Deltagere!C40=\"\",\"\",Deltagere!C40)","v":""},{"$f":"IF(Deltagere!G40=\"\",\"\",Deltagere!G40)","v":""},2000,"",{"$f":"SMALL($E$11:$E$1010,37)","v":455},"Jette S. Olsen",{"$f":"IF('Holdsammensætning  '!B44=\"\",2000,'Holdsammensætning  '!B44)","v":55},{"$f":"IF(I47=\"\",\"\",SMALL($I$11:$I$210,37))","v":455},"Jette S. Olsen",{"$f":"IF('Holdsammensætning  '!E44=\"\",2000,'Holdsammensætning  '!E44)","v":466},{"$f":"IF(L47=\"\",\"\",SMALL($L$11:$L$210,37))","v":455},{"$f":"IF('Indtast Hold og Resultat'!G70=\"\",2000,'Indtast Hold og Resultat'!G70)","v":459},10,{"$f":"IF(N47=\"\",\"\",SMALL($N$11:$N$210,37))","v":455},1,1,1]
[null,{"$f":"Deltagere!B41","v":38},{"$f":"IF(Deltagere!C41=\"\",\"\",Deltagere!C41)","v":""},{"$f":"IF(Deltagere!G41=\"\",\"\",Deltagere!G41)","v":""},2000,"",{"$f":"SMALL($E$11:$E$1010,38)","v":457},"Lisser Kristensen",{"$f":"IF('Holdsammensætning  '!B45=\"\",2000,'Holdsammensætning  '!B45)","v":464},{"$f":"IF(I48=\"\",\"\",SMALL($I$11:$I$210,38))","v":457},"Lisser Kristensen",{"$f":"IF('Holdsammensætning  '!E45=\"\",2000,'Holdsammensætning  '!E45)","v":301},{"$f":"IF(L48=\"\",\"\",SMALL($L$11:$L$210,38))","v":457},{"$f":"IF('Indtast Hold og Resultat'!G71=\"\",2000,'Indtast Hold og Resultat'!G71)","v":481},10,{"$f":"IF(N48=\"\",\"\",SMALL($N$11:$N$210,38))","v":457},1,1,1]
[null,{"$f":"Deltagere!B42","v":39},{"$f":"IF(Deltagere!C42=\"\",\"\",Deltagere!C42)","v":""},{"$f":"IF(Deltagere!G42=\"\",\"\",Deltagere!G42)","v":""},2000,"",{"$f":"SMALL($E$11:$E$1010,39)","v":458},"Jørgen Hansen",{"$f":"IF('Holdsammensætning  '!B46=\"\",2000,'Holdsammensætning  '!B46)","v":486},{"$f":"IF(I49=\"\",\"\",SMALL($I$11:$I$210,39))","v":458},"Jørgen Hansen",{"$f":"IF('Holdsammensætning  '!E46=\"\",2000,'Holdsammensætning  '!E46)","v":480},{"$f":"IF(L49=\"\",\"\",SMALL($L$11:$L$210,39))","v":458},{"$f":"IF('Indtast Hold og Resultat'!G72=\"\",2000,'Indtast Hold og Resultat'!G72)","v":468},10,{"$f":"IF(N49=\"\",\"\",SMALL($N$11:$N$210,39))","v":458},1,1,1]
[null,{"$f":"Deltagere!B43","v":40},{"$f":"IF(Deltagere!C43=\"\",\"\",Deltagere!C43)","v":""},{"$f":"IF(Deltagere!G43=\"\",\"\",Deltagere!G43)","v":""},2000,"",{"$f":"SMALL($E$11:$E$1010,40)","v":459},"Michael Jørgensen",{"$f":"IF('Holdsammensætning  '!B47=\"\",2000,'Holdsammensætning  '!B47)","v":310},{"$f":"IF(I50=\"\",\"\",SMALL($I$11:$I$210,40))","v":459},"Michael Jørgensen",{"$f":"IF('Holdsammensætning  '!E47=\"\",2000,'Holdsammensætning  '!E47)","v":56},{"$f":"IF(L50=\"\",\"\",SMALL($L$11:$L$210,40))","v":459},{"$f":"IF('Indtast Hold og Resultat'!G73=\"\",2000,'Indtast Hold og Resultat'!G73)","v":479},10,{"$f":"IF(N50=\"\",\"\",SMALL($N$11:$N$210,40))","v":459},1,1,1]
[null,{"$f":"Deltagere!B44","v":41},{"$f":"IF(Deltagere!C44=\"\",\"\",Deltagere!C44)","v":""},{"$f":"IF(Deltagere!G44=\"\",\"\",Deltagere!G44)","v":""},2000,"",{"$f":"SMALL($E$11:$E$1010,41)","v":461},"Hanne Hansen",{"$f":"IF('Holdsammensætning  '!B48=\"\",2000,'Holdsammensætning  '!B48)","v":487},{"$f":"IF(I51=\"\",\"\",SMALL($I$11:$I$210,41))","v":461},"Hanne Hansen",{"$f":"IF('Holdsammensætning  '!E48=\"\",2000,'Holdsammensætning  '!E48)","v":468},{"$f":"IF(L51=\"\",\"\",SMALL($L$11:$L$210,41))","v":461},{"$f":"IF('Indtast Hold og Resultat'!G77=\"\",2000,'Indtast Hold og Resultat'!G77)","v":470},11,{"$f":"IF(N51=\"\",\"\",SMALL($N$11:$N$210,41))","v":461},1,1,1]
[null,{"$f":"Deltagere!B45","v":42},{"$f":"IF(Deltagere!C45=\"\",\"\",Deltagere!C45)","v":""},{"$f":"IF(Deltagere!G45=\"\",\"\",Deltagere!G45)","v":""},2000,"",{"$f":"SMALL($E$11:$E$1010,42)","v":463},"Ivan Szumlanski",{"$f":"IF('Holdsammensætning  '!B49=\"\",2000,'Holdsammensætning  '!B49)","v":463},{"$f":"IF(I52=\"\",\"\",SMALL($I$11:$I$210,42))","v":463},"Ivan Szumlanski",{"$f":"IF('Holdsammensætning  '!E49=\"\",2000,'Holdsammensætning  '!E49)","v":303},{"$f":"IF(L52=\"\",\"\",SMALL($L$11:$L$210,42))","v":463},{"$f":"IF('Indtast Hold og Resultat'!G78=\"\",2000,'Indtast Hold og Resultat'!G78)","v":474},11,{"$f":"IF(N52=\"\",\"\",SMALL($N$11:$N$210,42))","v":463},1,1,1]
[null,{"$f":"Deltagere!B46","v":43},{"$f":"IF(Deltagere!C46=\"\",\"\",Deltagere!C46)","v":""},{"$f":"IF(Deltagere!G46=\"\",\"\",Deltagere!G46)","v":""},2000,"",{"$f":"SMALL($E$11:$E$1010,43)","v":464},"Gytha Szumlanski",{"$f":"IF('Holdsammensætning  '!B50=\"\",2000,'Holdsammensætning  '!B50)","v":467},{"$f":"IF(I53=\"\",\"\",SMALL($I$11:$I$210,43))","v":464},"Gytha Szumlanski",{"$f":"IF('Holdsammensætning  '!E50=\"\",2000,'Holdsammensætning  '!E50)","v":474},{"$f":"IF(L53=\"\",\"\",SMALL($L$11:$L$210,43))","v":464},{"$f":"IF('Indtast Hold og Resultat'!G79=\"\",2000,'Indtast Hold og Resultat'!G79)","v":476},11,{"$f":"IF(N53=\"\",\"\",SMALL($N$11:$N$210,43))","v":464},1,1,1]
[null,{"$f":"Deltagere!B47","v":44},{"$f":"IF(Deltagere!C47=\"\",\"\",Deltagere!C47)","v":""},{"$f":"IF(Deltagere!G47=\"\",\"\",Deltagere!G47)","v":""},2000,"",{"$f":"SMALL($E$11:$E$1010,44)","v":466},"Finn Jørgensen",{"$f":"IF('Holdsammensætning  '!B51=\"\",2000,'Holdsammensætning  '!B51)","v":315},{"$f":"IF(I54=\"\",\"\",SMALL($I$11:$I$210,44))","v":466},"Finn Jørgensen",{"$f":"IF('Holdsammensætning  '!E51=\"\",2000,'Holdsammensætning  '!E51)","v":57},{"$f":"IF(L54=\"\",\"\",SMALL($L$11:$L$210,44))","v":466},{"$f":"IF('Indtast Hold og Resultat'!G80=\"\",2000,'Indtast Hold og Resultat'!G80)","v":458},11,{"$f":"IF(N54=\"\",\"\",SMALL($N$11:$N$210,44))","v":466},1,1,1]
[null,{"$f":"Deltagere!B48","v":45},{"$f":"IF(Deltagere!C48=\"\",\"\",Deltagere!C48)","v":""},{"$f":"IF(Deltagere!G48=\"\",\"\",Deltagere!G48)","v":""},2000,"",{"$f":"SMALL($E$11:$E$1010,45)","v":467},"Lena Kirkegaard",{"$f":"IF('Holdsammensætning  '!B52=\"\",2000,'Holdsammensætning  '!B52)","v":61},{"$f":"IF(I55=\"\",\"\",SMALL($I$11:$I$210,45))","v":467},"Lena Kirkegaard",{"$f":"IF('Holdsammensætning  '!E52=\"\",2000,'Holdsammensætning  '!E52)","v":482},{"$f":"IF(L55=\"\",\"\",SMALL($L$11:$L$210,45))","v":467},{"$f":"IF('Indtast Hold og Resultat'!G84=\"\",2000,'Indtast Hold og Resultat'!G84)","v":463},12,{"$f":"IF(N55=\"\",\"\",SMALL($N$11:$N$210,45))","v":467},1,1,1]
[null,{"$f":"Deltagere!B49","v":46},{"$f":"IF(Deltagere!C49=\"\",\"\",Deltagere!C49)","v":""},{"$f":"IF(Deltagere!G49=\"\",\"\",Deltagere!G49)","v":""},2000,"",{"$f":"SMALL($E$11:$E$1010,46)","v":468},"Kjeld Hansen",{"$f":"IF('Holdsammensætning  '!B53=\"\",2000,'Holdsammensætning  '!B53)","v":461},{"$f":"IF(I56=\"\",\"\",SMALL($I$11:$I$210,46))","v":468},"Kjeld Hansen",{"$f":"IF('Holdsammensætning  '!E53=\"\",2000,'Holdsammensætning  '!E53)","v":305},{"$f":"IF(L56=\"\",\"\",SMALL($L$11:$L$210,46))","v":468},{"$f":"IF('Indtast Hold og Resultat'!G85=\"\",2000,'Indtast Hold og Resultat'!G85)","v":478},12,{"$f":"IF(N56=\"\",\"\",SMALL($N$11:$N$210,46))","v":468},1,1,1]
[null,{"$f":"Deltagere!B50","v":47},{"$f":"IF(Deltagere!C50=\"\",\"\",Deltagere!C50)","v":""},{"$f":"IF(Deltagere!G50=\"\",\"\",Deltagere!G50)","v":""},2000,"",{"$f":"SMALL($E$11:$E$1010,47)","v":470},"Ingrid Jensen",{"$f":"IF('Holdsammensætning  '!B54=\"\",2000,'Holdsammensætning  '!B54)","v":488},{"$f":"IF(I57=\"\",\"\",SMALL($I$11:$I$210,47))","v":470},"Ingrid Jensen",{"$f":"IF('Holdsammensætning  '!E54=\"\",2000,'Holdsammensætning  '!E54)","v":472},{"$f":"IF(L57=\"\",\"\",SMALL($L$11:$L$210,47))","v":470},{"$f":"IF('Indtast Hold og Resultat'!G86=\"\",2000,'Indtast Hold og Resultat'!G86)","v":466},12,{"$f":"IF(N57=\"\",\"\",SMALL($N$11:$N$210,47))","v":470},1,1,1]
[null,{"$f":"Deltagere!B51","v":48},{"$f":"IF(Deltagere!C51=\"\",\"\",Deltagere!C51)","v":""},{"$f":"IF(Deltagere!G51=\"\",\"\",Deltagere!G51)","v":""},2000,"",{"$f":"SMALL($E$11:$E$1010,48)","v":472},"Allan Pedersen",{"$f":"IF('Holdsammensætning  '!B55=\"\",2000,'Holdsammensætning  '!B55)","v":612},{"$f":"IF(I58=\"\",\"\",SMALL($I$11:$I$210,48))","v":472},"Allan Pedersen",{"$f":"IF('Holdsammensætning  '!E55=\"\",2000,'Holdsammensætning  '!E55)","v":60},{"$f":"IF(L58=\"\",\"\",SMALL($L$11:$L$210,48))","v":472},{"$f":"IF('Indtast Hold og Resultat'!G87=\"\",2000,'Indtast Hold og Resultat'!G87)","v":498},12,{"$f":"IF(N58=\"\",\"\",SMALL($N$11:$N$210,48))","v":472},1,1,1]
[null,{"$f":"Deltagere!B52","v":49},{"$f":"IF(Deltagere!C52=\"\",\"\",Deltagere!C52)","v":""},{"$f":"IF(Deltagere!G52=\"\",\"\",Deltagere!G52)","v":""},2000,"",{"$f":"SMALL($E$11:$E$1010,49)","v":474},"Liselotte Storgaard",{"$f":"IF('Holdsammensætning  '!B56=\"\",2000,'Holdsammensætning  '!B56)","v":63},{"$f":"IF(I59=\"\",\"\",SMALL($I$11:$I$210,49))","v":474},"Liselotte Storgaard",{"$f":"IF('Holdsammensætning  '!E56=\"\",2000,'Holdsammensætning  '!E56)","v":470},{"$f":"IF(L59=\"\",\"\",SMALL($L$11:$L$210,49))","v":474},{"$f":"IF('Indtast Hold og Resultat'!G91=\"\",2000,'Indtast Hold og Resultat'!G91)","v":457},13,{"$f":"IF(N59=\"\",\"\",SMALL($N$11:$N$210,49))","v":474},1,1,1]
[null,{"$f":"Deltagere!B53","v":50},{"$f":"IF(Deltagere!C53=\"\",\"\",Deltagere!C53)","v":""},{"$f":"IF(Deltagere!G53=\"\",\"\",Deltagere!G53)","v":""},2000,"",{"$f":"SMALL($E$11:$E$1010,50)","v":476},"Christian Blid",{"$f":"IF('Holdsammensætning  '!B57=\"\",2000,'Holdsammensætning  '!B57)","v":459},{"$f":"IF(I60=\"\",\"\",SMALL($I$11:$I$210,50))","v":476},"Christian Blid",{"$f":"IF('Holdsammensætning  '!E57=\"\",2000,'Holdsammensætning  '!E57)","v":316},{"$f":"IF(L60=\"\",\"\",SMALL($L$11:$L$210,50))","v":476},{"$f":"IF('Indtast Hold og Resultat'!G92=\"\",2000,'Indtast Hold og Resultat'!G92)","v":495},13,{"$f":"IF(N60=\"\",\"\",SMALL($N$11:$N$210,50))","v":476},1,1,1]
[null,{"$f":"Deltagere!B54","v":51},{"$f":"IF(Deltagere!C54=\"\",\"\",Deltagere!C54)","v":"Tage Jensen"},{"$f":"IF(Deltagere!G54=\"\",\"\",Deltagere!G54)","v":"x"},51,1,{"$f":"SMALL($E$11:$E$1010,51)","v":477},"Inge Sørensen",{"$f":"IF('Holdsammensætning  '!B58=\"\",2000,'Holdsammensætning  '!B58)","v":494},{"$f":"IF(I61=\"\",\"\",SMALL($I$11:$I$210,51))","v":477},"Inge Sørensen",{"$f":"IF('Holdsammensætning  '!E58=\"\",2000,'Holdsammensætning  '!E58)","v":467},{"$f":"IF(L61=\"\",\"\",SMALL($L$11:$L$210,51))","v":477},{"$f":"IF('Indtast Hold og Resultat'!G93=\"\",2000,'Indtast Hold og Resultat'!G93)","v":488},13,{"$f":"IF(N61=\"\",\"\",SMALL($N$11:$N$210,51))","v":477},1,1,1]
[null,{"$f":"Deltagere!B55","v":52},{"$f":"IF(Deltagere!C55=\"\",\"\",Deltagere!C55)","v":"Bodil Olsen"},{"$f":"IF(Deltagere!G55=\"\",\"\",Deltagere!G55)","v":""},2000,"",{"$f":"SMALL($E$11:$E$1010,52)","v":478},"Allan Larsen",{"$f":"IF('Holdsammensætning  '!B59=\"\",2000,'Holdsammensætning  '!B59)","v":318},{"$f":"IF(I62=\"\",\"\",SMALL($I$11:$I$210,52))","v":478},"Allan Larsen",{"$f":"IF('Holdsammensætning  '!E59=\"\",2000,'Holdsammensætning  '!E59)","v":77},{"$f":"IF(L62=\"\",\"\",SMALL($L$11:$L$210,52))","v":478},{"$f":"IF('Indtast Hold og Resultat'!G94=\"\",2000,'Indtast Hold og Resultat'!G94)","v":464},13,{"$f":"IF(N62=\"\",\"\",SMALL($N$11:$N$210,52))","v":478},1,1,1]
[null,{"$f":"Deltagere!B56","v":53},{"$f":"IF(Deltagere!C56=\"\",\"\",Deltagere!C56)","v":"Edith Elkjær"},{"$f":"IF(Deltagere!G56=\"\",\"\",Deltagere!G56)","v":""},2000,"",{"$f":"SMALL($E$11:$E$1010,53)","v":479},"Bjørn Krogh",{"$f":"IF('Holdsammensætning  '!B60=\"\",2000,'Holdsammensætning  '!B60)","v":65},{"$f":"IF(I63=\"\",\"\",SMALL($I$11:$I$210,53))","v":479},"Bjørn Krogh",{"$f":"IF('Holdsammensætning  '!E60=\"\",2000,'Holdsammensætning  '!E60)","v":476},{"$f":"IF(L63=\"\",\"\",SMALL($L$11:$L$210,53))","v":479},{"$f":"IF('Indtast Hold og Resultat'!G98=\"\",2000,'Indtast Hold og Resultat'!G98)","v":452},14,{"$f":"IF(N63=\"\",\"\",SMALL($N$11:$N$210,53))","v":479},1,1,1]
[null,{"$f":"Deltagere!B57","v":54},{"$f":"IF(Deltagere!C57=\"\",\"\",Deltagere!C57)","v":"Søren Helbo"},{"$f":"IF(Deltagere!G57=\"\",\"\",Deltagere!G57)","v":"x"},54,1,{"$f":"SMALL($E$11:$E$1010,54)","v":480},"Lissi Lindberg",{"$f":"IF('Holdsammensætning  '!B61=\"\",2000,'Holdsammensætning  '!B61)","v":458},{"$f":"IF(I64=\"\",\"\",SMALL($I$11:$I$210,54))","v":480},"Lissi Lindberg",{"$f":"IF('Holdsammensætning  '!E61=\"\",2000,'Holdsammensætning  '!E61)","v":327},{"$f":"IF(L64=\"\",\"\",SMALL($L$11:$L$210,54))","v":480},{"$f":"IF('Indtast Hold og Resultat'!G99=\"\",2000,'Indtast Hold og Resultat'!G99)","v":455},14,{"$f":"IF(N64=\"\",\"\",SMALL($N$11:$N$210,54))","v":480},1,1,1]
[null,{"$f":"Deltagere!B58","v":55},{"$f":"IF(Deltagere!C58=\"\",\"\",Deltagere!C58)","v":"Peter Knudsen"},{"$f":"IF(Deltagere!G58=\"\",\"\",Deltagere!G58)","v":"x"},55,1,{"$f":"SMALL($E$11:$E$1010,55)","v":481},"Alice Rask",{"$f":"IF('Holdsammensætning  '!B62=\"\",2000,'Holdsammensætning  '!B62)","v":495},{"$f":"IF(I65=\"\",\"\",SMALL($I$11:$I$210,55))","v":481},"Alice Rask",{"$f":"IF('Holdsammensætning  '!E62=\"\",2000,'Holdsammensætning  '!E62)","v":454},{"$f":"IF(L65=\"\",\"\",SMALL($L$11:$L$210,55))","v":481},{"$f":"IF('Indtast Hold og Resultat'!G100=\"\",2000,'Indtast Hold og Resultat'!G100)","v":485},14,{"$f":"IF(N65=\"\",\"\",SMALL($N$11:$N$210,55))","v":481},1,1,1]
[null,{"$f":"Deltagere!B59","v":56},{"$f":"IF(Deltagere!C59=\"\",\"\",Deltagere!C59)","v":"Mogens Bodilsen"},{"$f":"IF(Deltagere!G59=\"\",\"\",Deltagere!G59)","v":"x"},56,1,{"$f":"SMALL($E$11:$E$1010,56)","v":482},"Jim Jørgensen",{"$f":"IF('Holdsammensætning  '!B63=\"\",2000,'Holdsammensætning  '!B63)","v":610},{"$f":"IF(I66=\"\",\"\",SMALL($I$11:$I$210,56))","v":482},"Jim Jørgensen",{"$f":"IF('Holdsammensætning  '!E63=\"\",2000,'Holdsammensætning  '!E63)","v":602},{"$f":"IF(L66=\"\",\"\",SMALL($L$11:$L$210,56))","v":482},{"$f":"IF('Indtast Hold og Resultat'!G101=\"\",2000,'Indtast Hold og Resultat'!G101)","v":487},14,{"$f":"IF(N66=\"\",\"\",SMALL($N$11:$N$210,56))","v":482},1,1,1]
[null,{"$f":"Deltagere!B60","v":57},{"$f":"IF(Deltagere!C60=\"\",\"\",Deltagere!C60)","v":"Niels Aare Jensen"},{"$f":"IF(Deltagere!G60=\"\",\"\",Deltagere!G60)","v":"x"},57,1,{"$f":"SMALL($E$11:$E$1010,57)","v":483},"Lone S. Nielsen",{"$f":"IF('Holdsammensætning  '!B64=\"\",2000,'Holdsammensætning  '!B64)","v":74},{"$f":"IF(I67=\"\",\"\",SMALL($I$11:$I$210,57))","v":483},"Lone S. Nielsen",{"$f":"IF('Holdsammensætning  '!E64=\"\",2000,'Holdsammensætning  '!E64)","v":477},{"$f":"IF(L67=\"\",\"\",SMALL($L$11:$L$210,57))","v":483},{"$f":"IF('Indtast Hold og Resultat'!G105=\"\",2000,'Indtast Hold og Resultat'!G105)","v":494},15,{"$f":"IF(N67=\"\",\"\",SMALL($N$11:$N$210,57))","v":483},1,1,1]
[null,{"$f":"Deltagere!B61","v":58},{"$f":"IF(Deltagere!C61=\"\",\"\",Deltagere!C61)","v":"Alis Bodilsen"},{"$f":"IF(Deltagere!G61=\"\",\"\",Deltagere!G61)","v":""},2000,"",{"$f":"SMALL($E$11:$E$1010,58)","v":484},"Majbritt Nielsen",{"$f":"IF('Holdsammensætning  '!B65=\"\",2000,'Holdsammensætning  '!B65)","v":322},{"$f":"IF(I68=\"\",\"\",SMALL($I$11:$I$210,58))","v":484},"Majbritt Nielsen",{"$f":"IF('Holdsammensætning  '!E65=\"\",2000,'Holdsammensætning  '!E65)","v":328},{"$f":"IF(L68=\"\",\"\",SMALL($L$11:$L$210,58))","v":484},{"$f":"IF('Indtast Hold og Resultat'!G106=\"\",2000,'Indtast Hold og Resultat'!G106)","v":454},15,{"$f":"IF(N68=\"\",\"\",SMALL($N$11:$N$210,58))","v":484},1,1,1]
[null,{"$f":"Deltagere!B62","v":59},{"$f":"IF(Deltagere!C62=\"\",\"\",Deltagere!C62)","v":"Carin Andersen"},{"$f":"IF(Deltagere!G62=\"\",\"\",Deltagere!G62)","v":""},2000,"",{"$f":"SMALL($E$11:$E$1010,59)","v":485},"Ole Nilaus Nielsen",{"$f":"IF('Holdsammensætning  '!B66=\"\",2000,'Holdsammensætning  '!B66)","v":498},{"$f":"IF(I69=\"\",\"\",SMALL($I$11:$I$210,59))","v":485},"Ole Nilaus Nielsen",{"$f":"IF('Holdsammensætning  '!E66=\"\",2000,'Holdsammensætning  '!E66)","v":451},{"$f":"IF(L69=\"\",\"\",SMALL($L$11:$L$210,59))","v":485},{"$f":"IF('Indtast Hold og Resultat'!G107=\"\",2000,'Indtast Hold og Resultat'!G107)","v":480},15,{"$f":"IF(N69=\"\",\"\",SMALL($N$11:$N$210,59))","v":485},1,1,1]
[null,{"$f":"Deltagere!B63","v":60},{"$f":"IF(Deltagere!C63=\"\",\"\",Deltagere!C63)","v":"Anna Grethe Christensen"},{"$f":"IF(Deltagere!G63=\"\",\"\",Deltagere!G63)","v":"x"},60,1,{"$f":"SMALL($E$11:$E$1010,60)","v":486},"Benthe Dahl",{"$f":"IF('Holdsammensætning  '!B67=\"\",2000,'Holdsammensætning  '!B67)","v":2000},{"$f":"IF(I70=\"\",\"\",SMALL($I$11:$I$210,60))","v":486},"Benthe Dahl",{"$f":"IF('Holdsammensætning  '!E67=\"\",2000,'Holdsammensætning  '!E67)","v":608},{"$f":"IF(L70=\"\",\"\",SMALL($L$11:$L$210,60))","v":486},{"$f":"IF('Indtast Hold og Resultat'!G108=\"\",2000,'Indtast Hold og Resultat'!G108)","v":483},15,{"$f":"IF(N70=\"\",\"\",SMALL($N$11:$N$210,60))","v":486},1,1,1]
[null,{"$f":"Deltagere!B64","v":61},{"$f":"IF(Deltagere!C64=\"\",\"\",Deltagere!C64)","v":"Annie Jensen"},{"$f":"IF(Deltagere!G64=\"\",\"\",Deltagere!G64)","v":"x"},61,1,{"$f":"SMALL($E$11:$E$1010,61)","v":487},"Susanne Blok",{"$f":"IF('Holdsammensætning  '!B68=\"\",2000,'Holdsammensætning  '!B68)","v":484},{"$f":"IF(I71=\"\",\"\",SMALL($I$11:$I$210,61))","v":487},"Susanne Blok",{"$f":"IF('Holdsammensætning  '!E68=\"\",2000,'Holdsammensætning  '!E68)","v":478},{"$f":"IF(L71=\"\",\"\",SMALL($L$11:$L$210,61))","v":487},{"$f":"IF('Indtast Hold og Resultat'!G112=\"\",2000,'Indtast Hold og Resultat'!G112)","v":477},16,{"$f":"IF(N71=\"\",\"\",SMALL($N$11:$N$210,61))","v":487},1,1,1]
[null,{"$f":"Deltagere!B65","v":62},{"$f":"IF(Deltagere!C65=\"\",\"\",Deltagere!C65)","v":"Jørgen Hvilsom"},{"$f":"IF(Deltagere!G65=\"\",\"\",Deltagere!G65)","v":"x"},62,1,{"$f":"SMALL($E$11:$E$1010,62)","v":488},"Vibeke Jørgensen",{"$f":"IF('Holdsammensætning  '!B69=\"\",2000,'Holdsammensætning  '!B69)","v":455},{"$f":"IF(I72=\"\",\"\",SMALL($I$11:$I$210,62))","v":488},"Vibeke Jørgensen",{"$f":"IF('Holdsammensætning  '!E69=\"\",2000,'Holdsammensætning  '!E69)","v":601},{"$f":"IF(L72=\"\",\"\",SMALL($L$11:$L$210,62))","v":488},{"$f":"IF('Indtast Hold og Resultat'!G113=\"\",2000,'Indtast Hold og Resultat'!G113)","v":467},16,{"$f":"IF(N72=\"\",\"\",SMALL($N$11:$N$210,62))","v":488},1,1,1]
[null,{"$f":"Deltagere!B66","v":63},{"$f":"IF(Deltagere!C66=\"\",\"\",Deltagere!C66)","v":"Lennert Sørensen"},{"$f":"IF(Deltagere!G66=\"\",\"\",Deltagere!G66)","v":"x"},63,1,{"$f":"SMALL($E$11:$E$1010,63)","v":494},"Ida Olsen",{"$f":"IF('Holdsammensætning  '!B70=\"\",2000,'Holdsammensætning  '!B70)","v":601},{"$f":"IF(I73=\"\",\"\",SMALL($I$11:$I$210,63))","v":494},"Ida Olsen",{"$f":"IF('Holdsammensætning  '!E70=\"\",2000,'Holdsammensætning  '!E70)","v":457},{"$f":"IF(L73=\"\",\"\",SMALL($L$11:$L$210,63))","v":494},{"$f":"IF('Indtast Hold og Resultat'!G114=\"\",2000,'Indtast Hold og Resultat'!G114)","v":484},16,{"$f":"IF(N73=\"\",\"\",SMALL($N$11:$N$210,63))","v":494},1,1,1]
[null,{"$f":"Deltagere!B67","v":64},{"$f":"IF(Deltagere!C67=\"\",\"\",Deltagere!C67)","v":"Villy Jensen"},{"$f":"IF(Deltagere!G67=\"\",\"\",Deltagere!G67)","v":"x"},64,1,{"$f":"SMALL($E$11:$E$1010,64)","v":495},"Ole Christensen",{"$f":"IF('Holdsammensætning  '!B71=\"\",2000,'Holdsammensætning  '!B71)","v":320},{"$f":"IF(I74=\"\",\"\",SMALL($I$11:$I$210,64))","v":495},"Ole Christensen",{"$f":"IF('Holdsammensætning  '!E71=\"\",2000,'Holdsammensætning  '!E71)","v":76},{"$f":"IF(L74=\"\",\"\",SMALL($L$11:$L$210,64))","v":495},{"$f":"IF('Indtast Hold og Resultat'!G115=\"\",2000,'Indtast Hold og Resultat'!G115)","v":486},16,{"$f":"IF(N74=\"\",\"\",SMALL($N$11:$N$210,64))","v":495},1,1,1]
[null,{"$f":"Deltagere!B68","v":65},{"$f":"IF(Deltagere!C68=\"\",\"\",Deltagere!C68)","v":"Anne Marie Laustsen"},{"$f":"IF(Deltagere!G68=\"\",\"\",Deltagere!G68)","v":"x"},65,1,{"$f":"SMALL($E$11:$E$1010,65)","v":498},"Peter Christensen",{"$f":"IF('Holdsammensætning  '!B72=\"\",2000,'Holdsammensætning  '!B72)","v":75},{"$f":"IF(I75=\"\",\"\",SMALL($I$11:$I$210,65))","v":498},"Peter Christensen",{"$f":"IF('Holdsammensætning  '!E72=\"\",2000,'Holdsammensætning  '!E72)","v":479},{"$f":"IF(L75=\"\",\"\",SMALL($L$11:$L$210,65))","v":498},{"$f":"IF('Indtast Hold og Resultat'!G119=\"\",2000,'Indtast Hold og Resultat'!G119)","v":451},17,{"$f":"IF(N75=\"\",\"\",SMALL($N$11:$N$210,65))","v":498},1,1,1]
[null,{"$f":"Deltagere!B69","v":66},{"$f":"IF(Deltagere!C69=\"\",\"\",Deltagere!C69)","v":"Egon Jensen"},{"$f":"IF(Deltagere!G69=\"\",\"\",Deltagere!G69)","v":""},{"$f":"IF(D76=\"x\",B76,2000)","v":2000},{"$f":"IF(E76=2000,\"\",1)","v":""},{"$f":"SMALL($E$11:$E$1010,66)","v":601},{"$f":"IF(G76=2000,\"\",VLOOKUP(G76,$B$11:$C$1010,2,FALSE))","v":"Anders Jørgensen"},{"$f":"IF('Holdsammensætning  '!B73=\"\",2000,'Holdsammensætning  '!B73)","v":453},{"$f":"IF(I76=\"\",\"\",SMALL($I$11:$I$210,66))","v":601},{"$f":"IF(J76=2000,\"\",VLOOKUP(J76,$B$11:$C$1010,2,FALSE))","v":"Anders Jørgensen"},{"$f":"IF('Holdsammensætning  '!E73=\"\",2000,'Holdsammensætning  '!E73)","v":302},{"$f":"IF(L76=\"\",\"\",SMALL($L$11:$L$210,66))","v":601},{"$f":"IF('Indtast Hold og Resultat'!G120=\"\",2000,'Indtast Hold og Resultat'!G120)","v":610},17,{"$f":"IF(N76=\"\",\"\",SMALL($N$11:$N$210,66))","v":601},1,{"$f":"IF(M76=2000,\"\",IF(G76=M76,1,2))","v":1},1]
[null,{"$f":"Deltagere!B70","v":67},{"$f":"IF(Deltagere!C70=\"\",\"\",Deltagere!C70)","v":""},{"$f":"IF(Deltagere!G70=\"\",\"\",Deltagere!G70)","v":""},2000,"",{"$f":"SMALL($E$11:$E$1010,67)","v":602},"Kian Andersen",{"$f":"IF('Holdsammensætning  '!B74=\"\",2000,'Holdsammensætning  '!B74)","v":317},{"$f":"IF(I77=\"\",\"\",SMALL($I$11:$I$210,67))","v":602},"Kian Andersen",{"$f":"IF('Holdsammensætning  '!E74=\"\",2000,'Holdsammensætning  '!E74)","v":73},{"$f":"IF(L77=\"\",\"\",SMALL($L$11:$L$210,67))","v":602},{"$f":"IF('Indtast Hold og Resultat'!G121=\"\",2000,'Indtast Hold og Resultat'!G121)","v":2000},17,{"$f":"IF(N77=\"\",\"\",SMALL($N$11:$N$210,67))","v":602},{"$f":"IF(J77=2000,\"\",IF(G77=J77,1,2))","v":1},1,{"$f":"IF(P77=2000,\"\",IF(P77=G77,1,2))","v":1}]
[null,{"$f":"Deltagere!B71","v":68},{"$f":"IF(Deltagere!C71=\"\",\"\",Deltagere!C71)","v":""},{"$f":"IF(Deltagere!G71=\"\",\"\",Deltagere!G71)","v":""},2000,"",{"$f":"SMALL($E$11:$E$1010,68)","v":608},"Søren Skourup",{"$f":"IF('Holdsammensætning  '!B75=\"\",2000,'Holdsammensætning  '!B75)","v":2000},{"$f":"IF(I78=\"\",\"\",SMALL($I$11:$I$210,68))","v":608},"Søren Skourup",{"$f":"IF('Holdsammensætning  '!E75=\"\",2000,'Holdsammensætning  '!E75)","v":612},{"$f":"IF(L78=\"\",\"\",SMALL($L$11:$L$210,68))","v":608},{"$f":"IF('Indtast Hold og Resultat'!G122=\"\",2000,'Indtast Hold og Resultat'!G122)","v":2000},17,{"$f":"IF(N78=\"\",\"\",SMALL($N$11:$N$210,68))","v":608},1,1,1]
[null,{"$f":"Deltagere!B72","v":69},{"$f":"IF(Deltagere!C72=\"\",\"\",Deltagere!C72)","v":"Poul Andersen"},{"$f":"IF(Deltagere!G72=\"\",\"\",Deltagere!G72)","v":""},2000,"",{"$f":"SMALL($E$11:$E$1010,69)","v":610},"Sarah Christiansen",{"$f":"IF('Holdsammensætning  '!B76=\"\",2000,'Holdsammensætning  '!B76)","v":483},{"$f":"IF(I79=\"\",\"\",SMALL($I$11:$I$210,69))","v":610},"Sarah Christiansen",{"$f":"IF('Holdsammensætning  '!E76=\"\",2000,'Holdsammensætning  '!E76)","v":481},{"$f":"IF(L79=\"\",\"\",SMALL($L$11:$L$210,69))","v":610},{"$f":"IF('Indtast Hold og Resultat'!G126=\"\",2000,'Indtast Hold og Resultat'!G126)","v":601},18,{"$f":"IF(N79=\"\",\"\",SMALL($N$11:$N$210,69))","v":610},1,1,1]
[null,{"$f":"Deltagere!B73","v":70},{"$f":"IF(Deltagere!C73=\"\",\"\",Deltagere!C73)","v":""},{"$f":"IF(Deltagere!G73=\"\",\"\",Deltagere!G73)","v":""},2000,"",{"$f":"SMALL($E$11:$E$1010,70)","v":612},"Adam Kristoffersen",{"$f":"IF('Holdsammensætning  '!B77=\"\",2000,'Holdsammensætning  '!B77)","v":452},{"$f":"IF(I80=\"\",\"\",SMALL($I$11:$I$210,70))","v":612},"Adam Kristoffersen",{"$f":"IF('Holdsammensætning  '!E77=\"\",2000,'Holdsammensætning  '!E77)","v":308},{"$f":"IF(L80=\"\",\"\",SMALL($L$11:$L$210,70))","v":612},{"$f":"IF('Indtast Hold og Resultat'!G127=\"\",2000,'Indtast Hold og Resultat'!G127)","v":602},18,{"$f":"IF(N80=\"\",\"\",SMALL($N$11:$N$210,70))","v":612},1,1,1]
[null,{"$f":"Deltagere!B74","v":71},{"$f":"IF(Deltagere!C74=\"\",\"\",Deltagere!C74)","v":""},{"$f":"IF(Deltagere!G74=\"\",\"\",Deltagere!G74)","v":""},2000,"",{"$f":"SMALL($E$11:$E$1010,71)","v":2000},"",{"$f":"IF('Holdsammensætning  '!B78=\"\",2000,'Holdsammensætning  '!B78)","v":602},{"$f":"IF(I81=\"\",\"\",SMALL($I$11:$I$210,71))","v":2000},"",{"$f":"IF('Holdsammensætning  '!E78=\"\",2000,'Holdsammensætning  '!E78)","v":610},{"$f":"IF(L81=\"\",\"\",SMALL($L$11:$L$210,71))","v":2000},{"$f":"IF('Indtast Hold og Resultat'!G128=\"\",2000,'Indtast Hold og Resultat'!G128)","v":612},18,{"$f":"IF(N81=\"\",\"\",SMALL($N$11:$N$210,71))","v":2000},"","",""]
[null,{"$f":"Deltagere!B75","v":72},{"$f":"IF(Deltagere!C75=\"\",\"\",Deltagere!C75)","v":""},{"$f":"IF(Deltagere!G75=\"\",\"\",Deltagere!G75)","v":""},2000,"",{"$f":"SMALL($E$11:$E$1010,72)","v":2000},"",{"$f":"IF('Holdsammensætning  '!B79=\"\",2000,'Holdsammensætning  '!B79)","v":311},{"$f":"IF(I82=\"\",\"\",SMALL($I$11:$I$210,72))","v":2000},"",{"$f":"IF('Holdsammensætning  '!E79=\"\",2000,'Holdsammensætning  '!E79)","v":498},{"$f":"IF(L82=\"\",\"\",SMALL($L$11:$L$210,72))","v":2000},{"$f":"IF('Indtast Hold og Resultat'!G129=\"\",2000,'Indtast Hold og Resultat'!G129)","v":608},18,{"$f":"IF(N82=\"\",\"\",SMALL($N$11:$N$210,72))","v":2000},"","",""]
[null,{"$f":"Deltagere!B76","v":73},{"$f":"IF(Deltagere!C76=\"\",\"\",Deltagere!C76)","v":"Petra Knudsen"},{"$f":"IF(Deltagere!G76=\"\",\"\",Deltagere!G76)","v":"x"},73,1]
[null,{"$f":"Deltagere!B77","v":74},{"$f":"IF(Deltagere!C77=\"\",\"\",Deltagere!C77)","v":"Lise Qvist Bebe"},{"$f":"IF(Deltagere!G77=\"\",\"\",Deltagere!G77)","v":"x"},74,1]
[null,{"$f":"Deltagere!B78","v":75},{"$f":"IF(Deltagere!C78=\"\",\"\",Deltagere!C78)","v":"Peter Aare"},{"$f":"IF(Deltagere!G78=\"\",\"\",Deltagere!G78)","v":"x"},75,1]
[null,{"$f":"Deltagere!B79","v":76},{"$f":"IF(Deltagere!C79=\"\",\"\",Deltagere!C79)","v":"Connie Bregnvig"},{"$f":"IF(Deltagere!G79=\"\",\"\",Deltagere!G79)","v":"x"},76,1]
[null,{"$f":"Deltagere!B80","v":77},{"$f":"IF(Deltagere!C80=\"\",\"\",Deltagere!C80)","v":"Preben Ludore"},{"$f":"IF(Deltagere!G80=\"\",\"\",Deltagere!G80)","v":"x"},77,1]
[null,{"$f":"Deltagere!B81","v":78},{"$f":"IF(Deltagere!C81=\"\",\"\",Deltagere!C81)","v":""},{"$f":"IF(Deltagere!G81=\"\",\"\",Deltagere!G81)","v":""},2000,""]
[null,{"$f":"Deltagere!B82","v":79},{"$f":"IF(Deltagere!C82=\"\",\"\",Deltagere!C82)","v":""},{"$f":"IF(Deltagere!G82=\"\",\"\",Deltagere!G82)","v":""},2000,""]
[null,{"$f":"Deltagere!B83","v":80},{"$f":"IF(Deltagere!C83=\"\",\"\",Deltagere!C83)","v":""},{"$f":"IF(Deltagere!G83=\"\",\"\",Deltagere!G83)","v":""},2000,""]
[null,{"$f":"Deltagere!B84","v":81},{"$f":"IF(Deltagere!C84=\"\",\"\",Deltagere!C84)","v":""},{"$f":"IF(Deltagere!G84=\"\",\"\",Deltagere!G84)","v":""},2000,""]
[null,{"$f":"Deltagere!B85","v":82},{"$f":"IF(Deltagere!C85=\"\",\"\",Deltagere!C85)","v":""},{"$f":"IF(Deltagere!G85=\"\",\"\",Deltagere!G85)","v":""},2000,""]
[null,{"$f":"Deltagere!B86","v":83},{"$f":"IF(Deltagere!C86=\"\",\"\",Deltagere!C86)","v":""},{"$f":"IF(Deltagere!G86=\"\",\"\",Deltagere!G86)","v":""},2000,""]
[null,{"$f":"Deltagere!B87","v":84},{"$f":"IF(Deltagere!C87=\"\",\"\",Deltagere!C87)","v":""},{"$f":"IF(Deltagere!G87=\"\",\"\",Deltagere!G87)","v":""},2000,""]
[null,{"$f":"Deltagere!B88","v":85},{"$f":"IF(Deltagere!C88=\"\",\"\",Deltagere!C88)","v":""},{"$f":"IF(Deltagere!G88=\"\",\"\",Deltagere!G88)","v":""},2000,""]
[null,{"$f":"Deltagere!B89","v":86},{"$f":"IF(Deltagere!C89=\"\",\"\",Deltagere!C89)","v":""},{"$f":"IF(Deltagere!G89=\"\",\"\",Deltagere!G89)","v":""},2000,""]
[null,{"$f":"Deltagere!B90","v":87},{"$f":"IF(Deltagere!C90=\"\",\"\",Deltagere!C90)","v":""},{"$f":"IF(Deltagere!G90=\"\",\"\",Deltagere!G90)","v":""},2000,""]
[null,{"$f":"Deltagere!B91","v":88},{"$f":"IF(Deltagere!C91=\"\",\"\",Deltagere!C91)","v":""},{"$f":"IF(Deltagere!G91=\"\",\"\",Deltagere!G91)","v":""},2000,""]
[null,{"$f":"Deltagere!B92","v":89},{"$f":"IF(Deltagere!C92=\"\",\"\",Deltagere!C92)","v":""},{"$f":"IF(Deltagere!G92=\"\",\"\",Deltagere!G92)","v":""},2000,""]
[null,{"$f":"Deltagere!B93","v":90},{"$f":"IF(Deltagere!C93=\"\",\"\",Deltagere!C93)","v":""},{"$f":"IF(Deltagere!G93=\"\",\"\",Deltagere!G93)","v":""},2000,""]
[null,{"$f":"Deltagere!B94","v":91},{"$f":"IF(Deltagere!C94=\"\",\"\",Deltagere!C94)","v":""},{"$f":"IF(Deltagere!G94=\"\",\"\",Deltagere!G94)","v":""},2000,""]
[null,{"$f":"Deltagere!B95","v":92},{"$f":"IF(Deltagere!C95=\"\",\"\",Deltagere!C95)","v":""},{"$f":"IF(Deltagere!G95=\"\",\"\",Deltagere!G95)","v":""},2000,""]
[null,{"$f":"Deltagere!B96","v":93},{"$f":"IF(Deltagere!C96=\"\",\"\",Deltagere!C96)","v":""},{"$f":"IF(Deltagere!G96=\"\",\"\",Deltagere!G96)","v":""},2000,""]
[null,{"$f":"Deltagere!B97","v":94},{"$f":"IF(Deltagere!C97=\"\",\"\",Deltagere!C97)","v":""},{"$f":"IF(Deltagere!G97=\"\",\"\",Deltagere!G97)","v":""},2000,""]
[null,{"$f":"Deltagere!B98","v":95},{"$f":"IF(Deltagere!C98=\"\",\"\",Deltagere!C98)","v":""},{"$f":"IF(Deltagere!G98=\"\",\"\",Deltagere!G98)","v":""},2000,""]
[null,{"$f":"Deltagere!B99","v":96},{"$f":"IF(Deltagere!C99=\"\",\"\",Deltagere!C99)","v":""},{"$f":"IF(Deltagere!G99=\"\",\"\",Deltagere!G99)","v":""},2000,""]
[null,{"$f":"Deltagere!B100","v":97},{"$f":"IF(Deltagere!C100=\"\",\"\",Deltagere!C100)","v":""},{"$f":"IF(Deltagere!G100=\"\",\"\",Deltagere!G100)","v":""},2000,""]
[null,{"$f":"Deltagere!B101","v":98},{"$f":"IF(Deltagere!C101=\"\",\"\",Deltagere!C101)","v":""},{"$f":"IF(Deltagere!G101=\"\",\"\",Deltagere!G101)","v":""},2000,""]
[null,{"$f":"Deltagere!B102","v":99},{"$f":"IF(Deltagere!C102=\"\",\"\",Deltagere!C102)","v":""},{"$f":"IF(Deltagere!G102=\"\",\"\",Deltagere!G102)","v":""},2000,""]
[null,{"$f":"Deltagere!B103","v":100},{"$f":"IF(Deltagere!C103=\"\",\"\",Deltagere!C103)","v":""},{"$f":"IF(Deltagere!G103=\"\",\"\",Deltagere!G103)","v":""},2000,""]
[null,{"$f":"Deltagere!B104","v":101},{"$f":"IF(Deltagere!C104=\"\",\"\",Deltagere!C104)","v":""},{"$f":"IF(Deltagere!G104=\"\",\"\",Deltagere!G104)","v":""},2000,""]
[null,{"$f":"Deltagere!B105","v":102},{"$f":"IF(Deltagere!C105=\"\",\"\",Deltagere!C105)","v":"Niels Frederiksen"},{"$f":"IF(Deltagere!G105=\"\",\"\",Deltagere!G105)","v":""},2000,""]
[null,{"$f":"Deltagere!B106","v":103},{"$f":"IF(Deltagere!C106=\"\",\"\",Deltagere!C106)","v":"Peter Rohleder"},{"$f":"IF(Deltagere!G106=\"\",\"\",Deltagere!G106)","v":""},2000,""]
[null,{"$f":"Deltagere!B107","v":104},{"$f":"IF(Deltagere!C107=\"\",\"\",Deltagere!C107)","v":"Linda Christiansen"},{"$f":"IF(Deltagere!G107=\"\",\"\",Deltagere!G107)","v":""},2000,""]
[null,{"$f":"Deltagere!B108","v":105},{"$f":"IF(Deltagere!C108=\"\",\"\",Deltagere!C108)","v":"Jørgen Ramskov"},{"$f":"IF(Deltagere!G108=\"\",\"\",Deltagere!G108)","v":""},2000,""]
[null,{"$f":"Deltagere!B109","v":106},{"$f":"IF(Deltagere!C109=\"\",\"\",Deltagere!C109)","v":"Morten Mortensen"},{"$f":"IF(Deltagere!G109=\"\",\"\",Deltagere!G109)","v":""},2000,""]
[null,{"$f":"Deltagere!B110","v":107},{"$f":"IF(Deltagere!C110=\"\",\"\",Deltagere!C110)","v":"Kjeld Hjorth"},{"$f":"IF(Deltagere!G110=\"\",\"\",Deltagere!G110)","v":""},2000,""]
[null,{"$f":"Deltagere!B111","v":108},{"$f":"IF(Deltagere!C111=\"\",\"\",Deltagere!C111)","v":"Jette Ringius"},{"$f":"IF(Deltagere!G111=\"\",\"\",Deltagere!G111)","v":""},2000,""]
[null,{"$f":"Deltagere!B112","v":109},{"$f":"IF(Deltagere!C112=\"\",\"\",Deltagere!C112)","v":"Anne Røndbjerg"},{"$f":"IF(Deltagere!G112=\"\",\"\",Deltagere!G112)","v":""},2000,""]
[null,{"$f":"Deltagere!B113","v":110},{"$f":"IF(Deltagere!C113=\"\",\"\",Deltagere!C113)","v":"Jytte Hedlund"},{"$f":"IF(Deltagere!G113=\"\",\"\",Deltagere!G113)","v":""},2000,""]
[null,{"$f":"Deltagere!B114","v":111},{"$f":"IF(Deltagere!C114=\"\",\"\",Deltagere!C114)","v":"Kim Larsen"},{"$f":"IF(Deltagere!G114=\"\",\"\",Deltagere!G114)","v":""},2000,""]
[null,{"$f":"Deltagere!B115","v":112},{"$f":"IF(Deltagere!C115=\"\",\"\",Deltagere!C115)","v":"Birgit Rose Holm"},{"$f":"IF(Deltagere!G115=\"\",\"\",Deltagere!G115)","v":""},2000,""]
[null,{"$f":"Deltagere!B116","v":113},{"$f":"IF(Deltagere!C116=\"\",\"\",Deltagere!C116)","v":"Flemming Carlsen"},{"$f":"IF(Deltagere!G116=\"\",\"\",Deltagere!G116)","v":""},2000,""]
[null,{"$f":"Deltagere!B117","v":114},{"$f":"IF(Deltagere!C117=\"\",\"\",Deltagere!C117)","v":"Jette Carlsen"},{"$f":"IF(Deltagere!G117=\"\",\"\",Deltagere!G117)","v":""},2000,""]
[null,{"$f":"Deltagere!B118","v":115},{"$f":"IF(Deltagere!C118=\"\",\"\",Deltagere!C118)","v":"Elo Andersen"},{"$f":"IF(Deltagere!G118=\"\",\"\",Deltagere!G118)","v":""},2000,""]
[null,{"$f":"Deltagere!B119","v":116},{"$f":"IF(Deltagere!C119=\"\",\"\",Deltagere!C119)","v":"Mona Hansen"},{"$f":"IF(Deltagere!G119=\"\",\"\",Deltagere!G119)","v":""},2000,""]
[null,{"$f":"Deltagere!B120","v":117},{"$f":"IF(Deltagere!C120=\"\",\"\",Deltagere!C120)","v":"Knud Erik Johansen"},{"$f":"IF(Deltagere!G120=\"\",\"\",Deltagere!G120)","v":""},2000,""]
[null,{"$f":"Deltagere!B121","v":118},{"$f":"IF(Deltagere!C121=\"\",\"\",Deltagere!C121)","v":"Ina Tell"},{"$f":"IF(Deltagere!G121=\"\",\"\",Deltagere!G121)","v":""},2000,""]
[null,{"$f":"Deltagere!B122","v":119},{"$f":"IF(Deltagere!C122=\"\",\"\",Deltagere!C122)","v":"Anny Lorentzen"},{"$f":"IF(Deltagere!G122=\"\",\"\",Deltagere!G122)","v":""},2000,""]
[null,{"$f":"Deltagere!B123","v":120},{"$f":"IF(Deltagere!C123=\"\",\"\",Deltagere!C123)","v":"Jytte Rasmussen"},{"$f":"IF(Deltagere!G123=\"\",\"\",Deltagere!G123)","v":""},2000,""]
[null,{"$f":"Deltagere!B124","v":121},{"$f":"IF(Deltagere!C124=\"\",\"\",Deltagere!C124)","v":"Ketty Hinrichsen"},{"$f":"IF(Deltagere!G124=\"\",\"\",Deltagere!G124)","v":""},2000,""]
[null,{"$f":"Deltagere!B125","v":122},{"$f":"IF(Deltagere!C125=\"\",\"\",Deltagere!C125)","v":""},{"$f":"IF(Deltagere!G125=\"\",\"\",Deltagere!G125)","v":""},2000,""]
[null,{"$f":"Deltagere!B126","v":123},{"$f":"IF(Deltagere!C126=\"\",\"\",Deltagere!C126)","v":"Karsten Roed"},{"$f":"IF(Deltagere!G126=\"\",\"\",Deltagere!G126)","v":""},2000,""]
[null,{"$f":"Deltagere!B127","v":124},{"$f":"IF(Deltagere!C127=\"\",\"\",Deltagere!C127)","v":"Mogens Hinrichsen"},{"$f":"IF(Deltagere!G127=\"\",\"\",Deltagere!G127)","v":""},2000,""]
[null,{"$f":"Deltagere!B128","v":125},{"$f":"IF(Deltagere!C128=\"\",\"\",Deltagere!C128)","v":"Jens Frede Poulsen"},{"$f":"IF(Deltagere!G128=\"\",\"\",Deltagere!G128)","v":""},2000,""]
[null,{"$f":"Deltagere!B129","v":126},{"$f":"IF(Deltagere!C129=\"\",\"\",Deltagere!C129)","v":""},{"$f":"IF(Deltagere!G129=\"\",\"\",Deltagere!G129)","v":""},2000,""]
[null,{"$f":"Deltagere!B130","v":127},{"$f":"IF(Deltagere!C130=\"\",\"\",Deltagere!C130)","v":"Per Bentzen"},{"$f":"IF(Deltagere!G130=\"\",\"\",Deltagere!G130)","v":""},2000,""]
[null,{"$f":"Deltagere!B131","v":128},{"$f":"IF(Deltagere!C131=\"\",\"\",Deltagere!C131)","v":"Bobby Maric"},{"$f":"IF(Deltagere!G131=\"\",\"\",Deltagere!G131)","v":""},2000,""]
[null,{"$f":"Deltagere!B132","v":129},{"$f":"IF(Deltagere!C132=\"\",\"\",Deltagere!C132)","v":"Holger Larsen"},{"$f":"IF(Deltagere!G132=\"\",\"\",Deltagere!G132)","v":""},2000,""]
[null,{"$f":"Deltagere!B133","v":130},{"$f":"IF(Deltagere!C133=\"\",\"\",Deltagere!C133)","v":"Jytte Knudsen"},{"$f":"IF(Deltagere!G133=\"\",\"\",Deltagere!G133)","v":""},{"$f":"IF(D140=\"x\",B140,2000)","v":2000},{"$f":"IF(E140=2000,\"\",1)","v":""}]
[null,{"$f":"Deltagere!B134","v":131},{"$f":"IF(Deltagere!C134=\"\",\"\",Deltagere!C134)","v":"Karen Larsen"},{"$f":"IF(Deltagere!G134=\"\",\"\",Deltagere!G134)","v":""},2000,""]
[null,{"$f":"Deltagere!B135","v":132},{"$f":"IF(Deltagere!C135=\"\",\"\",Deltagere!C135)","v":"Knud Jensen"},{"$f":"IF(Deltagere!G135=\"\",\"\",Deltagere!G135)","v":""},2000,""]
[null,{"$f":"Deltagere!B136","v":133},{"$f":"IF(Deltagere!C136=\"\",\"\",Deltagere!C136)","v":"Marianne Maric"},{"$f":"IF(Deltagere!G136=\"\",\"\",Deltagere!G136)","v":""},2000,""]
[null,{"$f":"Deltagere!B137","v":134},{"$f":"IF(Deltagere!C137=\"\",\"\",Deltagere!C137)","v":"Ole Knudsen"},{"$f":"IF(Deltagere!G137=\"\",\"\",Deltagere!G137)","v":""},2000,""]
[null,{"$f":"Deltagere!B138","v":135},{"$f":"IF(Deltagere!C138=\"\",\"\",Deltagere!C138)","v":"Anni Bentzen"},{"$f":"IF(Deltagere!G138=\"\",\"\",Deltagere!G138)","v":""},2000,""]
[null,{"$f":"Deltagere!B139","v":136},{"$f":"IF(Deltagere!C139=\"\",\"\",Deltagere!C139)","v":"Susanne Madsen"},{"$f":"IF(Deltagere!G139=\"\",\"\",Deltagere!G139)","v":""},2000,""]
[null,{"$f":"Deltagere!B140","v":137},{"$f":"IF(Deltagere!C140=\"\",\"\",Deltagere!C140)","v":"Flemming Madsen"},{"$f":"IF(Deltagere!G140=\"\",\"\",Deltagere!G140)","v":""},2000,""]
[null,{"$f":"Deltagere!B141","v":138},{"$f":"IF(Deltagere!C141=\"\",\"\",Deltagere!C141)","v":"Birgit Schimmell"},{"$f":"IF(Deltagere!G141=\"\",\"\",Deltagere!G141)","v":""},2000,""]
[null,{"$f":"Deltagere!B142","v":139},{"$f":"IF(Deltagere!C142=\"\",\"\",Deltagere!C142)","v":"Jytte Løsche"},{"$f":"IF(Deltagere!G142=\"\",\"\",Deltagere!G142)","v":""},2000,""]
[null,{"$f":"Deltagere!B143","v":140},{"$f":"IF(Deltagere!C143=\"\",\"\",Deltagere!C143)","v":""},{"$f":"IF(Deltagere!G143=\"\",\"\",Deltagere!G143)","v":""},2000,""]
[null,{"$f":"Deltagere!B144","v":141},{"$f":"IF(Deltagere!C144=\"\",\"\",Deltagere!C144)","v":"Kaj Hansen"},{"$f":"IF(Deltagere!G144=\"\",\"\",Deltagere!G144)","v":""},2000,""]
[null,{"$f":"Deltagere!B145","v":142},{"$f":"IF(Deltagere!C145=\"\",\"\",Deltagere!C145)","v":"Kirsten Vegge"},{"$f":"IF(Deltagere!G145=\"\",\"\",Deltagere!G145)","v":""},2000,""]
[null,{"$f":"Deltagere!B146","v":143},{"$f":"IF(Deltagere!C146=\"\",\"\",Deltagere!C146)","v":"Lis Nielebock"},{"$f":"IF(Deltagere!G146=\"\",\"\",Deltagere!G146)","v":""},2000,""]
[null,{"$f":"Deltagere!B147","v":144},{"$f":"IF(Deltagere!C147=\"\",\"\",Deltagere!C147)","v":""},{"$f":"IF(Deltagere!G147=\"\",\"\",Deltagere!G147)","v":""},2000,""]
[null,{"$f":"Deltagere!B148","v":145},{"$f":"IF(Deltagere!C148=\"\",\"\",Deltagere!C148)","v":""},{"$f":"IF(Deltagere!G148=\"\",\"\",Deltagere!G148)","v":""},2000,""]
[null,{"$f":"Deltagere!B149","v":146},{"$f":"IF(Deltagere!C149=\"\",\"\",Deltagere!C149)","v":""},{"$f":"IF(Deltagere!G149=\"\",\"\",Deltagere!G149)","v":""},2000,""]
[null,{"$f":"Deltagere!B150","v":147},{"$f":"IF(Deltagere!C150=\"\",\"\",Deltagere!C150)","v":""},{"$f":"IF(Deltagere!G150=\"\",\"\",Deltagere!G150)","v":""},2000,""]
[null,{"$f":"Deltagere!B151","v":148},{"$f":"IF(Deltagere!C151=\"\",\"\",Deltagere!C151)","v":""},{"$f":"IF(Deltagere!G151=\"\",\"\",Deltagere!G151)","v":""},2000,""]
[null,{"$f":"Deltagere!B152","v":149},{"$f":"IF(Deltagere!C152=\"\",\"\",Deltagere!C152)","v":""},{"$f":"IF(Deltagere!G152=\"\",\"\",Deltagere!G152)","v":""},2000,""]
[null,{"$f":"Deltagere!B153","v":150},{"$f":"IF(Deltagere!C153=\"\",\"\",Deltagere!C153)","v":""},{"$f":"IF(Deltagere!G153=\"\",\"\",Deltagere!G153)","v":""},2000,""]
[null,{"$f":"Deltagere!B154","v":151},{"$f":"IF(Deltagere!C154=\"\",\"\",Deltagere!C154)","v":"Ann Larsen"},{"$f":"IF(Deltagere!G154=\"\",\"\",Deltagere!G154)","v":""},2000,""]
[null,{"$f":"Deltagere!B155","v":152},{"$f":"IF(Deltagere!C155=\"\",\"\",Deltagere!C155)","v":"Per Henrichsen"},{"$f":"IF(Deltagere!G155=\"\",\"\",Deltagere!G155)","v":""},2000,""]
[null,{"$f":"Deltagere!B156","v":153},{"$f":"IF(Deltagere!C156=\"\",\"\",Deltagere!C156)","v":"Birger Rosendal"},{"$f":"IF(Deltagere!G156=\"\",\"\",Deltagere!G156)","v":""},2000,""]
[null,{"$f":"Deltagere!B157","v":154},{"$f":"IF(Deltagere!C157=\"\",\"\",Deltagere!C157)","v":"Lene Rosendal"},{"$f":"IF(Deltagere!G157=\"\",\"\",Deltagere!G157)","v":""},2000,""]
[null,{"$f":"Deltagere!B158","v":155},{"$f":"IF(Deltagere!C158=\"\",\"\",Deltagere!C158)","v":"Harry Petersen"},{"$f":"IF(Deltagere!G158=\"\",\"\",Deltagere!G158)","v":""},2000,""]
[null,{"$f":"Deltagere!B159","v":156},{"$f":"IF(Deltagere!C159=\"\",\"\",Deltagere!C159)","v":"Per Kyhn"},{"$f":"IF(Deltagere!G159=\"\",\"\",Deltagere!G159)","v":""},2000,""]
[null,{"$f":"Deltagere!B160","v":157},{"$f":"IF(Deltagere!C160=\"\",\"\",Deltagere!C160)","v":"Tove Andersen"},{"$f":"IF(Deltagere!G160=\"\",\"\",Deltagere!G160)","v":""},2000,""]
[null,{"$f":"Deltagere!B161","v":158},{"$f":"IF(Deltagere!C161=\"\",\"\",Deltagere!C161)","v":""},{"$f":"IF(Deltagere!G161=\"\",\"\",Deltagere!G161)","v":""},2000,""]
[null,{"$f":"Deltagere!B162","v":159},{"$f":"IF(Deltagere!C162=\"\",\"\",Deltagere!C162)","v":""},{"$f":"IF(Deltagere!G162=\"\",\"\",Deltagere!G162)","v":""},2000,""]
[null,{"$f":"Deltagere!B163","v":160},{"$f":"IF(Deltagere!C163=\"\",\"\",Deltagere!C163)","v":"Anette Hviid Rodger"},{"$f":"IF(Deltagere!G163=\"\",\"\",Deltagere!G163)","v":""},2000,""]
[null,{"$f":"Deltagere!B164","v":161},{"$f":"IF(Deltagere!C164=\"\",\"\",Deltagere!C164)","v":""},{"$f":"IF(Deltagere!G164=\"\",\"\",Deltagere!G164)","v":""},2000,""]
[null,{"$f":"Deltagere!B165","v":162},{"$f":"IF(Deltagere!C165=\"\",\"\",Deltagere!C165)","v":"Bjarne Nielsen"},{"$f":"IF(Deltagere!G165=\"\",\"\",Deltagere!G165)","v":""},2000,""]
[null,{"$f":"Deltagere!B166","v":163},{"$f":"IF(Deltagere!C166=\"\",\"\",Deltagere!C166)","v":""},{"$f":"IF(Deltagere!G166=\"\",\"\",Deltagere!G166)","v":""},2000,""]
[null,{"$f":"Deltagere!B167","v":164},{"$f":"IF(Deltagere!C167=\"\",\"\",Deltagere!C167)","v":"Jan E. Pedersen"},{"$f":"IF(Deltagere!G167=\"\",\"\",Deltagere!G167)","v":""},2000,""]
[null,{"$f":"Deltagere!B168","v":165},{"$f":"IF(Deltagere!C168=\"\",\"\",Deltagere!C168)","v":""},{"$f":"IF(Deltagere!G168=\"\",\"\",Deltagere!G168)","v":""},2000,""]
[null,{"$f":"Deltagere!B169","v":166},{"$f":"IF(Deltagere!C169=\"\",\"\",Deltagere!C169)","v":"Ib Jensen"},{"$f":"IF(Deltagere!G169=\"\",\"\",Deltagere!G169)","v":""},2000,""]
[null,{"$f":"Deltagere!B170","v":167},{"$f":"IF(Deltagere!C170=\"\",\"\",Deltagere!C170)","v":"Jette Jensen"},{"$f":"IF(Deltagere!G170=\"\",\"\",Deltagere!G170)","v":""},2000,""]
[null,{"$f":"Deltagere!B171","v":168},{"$f":"IF(Deltagere!C171=\"\",\"\",Deltagere!C171)","v":""},{"$f":"IF(Deltagere!G171=\"\",\"\",Deltagere!G171)","v":""},2000,""]
[null,{"$f":"Deltagere!B172","v":169},{"$f":"IF(Deltagere!C172=\"\",\"\",Deltagere!C172)","v":"Kate Petersen"},{"$f":"IF(Deltagere!G172=\"\",\"\",Deltagere!G172)","v":""},2000,""]
[null,{"$f":"Deltagere!B173","v":170},{"$f":"IF(Deltagere!C173=\"\",\"\",Deltagere!C173)","v":""},{"$f":"IF(Deltagere!G173=\"\",\"\",Deltagere!G173)","v":""},2000,""]
[null,{"$f":"Deltagere!B174","v":171},{"$f":"IF(Deltagere!C174=\"\",\"\",Deltagere!C174)","v":"Åse Thaning"},{"$f":"IF(Deltagere!G174=\"\",\"\",Deltagere!G174)","v":""},2000,""]
[null,{"$f":"Deltagere!B175","v":172},{"$f":"IF(Deltagere!C175=\"\",\"\",Deltagere!C175)","v":"Jytte Hansen"},{"$f":"IF(Deltagere!G175=\"\",\"\",Deltagere!G175)","v":""},2000,""]
[null,{"$f":"Deltagere!B176","v":173},{"$f":"IF(Deltagere!C176=\"\",\"\",Deltagere!C176)","v":"Karin Børresen"},{"$f":"IF(Deltagere!G176=\"\",\"\",Deltagere!G176)","v":""},2000,""]
[null,{"$f":"Deltagere!B177","v":174},{"$f":"IF(Deltagere!C177=\"\",\"\",Deltagere!C177)","v":"Marianne Albertsen"},{"$f":"IF(Deltagere!G177=\"\",\"\",Deltagere!G177)","v":""},2000,""]
[null,{"$f":"Deltagere!B178","v":175},{"$f":"IF(Deltagere!C178=\"\",\"\",Deltagere!C178)","v":""},{"$f":"IF(Deltagere!G178=\"\",\"\",Deltagere!G178)","v":""},2000,""]
[null,{"$f":"Deltagere!B179","v":176},{"$f":"IF(Deltagere!C179=\"\",\"\",Deltagere!C179)","v":"Preben Willum"},{"$f":"IF(Deltagere!G179=\"\",\"\",Deltagere!G179)","v":""},2000,""]
[null,{"$f":"Deltagere!B180","v":177},{"$f":"IF(Deltagere!C180=\"\",\"\",Deltagere!C180)","v":"Lone Nyc"},{"$f":"IF(Deltagere!G180=\"\",\"\",Deltagere!G180)","v":""},2000,""]
[null,{"$f":"Deltagere!B181","v":178},{"$f":"IF(Deltagere!C181=\"\",\"\",Deltagere!C181)","v":"Bjarne Hansson"},{"$f":"IF(Deltagere!G181=\"\",\"\",Deltagere!G181)","v":""},2000,""]
[null,{"$f":"Deltagere!B182","v":179},{"$f":"IF(Deltagere!C182=\"\",\"\",Deltagere!C182)","v":""},{"$f":"IF(Deltagere!G182=\"\",\"\",Deltagere!G182)","v":""},2000,""]
[null,{"$f":"Deltagere!B183","v":180},{"$f":"IF(Deltagere!C183=\"\",\"\",Deltagere!C183)","v":"Inger Andersen"},{"$f":"IF(Deltagere!G183=\"\",\"\",Deltagere!G183)","v":""},2000,""]
[null,{"$f":"Deltagere!B184","v":181},{"$f":"IF(Deltagere!C184=\"\",\"\",Deltagere!C184)","v":"Peter Norlund"},{"$f":"IF(Deltagere!G184=\"\",\"\",Deltagere!G184)","v":""},2000,""]
[null,{"$f":"Deltagere!B185","v":182},{"$f":"IF(Deltagere!C185=\"\",\"\",Deltagere!C185)","v":"Sanne Norlund"},{"$f":"IF(Deltagere!G185=\"\",\"\",Deltagere!G185)","v":""},2000,""]
[null,{"$f":"Deltagere!B186","v":183},{"$f":"IF(Deltagere!C186=\"\",\"\",Deltagere!C186)","v":""},{"$f":"IF(Deltagere!G186=\"\",\"\",Deltagere!G186)","v":""},2000,""]
[null,{"$f":"Deltagere!B187","v":184},{"$f":"IF(Deltagere!C187=\"\",\"\",Deltagere!C187)","v":""},{"$f":"IF(Deltagere!G187=\"\",\"\",Deltagere!G187)","v":""},2000,""]
[null,{"$f":"Deltagere!B188","v":185},{"$f":"IF(Deltagere!C188=\"\",\"\",Deltagere!C188)","v":""},{"$f":"IF(Deltagere!G188=\"\",\"\",Deltagere!G188)","v":""},2000,""]
[null,{"$f":"Deltagere!B189","v":186},{"$f":"IF(Deltagere!C189=\"\",\"\",Deltagere!C189)","v":""},{"$f":"IF(Deltagere!G189=\"\",\"\",Deltagere!G189)","v":""},2000,""]
[null,{"$f":"Deltagere!B190","v":187},{"$f":"IF(Deltagere!C190=\"\",\"\",Deltagere!C190)","v":""},{"$f":"IF(Deltagere!G190=\"\",\"\",Deltagere!G190)","v":""},2000,""]
[null,{"$f":"Deltagere!B191","v":188},{"$f":"IF(Deltagere!C191=\"\",\"\",Deltagere!C191)","v":""},{"$f":"IF(Deltagere!G191=\"\",\"\",Deltagere!G191)","v":""},2000,""]
[null,{"$f":"Deltagere!B192","v":189},{"$f":"IF(Deltagere!C192=\"\",\"\",Deltagere!C192)","v":""},{"$f":"IF(Deltagere!G192=\"\",\"\",Deltagere!G192)","v":""},2000,""]
[null,{"$f":"Deltagere!B193","v":190},{"$f":"IF(Deltagere!C193=\"\",\"\",Deltagere!C193)","v":""},{"$f":"IF(Deltagere!G193=\"\",\"\",Deltagere!G193)","v":""},2000,""]
[null,{"$f":"Deltagere!B194","v":191},{"$f":"IF(Deltagere!C194=\"\",\"\",Deltagere!C194)","v":""},{"$f":"IF(Deltagere!G194=\"\",\"\",Deltagere!G194)","v":""},2000,""]
[null,{"$f":"Deltagere!B195","v":192},{"$f":"IF(Deltagere!C195=\"\",\"\",Deltagere!C195)","v":""},{"$f":"IF(Deltagere!G195=\"\",\"\",Deltagere!G195)","v":""},2000,""]
[null,{"$f":"Deltagere!B196","v":193},{"$f":"IF(Deltagere!C196=\"\",\"\",Deltagere!C196)","v":""},{"$f":"IF(Deltagere!G196=\"\",\"\",Deltagere!G196)","v":""},2000,""]
[null,{"$f":"Deltagere!B197","v":194},{"$f":"IF(Deltagere!C197=\"\",\"\",Deltagere!C197)","v":""},{"$f":"IF(Deltagere!G197=\"\",\"\",Deltagere!G197)","v":""},{"$f":"IF(D204=\"x\",B204,2000)","v":2000},{"$f":"IF(E204=2000,\"\",1)","v":""}]
[null,{"$f":"Deltagere!B198","v":195},{"$f":"IF(Deltagere!C198=\"\",\"\",Deltagere!C198)","v":""},{"$f":"IF(Deltagere!G198=\"\",\"\",Deltagere!G198)","v":""},2000,""]
[null,{"$f":"Deltagere!B199","v":196},{"$f":"IF(Deltagere!C199=\"\",\"\",Deltagere!C199)","v":""},{"$f":"IF(Deltagere!G199=\"\",\"\",Deltagere!G199)","v":""},2000,""]
[null,{"$f":"Deltagere!B200","v":197},{"$f":"IF(Deltagere!C200=\"\",\"\",Deltagere!C200)","v":""},{"$f":"IF(Deltagere!G200=\"\",\"\",Deltagere!G200)","v":""},2000,""]
[null,{"$f":"Deltagere!B201","v":198},{"$f":"IF(Deltagere!C201=\"\",\"\",Deltagere!C201)","v":""},{"$f":"IF(Deltagere!G201=\"\",\"\",Deltagere!G201)","v":""},2000,""]
[null,{"$f":"Deltagere!B202","v":199},{"$f":"IF(Deltagere!C202=\"\",\"\",Deltagere!C202)","v":""},{"$f":"IF(Deltagere!G202=\"\",\"\",Deltagere!G202)","v":""},2000,""]
[null,{"$f":"Deltagere!B203","v":200},{"$f":"IF(Deltagere!C203=\"\",\"\",Deltagere!C203)","v":""},{"$f":"IF(Deltagere!G203=\"\",\"\",Deltagere!G203)","v":""},2000,""]
[null,{"$f":"Deltagere!B204","v":201},{"$f":"IF(Deltagere!C204=\"\",\"\",Deltagere!C204)","v":"Laila Birkemosegård"},{"$f":"IF(Deltagere!G204=\"\",\"\",Deltagere!G204)","v":""},2000,""]
[null,{"$f":"Deltagere!B205","v":202},{"$f":"IF(Deltagere!C205=\"\",\"\",Deltagere!C205)","v":"Flemming Birkemosegård"},{"$f":"IF(Deltagere!G205=\"\",\"\",Deltagere!G205)","v":""},2000,""]
[null,{"$f":"Deltagere!B206","v":203},{"$f":"IF(Deltagere!C206=\"\",\"\",Deltagere!C206)","v":"Sonja Sørensen"},{"$f":"IF(Deltagere!G206=\"\",\"\",Deltagere!G206)","v":""},2000,""]
[null,{"$f":"Deltagere!B207","v":204},{"$f":"IF(Deltagere!C207=\"\",\"\",Deltagere!C207)","v":"Esther Knudsen"},{"$f":"IF(Deltagere!G207=\"\",\"\",Deltagere!G207)","v":""},2000,""]
[null,{"$f":"Deltagere!B208","v":205},{"$f":"IF(Deltagere!C208=\"\",\"\",Deltagere!C208)","v":"Niels Madsen"},{"$f":"IF(Deltagere!G208=\"\",\"\",Deltagere!G208)","v":""},2000,""]
[null,{"$f":"Deltagere!B209","v":206},{"$f":"IF(Deltagere!C209=\"\",\"\",Deltagere!C209)","v":"Tommy Andersen"},{"$f":"IF(Deltagere!G209=\"\",\"\",Deltagere!G209)","v":""},2000,""]
[null,{"$f":"Deltagere!B210","v":207},{"$f":"IF(Deltagere!C210=\"\",\"\",Deltagere!C210)","v":"Kurt Nielsen"},{"$f":"IF(Deltagere!G210=\"\",\"\",Deltagere!G210)","v":""},2000,""]
[null,{"$f":"Deltagere!B211","v":208},{"$f":"IF(Deltagere!C211=\"\",\"\",Deltagere!C211)","v":"Ulla J. Jakobsen"},{"$f":"IF(Deltagere!G211=\"\",\"\",Deltagere!G211)","v":""},2000,""]
[null,{"$f":"Deltagere!B212","v":209},{"$f":"IF(Deltagere!C212=\"\",\"\",Deltagere!C212)","v":"Steen Knudsen"},{"$f":"IF(Deltagere!G212=\"\",\"\",Deltagere!G212)","v":""},2000,""]
[null,{"$f":"Deltagere!B213","v":210},{"$f":"IF(Deltagere!C213=\"\",\"\",Deltagere!C213)","v":"Jonna Nielsen"},{"$f":"IF(Deltagere!G213=\"\",\"\",Deltagere!G213)","v":""},2000,""]
[null,{"$f":"Deltagere!B214","v":211},{"$f":"IF(Deltagere!C214=\"\",\"\",Deltagere!C214)","v":"Jytte Schmidt"},{"$f":"IF(Deltagere!G214=\"\",\"\",Deltagere!G214)","v":""},2000,""]
[null,{"$f":"Deltagere!B215","v":212},{"$f":"IF(Deltagere!C215=\"\",\"\",Deltagere!C215)","v":"Lissi Norup Jensen"},{"$f":"IF(Deltagere!G215=\"\",\"\",Deltagere!G215)","v":""},2000,""]
[null,{"$f":"Deltagere!B216","v":213},{"$f":"IF(Deltagere!C216=\"\",\"\",Deltagere!C216)","v":"Gunnar Persson"},{"$f":"IF(Deltagere!G216=\"\",\"\",Deltagere!G216)","v":""},2000,""]
[null,{"$f":"Deltagere!B217","v":214},{"$f":"IF(Deltagere!C217=\"\",\"\",Deltagere!C217)","v":"Flemming B. Larsen"},{"$f":"IF(Deltagere!G217=\"\",\"\",Deltagere!G217)","v":""},2000,""]
[null,{"$f":"Deltagere!B218","v":215},{"$f":"IF(Deltagere!C218=\"\",\"\",Deltagere!C218)","v":"Niels Nielsen"},{"$f":"IF(Deltagere!G218=\"\",\"\",Deltagere!G218)","v":""},2000,""]
[null,{"$f":"Deltagere!B219","v":216},{"$f":"IF(Deltagere!C219=\"\",\"\",Deltagere!C219)","v":"Flemming B. Jensen"},{"$f":"IF(Deltagere!G219=\"\",\"\",Deltagere!G219)","v":""},2000,""]
[null,{"$f":"Deltagere!B220","v":217},{"$f":"IF(Deltagere!C220=\"\",\"\",Deltagere!C220)","v":"Tove Blad"},{"$f":"IF(Deltagere!G220=\"\",\"\",Deltagere!G220)","v":""},2000,""]
[null,{"$f":"Deltagere!B221","v":218},{"$f":"IF(Deltagere!C221=\"\",\"\",Deltagere!C221)","v":"Helle Skovbro"},{"$f":"IF(Deltagere!G221=\"\",\"\",Deltagere!G221)","v":""},2000,""]
[null,{"$f":"Deltagere!B222","v":219},{"$f":"IF(Deltagere!C222=\"\",\"\",Deltagere!C222)","v":"Bjarne Poulsen"},{"$f":"IF(Deltagere!G222=\"\",\"\",Deltagere!G222)","v":""},2000,""]
[null,{"$f":"Deltagere!B223","v":220},{"$f":"IF(Deltagere!C223=\"\",\"\",Deltagere!C223)","v":"Nina Nielsen"},{"$f":"IF(Deltagere!G223=\"\",\"\",Deltagere!G223)","v":""},2000,""]
[null,{"$f":"Deltagere!B224","v":221},{"$f":"IF(Deltagere!C224=\"\",\"\",Deltagere!C224)","v":"Hans J. Carow"},{"$f":"IF(Deltagere!G224=\"\",\"\",Deltagere!G224)","v":""},2000,""]
[null,{"$f":"Deltagere!B225","v":222},{"$f":"IF(Deltagere!C225=\"\",\"\",Deltagere!C225)","v":"Jette Friis Hansen"},{"$f":"IF(Deltagere!G225=\"\",\"\",Deltagere!G225)","v":""},2000,""]
[null,{"$f":"Deltagere!B226","v":223},{"$f":"IF(Deltagere!C226=\"\",\"\",Deltagere!C226)","v":"Bente Pedersen"},{"$f":"IF(Deltagere!G226=\"\",\"\",Deltagere!G226)","v":""},2000,""]
[null,{"$f":"Deltagere!B227","v":224},{"$f":"IF(Deltagere!C227=\"\",\"\",Deltagere!C227)","v":"Elke Hesthaven"},{"$f":"IF(Deltagere!G227=\"\",\"\",Deltagere!G227)","v":""},2000,""]
[null,{"$f":"Deltagere!B228","v":225},{"$f":"IF(Deltagere!C228=\"\",\"\",Deltagere!C228)","v":"Hanne Petersen"},{"$f":"IF(Deltagere!G228=\"\",\"\",Deltagere!G228)","v":""},2000,""]
[null,{"$f":"Deltagere!B229","v":226},{"$f":"IF(Deltagere!C229=\"\",\"\",Deltagere!C229)","v":"Bodil Jansson"},{"$f":"IF(Deltagere!G229=\"\",\"\",Deltagere!G229)","v":""},2000,""]
[null,{"$f":"Deltagere!B230","v":227},{"$f":"IF(Deltagere!C230=\"\",\"\",Deltagere!C230)","v":"Tove Skovbo"},{"$f":"IF(Deltagere!G230=\"\",\"\",Deltagere!G230)","v":""},2000,""]
[null,{"$f":"Deltagere!B231","v":228},{"$f":"IF(Deltagere!C231=\"\",\"\",Deltagere!C231)","v":"Carsten Jansson"},{"$f":"IF(Deltagere!G231=\"\",\"\",Deltagere!G231)","v":""},2000,""]
[null,{"$f":"Deltagere!B232","v":229},{"$f":"IF(Deltagere!C232=\"\",\"\",Deltagere!C232)","v":"Jytte Behrend"},{"$f":"IF(Deltagere!G232=\"\",\"\",Deltagere!G232)","v":""},2000,""]
[null,{"$f":"Deltagere!B233","v":230},{"$f":"IF(Deltagere!C233=\"\",\"\",Deltagere!C233)","v":"Jeanette Olsen"},{"$f":"IF(Deltagere!G233=\"\",\"\",Deltagere!G233)","v":""},2000,""]
[null,{"$f":"Deltagere!B234","v":231},{"$f":"IF(Deltagere!C234=\"\",\"\",Deltagere!C234)","v":"Berit Tofte Hansen"},{"$f":"IF(Deltagere!G234=\"\",\"\",Deltagere!G234)","v":""},2000,""]
[null,{"$f":"Deltagere!B235","v":232},{"$f":"IF(Deltagere!C235=\"\",\"\",Deltagere!C235)","v":"Susanne Lembke"},{"$f":"IF(Deltagere!G235=\"\",\"\",Deltagere!G235)","v":""},2000,""]
[null,{"$f":"Deltagere!B236","v":233},{"$f":"IF(Deltagere!C236=\"\",\"\",Deltagere!C236)","v":"Annie Christensen"},{"$f":"IF(Deltagere!G236=\"\",\"\",Deltagere!G236)","v":""},2000,""]
[null,{"$f":"Deltagere!B237","v":234},{"$f":"IF(Deltagere!C237=\"\",\"\",Deltagere!C237)","v":"Svend Ove Bahnsen"},{"$f":"IF(Deltagere!G237=\"\",\"\",Deltagere!G237)","v":""},2000,""]
[null,{"$f":"Deltagere!B238","v":235},{"$f":"IF(Deltagere!C238=\"\",\"\",Deltagere!C238)","v":"Inge Poulsen"},{"$f":"IF(Deltagere!G238=\"\",\"\",Deltagere!G238)","v":""},2000,""]
[null,{"$f":"Deltagere!B239","v":236},{"$f":"IF(Deltagere!C239=\"\",\"\",Deltagere!C239)","v":"Anette Møller"},{"$f":"IF(Deltagere!G239=\"\",\"\",Deltagere!G239)","v":""},2000,""]
[null,{"$f":"Deltagere!B240","v":237},{"$f":"IF(Deltagere!C240=\"\",\"\",Deltagere!C240)","v":"Hanne Bahnsen"},{"$f":"IF(Deltagere!G240=\"\",\"\",Deltagere!G240)","v":""},2000,""]
[null,{"$f":"Deltagere!B241","v":238},{"$f":"IF(Deltagere!C241=\"\",\"\",Deltagere!C241)","v":"Margrethe Mørkvig"},{"$f":"IF(Deltagere!G241=\"\",\"\",Deltagere!G241)","v":""},2000,""]
[null,{"$f":"Deltagere!B242","v":239},{"$f":"IF(Deltagere!C242=\"\",\"\",Deltagere!C242)","v":"Leif Behrend"},{"$f":"IF(Deltagere!G242=\"\",\"\",Deltagere!G242)","v":""},2000,""]
[null,{"$f":"Deltagere!B243","v":240},{"$f":"IF(Deltagere!C243=\"\",\"\",Deltagere!C243)","v":"Tom Olsen"},{"$f":"IF(Deltagere!G243=\"\",\"\",Deltagere!G243)","v":""},2000,""]
[null,{"$f":"Deltagere!B244","v":241},{"$f":"IF(Deltagere!C244=\"\",\"\",Deltagere!C244)","v":"Inge Lander"},{"$f":"IF(Deltagere!G244=\"\",\"\",Deltagere!G244)","v":""},2000,""]
[null,{"$f":"Deltagere!B245","v":242},{"$f":"IF(Deltagere!C245=\"\",\"\",Deltagere!C245)","v":"Edith Pettersson"},{"$f":"IF(Deltagere!G245=\"\",\"\",Deltagere!G245)","v":""},2000,""]
[null,{"$f":"Deltagere!B246","v":243},{"$f":"IF(Deltagere!C246=\"\",\"\",Deltagere!C246)","v":"Inge Beyer"},{"$f":"IF(Deltagere!G246=\"\",\"\",Deltagere!G246)","v":""},2000,""]
[null,{"$f":"Deltagere!B247","v":244},{"$f":"IF(Deltagere!C247=\"\",\"\",Deltagere!C247)","v":"Lotte Zinck"},{"$f":"IF(Deltagere!G247=\"\",\"\",Deltagere!G247)","v":""},2000,""]
[null,{"$f":"Deltagere!B248","v":245},{"$f":"IF(Deltagere!C248=\"\",\"\",Deltagere!C248)","v":"Birthe Allermann"},{"$f":"IF(Deltagere!G248=\"\",\"\",Deltagere!G248)","v":""},2000,""]
[null,{"$f":"Deltagere!B249","v":246},{"$f":"IF(Deltagere!C249=\"\",\"\",Deltagere!C249)","v":"Inger Mortensen"},{"$f":"IF(Deltagere!G249=\"\",\"\",Deltagere!G249)","v":""},2000,""]
[null,{"$f":"Deltagere!B250","v":247},{"$f":"IF(Deltagere!C250=\"\",\"\",Deltagere!C250)","v":"Gunnar Nielsen"},{"$f":"IF(Deltagere!G250=\"\",\"\",Deltagere!G250)","v":""},2000,""]
[null,{"$f":"Deltagere!B251","v":248},{"$f":"IF(Deltagere!C251=\"\",\"\",Deltagere!C251)","v":"Margrethe Andersen"},{"$f":"IF(Deltagere!G251=\"\",\"\",Deltagere!G251)","v":""},2000,""]
[null,{"$f":"Deltagere!B252","v":249},{"$f":"IF(Deltagere!C252=\"\",\"\",Deltagere!C252)","v":"Majbrith Corfixen"},{"$f":"IF(Deltagere!G252=\"\",\"\",Deltagere!G252)","v":""},2000,""]
[null,{"$f":"Deltagere!B253","v":250},{"$f":"IF(Deltagere!C253=\"\",\"\",Deltagere!C253)","v":"Palle Thomsen"},{"$f":"IF(Deltagere!G253=\"\",\"\",Deltagere!G253)","v":""},2000,""]
[null,{"$f":"Deltagere!B254","v":251},{"$f":"IF(Deltagere!C254=\"\",\"\",Deltagere!C254)","v":"Sally Klarskov"},{"$f":"IF(Deltagere!G254=\"\",\"\",Deltagere!G254)","v":""},2000,""]
[null,{"$f":"Deltagere!B255","v":252},{"$f":"IF(Deltagere!C255=\"\",\"\",Deltagere!C255)","v":"Bjarne Bruun"},{"$f":"IF(Deltagere!G255=\"\",\"\",Deltagere!G255)","v":""},2000,""]
[null,{"$f":"Deltagere!B256","v":253},{"$f":"IF(Deltagere!C256=\"\",\"\",Deltagere!C256)","v":"Carsten Skovbro"},{"$f":"IF(Deltagere!G256=\"\",\"\",Deltagere!G256)","v":""},2000,""]
[null,{"$f":"Deltagere!B257","v":254},{"$f":"IF(Deltagere!C257=\"\",\"\",Deltagere!C257)","v":"Kurt Jeritslev"},{"$f":"IF(Deltagere!G257=\"\",\"\",Deltagere!G257)","v":""},2000,""]
[null,{"$f":"Deltagere!B258","v":255},{"$f":"IF(Deltagere!C258=\"\",\"\",Deltagere!C258)","v":"Birthe Pedersen"},{"$f":"IF(Deltagere!G258=\"\",\"\",Deltagere!G258)","v":""},2000,""]
[null,{"$f":"Deltagere!B259","v":256},{"$f":"IF(Deltagere!C259=\"\",\"\",Deltagere!C259)","v":""},{"$f":"IF(Deltagere!G259=\"\",\"\",Deltagere!G259)","v":""},2000,""]
[null,{"$f":"Deltagere!B260","v":257},{"$f":"IF(Deltagere!C260=\"\",\"\",Deltagere!C260)","v":""},{"$f":"IF(Deltagere!G260=\"\",\"\",Deltagere!G260)","v":""},2000,""]
[null,{"$f":"Deltagere!B261","v":258},{"$f":"IF(Deltagere!C261=\"\",\"\",Deltagere!C261)","v":""},{"$f":"IF(Deltagere!G261=\"\",\"\",Deltagere!G261)","v":""},{"$f":"IF(D268=\"x\",B268,2000)","v":2000},{"$f":"IF(E268=2000,\"\",1)","v":""}]
[null,{"$f":"Deltagere!B262","v":259},{"$f":"IF(Deltagere!C262=\"\",\"\",Deltagere!C262)","v":""},{"$f":"IF(Deltagere!G262=\"\",\"\",Deltagere!G262)","v":""},2000,""]
[null,{"$f":"Deltagere!B263","v":260},{"$f":"IF(Deltagere!C263=\"\",\"\",Deltagere!C263)","v":""},{"$f":"IF(Deltagere!G263=\"\",\"\",Deltagere!G263)","v":""},2000,""]
[null,{"$f":"Deltagere!B264","v":261},{"$f":"IF(Deltagere!C264=\"\",\"\",Deltagere!C264)","v":""},{"$f":"IF(Deltagere!G264=\"\",\"\",Deltagere!G264)","v":""},2000,""]
[null,{"$f":"Deltagere!B265","v":262},{"$f":"IF(Deltagere!C265=\"\",\"\",Deltagere!C265)","v":""},{"$f":"IF(Deltagere!G265=\"\",\"\",Deltagere!G265)","v":""},2000,""]
[null,{"$f":"Deltagere!B266","v":263},{"$f":"IF(Deltagere!C266=\"\",\"\",Deltagere!C266)","v":""},{"$f":"IF(Deltagere!G266=\"\",\"\",Deltagere!G266)","v":""},2000,""]
[null,{"$f":"Deltagere!B267","v":264},{"$f":"IF(Deltagere!C267=\"\",\"\",Deltagere!C267)","v":""},{"$f":"IF(Deltagere!G267=\"\",\"\",Deltagere!G267)","v":""},2000,""]
[null,{"$f":"Deltagere!B268","v":265},{"$f":"IF(Deltagere!C268=\"\",\"\",Deltagere!C268)","v":""},{"$f":"IF(Deltagere!G268=\"\",\"\",Deltagere!G268)","v":""},2000,""]
[null,{"$f":"Deltagere!B269","v":266},{"$f":"IF(Deltagere!C269=\"\",\"\",Deltagere!C269)","v":""},{"$f":"IF(Deltagere!G269=\"\",\"\",Deltagere!G269)","v":""},2000,""]
[null,{"$f":"Deltagere!B270","v":267},{"$f":"IF(Deltagere!C270=\"\",\"\",Deltagere!C270)","v":""},{"$f":"IF(Deltagere!G270=\"\",\"\",Deltagere!G270)","v":""},2000,""]
[null,{"$f":"Deltagere!B271","v":268},{"$f":"IF(Deltagere!C271=\"\",\"\",Deltagere!C271)","v":""},{"$f":"IF(Deltagere!G271=\"\",\"\",Deltagere!G271)","v":""},2000,""]
[null,{"$f":"Deltagere!B272","v":269},{"$f":"IF(Deltagere!C272=\"\",\"\",Deltagere!C272)","v":""},{"$f":"IF(Deltagere!G272=\"\",\"\",Deltagere!G272)","v":""},2000,""]
[null,{"$f":"Deltagere!B273","v":270},{"$f":"IF(Deltagere!C273=\"\",\"\",Deltagere!C273)","v":""},{"$f":"IF(Deltagere!G273=\"\",\"\",Deltagere!G273)","v":""},2000,""]
[null,{"$f":"Deltagere!B274","v":271},{"$f":"IF(Deltagere!C274=\"\",\"\",Deltagere!C274)","v":""},{"$f":"IF(Deltagere!G274=\"\",\"\",Deltagere!G274)","v":""},2000,""]
[null,{"$f":"Deltagere!B275","v":272},{"$f":"IF(Deltagere!C275=\"\",\"\",Deltagere!C275)","v":""},{"$f":"IF(Deltagere!G275=\"\",\"\",Deltagere!G275)","v":""},2000,""]
[null,{"$f":"Deltagere!B276","v":273},{"$f":"IF(Deltagere!C276=\"\",\"\",Deltagere!C276)","v":""},{"$f":"IF(Deltagere!G276=\"\",\"\",Deltagere!G276)","v":""},2000,""]
[null,{"$f":"Deltagere!B277","v":274},{"$f":"IF(Deltagere!C277=\"\",\"\",Deltagere!C277)","v":""},{"$f":"IF(Deltagere!G277=\"\",\"\",Deltagere!G277)","v":""},2000,""]
[null,{"$f":"Deltagere!B278","v":275},{"$f":"IF(Deltagere!C278=\"\",\"\",Deltagere!C278)","v":""},{"$f":"IF(Deltagere!G278=\"\",\"\",Deltagere!G278)","v":""},2000,""]
[null,{"$f":"Deltagere!B279","v":276},{"$f":"IF(Deltagere!C279=\"\",\"\",Deltagere!C279)","v":""},{"$f":"IF(Deltagere!G279=\"\",\"\",Deltagere!G279)","v":""},2000,""]
[null,{"$f":"Deltagere!B280","v":277},{"$f":"IF(Deltagere!C280=\"\",\"\",Deltagere!C280)","v":""},{"$f":"IF(Deltagere!G280=\"\",\"\",Deltagere!G280)","v":""},2000,""]
[null,{"$f":"Deltagere!B281","v":278},{"$f":"IF(Deltagere!C281=\"\",\"\",Deltagere!C281)","v":""},{"$f":"IF(Deltagere!G281=\"\",\"\",Deltagere!G281)","v":""},2000,""]
[null,{"$f":"Deltagere!B282","v":279},{"$f":"IF(Deltagere!C282=\"\",\"\",Deltagere!C282)","v":""},{"$f":"IF(Deltagere!G282=\"\",\"\",Deltagere!G282)","v":""},2000,""]
[null,{"$f":"Deltagere!B283","v":280},{"$f":"IF(Deltagere!C283=\"\",\"\",Deltagere!C283)","v":""},{"$f":"IF(Deltagere!G283=\"\",\"\",Deltagere!G283)","v":""},2000,""]
[null,{"$f":"Deltagere!B284","v":281},{"$f":"IF(Deltagere!C284=\"\",\"\",Deltagere!C284)","v":""},{"$f":"IF(Deltagere!G284=\"\",\"\",Deltagere!G284)","v":""},2000,""]
[null,{"$f":"Deltagere!B285","v":282},{"$f":"IF(Deltagere!C285=\"\",\"\",Deltagere!C285)","v":""},{"$f":"IF(Deltagere!G285=\"\",\"\",Deltagere!G285)","v":""},2000,""]
[null,{"$f":"Deltagere!B286","v":283},{"$f":"IF(Deltagere!C286=\"\",\"\",Deltagere!C286)","v":""},{"$f":"IF(Deltagere!G286=\"\",\"\",Deltagere!G286)","v":""},2000,""]
[null,{"$f":"Deltagere!B287","v":284},{"$f":"IF(Deltagere!C287=\"\",\"\",Deltagere!C287)","v":""},{"$f":"IF(Deltagere!G287=\"\",\"\",Deltagere!G287)","v":""},2000,""]
[null,{"$f":"Deltagere!B288","v":285},{"$f":"IF(Deltagere!C288=\"\",\"\",Deltagere!C288)","v":""},{"$f":"IF(Deltagere!G288=\"\",\"\",Deltagere!G288)","v":""},2000,""]
[null,{"$f":"Deltagere!B289","v":286},{"$f":"IF(Deltagere!C289=\"\",\"\",Deltagere!C289)","v":""},{"$f":"IF(Deltagere!G289=\"\",\"\",Deltagere!G289)","v":""},2000,""]
[null,{"$f":"Deltagere!B290","v":287},{"$f":"IF(Deltagere!C290=\"\",\"\",Deltagere!C290)","v":""},{"$f":"IF(Deltagere!G290=\"\",\"\",Deltagere!G290)","v":""},2000,""]
[null,{"$f":"Deltagere!B291","v":288},{"$f":"IF(Deltagere!C291=\"\",\"\",Deltagere!C291)","v":""},{"$f":"IF(Deltagere!G291=\"\",\"\",Deltagere!G291)","v":""},2000,""]
[null,{"$f":"Deltagere!B292","v":289},{"$f":"IF(Deltagere!C292=\"\",\"\",Deltagere!C292)","v":""},{"$f":"IF(Deltagere!G292=\"\",\"\",Deltagere!G292)","v":""},2000,""]
[null,{"$f":"Deltagere!B293","v":290},{"$f":"IF(Deltagere!C293=\"\",\"\",Deltagere!C293)","v":""},{"$f":"IF(Deltagere!G293=\"\",\"\",Deltagere!G293)","v":""},2000,""]
[null,{"$f":"Deltagere!B294","v":291},{"$f":"IF(Deltagere!C294=\"\",\"\",Deltagere!C294)","v":""},{"$f":"IF(Deltagere!G294=\"\",\"\",Deltagere!G294)","v":""},2000,""]
[null,{"$f":"Deltagere!B295","v":292},{"$f":"IF(Deltagere!C295=\"\",\"\",Deltagere!C295)","v":""},{"$f":"IF(Deltagere!G295=\"\",\"\",Deltagere!G295)","v":""},2000,""]
[null,{"$f":"Deltagere!B296","v":293},{"$f":"IF(Deltagere!C296=\"\",\"\",Deltagere!C296)","v":""},{"$f":"IF(Deltagere!G296=\"\",\"\",Deltagere!G296)","v":""},2000,""]
[null,{"$f":"Deltagere!B297","v":294},{"$f":"IF(Deltagere!C297=\"\",\"\",Deltagere!C297)","v":""},{"$f":"IF(Deltagere!G297=\"\",\"\",Deltagere!G297)","v":""},2000,""]
[null,{"$f":"Deltagere!B298","v":295},{"$f":"IF(Deltagere!C298=\"\",\"\",Deltagere!C298)","v":""},{"$f":"IF(Deltagere!G298=\"\",\"\",Deltagere!G298)","v":""},2000,""]
[null,{"$f":"Deltagere!B299","v":296},{"$f":"IF(Deltagere!C299=\"\",\"\",Deltagere!C299)","v":""},{"$f":"IF(Deltagere!G299=\"\",\"\",Deltagere!G299)","v":""},2000,""]
[null,{"$f":"Deltagere!B300","v":297},{"$f":"IF(Deltagere!C300=\"\",\"\",Deltagere!C300)","v":""},{"$f":"IF(Deltagere!G300=\"\",\"\",Deltagere!G300)","v":""},2000,""]
[null,{"$f":"Deltagere!B301","v":298},{"$f":"IF(Deltagere!C301=\"\",\"\",Deltagere!C301)","v":""},{"$f":"IF(Deltagere!G301=\"\",\"\",Deltagere!G301)","v":""},2000,""]
[null,{"$f":"Deltagere!B302","v":299},{"$f":"IF(Deltagere!C302=\"\",\"\",Deltagere!C302)","v":""},{"$f":"IF(Deltagere!G302=\"\",\"\",Deltagere!G302)","v":""},2000,""]
[null,{"$f":"Deltagere!B303","v":300},{"$f":"IF(Deltagere!C303=\"\",\"\",Deltagere!C303)","v":""},{"$f":"IF(Deltagere!G303=\"\",\"\",Deltagere!G303)","v":""},2000,""]
[null,{"$f":"Deltagere!B304","v":301},{"$f":"IF(Deltagere!C304=\"\",\"\",Deltagere!C304)","v":"Svend Faigh"},{"$f":"IF(Deltagere!G304=\"\",\"\",Deltagere!G304)","v":"x"},301,1]
[null,{"$f":"Deltagere!B305","v":302},{"$f":"IF(Deltagere!C305=\"\",\"\",Deltagere!C305)","v":"Jørgen Hugo Larsen"},{"$f":"IF(Deltagere!G305=\"\",\"\",Deltagere!G305)","v":"x"},302,1]
[null,{"$f":"Deltagere!B306","v":303},{"$f":"IF(Deltagere!C306=\"\",\"\",Deltagere!C306)","v":"Lone Nielsen"},{"$f":"IF(Deltagere!G306=\"\",\"\",Deltagere!G306)","v":"x"},303,1]
[null,{"$f":"Deltagere!B307","v":304},{"$f":"IF(Deltagere!C307=\"\",\"\",Deltagere!C307)","v":""},{"$f":"IF(Deltagere!G307=\"\",\"\",Deltagere!G307)","v":""},2000,""]
[null,{"$f":"Deltagere!B308","v":305},{"$f":"IF(Deltagere!C308=\"\",\"\",Deltagere!C308)","v":"Annette Lykke Madsen"},{"$f":"IF(Deltagere!G308=\"\",\"\",Deltagere!G308)","v":"x"},305,1]
[null,{"$f":"Deltagere!B309","v":306},{"$f":"IF(Deltagere!C309=\"\",\"\",Deltagere!C309)","v":"Alex Schackinger"},{"$f":"IF(Deltagere!G309=\"\",\"\",Deltagere!G309)","v":""},2000,""]
[null,{"$f":"Deltagere!B310","v":307},{"$f":"IF(Deltagere!C310=\"\",\"\",Deltagere!C310)","v":"Åge  Zcharau"},{"$f":"IF(Deltagere!G310=\"\",\"\",Deltagere!G310)","v":"x"},307,1]
[null,{"$f":"Deltagere!B311","v":308},{"$f":"IF(Deltagere!C311=\"\",\"\",Deltagere!C311)","v":"Conny Schackinger"},{"$f":"IF(Deltagere!G311=\"\",\"\",Deltagere!G311)","v":"x"},308,1]
[null,{"$f":"Deltagere!B312","v":309},{"$f":"IF(Deltagere!C312=\"\",\"\",Deltagere!C312)","v":"Birthe Blom"},{"$f":"IF(Deltagere!G312=\"\",\"\",Deltagere!G312)","v":""},2000,""]
[null,{"$f":"Deltagere!B313","v":310},{"$f":"IF(Deltagere!C313=\"\",\"\",Deltagere!C313)","v":"Annette Traulsen"},{"$f":"IF(Deltagere!G313=\"\",\"\",Deltagere!G313)","v":"x"},310,1]
[null,{"$f":"Deltagere!B314","v":311},{"$f":"IF(Deltagere!C314=\"\",\"\",Deltagere!C314)","v":"Per Aune"},{"$f":"IF(Deltagere!G314=\"\",\"\",Deltagere!G314)","v":"x"},311,1]
[null,{"$f":"Deltagere!B315","v":312},{"$f":"IF(Deltagere!C315=\"\",\"\",Deltagere!C315)","v":"Annie Dresler"},{"$f":"IF(Deltagere!G315=\"\",\"\",Deltagere!G315)","v":""},2000,""]
[null,{"$f":"Deltagere!B316","v":313},{"$f":"IF(Deltagere!C316=\"\",\"\",Deltagere!C316)","v":"Gunnar Frandsen"},{"$f":"IF(Deltagere!G316=\"\",\"\",Deltagere!G316)","v":""},2000,""]
[null,{"$f":"Deltagere!B317","v":314},{"$f":"IF(Deltagere!C317=\"\",\"\",Deltagere!C317)","v":"Rita Jørgensen"},{"$f":"IF(Deltagere!G317=\"\",\"\",Deltagere!G317)","v":""},2000,""]
[null,{"$f":"Deltagere!B318","v":315},{"$f":"IF(Deltagere!C318=\"\",\"\",Deltagere!C318)","v":"Tove Perlt"},{"$f":"IF(Deltagere!G318=\"\",\"\",Deltagere!G318)","v":"x"},315,1]
[null,{"$f":"Deltagere!B319","v":316},{"$f":"IF(Deltagere!C319=\"\",\"\",Deltagere!C319)","v":"Preben Madsen"},{"$f":"IF(Deltagere!G319=\"\",\"\",Deltagere!G319)","v":"x"},316,1]
[null,{"$f":"Deltagere!B320","v":317},{"$f":"IF(Deltagere!C320=\"\",\"\",Deltagere!C320)","v":"Lis Rasmussen"},{"$f":"IF(Deltagere!G320=\"\",\"\",Deltagere!G320)","v":"x"},317,1]
[null,{"$f":"Deltagere!B321","v":318},{"$f":"IF(Deltagere!C321=\"\",\"\",Deltagere!C321)","v":"Peter Sølsten"},{"$f":"IF(Deltagere!G321=\"\",\"\",Deltagere!G321)","v":"x"},318,1]
[null,{"$f":"Deltagere!B322","v":319},{"$f":"IF(Deltagere!C322=\"\",\"\",Deltagere!C322)","v":""},{"$f":"IF(Deltagere!G322=\"\",\"\",Deltagere!G322)","v":""},2000,""]
[null,{"$f":"Deltagere!B323","v":320},{"$f":"IF(Deltagere!C323=\"\",\"\",Deltagere!C323)","v":"Margit Larsen"},{"$f":"IF(Deltagere!G323=\"\",\"\",Deltagere!G323)","v":"x"},320,1]
[null,{"$f":"Deltagere!B324","v":321},{"$f":"IF(Deltagere!C324=\"\",\"\",Deltagere!C324)","v":""},{"$f":"IF(Deltagere!G324=\"\",\"\",Deltagere!G324)","v":""},2000,""]
[null,{"$f":"Deltagere!B325","v":322},{"$f":"IF(Deltagere!C325=\"\",\"\",Deltagere!C325)","v":"Anette Nielsen"},{"$f":"IF(Deltagere!G325=\"\",\"\",Deltagere!G325)","v":"x"},{"$f":"IF(D332=\"x\",B332,2000)","v":322},{"$f":"IF(E332=2000,\"\",1)","v":1}]
[null,{"$f":"Deltagere!B326","v":323},{"$f":"IF(Deltagere!C326=\"\",\"\",Deltagere!C326)","v":""},{"$f":"IF(Deltagere!G326=\"\",\"\",Deltagere!G326)","v":""},2000,""]
[null,{"$f":"Deltagere!B327","v":324},{"$f":"IF(Deltagere!C327=\"\",\"\",Deltagere!C327)","v":""},{"$f":"IF(Deltagere!G327=\"\",\"\",Deltagere!G327)","v":""},2000,""]
[null,{"$f":"Deltagere!B328","v":325},{"$f":"IF(Deltagere!C328=\"\",\"\",Deltagere!C328)","v":""},{"$f":"IF(Deltagere!G328=\"\",\"\",Deltagere!G328)","v":""},2000,""]
[null,{"$f":"Deltagere!B329","v":326},{"$f":"IF(Deltagere!C329=\"\",\"\",Deltagere!C329)","v":""},{"$f":"IF(Deltagere!G329=\"\",\"\",Deltagere!G329)","v":""},2000,""]
[null,{"$f":"Deltagere!B330","v":327},{"$f":"IF(Deltagere!C330=\"\",\"\",Deltagere!C330)","v":"Mogens Kortegaard"},{"$f":"IF(Deltagere!G330=\"\",\"\",Deltagere!G330)","v":"x"},327,1]
[null,{"$f":"Deltagere!B331","v":328},{"$f":"IF(Deltagere!C331=\"\",\"\",Deltagere!C331)","v":"Annie Damsgaard"},{"$f":"IF(Deltagere!G331=\"\",\"\",Deltagere!G331)","v":"x"},328,1]
[null,{"$f":"Deltagere!B332","v":329},{"$f":"IF(Deltagere!C332=\"\",\"\",Deltagere!C332)","v":""},{"$f":"IF(Deltagere!G332=\"\",\"\",Deltagere!G332)","v":""},2000,""]
[null,{"$f":"Deltagere!B333","v":330},{"$f":"IF(Deltagere!C333=\"\",\"\",Deltagere!C333)","v":""},{"$f":"IF(Deltagere!G333=\"\",\"\",Deltagere!G333)","v":""},2000,""]
[null,{"$f":"Deltagere!B334","v":331},{"$f":"IF(Deltagere!C334=\"\",\"\",Deltagere!C334)","v":""},{"$f":"IF(Deltagere!G334=\"\",\"\",Deltagere!G334)","v":""},2000,""]
[null,{"$f":"Deltagere!B335","v":332},{"$f":"IF(Deltagere!C335=\"\",\"\",Deltagere!C335)","v":""},{"$f":"IF(Deltagere!G335=\"\",\"\",Deltagere!G335)","v":""},2000,""]
[null,{"$f":"Deltagere!B336","v":333},{"$f":"IF(Deltagere!C336=\"\",\"\",Deltagere!C336)","v":""},{"$f":"IF(Deltagere!G336=\"\",\"\",Deltagere!G336)","v":""},2000,""]
[null,{"$f":"Deltagere!B337","v":334},{"$f":"IF(Deltagere!C337=\"\",\"\",Deltagere!C337)","v":""},{"$f":"IF(Deltagere!G337=\"\",\"\",Deltagere!G337)","v":""},2000,""]
[null,{"$f":"Deltagere!B338","v":335},{"$f":"IF(Deltagere!C338=\"\",\"\",Deltagere!C338)","v":""},{"$f":"IF(Deltagere!G338=\"\",\"\",Deltagere!G338)","v":""},2000,""]
[null,{"$f":"Deltagere!B339","v":336},{"$f":"IF(Deltagere!C339=\"\",\"\",Deltagere!C339)","v":""},{"$f":"IF(Deltagere!G339=\"\",\"\",Deltagere!G339)","v":""},2000,""]
[null,{"$f":"Deltagere!B340","v":337},{"$f":"IF(Deltagere!C340=\"\",\"\",Deltagere!C340)","v":""},{"$f":"IF(Deltagere!G340=\"\",\"\",Deltagere!G340)","v":""},2000,""]
[null,{"$f":"Deltagere!B341","v":338},{"$f":"IF(Deltagere!C341=\"\",\"\",Deltagere!C341)","v":""},{"$f":"IF(Deltagere!G341=\"\",\"\",Deltagere!G341)","v":""},2000,""]
[null,{"$f":"Deltagere!B342","v":339},{"$f":"IF(Deltagere!C342=\"\",\"\",Deltagere!C342)","v":""},{"$f":"IF(Deltagere!G342=\"\",\"\",Deltagere!G342)","v":""},2000,""]
[null,{"$f":"Deltagere!B343","v":340},{"$f":"IF(Deltagere!C343=\"\",\"\",Deltagere!C343)","v":""},{"$f":"IF(Deltagere!G343=\"\",\"\",Deltagere!G343)","v":""},2000,""]
[null,{"$f":"Deltagere!B344","v":341},{"$f":"IF(Deltagere!C344=\"\",\"\",Deltagere!C344)","v":""},{"$f":"IF(Deltagere!G344=\"\",\"\",Deltagere!G344)","v":""},2000,""]
[null,{"$f":"Deltagere!B345","v":342},{"$f":"IF(Deltagere!C345=\"\",\"\",Deltagere!C345)","v":""},{"$f":"IF(Deltagere!G345=\"\",\"\",Deltagere!G345)","v":""},2000,""]
[null,{"$f":"Deltagere!B346","v":343},{"$f":"IF(Deltagere!C346=\"\",\"\",Deltagere!C346)","v":""},{"$f":"IF(Deltagere!G346=\"\",\"\",Deltagere!G346)","v":""},2000,""]
[null,{"$f":"Deltagere!B347","v":344},{"$f":"IF(Deltagere!C347=\"\",\"\",Deltagere!C347)","v":""},{"$f":"IF(Deltagere!G347=\"\",\"\",Deltagere!G347)","v":""},2000,""]
[null,{"$f":"Deltagere!B348","v":345},{"$f":"IF(Deltagere!C348=\"\",\"\",Deltagere!C348)","v":""},{"$f":"IF(Deltagere!G348=\"\",\"\",Deltagere!G348)","v":""},2000,""]
[null,{"$f":"Deltagere!B349","v":346},{"$f":"IF(Deltagere!C349=\"\",\"\",Deltagere!C349)","v":""},{"$f":"IF(Deltagere!G349=\"\",\"\",Deltagere!G349)","v":""},2000,""]
[null,{"$f":"Deltagere!B350","v":347},{"$f":"IF(Deltagere!C350=\"\",\"\",Deltagere!C350)","v":""},{"$f":"IF(Deltagere!G350=\"\",\"\",Deltagere!G350)","v":""},2000,""]
[null,{"$f":"Deltagere!B351","v":348},{"$f":"IF(Deltagere!C351=\"\",\"\",Deltagere!C351)","v":""},{"$f":"IF(Deltagere!G351=\"\",\"\",Deltagere!G351)","v":""},2000,""]
[null,{"$f":"Deltagere!B352","v":349},{"$f":"IF(Deltagere!C352=\"\",\"\",Deltagere!C352)","v":""},{"$f":"IF(Deltagere!G352=\"\",\"\",Deltagere!G352)","v":""},2000,""]
[null,{"$f":"Deltagere!B353","v":350},{"$f":"IF(Deltagere!C353=\"\",\"\",Deltagere!C353)","v":""},{"$f":"IF(Deltagere!G353=\"\",\"\",Deltagere!G353)","v":""},2000,""]
[null,{"$f":"Deltagere!B354","v":351},{"$f":"IF(Deltagere!C354=\"\",\"\",Deltagere!C354)","v":"Børge Jul Pedersen"},{"$f":"IF(Deltagere!G354=\"\",\"\",Deltagere!G354)","v":""},2000,""]
[null,{"$f":"Deltagere!B355","v":352},{"$f":"IF(Deltagere!C355=\"\",\"\",Deltagere!C355)","v":"Grethe Clausen"},{"$f":"IF(Deltagere!G355=\"\",\"\",Deltagere!G355)","v":""},2000,""]
[null,{"$f":"Deltagere!B356","v":353},{"$f":"IF(Deltagere!C356=\"\",\"\",Deltagere!C356)","v":"Helge Eilersen"},{"$f":"IF(Deltagere!G356=\"\",\"\",Deltagere!G356)","v":""},2000,""]
[null,{"$f":"Deltagere!B357","v":354},{"$f":"IF(Deltagere!C357=\"\",\"\",Deltagere!C357)","v":"Tobias Peter Nielsen"},{"$f":"IF(Deltagere!G357=\"\",\"\",Deltagere!G357)","v":""},2000,""]
[null,{"$f":"Deltagere!B358","v":355},{"$f":"IF(Deltagere!C358=\"\",\"\",Deltagere!C358)","v":""},{"$f":"IF(Deltagere!G358=\"\",\"\",Deltagere!G358)","v":""},2000,""]
[null,{"$f":"Deltagere!B359","v":356},{"$f":"IF(Deltagere!C359=\"\",\"\",Deltagere!C359)","v":"Jørgen Laursen"},{"$f":"IF(Deltagere!G359=\"\",\"\",Deltagere!G359)","v":""},2000,""]
[null,{"$f":"Deltagere!B360","v":357},{"$f":"IF(Deltagere!C360=\"\",\"\",Deltagere!C360)","v":"Sim Krahl"},{"$f":"IF(Deltagere!G360=\"\",\"\",Deltagere!G360)","v":""},2000,""]
[null,{"$f":"Deltagere!B361","v":358},{"$f":"IF(Deltagere!C361=\"\",\"\",Deltagere!C361)","v":"Tage Clausen"},{"$f":"IF(Deltagere!G361=\"\",\"\",Deltagere!G361)","v":""},2000,""]
[null,{"$f":"Deltagere!B362","v":359},{"$f":"IF(Deltagere!C362=\"\",\"\",Deltagere!C362)","v":"Kirsten Eilersen"},{"$f":"IF(Deltagere!G362=\"\",\"\",Deltagere!G362)","v":""},2000,""]
[null,{"$f":"Deltagere!B363","v":360},{"$f":"IF(Deltagere!C363=\"\",\"\",Deltagere!C363)","v":"Benny Arne Sigvardt"},{"$f":"IF(Deltagere!G363=\"\",\"\",Deltagere!G363)","v":""},2000,""]
[null,{"$f":"Deltagere!B364","v":361},{"$f":"IF(Deltagere!C364=\"\",\"\",Deltagere!C364)","v":"Bente J. Pedersen"},{"$f":"IF(Deltagere!G364=\"\",\"\",Deltagere!G364)","v":""},2000,""]
[null,{"$f":"Deltagere!B365","v":362},{"$f":"IF(Deltagere!C365=\"\",\"\",Deltagere!C365)","v":"Lone Vilhelmsen"},{"$f":"IF(Deltagere!G365=\"\",\"\",Deltagere!G365)","v":""},2000,""]
[null,{"$f":"Deltagere!B366","v":363},{"$f":"IF(Deltagere!C366=\"\",\"\",Deltagere!C366)","v":"Lis Maack"},{"$f":"IF(Deltagere!G366=\"\",\"\",Deltagere!G366)","v":""},2000,""]
[null,{"$f":"Deltagere!B367","v":364},{"$f":"IF(Deltagere!C367=\"\",\"\",Deltagere!C367)","v":"Sven Åge Vilhelmsen"},{"$f":"IF(Deltagere!G367=\"\",\"\",Deltagere!G367)","v":""},2000,""]
[null,{"$f":"Deltagere!B368","v":365},{"$f":"IF(Deltagere!C368=\"\",\"\",Deltagere!C368)","v":"Ole Bæk Olsen"},{"$f":"IF(Deltagere!G368=\"\",\"\",Deltagere!G368)","v":""},2000,""]
[null,{"$f":"Deltagere!B369","v":366},{"$f":"IF(Deltagere!C369=\"\",\"\",Deltagere!C369)","v":"Henrik Rasmussen"},{"$f":"IF(Deltagere!G369=\"\",\"\",Deltagere!G369)","v":""},2000,""]
[null,{"$f":"Deltagere!B370","v":367},{"$f":"IF(Deltagere!C370=\"\",\"\",Deltagere!C370)","v":"Janne Rasmussen"},{"$f":"IF(Deltagere!G370=\"\",\"\",Deltagere!G370)","v":""},2000,""]
[null,{"$f":"Deltagere!B371","v":368},{"$f":"IF(Deltagere!C371=\"\",\"\",Deltagere!C371)","v":"Frank Ness"},{"$f":"IF(Deltagere!G371=\"\",\"\",Deltagere!G371)","v":""},2000,""]
[null,{"$f":"Deltagere!B372","v":369},{"$f":"IF(Deltagere!C372=\"\",\"\",Deltagere!C372)","v":"Bente Ness"},{"$f":"IF(Deltagere!G372=\"\",\"\",Deltagere!G372)","v":""},2000,""]
[null,{"$f":"Deltagere!B373","v":370},{"$f":"IF(Deltagere!C373=\"\",\"\",Deltagere!C373)","v":"Bebs Andersen"},{"$f":"IF(Deltagere!G373=\"\",\"\",Deltagere!G373)","v":""},2000,""]
[null,{"$f":"Deltagere!B374","v":371},{"$f":"IF(Deltagere!C374=\"\",\"\",Deltagere!C374)","v":"Henrik Hansen"},{"$f":"IF(Deltagere!G374=\"\",\"\",Deltagere!G374)","v":""},2000,""]
[null,{"$f":"Deltagere!B375","v":372},{"$f":"IF(Deltagere!C375=\"\",\"\",Deltagere!C375)","v":"Lise Nielsen"},{"$f":"IF(Deltagere!G375=\"\",\"\",Deltagere!G375)","v":""},2000,""]
[null,{"$f":"Deltagere!B376","v":373},{"$f":"IF(Deltagere!C376=\"\",\"\",Deltagere!C376)","v":"Mariane Mambell"},{"$f":"IF(Deltagere!G376=\"\",\"\",Deltagere!G376)","v":""},2000,""]
[null,{"$f":"Deltagere!B377","v":374},{"$f":"IF(Deltagere!C377=\"\",\"\",Deltagere!C377)","v":""},{"$f":"IF(Deltagere!G377=\"\",\"\",Deltagere!G377)","v":""},2000,""]
[null,{"$f":"Deltagere!B378","v":375},{"$f":"IF(Deltagere!C378=\"\",\"\",Deltagere!C378)","v":""},{"$f":"IF(Deltagere!G378=\"\",\"\",Deltagere!G378)","v":""},2000,""]
[null,{"$f":"Deltagere!B379","v":376},{"$f":"IF(Deltagere!C379=\"\",\"\",Deltagere!C379)","v":""},{"$f":"IF(Deltagere!G379=\"\",\"\",Deltagere!G379)","v":""},2000,""]
[null,{"$f":"Deltagere!B380","v":377},{"$f":"IF(Deltagere!C380=\"\",\"\",Deltagere!C380)","v":""},{"$f":"IF(Deltagere!G380=\"\",\"\",Deltagere!G380)","v":""},2000,""]
[null,{"$f":"Deltagere!B381","v":378},{"$f":"IF(Deltagere!C381=\"\",\"\",Deltagere!C381)","v":""},{"$f":"IF(Deltagere!G381=\"\",\"\",Deltagere!G381)","v":""},2000,""]
[null,{"$f":"Deltagere!B382","v":379},{"$f":"IF(Deltagere!C382=\"\",\"\",Deltagere!C382)","v":""},{"$f":"IF(Deltagere!G382=\"\",\"\",Deltagere!G382)","v":""},2000,""]
[null,{"$f":"Deltagere!B383","v":380},{"$f":"IF(Deltagere!C383=\"\",\"\",Deltagere!C383)","v":""},{"$f":"IF(Deltagere!G383=\"\",\"\",Deltagere!G383)","v":""},2000,""]
[null,{"$f":"Deltagere!B384","v":381},{"$f":"IF(Deltagere!C384=\"\",\"\",Deltagere!C384)","v":""},{"$f":"IF(Deltagere!G384=\"\",\"\",Deltagere!G384)","v":""},2000,""]
[null,{"$f":"Deltagere!B385","v":382},{"$f":"IF(Deltagere!C385=\"\",\"\",Deltagere!C385)","v":""},{"$f":"IF(Deltagere!G385=\"\",\"\",Deltagere!G385)","v":""},2000,""]
[null,{"$f":"Deltagere!B386","v":383},{"$f":"IF(Deltagere!C386=\"\",\"\",Deltagere!C386)","v":""},{"$f":"IF(Deltagere!G386=\"\",\"\",Deltagere!G386)","v":""},2000,""]
[null,{"$f":"Deltagere!B387","v":384},{"$f":"IF(Deltagere!C387=\"\",\"\",Deltagere!C387)","v":""},{"$f":"IF(Deltagere!G387=\"\",\"\",Deltagere!G387)","v":""},2000,""]
[null,{"$f":"Deltagere!B388","v":385},{"$f":"IF(Deltagere!C388=\"\",\"\",Deltagere!C388)","v":""},{"$f":"IF(Deltagere!G388=\"\",\"\",Deltagere!G388)","v":""},2000,""]
[null,{"$f":"Deltagere!B389","v":386},{"$f":"IF(Deltagere!C389=\"\",\"\",Deltagere!C389)","v":""},{"$f":"IF(Deltagere!G389=\"\",\"\",Deltagere!G389)","v":""},{"$f":"IF(D396=\"x\",B396,2000)","v":2000},{"$f":"IF(E396=2000,\"\",1)","v":""}]
[null,{"$f":"Deltagere!B390","v":387},{"$f":"IF(Deltagere!C390=\"\",\"\",Deltagere!C390)","v":""},{"$f":"IF(Deltagere!G390=\"\",\"\",Deltagere!G390)","v":""},2000,""]
[null,{"$f":"Deltagere!B391","v":388},{"$f":"IF(Deltagere!C391=\"\",\"\",Deltagere!C391)","v":""},{"$f":"IF(Deltagere!G391=\"\",\"\",Deltagere!G391)","v":""},2000,""]
[null,{"$f":"Deltagere!B392","v":389},{"$f":"IF(Deltagere!C392=\"\",\"\",Deltagere!C392)","v":""},{"$f":"IF(Deltagere!G392=\"\",\"\",Deltagere!G392)","v":""},2000,""]
[null,{"$f":"Deltagere!B393","v":390},{"$f":"IF(Deltagere!C393=\"\",\"\",Deltagere!C393)","v":""},{"$f":"IF(Deltagere!G393=\"\",\"\",Deltagere!G393)","v":""},2000,""]
[null,{"$f":"Deltagere!B394","v":391},{"$f":"IF(Deltagere!C394=\"\",\"\",Deltagere!C394)","v":""},{"$f":"IF(Deltagere!G394=\"\",\"\",Deltagere!G394)","v":""},2000,""]
[null,{"$f":"Deltagere!B395","v":392},{"$f":"IF(Deltagere!C395=\"\",\"\",Deltagere!C395)","v":""},{"$f":"IF(Deltagere!G395=\"\",\"\",Deltagere!G395)","v":""},2000,""]
[null,{"$f":"Deltagere!B396","v":393},{"$f":"IF(Deltagere!C396=\"\",\"\",Deltagere!C396)","v":""},{"$f":"IF(Deltagere!G396=\"\",\"\",Deltagere!G396)","v":""},2000,""]
[null,{"$f":"Deltagere!B397","v":394},{"$f":"IF(Deltagere!C397=\"\",\"\",Deltagere!C397)","v":""},{"$f":"IF(Deltagere!G397=\"\",\"\",Deltagere!G397)","v":""},2000,""]
[null,{"$f":"Deltagere!B398","v":395},{"$f":"IF(Deltagere!C398=\"\",\"\",Deltagere!C398)","v":""},{"$f":"IF(Deltagere!G398=\"\",\"\",Deltagere!G398)","v":""},2000,""]
[null,{"$f":"Deltagere!B399","v":396},{"$f":"IF(Deltagere!C399=\"\",\"\",Deltagere!C399)","v":""},{"$f":"IF(Deltagere!G399=\"\",\"\",Deltagere!G399)","v":""},2000,""]
[null,{"$f":"Deltagere!B400","v":397},{"$f":"IF(Deltagere!C400=\"\",\"\",Deltagere!C400)","v":""},{"$f":"IF(Deltagere!G400=\"\",\"\",Deltagere!G400)","v":""},2000,""]
[null,{"$f":"Deltagere!B401","v":398},{"$f":"IF(Deltagere!C401=\"\",\"\",Deltagere!C401)","v":""},{"$f":"IF(Deltagere!G401=\"\",\"\",Deltagere!G401)","v":""},2000,""]
[null,{"$f":"Deltagere!B402","v":399},{"$f":"IF(Deltagere!C402=\"\",\"\",Deltagere!C402)","v":""},{"$f":"IF(Deltagere!G402=\"\",\"\",Deltagere!G402)","v":""},2000,""]
[null,{"$f":"Deltagere!B403","v":400},{"$f":"IF(Deltagere!C403=\"\",\"\",Deltagere!C403)","v":""},{"$f":"IF(Deltagere!G403=\"\",\"\",Deltagere!G403)","v":""},2000,""]
[null,{"$f":"Deltagere!B404","v":401},{"$f":"IF(Deltagere!C404=\"\",\"\",Deltagere!C404)","v":"Hilmer Kampsø"},{"$f":"IF(Deltagere!G404=\"\",\"\",Deltagere!G404)","v":""},2000,""]
[null,{"$f":"Deltagere!B405","v":402},{"$f":"IF(Deltagere!C405=\"\",\"\",Deltagere!C405)","v":"Walter Henriques"},{"$f":"IF(Deltagere!G405=\"\",\"\",Deltagere!G405)","v":""},2000,""]
[null,{"$f":"Deltagere!B406","v":403},{"$f":"IF(Deltagere!C406=\"\",\"\",Deltagere!C406)","v":"Per Jensen"},{"$f":"IF(Deltagere!G406=\"\",\"\",Deltagere!G406)","v":""},2000,""]
[null,{"$f":"Deltagere!B407","v":404},{"$f":"IF(Deltagere!C407=\"\",\"\",Deltagere!C407)","v":"Michael Nørholt"},{"$f":"IF(Deltagere!G407=\"\",\"\",Deltagere!G407)","v":""},2000,""]
[null,{"$f":"Deltagere!B408","v":405},{"$f":"IF(Deltagere!C408=\"\",\"\",Deltagere!C408)","v":"Natacha Uhre"},{"$f":"IF(Deltagere!G408=\"\",\"\",Deltagere!G408)","v":""},2000,""]
[null,{"$f":"Deltagere!B409","v":406},{"$f":"IF(Deltagere!C409=\"\",\"\",Deltagere!C409)","v":"Torben Jensen"},{"$f":"IF(Deltagere!G409=\"\",\"\",Deltagere!G409)","v":""},2000,""]
[null,{"$f":"Deltagere!B410","v":407},{"$f":"IF(Deltagere!C410=\"\",\"\",Deltagere!C410)","v":"Ida U."},{"$f":"IF(Deltagere!G410=\"\",\"\",Deltagere!G410)","v":""},2000,""]
[null,{"$f":"Deltagere!B411","v":408},{"$f":"IF(Deltagere!C411=\"\",\"\",Deltagere!C411)","v":"Niels Esbech"},{"$f":"IF(Deltagere!G411=\"\",\"\",Deltagere!G411)","v":""},2000,""]
[null,{"$f":"Deltagere!B412","v":409},{"$f":"IF(Deltagere!C412=\"\",\"\",Deltagere!C412)","v":"DirchThøgersen"},{"$f":"IF(Deltagere!G412=\"\",\"\",Deltagere!G412)","v":""},2000,""]
[null,{"$f":"Deltagere!B413","v":410},{"$f":"IF(Deltagere!C413=\"\",\"\",Deltagere!C413)","v":"Isabel Laier"},{"$f":"IF(Deltagere!G413=\"\",\"\",Deltagere!G413)","v":""},2000,""]
[null,{"$f":"Deltagere!B414","v":411},{"$f":"IF(Deltagere!C414=\"\",\"\",Deltagere!C414)","v":"Rene Rafen"},{"$f":"IF(Deltagere!G414=\"\",\"\",Deltagere!G414)","v":""},2000,""]
[null,{"$f":"Deltagere!B415","v":412},{"$f":"IF(Deltagere!C415=\"\",\"\",Deltagere!C415)","v":"Susanne Kuhnau"},{"$f":"IF(Deltagere!G415=\"\",\"\",Deltagere!G415)","v":""},2000,""]
[null,{"$f":"Deltagere!B416","v":413},{"$f":"IF(Deltagere!C416=\"\",\"\",Deltagere!C416)","v":"Steen Møller"},{"$f":"IF(Deltagere!G416=\"\",\"\",Deltagere!G416)","v":""},2000,""]
[null,{"$f":"Deltagere!B417","v":414},{"$f":"IF(Deltagere!C417=\"\",\"\",Deltagere!C417)","v":"Søren Holger Jensen"},{"$f":"IF(Deltagere!G417=\"\",\"\",Deltagere!G417)","v":""},2000,""]
[null,{"$f":"Deltagere!B418","v":415},{"$f":"IF(Deltagere!C418=\"\",\"\",Deltagere!C418)","v":"Betina Kuhnau"},{"$f":"IF(Deltagere!G418=\"\",\"\",Deltagere!G418)","v":""},2000,""]
[null,{"$f":"Deltagere!B419","v":416},{"$f":"IF(Deltagere!C419=\"\",\"\",Deltagere!C419)","v":"Henrik Binderup"},{"$f":"IF(Deltagere!G419=\"\",\"\",Deltagere!G419)","v":""},2000,""]
[null,{"$f":"Deltagere!B420","v":417},{"$f":"IF(Deltagere!C420=\"\",\"\",Deltagere!C420)","v":"Lene Agergaard"},{"$f":"IF(Deltagere!G420=\"\",\"\",Deltagere!G420)","v":""},2000,""]
[null,{"$f":"Deltagere!B421","v":418},{"$f":"IF(Deltagere!C421=\"\",\"\",Deltagere!C421)","v":"Stine Olsen"},{"$f":"IF(Deltagere!G421=\"\",\"\",Deltagere!G421)","v":""},2000,""]
[null,{"$f":"Deltagere!B422","v":419},{"$f":"IF(Deltagere!C422=\"\",\"\",Deltagere!C422)","v":""},{"$f":"IF(Deltagere!G422=\"\",\"\",Deltagere!G422)","v":""},2000,""]
[null,{"$f":"Deltagere!B423","v":420},{"$f":"IF(Deltagere!C423=\"\",\"\",Deltagere!C423)","v":""},{"$f":"IF(Deltagere!G423=\"\",\"\",Deltagere!G423)","v":""},2000,""]
[null,{"$f":"Deltagere!B424","v":421},{"$f":"IF(Deltagere!C424=\"\",\"\",Deltagere!C424)","v":""},{"$f":"IF(Deltagere!G424=\"\",\"\",Deltagere!G424)","v":""},2000,""]
[null,{"$f":"Deltagere!B425","v":422},{"$f":"IF(Deltagere!C425=\"\",\"\",Deltagere!C425)","v":""},{"$f":"IF(Deltagere!G425=\"\",\"\",Deltagere!G425)","v":""},2000,""]
[null,{"$f":"Deltagere!B426","v":423},{"$f":"IF(Deltagere!C426=\"\",\"\",Deltagere!C426)","v":""},{"$f":"IF(Deltagere!G426=\"\",\"\",Deltagere!G426)","v":""},2000,""]
[null,{"$f":"Deltagere!B427","v":424},{"$f":"IF(Deltagere!C427=\"\",\"\",Deltagere!C427)","v":""},{"$f":"IF(Deltagere!G427=\"\",\"\",Deltagere!G427)","v":""},2000,""]
[null,{"$f":"Deltagere!B428","v":425},{"$f":"IF(Deltagere!C428=\"\",\"\",Deltagere!C428)","v":""},{"$f":"IF(Deltagere!G428=\"\",\"\",Deltagere!G428)","v":""},2000,""]
[null,{"$f":"Deltagere!B429","v":426},{"$f":"IF(Deltagere!C429=\"\",\"\",Deltagere!C429)","v":""},{"$f":"IF(Deltagere!G429=\"\",\"\",Deltagere!G429)","v":""},2000,""]
[null,{"$f":"Deltagere!B430","v":427},{"$f":"IF(Deltagere!C430=\"\",\"\",Deltagere!C430)","v":""},{"$f":"IF(Deltagere!G430=\"\",\"\",Deltagere!G430)","v":""},2000,""]
[null,{"$f":"Deltagere!B431","v":428},{"$f":"IF(Deltagere!C431=\"\",\"\",Deltagere!C431)","v":""},{"$f":"IF(Deltagere!G431=\"\",\"\",Deltagere!G431)","v":""},2000,""]
[null,{"$f":"Deltagere!B432","v":429},{"$f":"IF(Deltagere!C432=\"\",\"\",Deltagere!C432)","v":""},{"$f":"IF(Deltagere!G432=\"\",\"\",Deltagere!G432)","v":""},2000,""]
[null,{"$f":"Deltagere!B433","v":430},{"$f":"IF(Deltagere!C433=\"\",\"\",Deltagere!C433)","v":""},{"$f":"IF(Deltagere!G433=\"\",\"\",Deltagere!G433)","v":""},2000,""]
[null,{"$f":"Deltagere!B434","v":431},{"$f":"IF(Deltagere!C434=\"\",\"\",Deltagere!C434)","v":""},{"$f":"IF(Deltagere!G434=\"\",\"\",Deltagere!G434)","v":""},2000,""]
[null,{"$f":"Deltagere!B435","v":432},{"$f":"IF(Deltagere!C435=\"\",\"\",Deltagere!C435)","v":""},{"$f":"IF(Deltagere!G435=\"\",\"\",Deltagere!G435)","v":""},2000,""]
[null,{"$f":"Deltagere!B436","v":433},{"$f":"IF(Deltagere!C436=\"\",\"\",Deltagere!C436)","v":""},{"$f":"IF(Deltagere!G436=\"\",\"\",Deltagere!G436)","v":""},2000,""]
[null,{"$f":"Deltagere!B437","v":434},{"$f":"IF(Deltagere!C437=\"\",\"\",Deltagere!C437)","v":""},{"$f":"IF(Deltagere!G437=\"\",\"\",Deltagere!G437)","v":""},2000,""]
[null,{"$f":"Deltagere!B438","v":435},{"$f":"IF(Deltagere!C438=\"\",\"\",Deltagere!C438)","v":""},{"$f":"IF(Deltagere!G438=\"\",\"\",Deltagere!G438)","v":""},2000,""]
[null,{"$f":"Deltagere!B439","v":436},{"$f":"IF(Deltagere!C439=\"\",\"\",Deltagere!C439)","v":""},{"$f":"IF(Deltagere!G439=\"\",\"\",Deltagere!G439)","v":""},2000,""]
[null,{"$f":"Deltagere!B440","v":437},{"$f":"IF(Deltagere!C440=\"\",\"\",Deltagere!C440)","v":""},{"$f":"IF(Deltagere!G440=\"\",\"\",Deltagere!G440)","v":""},2000,""]
[null,{"$f":"Deltagere!B441","v":438},{"$f":"IF(Deltagere!C441=\"\",\"\",Deltagere!C441)","v":""},{"$f":"IF(Deltagere!G441=\"\",\"\",Deltagere!G441)","v":""},2000,""]
[null,{"$f":"Deltagere!B442","v":439},{"$f":"IF(Deltagere!C442=\"\",\"\",Deltagere!C442)","v":""},{"$f":"IF(Deltagere!G442=\"\",\"\",Deltagere!G442)","v":""},2000,""]
[null,{"$f":"Deltagere!B443","v":440},{"$f":"IF(Deltagere!C443=\"\",\"\",Deltagere!C443)","v":""},{"$f":"IF(Deltagere!G443=\"\",\"\",Deltagere!G443)","v":""},2000,""]
[null,{"$f":"Deltagere!B444","v":441},{"$f":"IF(Deltagere!C444=\"\",\"\",Deltagere!C444)","v":""},{"$f":"IF(Deltagere!G444=\"\",\"\",Deltagere!G444)","v":""},2000,""]
[null,{"$f":"Deltagere!B445","v":442},{"$f":"IF(Deltagere!C445=\"\",\"\",Deltagere!C445)","v":""},{"$f":"IF(Deltagere!G445=\"\",\"\",Deltagere!G445)","v":""},2000,""]
[null,{"$f":"Deltagere!B446","v":443},{"$f":"IF(Deltagere!C446=\"\",\"\",Deltagere!C446)","v":""},{"$f":"IF(Deltagere!G446=\"\",\"\",Deltagere!G446)","v":""},2000,""]
[null,{"$f":"Deltagere!B447","v":444},{"$f":"IF(Deltagere!C447=\"\",\"\",Deltagere!C447)","v":""},{"$f":"IF(Deltagere!G447=\"\",\"\",Deltagere!G447)","v":""},2000,""]
[null,{"$f":"Deltagere!B448","v":445},{"$f":"IF(Deltagere!C448=\"\",\"\",Deltagere!C448)","v":""},{"$f":"IF(Deltagere!G448=\"\",\"\",Deltagere!G448)","v":""},2000,""]
[null,{"$f":"Deltagere!B449","v":446},{"$f":"IF(Deltagere!C449=\"\",\"\",Deltagere!C449)","v":""},{"$f":"IF(Deltagere!G449=\"\",\"\",Deltagere!G449)","v":""},2000,""]
[null,{"$f":"Deltagere!B450","v":447},{"$f":"IF(Deltagere!C450=\"\",\"\",Deltagere!C450)","v":""},{"$f":"IF(Deltagere!G450=\"\",\"\",Deltagere!G450)","v":""},2000,""]
[null,{"$f":"Deltagere!B451","v":448},{"$f":"IF(Deltagere!C451=\"\",\"\",Deltagere!C451)","v":""},{"$f":"IF(Deltagere!G451=\"\",\"\",Deltagere!G451)","v":""},2000,""]
[null,{"$f":"Deltagere!B452","v":449},{"$f":"IF(Deltagere!C452=\"\",\"\",Deltagere!C452)","v":""},{"$f":"IF(Deltagere!G452=\"\",\"\",Deltagere!G452)","v":""},2000,""]
[null,{"$f":"Deltagere!B453","v":450},{"$f":"IF(Deltagere!C453=\"\",\"\",Deltagere!C453)","v":""},{"$f":"IF(Deltagere!G453=\"\",\"\",Deltagere!G453)","v":""},{"$f":"IF(D460=\"x\",B460,2000)","v":2000},{"$f":"IF(E460=2000,\"\",1)","v":""}]
[null,{"$f":"Deltagere!B454","v":451},{"$f":"IF(Deltagere!C454=\"\",\"\",Deltagere!C454)","v":"Steen Lergard"},{"$f":"IF(Deltagere!G454=\"\",\"\",Deltagere!G454)","v":"x"},451,1]
[null,{"$f":"Deltagere!B455","v":452},{"$f":"IF(Deltagere!C455=\"\",\"\",Deltagere!C455)","v":"Helga Andersen"},{"$f":"IF(Deltagere!G455=\"\",\"\",Deltagere!G455)","v":"x"},452,1]
[null,{"$f":"Deltagere!B456","v":453},{"$f":"IF(Deltagere!C456=\"\",\"\",Deltagere!C456)","v":"Lone Hansen"},{"$f":"IF(Deltagere!G456=\"\",\"\",Deltagere!G456)","v":"x"},453,1]
[null,{"$f":"Deltagere!B457","v":454},{"$f":"IF(Deltagere!C457=\"\",\"\",Deltagere!C457)","v":"Erik Wagner"},{"$f":"IF(Deltagere!G457=\"\",\"\",Deltagere!G457)","v":"x"},454,1]
[null,{"$f":"Deltagere!B458","v":455},{"$f":"IF(Deltagere!C458=\"\",\"\",Deltagere!C458)","v":"Jette S. Olsen"},{"$f":"IF(Deltagere!G458=\"\",\"\",Deltagere!G458)","v":"x"},455,1]
[null,{"$f":"Deltagere!B459","v":456},{"$f":"IF(Deltagere!C459=\"\",\"\",Deltagere!C459)","v":"Hans Blomhøj"},{"$f":"IF(Deltagere!G459=\"\",\"\",Deltagere!G459)","v":""},2000,""]
[null,{"$f":"Deltagere!B460","v":457},{"$f":"IF(Deltagere!C460=\"\",\"\",Deltagere!C460)","v":"Lisser Kristensen"},{"$f":"IF(Deltagere!G460=\"\",\"\",Deltagere!G460)","v":"x"},457,1]
[null,{"$f":"Deltagere!B461","v":458},{"$f":"IF(Deltagere!C461=\"\",\"\",Deltagere!C461)","v":"Jørgen Hansen"},{"$f":"IF(Deltagere!G461=\"\",\"\",Deltagere!G461)","v":"x"},458,1]
[null,{"$f":"Deltagere!B462","v":459},{"$f":"IF(Deltagere!C462=\"\",\"\",Deltagere!C462)","v":"Michael Jørgensen"},{"$f":"IF(Deltagere!G462=\"\",\"\",Deltagere!G462)","v":"x"},459,1]
[null,{"$f":"Deltagere!B463","v":460},{"$f":"IF(Deltagere!C463=\"\",\"\",Deltagere!C463)","v":"Kaj Jacobsen"},{"$f":"IF(Deltagere!G463=\"\",\"\",Deltagere!G463)","v":""},2000,""]
[null,{"$f":"Deltagere!B464","v":461},{"$f":"IF(Deltagere!C464=\"\",\"\",Deltagere!C464)","v":"Hanne Hansen"},{"$f":"IF(Deltagere!G464=\"\",\"\",Deltagere!G464)","v":"x"},461,1]
[null,{"$f":"Deltagere!B465","v":462},{"$f":"IF(Deltagere!C465=\"\",\"\",Deltagere!C465)","v":"Inge Pedersen"},{"$f":"IF(Deltagere!G465=\"\",\"\",Deltagere!G465)","v":""},2000,""]
[null,{"$f":"Deltagere!B466","v":463},{"$f":"IF(Deltagere!C466=\"\",\"\",Deltagere!C466)","v":"Ivan Szumlanski"},{"$f":"IF(Deltagere!G466=\"\",\"\",Deltagere!G466)","v":"x"},463,1]
[null,{"$f":"Deltagere!B467","v":464},{"$f":"IF(Deltagere!C467=\"\",\"\",Deltagere!C467)","v":"Gytha Szumlanski"},{"$f":"IF(Deltagere!G467=\"\",\"\",Deltagere!G467)","v":"x"},464,1]
[null,{"$f":"Deltagere!B468","v":465},{"$f":"IF(Deltagere!C468=\"\",\"\",Deltagere!C468)","v":"Ole Schjerbeck"},{"$f":"IF(Deltagere!G468=\"\",\"\",Deltagere!G468)","v":""},2000,""]
[null,{"$f":"Deltagere!B469","v":466},{"$f":"IF(Deltagere!C469=\"\",\"\",Deltagere!C469)","v":"Finn Jørgensen"},{"$f":"IF(Deltagere!G469=\"\",\"\",Deltagere!G469)","v":"x"},466,1]
[null,{"$f":"Deltagere!B470","v":467},{"$f":"IF(Deltagere!C470=\"\",\"\",Deltagere!C470)","v":"Lena Kirkegaard"},{"$f":"IF(Deltagere!G470=\"\",\"\",Deltagere!G470)","v":"x"},467,1]
[null,{"$f":"Deltagere!B471","v":468},{"$f":"IF(Deltagere!C471=\"\",\"\",Deltagere!C471)","v":"Kjeld Hansen"},{"$f":"IF(Deltagere!G471=\"\",\"\",Deltagere!G471)","v":"x"},468,1]
[null,{"$f":"Deltagere!B472","v":469},{"$f":"IF(Deltagere!C472=\"\",\"\",Deltagere!C472)","v":"Vivi Jepsen"},{"$f":"IF(Deltagere!G472=\"\",\"\",Deltagere!G472)","v":""},2000,""]
[null,{"$f":"Deltagere!B473","v":470},{"$f":"IF(Deltagere!C473=\"\",\"\",Deltagere!C473)","v":"Ingrid Jensen"},{"$f":"IF(Deltagere!G473=\"\",\"\",Deltagere!G473)","v":"x"},470,1]
[null,{"$f":"Deltagere!B474","v":471},{"$f":"IF(Deltagere!C474=\"\",\"\",Deltagere!C474)","v":"Bodil Pedersen"},{"$f":"IF(Deltagere!G474=\"\",\"\",Deltagere!G474)","v":""},2000,""]
[null,{"$f":"Deltagere!B475","v":472},{"$f":"IF(Deltagere!C475=\"\",\"\",Deltagere!C475)","v":"Allan Pedersen"},{"$f":"IF(Deltagere!G475=\"\",\"\",Deltagere!G475)","v":"x"},472,1]
[null,{"$f":"Deltagere!B476","v":473},{"$f":"IF(Deltagere!C476=\"\",\"\",Deltagere!C476)","v":"Erik Schmidt"},{"$f":"IF(Deltagere!G476=\"\",\"\",Deltagere!G476)","v":""},2000,""]
[null,{"$f":"Deltagere!B477","v":474},{"$f":"IF(Deltagere!C477=\"\",\"\",Deltagere!C477)","v":"Liselotte Storgaard"},{"$f":"IF(Deltagere!G477=\"\",\"\",Deltagere!G477)","v":"x"},474,1]
[null,{"$f":"Deltagere!B478","v":475},{"$f":"IF(Deltagere!C478=\"\",\"\",Deltagere!C478)","v":"Niels Jepsen"},{"$f":"IF(Deltagere!G478=\"\",\"\",Deltagere!G478)","v":""},2000,""]
[null,{"$f":"Deltagere!B479","v":476},{"$f":"IF(Deltagere!C479=\"\",\"\",Deltagere!C479)","v":"Christian Blid"},{"$f":"IF(Deltagere!G479=\"\",\"\",Deltagere!G479)","v":"x"},476,1]
[null,{"$f":"Deltagere!B480","v":477},{"$f":"IF(Deltagere!C480=\"\",\"\",Deltagere!C480)","v":"Inge Sørensen"},{"$f":"IF(Deltagere!G480=\"\",\"\",Deltagere!G480)","v":"x"},477,1]
[null,{"$f":"Deltagere!B481","v":478},{"$f":"IF(Deltagere!C481=\"\",\"\",Deltagere!C481)","v":"Allan Larsen"},{"$f":"IF(Deltagere!G481=\"\",\"\",Deltagere!G481)","v":"x"},478,1]
[null,{"$f":"Deltagere!B482","v":479},{"$f":"IF(Deltagere!C482=\"\",\"\",Deltagere!C482)","v":"Bjørn Krogh"},{"$f":"IF(Deltagere!G482=\"\",\"\",Deltagere!G482)","v":"x"},479,1]
[null,{"$f":"Deltagere!B483","v":480},{"$f":"IF(Deltagere!C483=\"\",\"\",Deltagere!C483)","v":"Lissi Lindberg"},{"$f":"IF(Deltagere!G483=\"\",\"\",Deltagere!G483)","v":"x"},480,1]
[null,{"$f":"Deltagere!B484","v":481},{"$f":"IF(Deltagere!C484=\"\",\"\",Deltagere!C484)","v":"Alice Rask"},{"$f":"IF(Deltagere!G484=\"\",\"\",Deltagere!G484)","v":"x"},481,1]
[null,{"$f":"Deltagere!B485","v":482},{"$f":"IF(Deltagere!C485=\"\",\"\",Deltagere!C485)","v":"Jim Jørgensen"},{"$f":"IF(Deltagere!G485=\"\",\"\",Deltagere!G485)","v":"x"},482,1]
[null,{"$f":"Deltagere!B486","v":483},{"$f":"IF(Deltagere!C486=\"\",\"\",Deltagere!C486)","v":"Lone S. Nielsen"},{"$f":"IF(Deltagere!G486=\"\",\"\",Deltagere!G486)","v":"x"},483,1]
[null,{"$f":"Deltagere!B487","v":484},{"$f":"IF(Deltagere!C487=\"\",\"\",Deltagere!C487)","v":"Majbritt Nielsen"},{"$f":"IF(Deltagere!G487=\"\",\"\",Deltagere!G487)","v":"x"},484,1]
[null,{"$f":"Deltagere!B488","v":485},{"$f":"IF(Deltagere!C488=\"\",\"\",Deltagere!C488)","v":"Ole Nilaus Nielsen"},{"$f":"IF(Deltagere!G488=\"\",\"\",Deltagere!G488)","v":"x"},485,1]
[null,{"$f":"Deltagere!B489","v":486},{"$f":"IF(Deltagere!C489=\"\",\"\",Deltagere!C489)","v":"Benthe Dahl"},{"$f":"IF(Deltagere!G489=\"\",\"\",Deltagere!G489)","v":"x"},486,1]
[null,{"$f":"Deltagere!B490","v":487},{"$f":"IF(Deltagere!C490=\"\",\"\",Deltagere!C490)","v":"Susanne Blok"},{"$f":"IF(Deltagere!G490=\"\",\"\",Deltagere!G490)","v":"x"},487,1]
[null,{"$f":"Deltagere!B491","v":488},{"$f":"IF(Deltagere!C491=\"\",\"\",Deltagere!C491)","v":"Vibeke Jørgensen"},{"$f":"IF(Deltagere!G491=\"\",\"\",Deltagere!G491)","v":"x"},488,1]
[null,{"$f":"Deltagere!B492","v":489},{"$f":"IF(Deltagere!C492=\"\",\"\",Deltagere!C492)","v":"Lillian Søndergaard"},{"$f":"IF(Deltagere!G492=\"\",\"\",Deltagere!G492)","v":""},2000,""]
[null,{"$f":"Deltagere!B493","v":490},{"$f":"IF(Deltagere!C493=\"\",\"\",Deltagere!C493)","v":"Poul Bent Fischer"},{"$f":"IF(Deltagere!G493=\"\",\"\",Deltagere!G493)","v":""},2000,""]
[null,{"$f":"Deltagere!B494","v":491},{"$f":"IF(Deltagere!C494=\"\",\"\",Deltagere!C494)","v":"Hans Pedersen"},{"$f":"IF(Deltagere!G494=\"\",\"\",Deltagere!G494)","v":""},2000,""]
[null,{"$f":"Deltagere!B495","v":492},{"$f":"IF(Deltagere!C495=\"\",\"\",Deltagere!C495)","v":"Rikke Fischer N."},{"$f":"IF(Deltagere!G495=\"\",\"\",Deltagere!G495)","v":""},2000,""]
[null,{"$f":"Deltagere!B496","v":493},{"$f":"IF(Deltagere!C496=\"\",\"\",Deltagere!C496)","v":"Renè Jørgensen"},{"$f":"IF(Deltagere!G496=\"\",\"\",Deltagere!G496)","v":""},2000,""]
[null,{"$f":"Deltagere!B497","v":494},{"$f":"IF(Deltagere!C497=\"\",\"\",Deltagere!C497)","v":"Ida Olsen"},{"$f":"IF(Deltagere!G497=\"\",\"\",Deltagere!G497)","v":"x"},494,1]
[null,{"$f":"Deltagere!B498","v":495},{"$f":"IF(Deltagere!C498=\"\",\"\",Deltagere!C498)","v":"Ole Christensen"},{"$f":"IF(Deltagere!G498=\"\",\"\",Deltagere!G498)","v":"x"},495,1]
[null,{"$f":"Deltagere!B499","v":496},{"$f":"IF(Deltagere!C499=\"\",\"\",Deltagere!C499)","v":"Elsa Banzhaf"},{"$f":"IF(Deltagere!G499=\"\",\"\",Deltagere!G499)","v":""},2000,""]
[null,{"$f":"Deltagere!B500","v":497},{"$f":"IF(Deltagere!C500=\"\",\"\",Deltagere!C500)","v":"Ib M. Jensen"},{"$f":"IF(Deltagere!G500=\"\",\"\",Deltagere!G500)","v":""},2000,""]
[null,{"$f":"Deltagere!B501","v":498},{"$f":"IF(Deltagere!C501=\"\",\"\",Deltagere!C501)","v":"Peter Christensen"},{"$f":"IF(Deltagere!G501=\"\",\"\",Deltagere!G501)","v":"x"},498,1]
[null,{"$f":"Deltagere!B502","v":499},{"$f":"IF(Deltagere!C502=\"\",\"\",Deltagere!C502)","v":"Jannie Christensen"},{"$f":"IF(Deltagere!G502=\"\",\"\",Deltagere!G502)","v":""},2000,""]
[null,{"$f":"Deltagere!B503","v":500},{"$f":"IF(Deltagere!C503=\"\",\"\",Deltagere!C503)","v":"Birgit Larsen"},{"$f":"IF(Deltagere!G503=\"\",\"\",Deltagere!G503)","v":""},2000,""]
[null,{"$f":"Deltagere!B504","v":501},{"$f":"IF(Deltagere!C504=\"\",\"\",Deltagere!C504)","v":"Jonna Hansen"},{"$f":"IF(Deltagere!G504=\"\",\"\",Deltagere!G504)","v":""},2000,""]
[null,{"$f":"Deltagere!B505","v":502},{"$f":"IF(Deltagere!C505=\"\",\"\",Deltagere!C505)","v":""},{"$f":"IF(Deltagere!G505=\"\",\"\",Deltagere!G505)","v":""},2000,""]
[null,{"$f":"Deltagere!B506","v":503},{"$f":"IF(Deltagere!C506=\"\",\"\",Deltagere!C506)","v":"Lis Holsdorf"},{"$f":"IF(Deltagere!G506=\"\",\"\",Deltagere!G506)","v":""},2000,""]
[null,{"$f":"Deltagere!B507","v":504},{"$f":"IF(Deltagere!C507=\"\",\"\",Deltagere!C507)","v":""},{"$f":"IF(Deltagere!G507=\"\",\"\",Deltagere!G507)","v":""},2000,""]
[null,{"$f":"Deltagere!B508","v":505},{"$f":"IF(Deltagere!C508=\"\",\"\",Deltagere!C508)","v":""},{"$f":"IF(Deltagere!G508=\"\",\"\",Deltagere!G508)","v":""},2000,""]
[null,{"$f":"Deltagere!B509","v":506},{"$f":"IF(Deltagere!C509=\"\",\"\",Deltagere!C509)","v":""},{"$f":"IF(Deltagere!G509=\"\",\"\",Deltagere!G509)","v":""},2000,""]
[null,{"$f":"Deltagere!B510","v":507},{"$f":"IF(Deltagere!C510=\"\",\"\",Deltagere!C510)","v":"Ellinor Petersen"},{"$f":"IF(Deltagere!G510=\"\",\"\",Deltagere!G510)","v":""},2000,""]
[null,{"$f":"Deltagere!B511","v":508},{"$f":"IF(Deltagere!C511=\"\",\"\",Deltagere!C511)","v":"Lisbeth Reland"},{"$f":"IF(Deltagere!G511=\"\",\"\",Deltagere!G511)","v":""},2000,""]
[null,{"$f":"Deltagere!B512","v":509},{"$f":"IF(Deltagere!C512=\"\",\"\",Deltagere!C512)","v":""},{"$f":"IF(Deltagere!G512=\"\",\"\",Deltagere!G512)","v":""},2000,""]
[null,{"$f":"Deltagere!B513","v":510},{"$f":"IF(Deltagere!C513=\"\",\"\",Deltagere!C513)","v":""},{"$f":"IF(Deltagere!G513=\"\",\"\",Deltagere!G513)","v":""},2000,""]
[null,{"$f":"Deltagere!B514","v":511},{"$f":"IF(Deltagere!C514=\"\",\"\",Deltagere!C514)","v":""},{"$f":"IF(Deltagere!G514=\"\",\"\",Deltagere!G514)","v":""},2000,""]
[null,{"$f":"Deltagere!B515","v":512},{"$f":"IF(Deltagere!C515=\"\",\"\",Deltagere!C515)","v":""},{"$f":"IF(Deltagere!G515=\"\",\"\",Deltagere!G515)","v":""},2000,""]
[null,{"$f":"Deltagere!B516","v":513},{"$f":"IF(Deltagere!C516=\"\",\"\",Deltagere!C516)","v":""},{"$f":"IF(Deltagere!G516=\"\",\"\",Deltagere!G516)","v":""},2000,""]
[null,{"$f":"Deltagere!B517","v":514},{"$f":"IF(Deltagere!C517=\"\",\"\",Deltagere!C517)","v":""},{"$f":"IF(Deltagere!G517=\"\",\"\",Deltagere!G517)","v":""},{"$f":"IF(D524=\"x\",B524,2000)","v":2000},{"$f":"IF(E524=2000,\"\",1)","v":""}]
[null,{"$f":"Deltagere!B518","v":515},{"$f":"IF(Deltagere!C518=\"\",\"\",Deltagere!C518)","v":""},{"$f":"IF(Deltagere!G518=\"\",\"\",Deltagere!G518)","v":""},2000,""]
[null,{"$f":"Deltagere!B519","v":516},{"$f":"IF(Deltagere!C519=\"\",\"\",Deltagere!C519)","v":""},{"$f":"IF(Deltagere!G519=\"\",\"\",Deltagere!G519)","v":""},2000,""]
[null,{"$f":"Deltagere!B520","v":517},{"$f":"IF(Deltagere!C520=\"\",\"\",Deltagere!C520)","v":""},{"$f":"IF(Deltagere!G520=\"\",\"\",Deltagere!G520)","v":""},2000,""]
[null,{"$f":"Deltagere!B521","v":518},{"$f":"IF(Deltagere!C521=\"\",\"\",Deltagere!C521)","v":""},{"$f":"IF(Deltagere!G521=\"\",\"\",Deltagere!G521)","v":""},2000,""]
[null,{"$f":"Deltagere!B522","v":519},{"$f":"IF(Deltagere!C522=\"\",\"\",Deltagere!C522)","v":""},{"$f":"IF(Deltagere!G522=\"\",\"\",Deltagere!G522)","v":""},2000,""]
[null,{"$f":"Deltagere!B523","v":520},{"$f":"IF(Deltagere!C523=\"\",\"\",Deltagere!C523)","v":""},{"$f":"IF(Deltagere!G523=\"\",\"\",Deltagere!G523)","v":""},2000,""]
[null,{"$f":"Deltagere!B524","v":521},{"$f":"IF(Deltagere!C524=\"\",\"\",Deltagere!C524)","v":""},{"$f":"IF(Deltagere!G524=\"\",\"\",Deltagere!G524)","v":""},2000,""]
[null,{"$f":"Deltagere!B525","v":522},{"$f":"IF(Deltagere!C525=\"\",\"\",Deltagere!C525)","v":""},{"$f":"IF(Deltagere!G525=\"\",\"\",Deltagere!G525)","v":""},2000,""]
[null,{"$f":"Deltagere!B526","v":523},{"$f":"IF(Deltagere!C526=\"\",\"\",Deltagere!C526)","v":""},{"$f":"IF(Deltagere!G526=\"\",\"\",Deltagere!G526)","v":""},2000,""]
[null,{"$f":"Deltagere!B527","v":524},{"$f":"IF(Deltagere!C527=\"\",\"\",Deltagere!C527)","v":""},{"$f":"IF(Deltagere!G527=\"\",\"\",Deltagere!G527)","v":""},2000,""]
[null,{"$f":"Deltagere!B528","v":525},{"$f":"IF(Deltagere!C528=\"\",\"\",Deltagere!C528)","v":""},{"$f":"IF(Deltagere!G528=\"\",\"\",Deltagere!G528)","v":""},2000,""]
[null,{"$f":"Deltagere!B529","v":526},{"$f":"IF(Deltagere!C529=\"\",\"\",Deltagere!C529)","v":""},{"$f":"IF(Deltagere!G529=\"\",\"\",Deltagere!G529)","v":""},2000,""]
[null,{"$f":"Deltagere!B530","v":527},{"$f":"IF(Deltagere!C530=\"\",\"\",Deltagere!C530)","v":""},{"$f":"IF(Deltagere!G530=\"\",\"\",Deltagere!G530)","v":""},2000,""]
[null,{"$f":"Deltagere!B531","v":528},{"$f":"IF(Deltagere!C531=\"\",\"\",Deltagere!C531)","v":""},{"$f":"IF(Deltagere!G531=\"\",\"\",Deltagere!G531)","v":""},2000,""]
[null,{"$f":"Deltagere!B532","v":529},{"$f":"IF(Deltagere!C532=\"\",\"\",Deltagere!C532)","v":""},{"$f":"IF(Deltagere!G532=\"\",\"\",Deltagere!G532)","v":""},2000,""]
[null,{"$f":"Deltagere!B533","v":530},{"$f":"IF(Deltagere!C533=\"\",\"\",Deltagere!C533)","v":""},{"$f":"IF(Deltagere!G533=\"\",\"\",Deltagere!G533)","v":""},2000,""]
[null,{"$f":"Deltagere!B534","v":531},{"$f":"IF(Deltagere!C534=\"\",\"\",Deltagere!C534)","v":""},{"$f":"IF(Deltagere!G534=\"\",\"\",Deltagere!G534)","v":""},2000,""]
[null,{"$f":"Deltagere!B535","v":532},{"$f":"IF(Deltagere!C535=\"\",\"\",Deltagere!C535)","v":""},{"$f":"IF(Deltagere!G535=\"\",\"\",Deltagere!G535)","v":""},2000,""]
[null,{"$f":"Deltagere!B536","v":533},{"$f":"IF(Deltagere!C536=\"\",\"\",Deltagere!C536)","v":""},{"$f":"IF(Deltagere!G536=\"\",\"\",Deltagere!G536)","v":""},2000,""]
[null,{"$f":"Deltagere!B537","v":534},{"$f":"IF(Deltagere!C537=\"\",\"\",Deltagere!C537)","v":""},{"$f":"IF(Deltagere!G537=\"\",\"\",Deltagere!G537)","v":""},2000,""]
[null,{"$f":"Deltagere!B538","v":535},{"$f":"IF(Deltagere!C538=\"\",\"\",Deltagere!C538)","v":""},{"$f":"IF(Deltagere!G538=\"\",\"\",Deltagere!G538)","v":""},2000,""]
[null,{"$f":"Deltagere!B539","v":536},{"$f":"IF(Deltagere!C539=\"\",\"\",Deltagere!C539)","v":""},{"$f":"IF(Deltagere!G539=\"\",\"\",Deltagere!G539)","v":""},2000,""]
[null,{"$f":"Deltagere!B540","v":537},{"$f":"IF(Deltagere!C540=\"\",\"\",Deltagere!C540)","v":""},{"$f":"IF(Deltagere!G540=\"\",\"\",Deltagere!G540)","v":""},2000,""]
[null,{"$f":"Deltagere!B541","v":538},{"$f":"IF(Deltagere!C541=\"\",\"\",Deltagere!C541)","v":""},{"$f":"IF(Deltagere!G541=\"\",\"\",Deltagere!G541)","v":""},2000,""]
[null,{"$f":"Deltagere!B542","v":539},{"$f":"IF(Deltagere!C542=\"\",\"\",Deltagere!C542)","v":""},{"$f":"IF(Deltagere!G542=\"\",\"\",Deltagere!G542)","v":""},2000,""]
[null,{"$f":"Deltagere!B543","v":540},{"$f":"IF(Deltagere!C543=\"\",\"\",Deltagere!C543)","v":""},{"$f":"IF(Deltagere!G543=\"\",\"\",Deltagere!G543)","v":""},2000,""]
[null,{"$f":"Deltagere!B544","v":541},{"$f":"IF(Deltagere!C544=\"\",\"\",Deltagere!C544)","v":""},{"$f":"IF(Deltagere!G544=\"\",\"\",Deltagere!G544)","v":""},2000,""]
[null,{"$f":"Deltagere!B545","v":542},{"$f":"IF(Deltagere!C545=\"\",\"\",Deltagere!C545)","v":""},{"$f":"IF(Deltagere!G545=\"\",\"\",Deltagere!G545)","v":""},2000,""]
[null,{"$f":"Deltagere!B546","v":543},{"$f":"IF(Deltagere!C546=\"\",\"\",Deltagere!C546)","v":""},{"$f":"IF(Deltagere!G546=\"\",\"\",Deltagere!G546)","v":""},2000,""]
[null,{"$f":"Deltagere!B547","v":544},{"$f":"IF(Deltagere!C547=\"\",\"\",Deltagere!C547)","v":""},{"$f":"IF(Deltagere!G547=\"\",\"\",Deltagere!G547)","v":""},2000,""]
[null,{"$f":"Deltagere!B548","v":545},{"$f":"IF(Deltagere!C548=\"\",\"\",Deltagere!C548)","v":""},{"$f":"IF(Deltagere!G548=\"\",\"\",Deltagere!G548)","v":""},2000,""]
[null,{"$f":"Deltagere!B549","v":546},{"$f":"IF(Deltagere!C549=\"\",\"\",Deltagere!C549)","v":""},{"$f":"IF(Deltagere!G549=\"\",\"\",Deltagere!G549)","v":""},2000,""]
[null,{"$f":"Deltagere!B550","v":547},{"$f":"IF(Deltagere!C550=\"\",\"\",Deltagere!C550)","v":""},{"$f":"IF(Deltagere!G550=\"\",\"\",Deltagere!G550)","v":""},2000,""]
[null,{"$f":"Deltagere!B551","v":548},{"$f":"IF(Deltagere!C551=\"\",\"\",Deltagere!C551)","v":""},{"$f":"IF(Deltagere!G551=\"\",\"\",Deltagere!G551)","v":""},2000,""]
[null,{"$f":"Deltagere!B552","v":549},{"$f":"IF(Deltagere!C552=\"\",\"\",Deltagere!C552)","v":""},{"$f":"IF(Deltagere!G552=\"\",\"\",Deltagere!G552)","v":""},2000,""]
[null,{"$f":"Deltagere!B553","v":550},{"$f":"IF(Deltagere!C553=\"\",\"\",Deltagere!C553)","v":""},{"$f":"IF(Deltagere!G553=\"\",\"\",Deltagere!G553)","v":""},2000,""]
[null,{"$f":"Deltagere!B554","v":551},{"$f":"IF(Deltagere!C554=\"\",\"\",Deltagere!C554)","v":"Jan Manfred"},{"$f":"IF(Deltagere!G554=\"\",\"\",Deltagere!G554)","v":""},2000,""]
[null,{"$f":"Deltagere!B555","v":552},{"$f":"IF(Deltagere!C555=\"\",\"\",Deltagere!C555)","v":"Suzanne Grønlund"},{"$f":"IF(Deltagere!G555=\"\",\"\",Deltagere!G555)","v":""},2000,""]
[null,{"$f":"Deltagere!B556","v":553},{"$f":"IF(Deltagere!C556=\"\",\"\",Deltagere!C556)","v":""},{"$f":"IF(Deltagere!G556=\"\",\"\",Deltagere!G556)","v":""},2000,""]
[null,{"$f":"Deltagere!B557","v":554},{"$f":"IF(Deltagere!C557=\"\",\"\",Deltagere!C557)","v":""},{"$f":"IF(Deltagere!G557=\"\",\"\",Deltagere!G557)","v":""},2000,""]
[null,{"$f":"Deltagere!B558","v":555},{"$f":"IF(Deltagere!C558=\"\",\"\",Deltagere!C558)","v":""},{"$f":"IF(Deltagere!G558=\"\",\"\",Deltagere!G558)","v":""},2000,""]
[null,{"$f":"Deltagere!B559","v":556},{"$f":"IF(Deltagere!C559=\"\",\"\",Deltagere!C559)","v":""},{"$f":"IF(Deltagere!G559=\"\",\"\",Deltagere!G559)","v":""},2000,""]
[null,{"$f":"Deltagere!B560","v":557},{"$f":"IF(Deltagere!C560=\"\",\"\",Deltagere!C560)","v":""},{"$f":"IF(Deltagere!G560=\"\",\"\",Deltagere!G560)","v":""},2000,""]
[null,{"$f":"Deltagere!B561","v":558},{"$f":"IF(Deltagere!C561=\"\",\"\",Deltagere!C561)","v":""},{"$f":"IF(Deltagere!G561=\"\",\"\",Deltagere!G561)","v":""},2000,""]
[null,{"$f":"Deltagere!B562","v":559},{"$f":"IF(Deltagere!C562=\"\",\"\",Deltagere!C562)","v":""},{"$f":"IF(Deltagere!G562=\"\",\"\",Deltagere!G562)","v":""},2000,""]
[null,{"$f":"Deltagere!B563","v":560},{"$f":"IF(Deltagere!C563=\"\",\"\",Deltagere!C563)","v":""},{"$f":"IF(Deltagere!G563=\"\",\"\",Deltagere!G563)","v":""},2000,""]
[null,{"$f":"Deltagere!B564","v":561},{"$f":"IF(Deltagere!C564=\"\",\"\",Deltagere!C564)","v":""},{"$f":"IF(Deltagere!G564=\"\",\"\",Deltagere!G564)","v":""},2000,""]
[null,{"$f":"Deltagere!B565","v":562},{"$f":"IF(Deltagere!C565=\"\",\"\",Deltagere!C565)","v":""},{"$f":"IF(Deltagere!G565=\"\",\"\",Deltagere!G565)","v":""},2000,""]
[null,{"$f":"Deltagere!B566","v":563},{"$f":"IF(Deltagere!C566=\"\",\"\",Deltagere!C566)","v":""},{"$f":"IF(Deltagere!G566=\"\",\"\",Deltagere!G566)","v":""},2000,""]
[null,{"$f":"Deltagere!B567","v":564},{"$f":"IF(Deltagere!C567=\"\",\"\",Deltagere!C567)","v":""},{"$f":"IF(Deltagere!G567=\"\",\"\",Deltagere!G567)","v":""},2000,""]
[null,{"$f":"Deltagere!B568","v":565},{"$f":"IF(Deltagere!C568=\"\",\"\",Deltagere!C568)","v":""},{"$f":"IF(Deltagere!G568=\"\",\"\",Deltagere!G568)","v":""},2000,""]
[null,{"$f":"Deltagere!B569","v":566},{"$f":"IF(Deltagere!C569=\"\",\"\",Deltagere!C569)","v":""},{"$f":"IF(Deltagere!G569=\"\",\"\",Deltagere!G569)","v":""},2000,""]
[null,{"$f":"Deltagere!B570","v":567},{"$f":"IF(Deltagere!C570=\"\",\"\",Deltagere!C570)","v":""},{"$f":"IF(Deltagere!G570=\"\",\"\",Deltagere!G570)","v":""},2000,""]
[null,{"$f":"Deltagere!B571","v":568},{"$f":"IF(Deltagere!C571=\"\",\"\",Deltagere!C571)","v":""},{"$f":"IF(Deltagere!G571=\"\",\"\",Deltagere!G571)","v":""},2000,""]
[null,{"$f":"Deltagere!B572","v":569},{"$f":"IF(Deltagere!C572=\"\",\"\",Deltagere!C572)","v":""},{"$f":"IF(Deltagere!G572=\"\",\"\",Deltagere!G572)","v":""},2000,""]
[null,{"$f":"Deltagere!B573","v":570},{"$f":"IF(Deltagere!C573=\"\",\"\",Deltagere!C573)","v":""},{"$f":"IF(Deltagere!G573=\"\",\"\",Deltagere!G573)","v":""},2000,""]
[null,{"$f":"Deltagere!B574","v":571},{"$f":"IF(Deltagere!C574=\"\",\"\",Deltagere!C574)","v":""},{"$f":"IF(Deltagere!G574=\"\",\"\",Deltagere!G574)","v":""},2000,""]
[null,{"$f":"Deltagere!B575","v":572},{"$f":"IF(Deltagere!C575=\"\",\"\",Deltagere!C575)","v":""},{"$f":"IF(Deltagere!G575=\"\",\"\",Deltagere!G575)","v":""},2000,""]
[null,{"$f":"Deltagere!B576","v":573},{"$f":"IF(Deltagere!C576=\"\",\"\",Deltagere!C576)","v":""},{"$f":"IF(Deltagere!G576=\"\",\"\",Deltagere!G576)","v":""},2000,""]
[null,{"$f":"Deltagere!B577","v":574},{"$f":"IF(Deltagere!C577=\"\",\"\",Deltagere!C577)","v":""},{"$f":"IF(Deltagere!G577=\"\",\"\",Deltagere!G577)","v":""},2000,""]
[null,{"$f":"Deltagere!B578","v":575},{"$f":"IF(Deltagere!C578=\"\",\"\",Deltagere!C578)","v":""},{"$f":"IF(Deltagere!G578=\"\",\"\",Deltagere!G578)","v":""},2000,""]
[null,{"$f":"Deltagere!B579","v":576},{"$f":"IF(Deltagere!C579=\"\",\"\",Deltagere!C579)","v":""},{"$f":"IF(Deltagere!G579=\"\",\"\",Deltagere!G579)","v":""},2000,""]
[null,{"$f":"Deltagere!B580","v":577},{"$f":"IF(Deltagere!C580=\"\",\"\",Deltagere!C580)","v":""},{"$f":"IF(Deltagere!G580=\"\",\"\",Deltagere!G580)","v":""},2000,""]
[null,{"$f":"Deltagere!B581","v":578},{"$f":"IF(Deltagere!C581=\"\",\"\",Deltagere!C581)","v":""},{"$f":"IF(Deltagere!G581=\"\",\"\",Deltagere!G581)","v":""},{"$f":"IF(D588=\"x\",B588,2000)","v":2000},{"$f":"IF(E588=2000,\"\",1)","v":""}]
[null,{"$f":"Deltagere!B582","v":579},{"$f":"IF(Deltagere!C582=\"\",\"\",Deltagere!C582)","v":""},{"$f":"IF(Deltagere!G582=\"\",\"\",Deltagere!G582)","v":""},2000,""]
[null,{"$f":"Deltagere!B583","v":580},{"$f":"IF(Deltagere!C583=\"\",\"\",Deltagere!C583)","v":""},{"$f":"IF(Deltagere!G583=\"\",\"\",Deltagere!G583)","v":""},2000,""]
[null,{"$f":"Deltagere!B584","v":581},{"$f":"IF(Deltagere!C584=\"\",\"\",Deltagere!C584)","v":""},{"$f":"IF(Deltagere!G584=\"\",\"\",Deltagere!G584)","v":""},2000,""]
[null,{"$f":"Deltagere!B585","v":582},{"$f":"IF(Deltagere!C585=\"\",\"\",Deltagere!C585)","v":""},{"$f":"IF(Deltagere!G585=\"\",\"\",Deltagere!G585)","v":""},2000,""]
[null,{"$f":"Deltagere!B586","v":583},{"$f":"IF(Deltagere!C586=\"\",\"\",Deltagere!C586)","v":""},{"$f":"IF(Deltagere!G586=\"\",\"\",Deltagere!G586)","v":""},2000,""]
[null,{"$f":"Deltagere!B587","v":584},{"$f":"IF(Deltagere!C587=\"\",\"\",Deltagere!C587)","v":""},{"$f":"IF(Deltagere!G587=\"\",\"\",Deltagere!G587)","v":""},2000,""]
[null,{"$f":"Deltagere!B588","v":585},{"$f":"IF(Deltagere!C588=\"\",\"\",Deltagere!C588)","v":""},{"$f":"IF(Deltagere!G588=\"\",\"\",Deltagere!G588)","v":""},2000,""]
[null,{"$f":"Deltagere!B589","v":586},{"$f":"IF(Deltagere!C589=\"\",\"\",Deltagere!C589)","v":""},{"$f":"IF(Deltagere!G589=\"\",\"\",Deltagere!G589)","v":""},2000,""]
[null,{"$f":"Deltagere!B590","v":587},{"$f":"IF(Deltagere!C590=\"\",\"\",Deltagere!C590)","v":""},{"$f":"IF(Deltagere!G590=\"\",\"\",Deltagere!G590)","v":""},2000,""]
[null,{"$f":"Deltagere!B591","v":588},{"$f":"IF(Deltagere!C591=\"\",\"\",Deltagere!C591)","v":""},{"$f":"IF(Deltagere!G591=\"\",\"\",Deltagere!G591)","v":""},2000,""]
[null,{"$f":"Deltagere!B592","v":589},{"$f":"IF(Deltagere!C592=\"\",\"\",Deltagere!C592)","v":""},{"$f":"IF(Deltagere!G592=\"\",\"\",Deltagere!G592)","v":""},2000,""]
[null,{"$f":"Deltagere!B593","v":590},{"$f":"IF(Deltagere!C593=\"\",\"\",Deltagere!C593)","v":""},{"$f":"IF(Deltagere!G593=\"\",\"\",Deltagere!G593)","v":""},2000,""]
[null,{"$f":"Deltagere!B594","v":591},{"$f":"IF(Deltagere!C594=\"\",\"\",Deltagere!C594)","v":""},{"$f":"IF(Deltagere!G594=\"\",\"\",Deltagere!G594)","v":""},2000,""]
[null,{"$f":"Deltagere!B595","v":592},{"$f":"IF(Deltagere!C595=\"\",\"\",Deltagere!C595)","v":""},{"$f":"IF(Deltagere!G595=\"\",\"\",Deltagere!G595)","v":""},2000,""]
[null,{"$f":"Deltagere!B596","v":593},{"$f":"IF(Deltagere!C596=\"\",\"\",Deltagere!C596)","v":""},{"$f":"IF(Deltagere!G596=\"\",\"\",Deltagere!G596)","v":""},2000,""]
[null,{"$f":"Deltagere!B597","v":594},{"$f":"IF(Deltagere!C597=\"\",\"\",Deltagere!C597)","v":""},{"$f":"IF(Deltagere!G597=\"\",\"\",Deltagere!G597)","v":""},2000,""]
[null,{"$f":"Deltagere!B598","v":595},{"$f":"IF(Deltagere!C598=\"\",\"\",Deltagere!C598)","v":""},{"$f":"IF(Deltagere!G598=\"\",\"\",Deltagere!G598)","v":""},2000,""]
[null,{"$f":"Deltagere!B599","v":596},{"$f":"IF(Deltagere!C599=\"\",\"\",Deltagere!C599)","v":""},{"$f":"IF(Deltagere!G599=\"\",\"\",Deltagere!G599)","v":""},2000,""]
[null,{"$f":"Deltagere!B600","v":597},{"$f":"IF(Deltagere!C600=\"\",\"\",Deltagere!C600)","v":""},{"$f":"IF(Deltagere!G600=\"\",\"\",Deltagere!G600)","v":""},2000,""]
[null,{"$f":"Deltagere!B601","v":598},{"$f":"IF(Deltagere!C601=\"\",\"\",Deltagere!C601)","v":""},{"$f":"IF(Deltagere!G601=\"\",\"\",Deltagere!G601)","v":""},2000,""]
[null,{"$f":"Deltagere!B602","v":599},{"$f":"IF(Deltagere!C602=\"\",\"\",Deltagere!C602)","v":""},{"$f":"IF(Deltagere!G602=\"\",\"\",Deltagere!G602)","v":""},2000,""]
[null,{"$f":"Deltagere!B603","v":600},{"$f":"IF(Deltagere!C603=\"\",\"\",Deltagere!C603)","v":""},{"$f":"IF(Deltagere!G603=\"\",\"\",Deltagere!G603)","v":""},2000,""]
[null,{"$f":"Deltagere!B604","v":601},{"$f":"IF(Deltagere!C604=\"\",\"\",Deltagere!C604)","v":"Anders Jørgensen"},{"$f":"IF(Deltagere!G604=\"\",\"\",Deltagere!G604)","v":"x"},601,1]
[null,{"$f":"Deltagere!B605","v":602},{"$f":"IF(Deltagere!C605=\"\",\"\",Deltagere!C605)","v":"Kian Andersen"},{"$f":"IF(Deltagere!G605=\"\",\"\",Deltagere!G605)","v":"x"},602,1]
[null,{"$f":"Deltagere!B606","v":603},{"$f":"IF(Deltagere!C606=\"\",\"\",Deltagere!C606)","v":"Chararlotte Jensen"},{"$f":"IF(Deltagere!G606=\"\",\"\",Deltagere!G606)","v":""},2000,""]
[null,{"$f":"Deltagere!B607","v":604},{"$f":"IF(Deltagere!C607=\"\",\"\",Deltagere!C607)","v":"Kennet Sørensen"},{"$f":"IF(Deltagere!G607=\"\",\"\",Deltagere!G607)","v":""},2000,""]
[null,{"$f":"Deltagere!B608","v":605},{"$f":"IF(Deltagere!C608=\"\",\"\",Deltagere!C608)","v":"Nicklas Sørensen"},{"$f":"IF(Deltagere!G608=\"\",\"\",Deltagere!G608)","v":""},2000,""]
[null,{"$f":"Deltagere!B609","v":606},{"$f":"IF(Deltagere!C609=\"\",\"\",Deltagere!C609)","v":"Kennet  Jensen"},{"$f":"IF(Deltagere!G609=\"\",\"\",Deltagere!G609)","v":""},2000,""]
[null,{"$f":"Deltagere!B610","v":607},{"$f":"IF(Deltagere!C610=\"\",\"\",Deltagere!C610)","v":"Renè Puggaard"},{"$f":"IF(Deltagere!G610=\"\",\"\",Deltagere!G610)","v":""},2000,""]
[null,{"$f":"Deltagere!B611","v":608},{"$f":"IF(Deltagere!C611=\"\",\"\",Deltagere!C611)","v":"Søren Skourup"},{"$f":"IF(Deltagere!G611=\"\",\"\",Deltagere!G611)","v":"x"},608,1]
[null,{"$f":"Deltagere!B612","v":609},{"$f":"IF(Deltagere!C612=\"\",\"\",Deltagere!C612)","v":"Daniel Hansen"},{"$f":"IF(Deltagere!G612=\"\",\"\",Deltagere!G612)","v":""},2000,""]
[null,{"$f":"Deltagere!B613","v":610},{"$f":"IF(Deltagere!C613=\"\",\"\",Deltagere!C613)","v":"Sarah Christiansen"},{"$f":"IF(Deltagere!G613=\"\",\"\",Deltagere!G613)","v":"x"},610,1]
[null,{"$f":"Deltagere!B614","v":611},{"$f":"IF(Deltagere!C614=\"\",\"\",Deltagere!C614)","v":"Elisabeth Holmskov"},{"$f":"IF(Deltagere!G614=\"\",\"\",Deltagere!G614)","v":""},2000,""]
[null,{"$f":"Deltagere!B615","v":612},{"$f":"IF(Deltagere!C615=\"\",\"\",Deltagere!C615)","v":"Adam Kristoffersen"},{"$f":"IF(Deltagere!G615=\"\",\"\",Deltagere!G615)","v":"x"},612,1]
[null,{"$f":"Deltagere!B616","v":613},{"$f":"IF(Deltagere!C616=\"\",\"\",Deltagere!C616)","v":""},{"$f":"IF(Deltagere!G616=\"\",\"\",Deltagere!G616)","v":""},2000,""]
[null,{"$f":"Deltagere!B617","v":614},{"$f":"IF(Deltagere!C617=\"\",\"\",Deltagere!C617)","v":""},{"$f":"IF(Deltagere!G617=\"\",\"\",Deltagere!G617)","v":""},2000,""]
[null,{"$f":"Deltagere!B618","v":615},{"$f":"IF(Deltagere!C618=\"\",\"\",Deltagere!C618)","v":""},{"$f":"IF(Deltagere!G618=\"\",\"\",Deltagere!G618)","v":""},2000,""]
[null,{"$f":"Deltagere!B619","v":616},{"$f":"IF(Deltagere!C619=\"\",\"\",Deltagere!C619)","v":""},{"$f":"IF(Deltagere!G619=\"\",\"\",Deltagere!G619)","v":""},2000,""]
[null,{"$f":"Deltagere!B620","v":617},{"$f":"IF(Deltagere!C620=\"\",\"\",Deltagere!C620)","v":""},{"$f":"IF(Deltagere!G620=\"\",\"\",Deltagere!G620)","v":""},2000,""]
[null,{"$f":"Deltagere!B621","v":618},{"$f":"IF(Deltagere!C621=\"\",\"\",Deltagere!C621)","v":""},{"$f":"IF(Deltagere!G621=\"\",\"\",Deltagere!G621)","v":""},2000,""]
[null,{"$f":"Deltagere!B622","v":619},{"$f":"IF(Deltagere!C622=\"\",\"\",Deltagere!C622)","v":""},{"$f":"IF(Deltagere!G622=\"\",\"\",Deltagere!G622)","v":""},2000,""]
[null,{"$f":"Deltagere!B623","v":620},{"$f":"IF(Deltagere!C623=\"\",\"\",Deltagere!C623)","v":""},{"$f":"IF(Deltagere!G623=\"\",\"\",Deltagere!G623)","v":""},2000,""]
[null,{"$f":"Deltagere!B624","v":621},{"$f":"IF(Deltagere!C624=\"\",\"\",Deltagere!C624)","v":""},{"$f":"IF(Deltagere!G624=\"\",\"\",Deltagere!G624)","v":""},2000,""]
[null,{"$f":"Deltagere!B625","v":622},{"$f":"IF(Deltagere!C625=\"\",\"\",Deltagere!C625)","v":""},{"$f":"IF(Deltagere!G625=\"\",\"\",Deltagere!G625)","v":""},2000,""]
[null,{"$f":"Deltagere!B626","v":623},{"$f":"IF(Deltagere!C626=\"\",\"\",Deltagere!C626)","v":""},{"$f":"IF(Deltagere!G626=\"\",\"\",Deltagere!G626)","v":""},2000,""]
[null,{"$f":"Deltagere!B627","v":624},{"$f":"IF(Deltagere!C627=\"\",\"\",Deltagere!C627)","v":""},{"$f":"IF(Deltagere!G627=\"\",\"\",Deltagere!G627)","v":""},2000,""]
[null,{"$f":"Deltagere!B628","v":625},{"$f":"IF(Deltagere!C628=\"\",\"\",Deltagere!C628)","v":""},{"$f":"IF(Deltagere!G628=\"\",\"\",Deltagere!G628)","v":""},2000,""]
[null,{"$f":"Deltagere!B629","v":626},{"$f":"IF(Deltagere!C629=\"\",\"\",Deltagere!C629)","v":""},{"$f":"IF(Deltagere!G629=\"\",\"\",Deltagere!G629)","v":""},2000,""]
[null,{"$f":"Deltagere!B630","v":627},{"$f":"IF(Deltagere!C630=\"\",\"\",Deltagere!C630)","v":""},{"$f":"IF(Deltagere!G630=\"\",\"\",Deltagere!G630)","v":""},2000,""]
[null,{"$f":"Deltagere!B631","v":628},{"$f":"IF(Deltagere!C631=\"\",\"\",Deltagere!C631)","v":""},{"$f":"IF(Deltagere!G631=\"\",\"\",Deltagere!G631)","v":""},2000,""]
[null,{"$f":"Deltagere!B632","v":629},{"$f":"IF(Deltagere!C632=\"\",\"\",Deltagere!C632)","v":""},{"$f":"IF(Deltagere!G632=\"\",\"\",Deltagere!G632)","v":""},2000,""]
[null,{"$f":"Deltagere!B633","v":630},{"$f":"IF(Deltagere!C633=\"\",\"\",Deltagere!C633)","v":""},{"$f":"IF(Deltagere!G633=\"\",\"\",Deltagere!G633)","v":""},2000,""]
[null,{"$f":"Deltagere!B634","v":631},{"$f":"IF(Deltagere!C634=\"\",\"\",Deltagere!C634)","v":""},{"$f":"IF(Deltagere!G634=\"\",\"\",Deltagere!G634)","v":""},2000,""]
[null,{"$f":"Deltagere!B635","v":632},{"$f":"IF(Deltagere!C635=\"\",\"\",Deltagere!C635)","v":""},{"$f":"IF(Deltagere!G635=\"\",\"\",Deltagere!G635)","v":""},2000,""]
[null,{"$f":"Deltagere!B636","v":633},{"$f":"IF(Deltagere!C636=\"\",\"\",Deltagere!C636)","v":""},{"$f":"IF(Deltagere!G636=\"\",\"\",Deltagere!G636)","v":""},2000,""]
[null,{"$f":"Deltagere!B637","v":634},{"$f":"IF(Deltagere!C637=\"\",\"\",Deltagere!C637)","v":""},{"$f":"IF(Deltagere!G637=\"\",\"\",Deltagere!G637)","v":""},2000,""]
[null,{"$f":"Deltagere!B638","v":635},{"$f":"IF(Deltagere!C638=\"\",\"\",Deltagere!C638)","v":""},{"$f":"IF(Deltagere!G638=\"\",\"\",Deltagere!G638)","v":""},2000,""]
[null,{"$f":"Deltagere!B639","v":636},{"$f":"IF(Deltagere!C639=\"\",\"\",Deltagere!C639)","v":""},{"$f":"IF(Deltagere!G639=\"\",\"\",Deltagere!G639)","v":""},2000,""]
[null,{"$f":"Deltagere!B640","v":637},{"$f":"IF(Deltagere!C640=\"\",\"\",Deltagere!C640)","v":""},{"$f":"IF(Deltagere!G640=\"\",\"\",Deltagere!G640)","v":""},2000,""]
[null,{"$f":"Deltagere!B641","v":638},{"$f":"IF(Deltagere!C641=\"\",\"\",Deltagere!C641)","v":""},{"$f":"IF(Deltagere!G641=\"\",\"\",Deltagere!G641)","v":""},2000,""]
[null,{"$f":"Deltagere!B642","v":639},{"$f":"IF(Deltagere!C642=\"\",\"\",Deltagere!C642)","v":""},{"$f":"IF(Deltagere!G642=\"\",\"\",Deltagere!G642)","v":""},2000,""]
[null,{"$f":"Deltagere!B643","v":640},{"$f":"IF(Deltagere!C643=\"\",\"\",Deltagere!C643)","v":""},{"$f":"IF(Deltagere!G643=\"\",\"\",Deltagere!G643)","v":""},2000,""]
[null,{"$f":"Deltagere!B644","v":641},{"$f":"IF(Deltagere!C644=\"\",\"\",Deltagere!C644)","v":""},{"$f":"IF(Deltagere!G644=\"\",\"\",Deltagere!G644)","v":""},2000,""]
[null,{"$f":"Deltagere!B645","v":642},{"$f":"IF(Deltagere!C645=\"\",\"\",Deltagere!C645)","v":""},{"$f":"IF(Deltagere!G645=\"\",\"\",Deltagere!G645)","v":""},{"$f":"IF(D652=\"x\",B652,2000)","v":2000},{"$f":"IF(E652=2000,\"\",1)","v":""}]
[null,{"$f":"Deltagere!B646","v":643},{"$f":"IF(Deltagere!C646=\"\",\"\",Deltagere!C646)","v":""},{"$f":"IF(Deltagere!G646=\"\",\"\",Deltagere!G646)","v":""},2000,""]
[null,{"$f":"Deltagere!B647","v":644},{"$f":"IF(Deltagere!C647=\"\",\"\",Deltagere!C647)","v":""},{"$f":"IF(Deltagere!G647=\"\",\"\",Deltagere!G647)","v":""},2000,""]
[null,{"$f":"Deltagere!B648","v":645},{"$f":"IF(Deltagere!C648=\"\",\"\",Deltagere!C648)","v":""},{"$f":"IF(Deltagere!G648=\"\",\"\",Deltagere!G648)","v":""},2000,""]
[null,{"$f":"Deltagere!B649","v":646},{"$f":"IF(Deltagere!C649=\"\",\"\",Deltagere!C649)","v":""},{"$f":"IF(Deltagere!G649=\"\",\"\",Deltagere!G649)","v":""},2000,""]
[null,{"$f":"Deltagere!B650","v":647},{"$f":"IF(Deltagere!C650=\"\",\"\",Deltagere!C650)","v":""},{"$f":"IF(Deltagere!G650=\"\",\"\",Deltagere!G650)","v":""},2000,""]
[null,{"$f":"Deltagere!B651","v":648},{"$f":"IF(Deltagere!C651=\"\",\"\",Deltagere!C651)","v":""},{"$f":"IF(Deltagere!G651=\"\",\"\",Deltagere!G651)","v":""},2000,""]
[null,{"$f":"Deltagere!B652","v":649},{"$f":"IF(Deltagere!C652=\"\",\"\",Deltagere!C652)","v":""},{"$f":"IF(Deltagere!G652=\"\",\"\",Deltagere!G652)","v":""},2000,""]
[null,{"$f":"Deltagere!B653","v":650},{"$f":"IF(Deltagere!C653=\"\",\"\",Deltagere!C653)","v":""},{"$f":"IF(Deltagere!G653=\"\",\"\",Deltagere!G653)","v":""},2000,""]
[null,{"$f":"Deltagere!B654","v":651},{"$f":"IF(Deltagere!C654=\"\",\"\",Deltagere!C654)","v":""},{"$f":"IF(Deltagere!G654=\"\",\"\",Deltagere!G654)","v":""},2000,""]
[null,{"$f":"Deltagere!B655","v":652},{"$f":"IF(Deltagere!C655=\"\",\"\",Deltagere!C655)","v":""},{"$f":"IF(Deltagere!G655=\"\",\"\",Deltagere!G655)","v":""},2000,""]
[null,{"$f":"Deltagere!B656","v":653},{"$f":"IF(Deltagere!C656=\"\",\"\",Deltagere!C656)","v":""},{"$f":"IF(Deltagere!G656=\"\",\"\",Deltagere!G656)","v":""},2000,""]
[null,{"$f":"Deltagere!B657","v":654},{"$f":"IF(Deltagere!C657=\"\",\"\",Deltagere!C657)","v":""},{"$f":"IF(Deltagere!G657=\"\",\"\",Deltagere!G657)","v":""},2000,""]
[null,{"$f":"Deltagere!B658","v":655},{"$f":"IF(Deltagere!C658=\"\",\"\",Deltagere!C658)","v":""},{"$f":"IF(Deltagere!G658=\"\",\"\",Deltagere!G658)","v":""},2000,""]
[null,{"$f":"Deltagere!B659","v":656},{"$f":"IF(Deltagere!C659=\"\",\"\",Deltagere!C659)","v":""},{"$f":"IF(Deltagere!G659=\"\",\"\",Deltagere!G659)","v":""},2000,""]
[null,{"$f":"Deltagere!B660","v":657},{"$f":"IF(Deltagere!C660=\"\",\"\",Deltagere!C660)","v":""},{"$f":"IF(Deltagere!G660=\"\",\"\",Deltagere!G660)","v":""},2000,""]
[null,{"$f":"Deltagere!B661","v":658},{"$f":"IF(Deltagere!C661=\"\",\"\",Deltagere!C661)","v":""},{"$f":"IF(Deltagere!G661=\"\",\"\",Deltagere!G661)","v":""},2000,""]
[null,{"$f":"Deltagere!B662","v":659},{"$f":"IF(Deltagere!C662=\"\",\"\",Deltagere!C662)","v":""},{"$f":"IF(Deltagere!G662=\"\",\"\",Deltagere!G662)","v":""},2000,""]
[null,{"$f":"Deltagere!B663","v":660},{"$f":"IF(Deltagere!C663=\"\",\"\",Deltagere!C663)","v":""},{"$f":"IF(Deltagere!G663=\"\",\"\",Deltagere!G663)","v":""},2000,""]
[null,{"$f":"Deltagere!B664","v":661},{"$f":"IF(Deltagere!C664=\"\",\"\",Deltagere!C664)","v":""},{"$f":"IF(Deltagere!G664=\"\",\"\",Deltagere!G664)","v":""},2000,""]
[null,{"$f":"Deltagere!B665","v":662},{"$f":"IF(Deltagere!C665=\"\",\"\",Deltagere!C665)","v":""},{"$f":"IF(Deltagere!G665=\"\",\"\",Deltagere!G665)","v":""},2000,""]
[null,{"$f":"Deltagere!B666","v":663},{"$f":"IF(Deltagere!C666=\"\",\"\",Deltagere!C666)","v":""},{"$f":"IF(Deltagere!G666=\"\",\"\",Deltagere!G666)","v":""},2000,""]
[null,{"$f":"Deltagere!B667","v":664},{"$f":"IF(Deltagere!C667=\"\",\"\",Deltagere!C667)","v":""},{"$f":"IF(Deltagere!G667=\"\",\"\",Deltagere!G667)","v":""},2000,""]
[null,{"$f":"Deltagere!B668","v":665},{"$f":"IF(Deltagere!C668=\"\",\"\",Deltagere!C668)","v":""},{"$f":"IF(Deltagere!G668=\"\",\"\",Deltagere!G668)","v":""},2000,""]
[null,{"$f":"Deltagere!B669","v":666},{"$f":"IF(Deltagere!C669=\"\",\"\",Deltagere!C669)","v":""},{"$f":"IF(Deltagere!G669=\"\",\"\",Deltagere!G669)","v":""},2000,""]
[null,{"$f":"Deltagere!B670","v":667},{"$f":"IF(Deltagere!C670=\"\",\"\",Deltagere!C670)","v":""},{"$f":"IF(Deltagere!G670=\"\",\"\",Deltagere!G670)","v":""},2000,""]
[null,{"$f":"Deltagere!B671","v":668},{"$f":"IF(Deltagere!C671=\"\",\"\",Deltagere!C671)","v":""},{"$f":"IF(Deltagere!G671=\"\",\"\",Deltagere!G671)","v":""},2000,""]
[null,{"$f":"Deltagere!B672","v":669},{"$f":"IF(Deltagere!C672=\"\",\"\",Deltagere!C672)","v":""},{"$f":"IF(Deltagere!G672=\"\",\"\",Deltagere!G672)","v":""},2000,""]
[null,{"$f":"Deltagere!B673","v":670},{"$f":"IF(Deltagere!C673=\"\",\"\",Deltagere!C673)","v":""},{"$f":"IF(Deltagere!G673=\"\",\"\",Deltagere!G673)","v":""},2000,""]
[null,{"$f":"Deltagere!B674","v":671},{"$f":"IF(Deltagere!C674=\"\",\"\",Deltagere!C674)","v":""},{"$f":"IF(Deltagere!G674=\"\",\"\",Deltagere!G674)","v":""},2000,""]
[null,{"$f":"Deltagere!B675","v":672},{"$f":"IF(Deltagere!C675=\"\",\"\",Deltagere!C675)","v":""},{"$f":"IF(Deltagere!G675=\"\",\"\",Deltagere!G675)","v":""},2000,""]
[null,{"$f":"Deltagere!B676","v":673},{"$f":"IF(Deltagere!C676=\"\",\"\",Deltagere!C676)","v":""},{"$f":"IF(Deltagere!G676=\"\",\"\",Deltagere!G676)","v":""},2000,""]
[null,{"$f":"Deltagere!B677","v":674},{"$f":"IF(Deltagere!C677=\"\",\"\",Deltagere!C677)","v":""},{"$f":"IF(Deltagere!G677=\"\",\"\",Deltagere!G677)","v":""},2000,""]
[null,{"$f":"Deltagere!B678","v":675},{"$f":"IF(Deltagere!C678=\"\",\"\",Deltagere!C678)","v":""},{"$f":"IF(Deltagere!G678=\"\",\"\",Deltagere!G678)","v":""},2000,""]
[null,{"$f":"Deltagere!B679","v":676},{"$f":"IF(Deltagere!C679=\"\",\"\",Deltagere!C679)","v":""},{"$f":"IF(Deltagere!G679=\"\",\"\",Deltagere!G679)","v":""},2000,""]
[null,{"$f":"Deltagere!B680","v":677},{"$f":"IF(Deltagere!C680=\"\",\"\",Deltagere!C680)","v":""},{"$f":"IF(Deltagere!G680=\"\",\"\",Deltagere!G680)","v":""},2000,""]
[null,{"$f":"Deltagere!B681","v":678},{"$f":"IF(Deltagere!C681=\"\",\"\",Deltagere!C681)","v":""},{"$f":"IF(Deltagere!G681=\"\",\"\",Deltagere!G681)","v":""},2000,""]
[null,{"$f":"Deltagere!B682","v":679},{"$f":"IF(Deltagere!C682=\"\",\"\",Deltagere!C682)","v":""},{"$f":"IF(Deltagere!G682=\"\",\"\",Deltagere!G682)","v":""},2000,""]
[null,{"$f":"Deltagere!B683","v":680},{"$f":"IF(Deltagere!C683=\"\",\"\",Deltagere!C683)","v":""},{"$f":"IF(Deltagere!G683=\"\",\"\",Deltagere!G683)","v":""},2000,""]
[null,{"$f":"Deltagere!B684","v":681},{"$f":"IF(Deltagere!C684=\"\",\"\",Deltagere!C684)","v":""},{"$f":"IF(Deltagere!G684=\"\",\"\",Deltagere!G684)","v":""},2000,""]
[null,{"$f":"Deltagere!B685","v":682},{"$f":"IF(Deltagere!C685=\"\",\"\",Deltagere!C685)","v":""},{"$f":"IF(Deltagere!G685=\"\",\"\",Deltagere!G685)","v":""},2000,""]
[null,{"$f":"Deltagere!B686","v":683},{"$f":"IF(Deltagere!C686=\"\",\"\",Deltagere!C686)","v":""},{"$f":"IF(Deltagere!G686=\"\",\"\",Deltagere!G686)","v":""},2000,""]
[null,{"$f":"Deltagere!B687","v":684},{"$f":"IF(Deltagere!C687=\"\",\"\",Deltagere!C687)","v":""},{"$f":"IF(Deltagere!G687=\"\",\"\",Deltagere!G687)","v":""},2000,""]
[null,{"$f":"Deltagere!B688","v":685},{"$f":"IF(Deltagere!C688=\"\",\"\",Deltagere!C688)","v":""},{"$f":"IF(Deltagere!G688=\"\",\"\",Deltagere!G688)","v":""},2000,""]
[null,{"$f":"Deltagere!B689","v":686},{"$f":"IF(Deltagere!C689=\"\",\"\",Deltagere!C689)","v":""},{"$f":"IF(Deltagere!G689=\"\",\"\",Deltagere!G689)","v":""},2000,""]
[null,{"$f":"Deltagere!B690","v":687},{"$f":"IF(Deltagere!C690=\"\",\"\",Deltagere!C690)","v":""},{"$f":"IF(Deltagere!G690=\"\",\"\",Deltagere!G690)","v":""},2000,""]
[null,{"$f":"Deltagere!B691","v":688},{"$f":"IF(Deltagere!C691=\"\",\"\",Deltagere!C691)","v":""},{"$f":"IF(Deltagere!G691=\"\",\"\",Deltagere!G691)","v":""},2000,""]
[null,{"$f":"Deltagere!B692","v":689},{"$f":"IF(Deltagere!C692=\"\",\"\",Deltagere!C692)","v":""},{"$f":"IF(Deltagere!G692=\"\",\"\",Deltagere!G692)","v":""},2000,""]
[null,{"$f":"Deltagere!B693","v":690},{"$f":"IF(Deltagere!C693=\"\",\"\",Deltagere!C693)","v":""},{"$f":"IF(Deltagere!G693=\"\",\"\",Deltagere!G693)","v":""},2000,""]
[null,{"$f":"Deltagere!B694","v":691},{"$f":"IF(Deltagere!C694=\"\",\"\",Deltagere!C694)","v":""},{"$f":"IF(Deltagere!G694=\"\",\"\",Deltagere!G694)","v":""},2000,""]
[null,{"$f":"Deltagere!B695","v":692},{"$f":"IF(Deltagere!C695=\"\",\"\",Deltagere!C695)","v":""},{"$f":"IF(Deltagere!G695=\"\",\"\",Deltagere!G695)","v":""},2000,""]
[null,{"$f":"Deltagere!B696","v":693},{"$f":"IF(Deltagere!C696=\"\",\"\",Deltagere!C696)","v":""},{"$f":"IF(Deltagere!G696=\"\",\"\",Deltagere!G696)","v":""},2000,""]
[null,{"$f":"Deltagere!B697","v":694},{"$f":"IF(Deltagere!C697=\"\",\"\",Deltagere!C697)","v":""},{"$f":"IF(Deltagere!G697=\"\",\"\",Deltagere!G697)","v":""},2000,""]
[null,{"$f":"Deltagere!B698","v":695},{"$f":"IF(Deltagere!C698=\"\",\"\",Deltagere!C698)","v":""},{"$f":"IF(Deltagere!G698=\"\",\"\",Deltagere!G698)","v":""},2000,""]
[null,{"$f":"Deltagere!B699","v":696},{"$f":"IF(Deltagere!C699=\"\",\"\",Deltagere!C699)","v":""},{"$f":"IF(Deltagere!G699=\"\",\"\",Deltagere!G699)","v":""},2000,""]
[null,{"$f":"Deltagere!B700","v":697},{"$f":"IF(Deltagere!C700=\"\",\"\",Deltagere!C700)","v":""},{"$f":"IF(Deltagere!G700=\"\",\"\",Deltagere!G700)","v":""},2000,""]
[null,{"$f":"Deltagere!B701","v":698},{"$f":"IF(Deltagere!C701=\"\",\"\",Deltagere!C701)","v":""},{"$f":"IF(Deltagere!G701=\"\",\"\",Deltagere!G701)","v":""},2000,""]
[null,{"$f":"Deltagere!B702","v":699},{"$f":"IF(Deltagere!C702=\"\",\"\",Deltagere!C702)","v":""},{"$f":"IF(Deltagere!G702=\"\",\"\",Deltagere!G702)","v":""},2000,""]
[null,{"$f":"Deltagere!B703","v":700},{"$f":"IF(Deltagere!C703=\"\",\"\",Deltagere!C703)","v":""},{"$f":"IF(Deltagere!G703=\"\",\"\",Deltagere!G703)","v":""},2000,""]
[null,{"$f":"Deltagere!B704","v":701},{"$f":"IF(Deltagere!C704=\"\",\"\",Deltagere!C704)","v":""},{"$f":"IF(Deltagere!G704=\"\",\"\",Deltagere!G704)","v":""},2000,""]
[null,{"$f":"Deltagere!B705","v":702},{"$f":"IF(Deltagere!C705=\"\",\"\",Deltagere!C705)","v":""},{"$f":"IF(Deltagere!G705=\"\",\"\",Deltagere!G705)","v":""},2000,""]
[null,{"$f":"Deltagere!B706","v":703},{"$f":"IF(Deltagere!C706=\"\",\"\",Deltagere!C706)","v":""},{"$f":"IF(Deltagere!G706=\"\",\"\",Deltagere!G706)","v":""},2000,""]
[null,{"$f":"Deltagere!B707","v":704},{"$f":"IF(Deltagere!C707=\"\",\"\",Deltagere!C707)","v":""},{"$f":"IF(Deltagere!G707=\"\",\"\",Deltagere!G707)","v":""},2000,""]
[null,{"$f":"Deltagere!B708","v":705},{"$f":"IF(Deltagere!C708=\"\",\"\",Deltagere!C708)","v":""},{"$f":"IF(Deltagere!G708=\"\",\"\",Deltagere!G708)","v":""},2000,""]
[null,{"$f":"Deltagere!B709","v":706},{"$f":"IF(Deltagere!C709=\"\",\"\",Deltagere!C709)","v":""},{"$f":"IF(Deltagere!G709=\"\",\"\",Deltagere!G709)","v":""},{"$f":"IF(D716=\"x\",B716,2000)","v":2000},{"$f":"IF(E716=2000,\"\",1)","v":""}]
[null,{"$f":"Deltagere!B710","v":707},{"$f":"IF(Deltagere!C710=\"\",\"\",Deltagere!C710)","v":""},{"$f":"IF(Deltagere!G710=\"\",\"\",Deltagere!G710)","v":""},2000,""]
[null,{"$f":"Deltagere!B711","v":708},{"$f":"IF(Deltagere!C711=\"\",\"\",Deltagere!C711)","v":""},{"$f":"IF(Deltagere!G711=\"\",\"\",Deltagere!G711)","v":""},2000,""]
[null,{"$f":"Deltagere!B712","v":709},{"$f":"IF(Deltagere!C712=\"\",\"\",Deltagere!C712)","v":""},{"$f":"IF(Deltagere!G712=\"\",\"\",Deltagere!G712)","v":""},2000,""]
[null,{"$f":"Deltagere!B713","v":710},{"$f":"IF(Deltagere!C713=\"\",\"\",Deltagere!C713)","v":""},{"$f":"IF(Deltagere!G713=\"\",\"\",Deltagere!G713)","v":""},2000,""]
[null,{"$f":"Deltagere!B714","v":711},{"$f":"IF(Deltagere!C714=\"\",\"\",Deltagere!C714)","v":""},{"$f":"IF(Deltagere!G714=\"\",\"\",Deltagere!G714)","v":""},2000,""]
[null,{"$f":"Deltagere!B715","v":712},{"$f":"IF(Deltagere!C715=\"\",\"\",Deltagere!C715)","v":""},{"$f":"IF(Deltagere!G715=\"\",\"\",Deltagere!G715)","v":""},2000,""]
[null,{"$f":"Deltagere!B716","v":713},{"$f":"IF(Deltagere!C716=\"\",\"\",Deltagere!C716)","v":""},{"$f":"IF(Deltagere!G716=\"\",\"\",Deltagere!G716)","v":""},2000,""]
[null,{"$f":"Deltagere!B717","v":714},{"$f":"IF(Deltagere!C717=\"\",\"\",Deltagere!C717)","v":""},{"$f":"IF(Deltagere!G717=\"\",\"\",Deltagere!G717)","v":""},2000,""]
[null,{"$f":"Deltagere!B718","v":715},{"$f":"IF(Deltagere!C718=\"\",\"\",Deltagere!C718)","v":""},{"$f":"IF(Deltagere!G718=\"\",\"\",Deltagere!G718)","v":""},2000,""]
[null,{"$f":"Deltagere!B719","v":716},{"$f":"IF(Deltagere!C719=\"\",\"\",Deltagere!C719)","v":""},{"$f":"IF(Deltagere!G719=\"\",\"\",Deltagere!G719)","v":""},2000,""]
[null,{"$f":"Deltagere!B720","v":717},{"$f":"IF(Deltagere!C720=\"\",\"\",Deltagere!C720)","v":""},{"$f":"IF(Deltagere!G720=\"\",\"\",Deltagere!G720)","v":""},2000,""]
[null,{"$f":"Deltagere!B721","v":718},{"$f":"IF(Deltagere!C721=\"\",\"\",Deltagere!C721)","v":""},{"$f":"IF(Deltagere!G721=\"\",\"\",Deltagere!G721)","v":""},2000,""]
[null,{"$f":"Deltagere!B722","v":719},{"$f":"IF(Deltagere!C722=\"\",\"\",Deltagere!C722)","v":""},{"$f":"IF(Deltagere!G722=\"\",\"\",Deltagere!G722)","v":""},2000,""]
[null,{"$f":"Deltagere!B723","v":720},{"$f":"IF(Deltagere!C723=\"\",\"\",Deltagere!C723)","v":""},{"$f":"IF(Deltagere!G723=\"\",\"\",Deltagere!G723)","v":""},2000,""]
[null,{"$f":"Deltagere!B724","v":721},{"$f":"IF(Deltagere!C724=\"\",\"\",Deltagere!C724)","v":""},{"$f":"IF(Deltagere!G724=\"\",\"\",Deltagere!G724)","v":""},2000,""]
[null,{"$f":"Deltagere!B725","v":722},{"$f":"IF(Deltagere!C725=\"\",\"\",Deltagere!C725)","v":""},{"$f":"IF(Deltagere!G725=\"\",\"\",Deltagere!G725)","v":""},2000,""]
[null,{"$f":"Deltagere!B726","v":723},{"$f":"IF(Deltagere!C726=\"\",\"\",Deltagere!C726)","v":""},{"$f":"IF(Deltagere!G726=\"\",\"\",Deltagere!G726)","v":""},2000,""]
[null,{"$f":"Deltagere!B727","v":724},{"$f":"IF(Deltagere!C727=\"\",\"\",Deltagere!C727)","v":""},{"$f":"IF(Deltagere!G727=\"\",\"\",Deltagere!G727)","v":""},2000,""]
[null,{"$f":"Deltagere!B728","v":725},{"$f":"IF(Deltagere!C728=\"\",\"\",Deltagere!C728)","v":""},{"$f":"IF(Deltagere!G728=\"\",\"\",Deltagere!G728)","v":""},2000,""]
[null,{"$f":"Deltagere!B729","v":726},{"$f":"IF(Deltagere!C729=\"\",\"\",Deltagere!C729)","v":""},{"$f":"IF(Deltagere!G729=\"\",\"\",Deltagere!G729)","v":""},2000,""]
[null,{"$f":"Deltagere!B730","v":727},{"$f":"IF(Deltagere!C730=\"\",\"\",Deltagere!C730)","v":""},{"$f":"IF(Deltagere!G730=\"\",\"\",Deltagere!G730)","v":""},2000,""]
[null,{"$f":"Deltagere!B731","v":728},{"$f":"IF(Deltagere!C731=\"\",\"\",Deltagere!C731)","v":""},{"$f":"IF(Deltagere!G731=\"\",\"\",Deltagere!G731)","v":""},2000,""]
[null,{"$f":"Deltagere!B732","v":729},{"$f":"IF(Deltagere!C732=\"\",\"\",Deltagere!C732)","v":""},{"$f":"IF(Deltagere!G732=\"\",\"\",Deltagere!G732)","v":""},2000,""]
[null,{"$f":"Deltagere!B733","v":730},{"$f":"IF(Deltagere!C733=\"\",\"\",Deltagere!C733)","v":""},{"$f":"IF(Deltagere!G733=\"\",\"\",Deltagere!G733)","v":""},2000,""]
[null,{"$f":"Deltagere!B734","v":731},{"$f":"IF(Deltagere!C734=\"\",\"\",Deltagere!C734)","v":""},{"$f":"IF(Deltagere!G734=\"\",\"\",Deltagere!G734)","v":""},2000,""]
[null,{"$f":"Deltagere!B735","v":732},{"$f":"IF(Deltagere!C735=\"\",\"\",Deltagere!C735)","v":""},{"$f":"IF(Deltagere!G735=\"\",\"\",Deltagere!G735)","v":""},2000,""]
[null,{"$f":"Deltagere!B736","v":733},{"$f":"IF(Deltagere!C736=\"\",\"\",Deltagere!C736)","v":""},{"$f":"IF(Deltagere!G736=\"\",\"\",Deltagere!G736)","v":""},2000,""]
[null,{"$f":"Deltagere!B737","v":734},{"$f":"IF(Deltagere!C737=\"\",\"\",Deltagere!C737)","v":""},{"$f":"IF(Deltagere!G737=\"\",\"\",Deltagere!G737)","v":""},2000,""]
[null,{"$f":"Deltagere!B738","v":735},{"$f":"IF(Deltagere!C738=\"\",\"\",Deltagere!C738)","v":""},{"$f":"IF(Deltagere!G738=\"\",\"\",Deltagere!G738)","v":""},2000,""]
[null,{"$f":"Deltagere!B739","v":736},{"$f":"IF(Deltagere!C739=\"\",\"\",Deltagere!C739)","v":""},{"$f":"IF(Deltagere!G739=\"\",\"\",Deltagere!G739)","v":""},2000,""]
[null,{"$f":"Deltagere!B740","v":737},{"$f":"IF(Deltagere!C740=\"\",\"\",Deltagere!C740)","v":""},{"$f":"IF(Deltagere!G740=\"\",\"\",Deltagere!G740)","v":""},2000,""]
[null,{"$f":"Deltagere!B741","v":738},{"$f":"IF(Deltagere!C741=\"\",\"\",Deltagere!C741)","v":""},{"$f":"IF(Deltagere!G741=\"\",\"\",Deltagere!G741)","v":""},2000,""]
[null,{"$f":"Deltagere!B742","v":739},{"$f":"IF(Deltagere!C742=\"\",\"\",Deltagere!C742)","v":""},{"$f":"IF(Deltagere!G742=\"\",\"\",Deltagere!G742)","v":""},2000,""]
[null,{"$f":"Deltagere!B743","v":740},{"$f":"IF(Deltagere!C743=\"\",\"\",Deltagere!C743)","v":""},{"$f":"IF(Deltagere!G743=\"\",\"\",Deltagere!G743)","v":""},2000,""]
[null,{"$f":"Deltagere!B744","v":741},{"$f":"IF(Deltagere!C744=\"\",\"\",Deltagere!C744)","v":""},{"$f":"IF(Deltagere!G744=\"\",\"\",Deltagere!G744)","v":""},2000,""]
[null,{"$f":"Deltagere!B745","v":742},{"$f":"IF(Deltagere!C745=\"\",\"\",Deltagere!C745)","v":""},{"$f":"IF(Deltagere!G745=\"\",\"\",Deltagere!G745)","v":""},2000,""]
[null,{"$f":"Deltagere!B746","v":743},{"$f":"IF(Deltagere!C746=\"\",\"\",Deltagere!C746)","v":""},{"$f":"IF(Deltagere!G746=\"\",\"\",Deltagere!G746)","v":""},2000,""]
[null,{"$f":"Deltagere!B747","v":744},{"$f":"IF(Deltagere!C747=\"\",\"\",Deltagere!C747)","v":""},{"$f":"IF(Deltagere!G747=\"\",\"\",Deltagere!G747)","v":""},2000,""]
[null,{"$f":"Deltagere!B748","v":745},{"$f":"IF(Deltagere!C748=\"\",\"\",Deltagere!C748)","v":""},{"$f":"IF(Deltagere!G748=\"\",\"\",Deltagere!G748)","v":""},2000,""]
[null,{"$f":"Deltagere!B749","v":746},{"$f":"IF(Deltagere!C749=\"\",\"\",Deltagere!C749)","v":""},{"$f":"IF(Deltagere!G749=\"\",\"\",Deltagere!G749)","v":""},2000,""]
[null,{"$f":"Deltagere!B750","v":747},{"$f":"IF(Deltagere!C750=\"\",\"\",Deltagere!C750)","v":""},{"$f":"IF(Deltagere!G750=\"\",\"\",Deltagere!G750)","v":""},2000,""]
[null,{"$f":"Deltagere!B751","v":748},{"$f":"IF(Deltagere!C751=\"\",\"\",Deltagere!C751)","v":""},{"$f":"IF(Deltagere!G751=\"\",\"\",Deltagere!G751)","v":""},2000,""]
[null,{"$f":"Deltagere!B752","v":749},{"$f":"IF(Deltagere!C752=\"\",\"\",Deltagere!C752)","v":""},{"$f":"IF(Deltagere!G752=\"\",\"\",Deltagere!G752)","v":""},2000,""]
[null,{"$f":"Deltagere!B753","v":750},{"$f":"IF(Deltagere!C753=\"\",\"\",Deltagere!C753)","v":""},{"$f":"IF(Deltagere!G753=\"\",\"\",Deltagere!G753)","v":""},2000,""]
[null,{"$f":"Deltagere!B754","v":751},{"$f":"IF(Deltagere!C754=\"\",\"\",Deltagere!C754)","v":""},{"$f":"IF(Deltagere!G754=\"\",\"\",Deltagere!G754)","v":""},2000,""]
[null,{"$f":"Deltagere!B755","v":752},{"$f":"IF(Deltagere!C755=\"\",\"\",Deltagere!C755)","v":""},{"$f":"IF(Deltagere!G755=\"\",\"\",Deltagere!G755)","v":""},2000,""]
[null,{"$f":"Deltagere!B756","v":753},{"$f":"IF(Deltagere!C756=\"\",\"\",Deltagere!C756)","v":""},{"$f":"IF(Deltagere!G756=\"\",\"\",Deltagere!G756)","v":""},2000,""]
[null,{"$f":"Deltagere!B757","v":754},{"$f":"IF(Deltagere!C757=\"\",\"\",Deltagere!C757)","v":""},{"$f":"IF(Deltagere!G757=\"\",\"\",Deltagere!G757)","v":""},2000,""]
[null,{"$f":"Deltagere!B758","v":755},{"$f":"IF(Deltagere!C758=\"\",\"\",Deltagere!C758)","v":""},{"$f":"IF(Deltagere!G758=\"\",\"\",Deltagere!G758)","v":""},2000,""]
[null,{"$f":"Deltagere!B759","v":756},{"$f":"IF(Deltagere!C759=\"\",\"\",Deltagere!C759)","v":""},{"$f":"IF(Deltagere!G759=\"\",\"\",Deltagere!G759)","v":""},2000,""]
[null,{"$f":"Deltagere!B760","v":757},{"$f":"IF(Deltagere!C760=\"\",\"\",Deltagere!C760)","v":""},{"$f":"IF(Deltagere!G760=\"\",\"\",Deltagere!G760)","v":""},2000,""]
[null,{"$f":"Deltagere!B761","v":758},{"$f":"IF(Deltagere!C761=\"\",\"\",Deltagere!C761)","v":""},{"$f":"IF(Deltagere!G761=\"\",\"\",Deltagere!G761)","v":""},2000,""]
[null,{"$f":"Deltagere!B762","v":759},{"$f":"IF(Deltagere!C762=\"\",\"\",Deltagere!C762)","v":""},{"$f":"IF(Deltagere!G762=\"\",\"\",Deltagere!G762)","v":""},2000,""]
[null,{"$f":"Deltagere!B763","v":760},{"$f":"IF(Deltagere!C763=\"\",\"\",Deltagere!C763)","v":""},{"$f":"IF(Deltagere!G763=\"\",\"\",Deltagere!G763)","v":""},2000,""]
[null,{"$f":"Deltagere!B764","v":761},{"$f":"IF(Deltagere!C764=\"\",\"\",Deltagere!C764)","v":""},{"$f":"IF(Deltagere!G764=\"\",\"\",Deltagere!G764)","v":""},2000,""]
[null,{"$f":"Deltagere!B765","v":762},{"$f":"IF(Deltagere!C765=\"\",\"\",Deltagere!C765)","v":""},{"$f":"IF(Deltagere!G765=\"\",\"\",Deltagere!G765)","v":""},2000,""]
[null,{"$f":"Deltagere!B766","v":763},{"$f":"IF(Deltagere!C766=\"\",\"\",Deltagere!C766)","v":""},{"$f":"IF(Deltagere!G766=\"\",\"\",Deltagere!G766)","v":""},2000,""]
[null,{"$f":"Deltagere!B767","v":764},{"$f":"IF(Deltagere!C767=\"\",\"\",Deltagere!C767)","v":""},{"$f":"IF(Deltagere!G767=\"\",\"\",Deltagere!G767)","v":""},2000,""]
[null,{"$f":"Deltagere!B768","v":765},{"$f":"IF(Deltagere!C768=\"\",\"\",Deltagere!C768)","v":""},{"$f":"IF(Deltagere!G768=\"\",\"\",Deltagere!G768)","v":""},2000,""]
[null,{"$f":"Deltagere!B769","v":766},{"$f":"IF(Deltagere!C769=\"\",\"\",Deltagere!C769)","v":""},{"$f":"IF(Deltagere!G769=\"\",\"\",Deltagere!G769)","v":""},2000,""]
[null,{"$f":"Deltagere!B770","v":767},{"$f":"IF(Deltagere!C770=\"\",\"\",Deltagere!C770)","v":""},{"$f":"IF(Deltagere!G770=\"\",\"\",Deltagere!G770)","v":""},2000,""]
[null,{"$f":"Deltagere!B771","v":768},{"$f":"IF(Deltagere!C771=\"\",\"\",Deltagere!C771)","v":""},{"$f":"IF(Deltagere!G771=\"\",\"\",Deltagere!G771)","v":""},2000,""]
[null,{"$f":"Deltagere!B772","v":769},{"$f":"IF(Deltagere!C772=\"\",\"\",Deltagere!C772)","v":""},{"$f":"IF(Deltagere!G772=\"\",\"\",Deltagere!G772)","v":""},2000,""]
[null,{"$f":"Deltagere!B773","v":770},{"$f":"IF(Deltagere!C773=\"\",\"\",Deltagere!C773)","v":""},{"$f":"IF(Deltagere!G773=\"\",\"\",Deltagere!G773)","v":""},{"$f":"IF(D780=\"x\",B780,2000)","v":2000},{"$f":"IF(E780=2000,\"\",1)","v":""}]
[null,{"$f":"Deltagere!B774","v":771},{"$f":"IF(Deltagere!C774=\"\",\"\",Deltagere!C774)","v":""},{"$f":"IF(Deltagere!G774=\"\",\"\",Deltagere!G774)","v":""},2000,""]
[null,{"$f":"Deltagere!B775","v":772},{"$f":"IF(Deltagere!C775=\"\",\"\",Deltagere!C775)","v":""},{"$f":"IF(Deltagere!G775=\"\",\"\",Deltagere!G775)","v":""},2000,""]
[null,{"$f":"Deltagere!B776","v":773},{"$f":"IF(Deltagere!C776=\"\",\"\",Deltagere!C776)","v":""},{"$f":"IF(Deltagere!G776=\"\",\"\",Deltagere!G776)","v":""},2000,""]
[null,{"$f":"Deltagere!B777","v":774},{"$f":"IF(Deltagere!C777=\"\",\"\",Deltagere!C777)","v":""},{"$f":"IF(Deltagere!G777=\"\",\"\",Deltagere!G777)","v":""},2000,""]
[null,{"$f":"Deltagere!B778","v":775},{"$f":"IF(Deltagere!C778=\"\",\"\",Deltagere!C778)","v":""},{"$f":"IF(Deltagere!G778=\"\",\"\",Deltagere!G778)","v":""},2000,""]
[null,{"$f":"Deltagere!B779","v":776},{"$f":"IF(Deltagere!C779=\"\",\"\",Deltagere!C779)","v":""},{"$f":"IF(Deltagere!G779=\"\",\"\",Deltagere!G779)","v":""},2000,""]
[null,{"$f":"Deltagere!B780","v":777},{"$f":"IF(Deltagere!C780=\"\",\"\",Deltagere!C780)","v":""},{"$f":"IF(Deltagere!G780=\"\",\"\",Deltagere!G780)","v":""},2000,""]
[null,{"$f":"Deltagere!B781","v":778},{"$f":"IF(Deltagere!C781=\"\",\"\",Deltagere!C781)","v":""},{"$f":"IF(Deltagere!G781=\"\",\"\",Deltagere!G781)","v":""},2000,""]
[null,{"$f":"Deltagere!B782","v":779},{"$f":"IF(Deltagere!C782=\"\",\"\",Deltagere!C782)","v":""},{"$f":"IF(Deltagere!G782=\"\",\"\",Deltagere!G782)","v":""},2000,""]
[null,{"$f":"Deltagere!B783","v":780},{"$f":"IF(Deltagere!C783=\"\",\"\",Deltagere!C783)","v":""},{"$f":"IF(Deltagere!G783=\"\",\"\",Deltagere!G783)","v":""},2000,""]
[null,{"$f":"Deltagere!B784","v":781},{"$f":"IF(Deltagere!C784=\"\",\"\",Deltagere!C784)","v":""},{"$f":"IF(Deltagere!G784=\"\",\"\",Deltagere!G784)","v":""},2000,""]
[null,{"$f":"Deltagere!B785","v":782},{"$f":"IF(Deltagere!C785=\"\",\"\",Deltagere!C785)","v":""},{"$f":"IF(Deltagere!G785=\"\",\"\",Deltagere!G785)","v":""},2000,""]
[null,{"$f":"Deltagere!B786","v":783},{"$f":"IF(Deltagere!C786=\"\",\"\",Deltagere!C786)","v":""},{"$f":"IF(Deltagere!G786=\"\",\"\",Deltagere!G786)","v":""},2000,""]
[null,{"$f":"Deltagere!B787","v":784},{"$f":"IF(Deltagere!C787=\"\",\"\",Deltagere!C787)","v":""},{"$f":"IF(Deltagere!G787=\"\",\"\",Deltagere!G787)","v":""},2000,""]
[null,{"$f":"Deltagere!B788","v":785},{"$f":"IF(Deltagere!C788=\"\",\"\",Deltagere!C788)","v":""},{"$f":"IF(Deltagere!G788=\"\",\"\",Deltagere!G788)","v":""},2000,""]
[null,{"$f":"Deltagere!B789","v":786},{"$f":"IF(Deltagere!C789=\"\",\"\",Deltagere!C789)","v":""},{"$f":"IF(Deltagere!G789=\"\",\"\",Deltagere!G789)","v":""},2000,""]
[null,{"$f":"Deltagere!B790","v":787},{"$f":"IF(Deltagere!C790=\"\",\"\",Deltagere!C790)","v":""},{"$f":"IF(Deltagere!G790=\"\",\"\",Deltagere!G790)","v":""},2000,""]
[null,{"$f":"Deltagere!B791","v":788},{"$f":"IF(Deltagere!C791=\"\",\"\",Deltagere!C791)","v":""},{"$f":"IF(Deltagere!G791=\"\",\"\",Deltagere!G791)","v":""},2000,""]
[null,{"$f":"Deltagere!B792","v":789},{"$f":"IF(Deltagere!C792=\"\",\"\",Deltagere!C792)","v":""},{"$f":"IF(Deltagere!G792=\"\",\"\",Deltagere!G792)","v":""},2000,""]
[null,{"$f":"Deltagere!B793","v":790},{"$f":"IF(Deltagere!C793=\"\",\"\",Deltagere!C793)","v":""},{"$f":"IF(Deltagere!G793=\"\",\"\",Deltagere!G793)","v":""},2000,""]
[null,{"$f":"Deltagere!B794","v":791},{"$f":"IF(Deltagere!C794=\"\",\"\",Deltagere!C794)","v":""},{"$f":"IF(Deltagere!G794=\"\",\"\",Deltagere!G794)","v":""},2000,""]
[null,{"$f":"Deltagere!B795","v":792},{"$f":"IF(Deltagere!C795=\"\",\"\",Deltagere!C795)","v":""},{"$f":"IF(Deltagere!G795=\"\",\"\",Deltagere!G795)","v":""},2000,""]
[null,{"$f":"Deltagere!B796","v":793},{"$f":"IF(Deltagere!C796=\"\",\"\",Deltagere!C796)","v":""},{"$f":"IF(Deltagere!G796=\"\",\"\",Deltagere!G796)","v":""},2000,""]
[null,{"$f":"Deltagere!B797","v":794},{"$f":"IF(Deltagere!C797=\"\",\"\",Deltagere!C797)","v":""},{"$f":"IF(Deltagere!G797=\"\",\"\",Deltagere!G797)","v":""},2000,""]
[null,{"$f":"Deltagere!B798","v":795},{"$f":"IF(Deltagere!C798=\"\",\"\",Deltagere!C798)","v":""},{"$f":"IF(Deltagere!G798=\"\",\"\",Deltagere!G798)","v":""},2000,""]
[null,{"$f":"Deltagere!B799","v":796},{"$f":"IF(Deltagere!C799=\"\",\"\",Deltagere!C799)","v":""},{"$f":"IF(Deltagere!G799=\"\",\"\",Deltagere!G799)","v":""},2000,""]
[null,{"$f":"Deltagere!B800","v":797},{"$f":"IF(Deltagere!C800=\"\",\"\",Deltagere!C800)","v":""},{"$f":"IF(Deltagere!G800=\"\",\"\",Deltagere!G800)","v":""},2000,""]
[null,{"$f":"Deltagere!B801","v":798},{"$f":"IF(Deltagere!C801=\"\",\"\",Deltagere!C801)","v":""},{"$f":"IF(Deltagere!G801=\"\",\"\",Deltagere!G801)","v":""},2000,""]
[null,{"$f":"Deltagere!B802","v":799},{"$f":"IF(Deltagere!C802=\"\",\"\",Deltagere!C802)","v":""},{"$f":"IF(Deltagere!G802=\"\",\"\",Deltagere!G802)","v":""},2000,""]
[null,{"$f":"Deltagere!B803","v":800},{"$f":"IF(Deltagere!C803=\"\",\"\",Deltagere!C803)","v":""},{"$f":"IF(Deltagere!G803=\"\",\"\",Deltagere!G803)","v":""},2000,""]
[null,{"$f":"Deltagere!B804","v":801},{"$f":"IF(Deltagere!C804=\"\",\"\",Deltagere!C804)","v":""},{"$f":"IF(Deltagere!G804=\"\",\"\",Deltagere!G804)","v":""},2000,""]
[null,{"$f":"Deltagere!B805","v":802},{"$f":"IF(Deltagere!C805=\"\",\"\",Deltagere!C805)","v":""},{"$f":"IF(Deltagere!G805=\"\",\"\",Deltagere!G805)","v":""},2000,""]
[null,{"$f":"Deltagere!B806","v":803},{"$f":"IF(Deltagere!C806=\"\",\"\",Deltagere!C806)","v":""},{"$f":"IF(Deltagere!G806=\"\",\"\",Deltagere!G806)","v":""},2000,""]
[null,{"$f":"Deltagere!B807","v":804},{"$f":"IF(Deltagere!C807=\"\",\"\",Deltagere!C807)","v":""},{"$f":"IF(Deltagere!G807=\"\",\"\",Deltagere!G807)","v":""},2000,""]
[null,{"$f":"Deltagere!B808","v":805},{"$f":"IF(Deltagere!C808=\"\",\"\",Deltagere!C808)","v":""},{"$f":"IF(Deltagere!G808=\"\",\"\",Deltagere!G808)","v":""},2000,""]
[null,{"$f":"Deltagere!B809","v":806},{"$f":"IF(Deltagere!C809=\"\",\"\",Deltagere!C809)","v":""},{"$f":"IF(Deltagere!G809=\"\",\"\",Deltagere!G809)","v":""},2000,""]
[null,{"$f":"Deltagere!B810","v":807},{"$f":"IF(Deltagere!C810=\"\",\"\",Deltagere!C810)","v":""},{"$f":"IF(Deltagere!G810=\"\",\"\",Deltagere!G810)","v":""},2000,""]
[null,{"$f":"Deltagere!B811","v":808},{"$f":"IF(Deltagere!C811=\"\",\"\",Deltagere!C811)","v":""},{"$f":"IF(Deltagere!G811=\"\",\"\",Deltagere!G811)","v":""},2000,""]
[null,{"$f":"Deltagere!B812","v":809},{"$f":"IF(Deltagere!C812=\"\",\"\",Deltagere!C812)","v":""},{"$f":"IF(Deltagere!G812=\"\",\"\",Deltagere!G812)","v":""},2000,""]
[null,{"$f":"Deltagere!B813","v":810},{"$f":"IF(Deltagere!C813=\"\",\"\",Deltagere!C813)","v":""},{"$f":"IF(Deltagere!G813=\"\",\"\",Deltagere!G813)","v":""},2000,""]
[null,{"$f":"Deltagere!B814","v":811},{"$f":"IF(Deltagere!C814=\"\",\"\",Deltagere!C814)","v":""},{"$f":"IF(Deltagere!G814=\"\",\"\",Deltagere!G814)","v":""},2000,""]
[null,{"$f":"Deltagere!B815","v":812},{"$f":"IF(Deltagere!C815=\"\",\"\",Deltagere!C815)","v":""},{"$f":"IF(Deltagere!G815=\"\",\"\",Deltagere!G815)","v":""},2000,""]
[null,{"$f":"Deltagere!B816","v":813},{"$f":"IF(Deltagere!C816=\"\",\"\",Deltagere!C816)","v":""},{"$f":"IF(Deltagere!G816=\"\",\"\",Deltagere!G816)","v":""},2000,""]
[null,{"$f":"Deltagere!B817","v":814},{"$f":"IF(Deltagere!C817=\"\",\"\",Deltagere!C817)","v":""},{"$f":"IF(Deltagere!G817=\"\",\"\",Deltagere!G817)","v":""},2000,""]
[null,{"$f":"Deltagere!B818","v":815},{"$f":"IF(Deltagere!C818=\"\",\"\",Deltagere!C818)","v":""},{"$f":"IF(Deltagere!G818=\"\",\"\",Deltagere!G818)","v":""},2000,""]
[null,{"$f":"Deltagere!B819","v":816},{"$f":"IF(Deltagere!C819=\"\",\"\",Deltagere!C819)","v":""},{"$f":"IF(Deltagere!G819=\"\",\"\",Deltagere!G819)","v":""},2000,""]
[null,{"$f":"Deltagere!B820","v":817},{"$f":"IF(Deltagere!C820=\"\",\"\",Deltagere!C820)","v":""},{"$f":"IF(Deltagere!G820=\"\",\"\",Deltagere!G820)","v":""},2000,""]
[null,{"$f":"Deltagere!B821","v":818},{"$f":"IF(Deltagere!C821=\"\",\"\",Deltagere!C821)","v":""},{"$f":"IF(Deltagere!G821=\"\",\"\",Deltagere!G821)","v":""},2000,""]
[null,{"$f":"Deltagere!B822","v":819},{"$f":"IF(Deltagere!C822=\"\",\"\",Deltagere!C822)","v":""},{"$f":"IF(Deltagere!G822=\"\",\"\",Deltagere!G822)","v":""},2000,""]
[null,{"$f":"Deltagere!B823","v":820},{"$f":"IF(Deltagere!C823=\"\",\"\",Deltagere!C823)","v":""},{"$f":"IF(Deltagere!G823=\"\",\"\",Deltagere!G823)","v":""},2000,""]
[null,{"$f":"Deltagere!B824","v":821},{"$f":"IF(Deltagere!C824=\"\",\"\",Deltagere!C824)","v":""},{"$f":"IF(Deltagere!G824=\"\",\"\",Deltagere!G824)","v":""},2000,""]
[null,{"$f":"Deltagere!B825","v":822},{"$f":"IF(Deltagere!C825=\"\",\"\",Deltagere!C825)","v":""},{"$f":"IF(Deltagere!G825=\"\",\"\",Deltagere!G825)","v":""},2000,""]
[null,{"$f":"Deltagere!B826","v":823},{"$f":"IF(Deltagere!C826=\"\",\"\",Deltagere!C826)","v":""},{"$f":"IF(Deltagere!G826=\"\",\"\",Deltagere!G826)","v":""},2000,""]
[null,{"$f":"Deltagere!B827","v":824},{"$f":"IF(Deltagere!C827=\"\",\"\",Deltagere!C827)","v":""},{"$f":"IF(Deltagere!G827=\"\",\"\",Deltagere!G827)","v":""},2000,""]
[null,{"$f":"Deltagere!B828","v":825},{"$f":"IF(Deltagere!C828=\"\",\"\",Deltagere!C828)","v":""},{"$f":"IF(Deltagere!G828=\"\",\"\",Deltagere!G828)","v":""},2000,""]
[null,{"$f":"Deltagere!B829","v":826},{"$f":"IF(Deltagere!C829=\"\",\"\",Deltagere!C829)","v":""},{"$f":"IF(Deltagere!G829=\"\",\"\",Deltagere!G829)","v":""},2000,""]
[null,{"$f":"Deltagere!B830","v":827},{"$f":"IF(Deltagere!C830=\"\",\"\",Deltagere!C830)","v":""},{"$f":"IF(Deltagere!G830=\"\",\"\",Deltagere!G830)","v":""},2000,""]
[null,{"$f":"Deltagere!B831","v":828},{"$f":"IF(Deltagere!C831=\"\",\"\",Deltagere!C831)","v":""},{"$f":"IF(Deltagere!G831=\"\",\"\",Deltagere!G831)","v":""},2000,""]
[null,{"$f":"Deltagere!B832","v":829},{"$f":"IF(Deltagere!C832=\"\",\"\",Deltagere!C832)","v":""},{"$f":"IF(Deltagere!G832=\"\",\"\",Deltagere!G832)","v":""},2000,""]
[null,{"$f":"Deltagere!B833","v":830},{"$f":"IF(Deltagere!C833=\"\",\"\",Deltagere!C833)","v":""},{"$f":"IF(Deltagere!G833=\"\",\"\",Deltagere!G833)","v":""},2000,""]
[null,{"$f":"Deltagere!B834","v":831},{"$f":"IF(Deltagere!C834=\"\",\"\",Deltagere!C834)","v":""},{"$f":"IF(Deltagere!G834=\"\",\"\",Deltagere!G834)","v":""},2000,""]
[null,{"$f":"Deltagere!B835","v":832},{"$f":"IF(Deltagere!C835=\"\",\"\",Deltagere!C835)","v":""},{"$f":"IF(Deltagere!G835=\"\",\"\",Deltagere!G835)","v":""},2000,""]
[null,{"$f":"Deltagere!B836","v":833},{"$f":"IF(Deltagere!C836=\"\",\"\",Deltagere!C836)","v":""},{"$f":"IF(Deltagere!G836=\"\",\"\",Deltagere!G836)","v":""},2000,""]
[null,{"$f":"Deltagere!B837","v":834},{"$f":"IF(Deltagere!C837=\"\",\"\",Deltagere!C837)","v":""},{"$f":"IF(Deltagere!G837=\"\",\"\",Deltagere!G837)","v":""},{"$f":"IF(D844=\"x\",B844,2000)","v":2000},{"$f":"IF(E844=2000,\"\",1)","v":""}]
[null,{"$f":"Deltagere!B838","v":835},{"$f":"IF(Deltagere!C838=\"\",\"\",Deltagere!C838)","v":""},{"$f":"IF(Deltagere!G838=\"\",\"\",Deltagere!G838)","v":""},2000,""]
[null,{"$f":"Deltagere!B839","v":836},{"$f":"IF(Deltagere!C839=\"\",\"\",Deltagere!C839)","v":""},{"$f":"IF(Deltagere!G839=\"\",\"\",Deltagere!G839)","v":""},2000,""]
[null,{"$f":"Deltagere!B840","v":837},{"$f":"IF(Deltagere!C840=\"\",\"\",Deltagere!C840)","v":""},{"$f":"IF(Deltagere!G840=\"\",\"\",Deltagere!G840)","v":""},2000,""]
[null,{"$f":"Deltagere!B841","v":838},{"$f":"IF(Deltagere!C841=\"\",\"\",Deltagere!C841)","v":""},{"$f":"IF(Deltagere!G841=\"\",\"\",Deltagere!G841)","v":""},2000,""]
[null,{"$f":"Deltagere!B842","v":839},{"$f":"IF(Deltagere!C842=\"\",\"\",Deltagere!C842)","v":""},{"$f":"IF(Deltagere!G842=\"\",\"\",Deltagere!G842)","v":""},2000,""]
[null,{"$f":"Deltagere!B843","v":840},{"$f":"IF(Deltagere!C843=\"\",\"\",Deltagere!C843)","v":""},{"$f":"IF(Deltagere!G843=\"\",\"\",Deltagere!G843)","v":""},2000,""]
[null,{"$f":"Deltagere!B844","v":841},{"$f":"IF(Deltagere!C844=\"\",\"\",Deltagere!C844)","v":""},{"$f":"IF(Deltagere!G844=\"\",\"\",Deltagere!G844)","v":""},2000,""]
[null,{"$f":"Deltagere!B845","v":842},{"$f":"IF(Deltagere!C845=\"\",\"\",Deltagere!C845)","v":""},{"$f":"IF(Deltagere!G845=\"\",\"\",Deltagere!G845)","v":""},2000,""]
[null,{"$f":"Deltagere!B846","v":843},{"$f":"IF(Deltagere!C846=\"\",\"\",Deltagere!C846)","v":""},{"$f":"IF(Deltagere!G846=\"\",\"\",Deltagere!G846)","v":""},2000,""]
[null,{"$f":"Deltagere!B847","v":844},{"$f":"IF(Deltagere!C847=\"\",\"\",Deltagere!C847)","v":""},{"$f":"IF(Deltagere!G847=\"\",\"\",Deltagere!G847)","v":""},2000,""]
[null,{"$f":"Deltagere!B848","v":845},{"$f":"IF(Deltagere!C848=\"\",\"\",Deltagere!C848)","v":""},{"$f":"IF(Deltagere!G848=\"\",\"\",Deltagere!G848)","v":""},2000,""]
[null,{"$f":"Deltagere!B849","v":846},{"$f":"IF(Deltagere!C849=\"\",\"\",Deltagere!C849)","v":""},{"$f":"IF(Deltagere!G849=\"\",\"\",Deltagere!G849)","v":""},2000,""]
[null,{"$f":"Deltagere!B850","v":847},{"$f":"IF(Deltagere!C850=\"\",\"\",Deltagere!C850)","v":""},{"$f":"IF(Deltagere!G850=\"\",\"\",Deltagere!G850)","v":""},2000,""]
[null,{"$f":"Deltagere!B851","v":848},{"$f":"IF(Deltagere!C851=\"\",\"\",Deltagere!C851)","v":""},{"$f":"IF(Deltagere!G851=\"\",\"\",Deltagere!G851)","v":""},2000,""]
[null,{"$f":"Deltagere!B852","v":849},{"$f":"IF(Deltagere!C852=\"\",\"\",Deltagere!C852)","v":""},{"$f":"IF(Deltagere!G852=\"\",\"\",Deltagere!G852)","v":""},2000,""]
[null,{"$f":"Deltagere!B853","v":850},{"$f":"IF(Deltagere!C853=\"\",\"\",Deltagere!C853)","v":""},{"$f":"IF(Deltagere!G853=\"\",\"\",Deltagere!G853)","v":""},2000,""]
[null,{"$f":"Deltagere!B854","v":851},{"$f":"IF(Deltagere!C854=\"\",\"\",Deltagere!C854)","v":""},{"$f":"IF(Deltagere!G854=\"\",\"\",Deltagere!G854)","v":""},2000,""]
[null,{"$f":"Deltagere!B855","v":852},{"$f":"IF(Deltagere!C855=\"\",\"\",Deltagere!C855)","v":""},{"$f":"IF(Deltagere!G855=\"\",\"\",Deltagere!G855)","v":""},2000,""]
[null,{"$f":"Deltagere!B856","v":853},{"$f":"IF(Deltagere!C856=\"\",\"\",Deltagere!C856)","v":""},{"$f":"IF(Deltagere!G856=\"\",\"\",Deltagere!G856)","v":""},2000,""]
[null,{"$f":"Deltagere!B857","v":854},{"$f":"IF(Deltagere!C857=\"\",\"\",Deltagere!C857)","v":""},{"$f":"IF(Deltagere!G857=\"\",\"\",Deltagere!G857)","v":""},2000,""]
[null,{"$f":"Deltagere!B858","v":855},{"$f":"IF(Deltagere!C858=\"\",\"\",Deltagere!C858)","v":""},{"$f":"IF(Deltagere!G858=\"\",\"\",Deltagere!G858)","v":""},2000,""]
[null,{"$f":"Deltagere!B859","v":856},{"$f":"IF(Deltagere!C859=\"\",\"\",Deltagere!C859)","v":""},{"$f":"IF(Deltagere!G859=\"\",\"\",Deltagere!G859)","v":""},2000,""]
[null,{"$f":"Deltagere!B860","v":857},{"$f":"IF(Deltagere!C860=\"\",\"\",Deltagere!C860)","v":""},{"$f":"IF(Deltagere!G860=\"\",\"\",Deltagere!G860)","v":""},2000,""]
[null,{"$f":"Deltagere!B861","v":858},{"$f":"IF(Deltagere!C861=\"\",\"\",Deltagere!C861)","v":""},{"$f":"IF(Deltagere!G861=\"\",\"\",Deltagere!G861)","v":""},2000,""]
[null,{"$f":"Deltagere!B862","v":859},{"$f":"IF(Deltagere!C862=\"\",\"\",Deltagere!C862)","v":""},{"$f":"IF(Deltagere!G862=\"\",\"\",Deltagere!G862)","v":""},2000,""]
[null,{"$f":"Deltagere!B863","v":860},{"$f":"IF(Deltagere!C863=\"\",\"\",Deltagere!C863)","v":""},{"$f":"IF(Deltagere!G863=\"\",\"\",Deltagere!G863)","v":""},2000,""]
[null,{"$f":"Deltagere!B864","v":861},{"$f":"IF(Deltagere!C864=\"\",\"\",Deltagere!C864)","v":""},{"$f":"IF(Deltagere!G864=\"\",\"\",Deltagere!G864)","v":""},2000,""]
[null,{"$f":"Deltagere!B865","v":862},{"$f":"IF(Deltagere!C865=\"\",\"\",Deltagere!C865)","v":""},{"$f":"IF(Deltagere!G865=\"\",\"\",Deltagere!G865)","v":""},2000,""]
[null,{"$f":"Deltagere!B866","v":863},{"$f":"IF(Deltagere!C866=\"\",\"\",Deltagere!C866)","v":""},{"$f":"IF(Deltagere!G866=\"\",\"\",Deltagere!G866)","v":""},2000,""]
[null,{"$f":"Deltagere!B867","v":864},{"$f":"IF(Deltagere!C867=\"\",\"\",Deltagere!C867)","v":""},{"$f":"IF(Deltagere!G867=\"\",\"\",Deltagere!G867)","v":""},2000,""]
[null,{"$f":"Deltagere!B868","v":865},{"$f":"IF(Deltagere!C868=\"\",\"\",Deltagere!C868)","v":""},{"$f":"IF(Deltagere!G868=\"\",\"\",Deltagere!G868)","v":""},2000,""]
[null,{"$f":"Deltagere!B869","v":866},{"$f":"IF(Deltagere!C869=\"\",\"\",Deltagere!C869)","v":""},{"$f":"IF(Deltagere!G869=\"\",\"\",Deltagere!G869)","v":""},2000,""]
[null,{"$f":"Deltagere!B870","v":867},{"$f":"IF(Deltagere!C870=\"\",\"\",Deltagere!C870)","v":""},{"$f":"IF(Deltagere!G870=\"\",\"\",Deltagere!G870)","v":""},2000,""]
[null,{"$f":"Deltagere!B871","v":868},{"$f":"IF(Deltagere!C871=\"\",\"\",Deltagere!C871)","v":""},{"$f":"IF(Deltagere!G871=\"\",\"\",Deltagere!G871)","v":""},2000,""]
[null,{"$f":"Deltagere!B872","v":869},{"$f":"IF(Deltagere!C872=\"\",\"\",Deltagere!C872)","v":""},{"$f":"IF(Deltagere!G872=\"\",\"\",Deltagere!G872)","v":""},2000,""]
[null,{"$f":"Deltagere!B873","v":870},{"$f":"IF(Deltagere!C873=\"\",\"\",Deltagere!C873)","v":""},{"$f":"IF(Deltagere!G873=\"\",\"\",Deltagere!G873)","v":""},2000,""]
[null,{"$f":"Deltagere!B874","v":871},{"$f":"IF(Deltagere!C874=\"\",\"\",Deltagere!C874)","v":""},{"$f":"IF(Deltagere!G874=\"\",\"\",Deltagere!G874)","v":""},2000,""]
[null,{"$f":"Deltagere!B875","v":872},{"$f":"IF(Deltagere!C875=\"\",\"\",Deltagere!C875)","v":""},{"$f":"IF(Deltagere!G875=\"\",\"\",Deltagere!G875)","v":""},2000,""]
[null,{"$f":"Deltagere!B876","v":873},{"$f":"IF(Deltagere!C876=\"\",\"\",Deltagere!C876)","v":""},{"$f":"IF(Deltagere!G876=\"\",\"\",Deltagere!G876)","v":""},2000,""]
[null,{"$f":"Deltagere!B877","v":874},{"$f":"IF(Deltagere!C877=\"\",\"\",Deltagere!C877)","v":""},{"$f":"IF(Deltagere!G877=\"\",\"\",Deltagere!G877)","v":""},2000,""]
[null,{"$f":"Deltagere!B878","v":875},{"$f":"IF(Deltagere!C878=\"\",\"\",Deltagere!C878)","v":""},{"$f":"IF(Deltagere!G878=\"\",\"\",Deltagere!G878)","v":""},2000,""]
[null,{"$f":"Deltagere!B879","v":876},{"$f":"IF(Deltagere!C879=\"\",\"\",Deltagere!C879)","v":""},{"$f":"IF(Deltagere!G879=\"\",\"\",Deltagere!G879)","v":""},2000,""]
[null,{"$f":"Deltagere!B880","v":877},{"$f":"IF(Deltagere!C880=\"\",\"\",Deltagere!C880)","v":""},{"$f":"IF(Deltagere!G880=\"\",\"\",Deltagere!G880)","v":""},2000,""]
[null,{"$f":"Deltagere!B881","v":878},{"$f":"IF(Deltagere!C881=\"\",\"\",Deltagere!C881)","v":""},{"$f":"IF(Deltagere!G881=\"\",\"\",Deltagere!G881)","v":""},2000,""]
[null,{"$f":"Deltagere!B882","v":879},{"$f":"IF(Deltagere!C882=\"\",\"\",Deltagere!C882)","v":""},{"$f":"IF(Deltagere!G882=\"\",\"\",Deltagere!G882)","v":""},2000,""]
[null,{"$f":"Deltagere!B883","v":880},{"$f":"IF(Deltagere!C883=\"\",\"\",Deltagere!C883)","v":""},{"$f":"IF(Deltagere!G883=\"\",\"\",Deltagere!G883)","v":""},2000,""]
[null,{"$f":"Deltagere!B884","v":881},{"$f":"IF(Deltagere!C884=\"\",\"\",Deltagere!C884)","v":""},{"$f":"IF(Deltagere!G884=\"\",\"\",Deltagere!G884)","v":""},2000,""]
[null,{"$f":"Deltagere!B885","v":882},{"$f":"IF(Deltagere!C885=\"\",\"\",Deltagere!C885)","v":""},{"$f":"IF(Deltagere!G885=\"\",\"\",Deltagere!G885)","v":""},2000,""]
[null,{"$f":"Deltagere!B886","v":883},{"$f":"IF(Deltagere!C886=\"\",\"\",Deltagere!C886)","v":""},{"$f":"IF(Deltagere!G886=\"\",\"\",Deltagere!G886)","v":""},2000,""]
[null,{"$f":"Deltagere!B887","v":884},{"$f":"IF(Deltagere!C887=\"\",\"\",Deltagere!C887)","v":""},{"$f":"IF(Deltagere!G887=\"\",\"\",Deltagere!G887)","v":""},2000,""]
[null,{"$f":"Deltagere!B888","v":885},{"$f":"IF(Deltagere!C888=\"\",\"\",Deltagere!C888)","v":""},{"$f":"IF(Deltagere!G888=\"\",\"\",Deltagere!G888)","v":""},2000,""]
[null,{"$f":"Deltagere!B889","v":886},{"$f":"IF(Deltagere!C889=\"\",\"\",Deltagere!C889)","v":""},{"$f":"IF(Deltagere!G889=\"\",\"\",Deltagere!G889)","v":""},2000,""]
[null,{"$f":"Deltagere!B890","v":887},{"$f":"IF(Deltagere!C890=\"\",\"\",Deltagere!C890)","v":""},{"$f":"IF(Deltagere!G890=\"\",\"\",Deltagere!G890)","v":""},2000,""]
[null,{"$f":"Deltagere!B891","v":888},{"$f":"IF(Deltagere!C891=\"\",\"\",Deltagere!C891)","v":""},{"$f":"IF(Deltagere!G891=\"\",\"\",Deltagere!G891)","v":""},2000,""]
[null,{"$f":"Deltagere!B892","v":889},{"$f":"IF(Deltagere!C892=\"\",\"\",Deltagere!C892)","v":""},{"$f":"IF(Deltagere!G892=\"\",\"\",Deltagere!G892)","v":""},2000,""]
[null,{"$f":"Deltagere!B893","v":890},{"$f":"IF(Deltagere!C893=\"\",\"\",Deltagere!C893)","v":""},{"$f":"IF(Deltagere!G893=\"\",\"\",Deltagere!G893)","v":""},2000,""]
[null,{"$f":"Deltagere!B894","v":891},{"$f":"IF(Deltagere!C894=\"\",\"\",Deltagere!C894)","v":""},{"$f":"IF(Deltagere!G894=\"\",\"\",Deltagere!G894)","v":""},2000,""]
[null,{"$f":"Deltagere!B895","v":892},{"$f":"IF(Deltagere!C895=\"\",\"\",Deltagere!C895)","v":""},{"$f":"IF(Deltagere!G895=\"\",\"\",Deltagere!G895)","v":""},2000,""]
[null,{"$f":"Deltagere!B896","v":893},{"$f":"IF(Deltagere!C896=\"\",\"\",Deltagere!C896)","v":""},{"$f":"IF(Deltagere!G896=\"\",\"\",Deltagere!G896)","v":""},2000,""]
[null,{"$f":"Deltagere!B897","v":894},{"$f":"IF(Deltagere!C897=\"\",\"\",Deltagere!C897)","v":""},{"$f":"IF(Deltagere!G897=\"\",\"\",Deltagere!G897)","v":""},2000,""]
[null,{"$f":"Deltagere!B898","v":895},{"$f":"IF(Deltagere!C898=\"\",\"\",Deltagere!C898)","v":""},{"$f":"IF(Deltagere!G898=\"\",\"\",Deltagere!G898)","v":""},2000,""]
[null,{"$f":"Deltagere!B899","v":896},{"$f":"IF(Deltagere!C899=\"\",\"\",Deltagere!C899)","v":""},{"$f":"IF(Deltagere!G899=\"\",\"\",Deltagere!G899)","v":""},2000,""]
[null,{"$f":"Deltagere!B900","v":897},{"$f":"IF(Deltagere!C900=\"\",\"\",Deltagere!C900)","v":""},{"$f":"IF(Deltagere!G900=\"\",\"\",Deltagere!G900)","v":""},2000,""]
[null,{"$f":"Deltagere!B901","v":898},{"$f":"IF(Deltagere!C901=\"\",\"\",Deltagere!C901)","v":""},{"$f":"IF(Deltagere!G901=\"\",\"\",Deltagere!G901)","v":""},{"$f":"IF(D908=\"x\",B908,2000)","v":2000},{"$f":"IF(E908=2000,\"\",1)","v":""}]
[null,{"$f":"Deltagere!B902","v":899},{"$f":"IF(Deltagere!C902=\"\",\"\",Deltagere!C902)","v":""},{"$f":"IF(Deltagere!G902=\"\",\"\",Deltagere!G902)","v":""},2000,""]
[null,{"$f":"Deltagere!B903","v":900},{"$f":"IF(Deltagere!C903=\"\",\"\",Deltagere!C903)","v":""},{"$f":"IF(Deltagere!G903=\"\",\"\",Deltagere!G903)","v":""},2000,""]
[null,{"$f":"Deltagere!B904","v":901},{"$f":"IF(Deltagere!C904=\"\",\"\",Deltagere!C904)","v":""},{"$f":"IF(Deltagere!G904=\"\",\"\",Deltagere!G904)","v":""},2000,""]
[null,{"$f":"Deltagere!B905","v":902},{"$f":"IF(Deltagere!C905=\"\",\"\",Deltagere!C905)","v":""},{"$f":"IF(Deltagere!G905=\"\",\"\",Deltagere!G905)","v":""},2000,""]
[null,{"$f":"Deltagere!B906","v":903},{"$f":"IF(Deltagere!C906=\"\",\"\",Deltagere!C906)","v":""},{"$f":"IF(Deltagere!G906=\"\",\"\",Deltagere!G906)","v":""},2000,""]
[null,{"$f":"Deltagere!B907","v":904},{"$f":"IF(Deltagere!C907=\"\",\"\",Deltagere!C907)","v":""},{"$f":"IF(Deltagere!G907=\"\",\"\",Deltagere!G907)","v":""},2000,""]
[null,{"$f":"Deltagere!B908","v":905},{"$f":"IF(Deltagere!C908=\"\",\"\",Deltagere!C908)","v":""},{"$f":"IF(Deltagere!G908=\"\",\"\",Deltagere!G908)","v":""},2000,""]
[null,{"$f":"Deltagere!B909","v":906},{"$f":"IF(Deltagere!C909=\"\",\"\",Deltagere!C909)","v":""},{"$f":"IF(Deltagere!G909=\"\",\"\",Deltagere!G909)","v":""},2000,""]
[null,{"$f":"Deltagere!B910","v":907},{"$f":"IF(Deltagere!C910=\"\",\"\",Deltagere!C910)","v":""},{"$f":"IF(Deltagere!G910=\"\",\"\",Deltagere!G910)","v":""},2000,""]
[null,{"$f":"Deltagere!B911","v":908},{"$f":"IF(Deltagere!C911=\"\",\"\",Deltagere!C911)","v":""},{"$f":"IF(Deltagere!G911=\"\",\"\",Deltagere!G911)","v":""},2000,""]
[null,{"$f":"Deltagere!B912","v":909},{"$f":"IF(Deltagere!C912=\"\",\"\",Deltagere!C912)","v":""},{"$f":"IF(Deltagere!G912=\"\",\"\",Deltagere!G912)","v":""},2000,""]
[null,{"$f":"Deltagere!B913","v":910},{"$f":"IF(Deltagere!C913=\"\",\"\",Deltagere!C913)","v":""},{"$f":"IF(Deltagere!G913=\"\",\"\",Deltagere!G913)","v":""},2000,""]
[null,{"$f":"Deltagere!B914","v":911},{"$f":"IF(Deltagere!C914=\"\",\"\",Deltagere!C914)","v":""},{"$f":"IF(Deltagere!G914=\"\",\"\",Deltagere!G914)","v":""},2000,""]
[null,{"$f":"Deltagere!B915","v":912},{"$f":"IF(Deltagere!C915=\"\",\"\",Deltagere!C915)","v":""},{"$f":"IF(Deltagere!G915=\"\",\"\",Deltagere!G915)","v":""},2000,""]
[null,{"$f":"Deltagere!B916","v":913},{"$f":"IF(Deltagere!C916=\"\",\"\",Deltagere!C916)","v":""},{"$f":"IF(Deltagere!G916=\"\",\"\",Deltagere!G916)","v":""},2000,""]
[null,{"$f":"Deltagere!B917","v":914},{"$f":"IF(Deltagere!C917=\"\",\"\",Deltagere!C917)","v":""},{"$f":"IF(Deltagere!G917=\"\",\"\",Deltagere!G917)","v":""},2000,""]
[null,{"$f":"Deltagere!B918","v":915},{"$f":"IF(Deltagere!C918=\"\",\"\",Deltagere!C918)","v":""},{"$f":"IF(Deltagere!G918=\"\",\"\",Deltagere!G918)","v":""},2000,""]
[null,{"$f":"Deltagere!B919","v":916},{"$f":"IF(Deltagere!C919=\"\",\"\",Deltagere!C919)","v":""},{"$f":"IF(Deltagere!G919=\"\",\"\",Deltagere!G919)","v":""},2000,""]
[null,{"$f":"Deltagere!B920","v":917},{"$f":"IF(Deltagere!C920=\"\",\"\",Deltagere!C920)","v":""},{"$f":"IF(Deltagere!G920=\"\",\"\",Deltagere!G920)","v":""},2000,""]
[null,{"$f":"Deltagere!B921","v":918},{"$f":"IF(Deltagere!C921=\"\",\"\",Deltagere!C921)","v":""},{"$f":"IF(Deltagere!G921=\"\",\"\",Deltagere!G921)","v":""},2000,""]
[null,{"$f":"Deltagere!B922","v":919},{"$f":"IF(Deltagere!C922=\"\",\"\",Deltagere!C922)","v":""},{"$f":"IF(Deltagere!G922=\"\",\"\",Deltagere!G922)","v":""},2000,""]
[null,{"$f":"Deltagere!B923","v":920},{"$f":"IF(Deltagere!C923=\"\",\"\",Deltagere!C923)","v":""},{"$f":"IF(Deltagere!G923=\"\",\"\",Deltagere!G923)","v":""},2000,""]
[null,{"$f":"Deltagere!B924","v":921},{"$f":"IF(Deltagere!C924=\"\",\"\",Deltagere!C924)","v":""},{"$f":"IF(Deltagere!G924=\"\",\"\",Deltagere!G924)","v":""},2000,""]
[null,{"$f":"Deltagere!B925","v":922},{"$f":"IF(Deltagere!C925=\"\",\"\",Deltagere!C925)","v":""},{"$f":"IF(Deltagere!G925=\"\",\"\",Deltagere!G925)","v":""},2000,""]
[null,{"$f":"Deltagere!B926","v":923},{"$f":"IF(Deltagere!C926=\"\",\"\",Deltagere!C926)","v":""},{"$f":"IF(Deltagere!G926=\"\",\"\",Deltagere!G926)","v":""},2000,""]
[null,{"$f":"Deltagere!B927","v":924},{"$f":"IF(Deltagere!C927=\"\",\"\",Deltagere!C927)","v":""},{"$f":"IF(Deltagere!G927=\"\",\"\",Deltagere!G927)","v":""},2000,""]
[null,{"$f":"Deltagere!B928","v":925},{"$f":"IF(Deltagere!C928=\"\",\"\",Deltagere!C928)","v":""},{"$f":"IF(Deltagere!G928=\"\",\"\",Deltagere!G928)","v":""},2000,""]
[null,{"$f":"Deltagere!B929","v":926},{"$f":"IF(Deltagere!C929=\"\",\"\",Deltagere!C929)","v":""},{"$f":"IF(Deltagere!G929=\"\",\"\",Deltagere!G929)","v":""},2000,""]
[null,{"$f":"Deltagere!B930","v":927},{"$f":"IF(Deltagere!C930=\"\",\"\",Deltagere!C930)","v":""},{"$f":"IF(Deltagere!G930=\"\",\"\",Deltagere!G930)","v":""},2000,""]
[null,{"$f":"Deltagere!B931","v":928},{"$f":"IF(Deltagere!C931=\"\",\"\",Deltagere!C931)","v":""},{"$f":"IF(Deltagere!G931=\"\",\"\",Deltagere!G931)","v":""},2000,""]
[null,{"$f":"Deltagere!B932","v":929},{"$f":"IF(Deltagere!C932=\"\",\"\",Deltagere!C932)","v":""},{"$f":"IF(Deltagere!G932=\"\",\"\",Deltagere!G932)","v":""},2000,""]
[null,{"$f":"Deltagere!B933","v":930},{"$f":"IF(Deltagere!C933=\"\",\"\",Deltagere!C933)","v":""},{"$f":"IF(Deltagere!G933=\"\",\"\",Deltagere!G933)","v":""},2000,""]
[null,{"$f":"Deltagere!B934","v":931},{"$f":"IF(Deltagere!C934=\"\",\"\",Deltagere!C934)","v":""},{"$f":"IF(Deltagere!G934=\"\",\"\",Deltagere!G934)","v":""},2000,""]
[null,{"$f":"Deltagere!B935","v":932},{"$f":"IF(Deltagere!C935=\"\",\"\",Deltagere!C935)","v":""},{"$f":"IF(Deltagere!G935=\"\",\"\",Deltagere!G935)","v":""},2000,""]
[null,{"$f":"Deltagere!B936","v":933},{"$f":"IF(Deltagere!C936=\"\",\"\",Deltagere!C936)","v":""},{"$f":"IF(Deltagere!G936=\"\",\"\",Deltagere!G936)","v":""},2000,""]
[null,{"$f":"Deltagere!B937","v":934},{"$f":"IF(Deltagere!C937=\"\",\"\",Deltagere!C937)","v":""},{"$f":"IF(Deltagere!G937=\"\",\"\",Deltagere!G937)","v":""},2000,""]
[null,{"$f":"Deltagere!B938","v":935},{"$f":"IF(Deltagere!C938=\"\",\"\",Deltagere!C938)","v":""},{"$f":"IF(Deltagere!G938=\"\",\"\",Deltagere!G938)","v":""},2000,""]
[null,{"$f":"Deltagere!B939","v":936},{"$f":"IF(Deltagere!C939=\"\",\"\",Deltagere!C939)","v":""},{"$f":"IF(Deltagere!G939=\"\",\"\",Deltagere!G939)","v":""},2000,""]
[null,{"$f":"Deltagere!B940","v":937},{"$f":"IF(Deltagere!C940=\"\",\"\",Deltagere!C940)","v":""},{"$f":"IF(Deltagere!G940=\"\",\"\",Deltagere!G940)","v":""},2000,""]
[null,{"$f":"Deltagere!B941","v":938},{"$f":"IF(Deltagere!C941=\"\",\"\",Deltagere!C941)","v":""},{"$f":"IF(Deltagere!G941=\"\",\"\",Deltagere!G941)","v":""},2000,""]
[null,{"$f":"Deltagere!B942","v":939},{"$f":"IF(Deltagere!C942=\"\",\"\",Deltagere!C942)","v":""},{"$f":"IF(Deltagere!G942=\"\",\"\",Deltagere!G942)","v":""},2000,""]
[null,{"$f":"Deltagere!B943","v":940},{"$f":"IF(Deltagere!C943=\"\",\"\",Deltagere!C943)","v":""},{"$f":"IF(Deltagere!G943=\"\",\"\",Deltagere!G943)","v":""},2000,""]
[null,{"$f":"Deltagere!B944","v":941},{"$f":"IF(Deltagere!C944=\"\",\"\",Deltagere!C944)","v":""},{"$f":"IF(Deltagere!G944=\"\",\"\",Deltagere!G944)","v":""},2000,""]
[null,{"$f":"Deltagere!B945","v":942},{"$f":"IF(Deltagere!C945=\"\",\"\",Deltagere!C945)","v":""},{"$f":"IF(Deltagere!G945=\"\",\"\",Deltagere!G945)","v":""},2000,""]
[null,{"$f":"Deltagere!B946","v":943},{"$f":"IF(Deltagere!C946=\"\",\"\",Deltagere!C946)","v":""},{"$f":"IF(Deltagere!G946=\"\",\"\",Deltagere!G946)","v":""},2000,""]
[null,{"$f":"Deltagere!B947","v":944},{"$f":"IF(Deltagere!C947=\"\",\"\",Deltagere!C947)","v":""},{"$f":"IF(Deltagere!G947=\"\",\"\",Deltagere!G947)","v":""},2000,""]
[null,{"$f":"Deltagere!B948","v":945},{"$f":"IF(Deltagere!C948=\"\",\"\",Deltagere!C948)","v":""},{"$f":"IF(Deltagere!G948=\"\",\"\",Deltagere!G948)","v":""},2000,""]
[null,{"$f":"Deltagere!B949","v":946},{"$f":"IF(Deltagere!C949=\"\",\"\",Deltagere!C949)","v":""},{"$f":"IF(Deltagere!G949=\"\",\"\",Deltagere!G949)","v":""},2000,""]
[null,{"$f":"Deltagere!B950","v":947},{"$f":"IF(Deltagere!C950=\"\",\"\",Deltagere!C950)","v":""},{"$f":"IF(Deltagere!G950=\"\",\"\",Deltagere!G950)","v":""},2000,""]
[null,{"$f":"Deltagere!B951","v":948},{"$f":"IF(Deltagere!C951=\"\",\"\",Deltagere!C951)","v":""},{"$f":"IF(Deltagere!G951=\"\",\"\",Deltagere!G951)","v":""},2000,""]
[null,{"$f":"Deltagere!B952","v":949},{"$f":"IF(Deltagere!C952=\"\",\"\",Deltagere!C952)","v":""},{"$f":"IF(Deltagere!G952=\"\",\"\",Deltagere!G952)","v":""},2000,""]
[null,{"$f":"Deltagere!B953","v":950},{"$f":"IF(Deltagere!C953=\"\",\"\",Deltagere!C953)","v":""},{"$f":"IF(Deltagere!G953=\"\",\"\",Deltagere!G953)","v":""},2000,""]
[null,{"$f":"Deltagere!B954","v":951},{"$f":"IF(Deltagere!C954=\"\",\"\",Deltagere!C954)","v":""},{"$f":"IF(Deltagere!G954=\"\",\"\",Deltagere!G954)","v":""},2000,""]
[null,{"$f":"Deltagere!B955","v":952},{"$f":"IF(Deltagere!C955=\"\",\"\",Deltagere!C955)","v":""},{"$f":"IF(Deltagere!G955=\"\",\"\",Deltagere!G955)","v":""},2000,""]
[null,{"$f":"Deltagere!B956","v":953},{"$f":"IF(Deltagere!C956=\"\",\"\",Deltagere!C956)","v":""},{"$f":"IF(Deltagere!G956=\"\",\"\",Deltagere!G956)","v":""},2000,""]
[null,{"$f":"Deltagere!B957","v":954},{"$f":"IF(Deltagere!C957=\"\",\"\",Deltagere!C957)","v":""},{"$f":"IF(Deltagere!G957=\"\",\"\",Deltagere!G957)","v":""},2000,""]
[null,{"$f":"Deltagere!B958","v":955},{"$f":"IF(Deltagere!C958=\"\",\"\",Deltagere!C958)","v":""},{"$f":"IF(Deltagere!G958=\"\",\"\",Deltagere!G958)","v":""},2000,""]
[null,{"$f":"Deltagere!B959","v":956},{"$f":"IF(Deltagere!C959=\"\",\"\",Deltagere!C959)","v":""},{"$f":"IF(Deltagere!G959=\"\",\"\",Deltagere!G959)","v":""},2000,""]
[null,{"$f":"Deltagere!B960","v":957},{"$f":"IF(Deltagere!C960=\"\",\"\",Deltagere!C960)","v":""},{"$f":"IF(Deltagere!G960=\"\",\"\",Deltagere!G960)","v":""},2000,""]
[null,{"$f":"Deltagere!B961","v":958},{"$f":"IF(Deltagere!C961=\"\",\"\",Deltagere!C961)","v":""},{"$f":"IF(Deltagere!G961=\"\",\"\",Deltagere!G961)","v":""},2000,""]
[null,{"$f":"Deltagere!B962","v":959},{"$f":"IF(Deltagere!C962=\"\",\"\",Deltagere!C962)","v":""},{"$f":"IF(Deltagere!G962=\"\",\"\",Deltagere!G962)","v":""},2000,""]
[null,{"$f":"Deltagere!B963","v":960},{"$f":"IF(Deltagere!C963=\"\",\"\",Deltagere!C963)","v":""},{"$f":"IF(Deltagere!G963=\"\",\"\",Deltagere!G963)","v":""},2000,""]
[null,{"$f":"Deltagere!B964","v":961},{"$f":"IF(Deltagere!C964=\"\",\"\",Deltagere!C964)","v":""},{"$f":"IF(Deltagere!G964=\"\",\"\",Deltagere!G964)","v":""},2000,""]
[null,{"$f":"Deltagere!B965","v":962},{"$f":"IF(Deltagere!C965=\"\",\"\",Deltagere!C965)","v":""},{"$f":"IF(Deltagere!G965=\"\",\"\",Deltagere!G965)","v":""},{"$f":"IF(D972=\"x\",B972,2000)","v":2000},{"$f":"IF(E972=2000,\"\",1)","v":""}]
[null,{"$f":"Deltagere!B966","v":963},{"$f":"IF(Deltagere!C966=\"\",\"\",Deltagere!C966)","v":""},{"$f":"IF(Deltagere!G966=\"\",\"\",Deltagere!G966)","v":""},2000,""]
[null,{"$f":"Deltagere!B967","v":964},{"$f":"IF(Deltagere!C967=\"\",\"\",Deltagere!C967)","v":""},{"$f":"IF(Deltagere!G967=\"\",\"\",Deltagere!G967)","v":""},2000,""]
[null,{"$f":"Deltagere!B968","v":965},{"$f":"IF(Deltagere!C968=\"\",\"\",Deltagere!C968)","v":""},{"$f":"IF(Deltagere!G968=\"\",\"\",Deltagere!G968)","v":""},2000,""]
[null,{"$f":"Deltagere!B969","v":966},{"$f":"IF(Deltagere!C969=\"\",\"\",Deltagere!C969)","v":""},{"$f":"IF(Deltagere!G969=\"\",\"\",Deltagere!G969)","v":""},2000,""]
[null,{"$f":"Deltagere!B970","v":967},{"$f":"IF(Deltagere!C970=\"\",\"\",Deltagere!C970)","v":""},{"$f":"IF(Deltagere!G970=\"\",\"\",Deltagere!G970)","v":""},2000,""]
[null,{"$f":"Deltagere!B971","v":968},{"$f":"IF(Deltagere!C971=\"\",\"\",Deltagere!C971)","v":""},{"$f":"IF(Deltagere!G971=\"\",\"\",Deltagere!G971)","v":""},2000,""]
[null,{"$f":"Deltagere!B972","v":969},{"$f":"IF(Deltagere!C972=\"\",\"\",Deltagere!C972)","v":""},{"$f":"IF(Deltagere!G972=\"\",\"\",Deltagere!G972)","v":""},2000,""]
[null,{"$f":"Deltagere!B973","v":970},{"$f":"IF(Deltagere!C973=\"\",\"\",Deltagere!C973)","v":""},{"$f":"IF(Deltagere!G973=\"\",\"\",Deltagere!G973)","v":""},2000,""]
[null,{"$f":"Deltagere!B974","v":971},{"$f":"IF(Deltagere!C974=\"\",\"\",Deltagere!C974)","v":""},{"$f":"IF(Deltagere!G974=\"\",\"\",Deltagere!G974)","v":""},2000,""]
[null,{"$f":"Deltagere!B975","v":972},{"$f":"IF(Deltagere!C975=\"\",\"\",Deltagere!C975)","v":""},{"$f":"IF(Deltagere!G975=\"\",\"\",Deltagere!G975)","v":""},2000,""]
[null,{"$f":"Deltagere!B976","v":973},{"$f":"IF(Deltagere!C976=\"\",\"\",Deltagere!C976)","v":""},{"$f":"IF(Deltagere!G976=\"\",\"\",Deltagere!G976)","v":""},2000,""]
[null,{"$f":"Deltagere!B977","v":974},{"$f":"IF(Deltagere!C977=\"\",\"\",Deltagere!C977)","v":""},{"$f":"IF(Deltagere!G977=\"\",\"\",Deltagere!G977)","v":""},2000,""]
[null,{"$f":"Deltagere!B978","v":975},{"$f":"IF(Deltagere!C978=\"\",\"\",Deltagere!C978)","v":""},{"$f":"IF(Deltagere!G978=\"\",\"\",Deltagere!G978)","v":""},2000,""]
[null,{"$f":"Deltagere!B979","v":976},{"$f":"IF(Deltagere!C979=\"\",\"\",Deltagere!C979)","v":""},{"$f":"IF(Deltagere!G979=\"\",\"\",Deltagere!G979)","v":""},2000,""]
[null,{"$f":"Deltagere!B980","v":977},{"$f":"IF(Deltagere!C980=\"\",\"\",Deltagere!C980)","v":""},{"$f":"IF(Deltagere!G980=\"\",\"\",Deltagere!G980)","v":""},2000,""]
[null,{"$f":"Deltagere!B981","v":978},{"$f":"IF(Deltagere!C981=\"\",\"\",Deltagere!C981)","v":""},{"$f":"IF(Deltagere!G981=\"\",\"\",Deltagere!G981)","v":""},2000,""]
[null,{"$f":"Deltagere!B982","v":979},{"$f":"IF(Deltagere!C982=\"\",\"\",Deltagere!C982)","v":""},{"$f":"IF(Deltagere!G982=\"\",\"\",Deltagere!G982)","v":""},2000,""]
[null,{"$f":"Deltagere!B983","v":980},{"$f":"IF(Deltagere!C983=\"\",\"\",Deltagere!C983)","v":""},{"$f":"IF(Deltagere!G983=\"\",\"\",Deltagere!G983)","v":""},2000,""]
[null,{"$f":"Deltagere!B984","v":981},{"$f":"IF(Deltagere!C984=\"\",\"\",Deltagere!C984)","v":""},{"$f":"IF(Deltagere!G984=\"\",\"\",Deltagere!G984)","v":""},2000,""]
[null,{"$f":"Deltagere!B985","v":982},{"$f":"IF(Deltagere!C985=\"\",\"\",Deltagere!C985)","v":""},{"$f":"IF(Deltagere!G985=\"\",\"\",Deltagere!G985)","v":""},2000,""]
[null,{"$f":"Deltagere!B986","v":983},{"$f":"IF(Deltagere!C986=\"\",\"\",Deltagere!C986)","v":""},{"$f":"IF(Deltagere!G986=\"\",\"\",Deltagere!G986)","v":""},2000,""]
[null,{"$f":"Deltagere!B987","v":984},{"$f":"IF(Deltagere!C987=\"\",\"\",Deltagere!C987)","v":""},{"$f":"IF(Deltagere!G987=\"\",\"\",Deltagere!G987)","v":""},2000,""]
[null,{"$f":"Deltagere!B988","v":985},{"$f":"IF(Deltagere!C988=\"\",\"\",Deltagere!C988)","v":""},{"$f":"IF(Deltagere!G988=\"\",\"\",Deltagere!G988)","v":""},2000,""]
[null,{"$f":"Deltagere!B989","v":986},{"$f":"IF(Deltagere!C989=\"\",\"\",Deltagere!C989)","v":""},{"$f":"IF(Deltagere!G989=\"\",\"\",Deltagere!G989)","v":""},2000,""]
[null,{"$f":"Deltagere!B990","v":987},{"$f":"IF(Deltagere!C990=\"\",\"\",Deltagere!C990)","v":""},{"$f":"IF(Deltagere!G990=\"\",\"\",Deltagere!G990)","v":""},2000,""]
[null,{"$f":"Deltagere!B991","v":988},{"$f":"IF(Deltagere!C991=\"\",\"\",Deltagere!C991)","v":""},{"$f":"IF(Deltagere!G991=\"\",\"\",Deltagere!G991)","v":""},2000,""]
[null,{"$f":"Deltagere!B992","v":989},{"$f":"IF(Deltagere!C992=\"\",\"\",Deltagere!C992)","v":""},{"$f":"IF(Deltagere!G992=\"\",\"\",Deltagere!G992)","v":""},2000,""]
[null,{"$f":"Deltagere!B993","v":990},{"$f":"IF(Deltagere!C993=\"\",\"\",Deltagere!C993)","v":""},{"$f":"IF(Deltagere!G993=\"\",\"\",Deltagere!G993)","v":""},2000,""]
[null,{"$f":"Deltagere!B994","v":991},{"$f":"IF(Deltagere!C994=\"\",\"\",Deltagere!C994)","v":""},{"$f":"IF(Deltagere!G994=\"\",\"\",Deltagere!G994)","v":""},2000,""]
[null,{"$f":"Deltagere!B995","v":992},{"$f":"IF(Deltagere!C995=\"\",\"\",Deltagere!C995)","v":""},{"$f":"IF(Deltagere!G995=\"\",\"\",Deltagere!G995)","v":""},2000,""]
[null,{"$f":"Deltagere!B996","v":993},{"$f":"IF(Deltagere!C996=\"\",\"\",Deltagere!C996)","v":""},{"$f":"IF(Deltagere!G996=\"\",\"\",Deltagere!G996)","v":""},2000,""]
[null,{"$f":"Deltagere!B997","v":994},{"$f":"IF(Deltagere!C997=\"\",\"\",Deltagere!C997)","v":""},{"$f":"IF(Deltagere!G997=\"\",\"\",Deltagere!G997)","v":""},2000,""]
[null,{"$f":"Deltagere!B998","v":995},{"$f":"IF(Deltagere!C998=\"\",\"\",Deltagere!C998)","v":""},{"$f":"IF(Deltagere!G998=\"\",\"\",Deltagere!G998)","v":""},2000,""]
[null,{"$f":"Deltagere!B999","v":996},{"$f":"IF(Deltagere!C999=\"\",\"\",Deltagere!C999)","v":""},{"$f":"IF(Deltagere!G999=\"\",\"\",Deltagere!G999)","v":""},2000,""]
[null,{"$f":"Deltagere!B1000","v":997},{"$f":"IF(Deltagere!C1000=\"\",\"\",Deltagere!C1000)","v":""},{"$f":"IF(Deltagere!G1000=\"\",\"\",Deltagere!G1000)","v":""},2000,""]
[null,{"$f":"Deltagere!B1001","v":998},{"$f":"IF(Deltagere!C1001=\"\",\"\",Deltagere!C1001)","v":""},{"$f":"IF(Deltagere!G1001=\"\",\"\",Deltagere!G1001)","v":""},2000,""]
[null,{"$f":"Deltagere!B1002","v":999},{"$f":"IF(Deltagere!C1002=\"\",\"\",Deltagere!C1002)","v":""},{"$f":"IF(Deltagere!G1002=\"\",\"\",Deltagere!G1002)","v":""},2000,""]
[null,{"$f":"Deltagere!B1003","v":1000},{"$f":"IF(Deltagere!C1003=\"\",\"\",Deltagere!C1003)","v":""},{"$f":"IF(Deltagere!G1003=\"\",\"\",Deltagere!G1003)","v":""},2000,""]